Back
From: metabase:user:5d3557d2-3c72-11e3-a020-0dfbcd73216e
Subject: PASS Data-Section-0.200006 v5.25.9 Mac OS X
Date: 2017-02-18T18:47:33Z
This distribution has been tested as part of the CPAN Testers
project, supporting the Perl programming language. See
http://wiki.cpantesters.org/ for more information or email
questions to cpan-testers-discuss@perl.org
--
Dear Ricardo SIGNES,
This is a computer-generated report for Data-Section-0.200006
on perl 5.25.9, created by CPAN-Reporter-1.2018.
Thank you for uploading your work to CPAN. Congratulations!
All tests were successful.
Sections of this report:
* Tester comments
* Program output
* Prerequisites
* Environment and other context
------------------------------
TESTER COMMENTS
------------------------------
Additional comments from tester:
none provided
------------------------------
PROGRAM OUTPUT
------------------------------
Output from '/usr/bin/make test':
PERL_DL_NONLAZY=1 "/Users/sno/perl5/perlbrew/perls/perl-5.25.9/bin/perl5.25.9" "-MExtUtils::Command::MM" "-MTest::Harness" "-e" "undef *Test::Harness::Switches; test_harness(0, 'blib/lib', 'blib/arch')" t/*.t
#
#
# Generated by Dist::Zilla::Plugin::ReportVersions::Tiny v1.10
# perl: 5.025009 (wanted any version) on darwin from /Users/sno/perl5/perlbrew/perls/perl-5.25.9/bin/perl5.25.9
#
# Encode => 2.88 (want any version)
# ExtUtils::MakeMaker => 7.24 (want 6.30)
# MRO::Compat => 0.12 (want 0.09)
# Sub::Exporter => 0.987 (want 0.979)
# Test::FailWarnings => 0.008 (want any version)
# Test::More => 1.302073 (want 0.96)
# base => 2.24 (want any version)
# lib => 0.64 (want any version)
# strict => 1.11 (want any version)
# utf8 => 1.19 (want any version)
# warnings => 1.37 (want any version)
#
# Thanks for using my code. I hope it works for you.
# If not, please try and include this output in the bug report.
# That will help me reproduce the issue and solve your problem.
#
t/000-report-versions-tiny.t .. ok
t/basic.t ..................... ok
t/encodings.t ................. ok
All tests successful.
Files=3, Tests=40, 1 wallclock secs ( 0.03 usr 0.01 sys + 0.24 cusr 0.03 csys = 0.31 CPU)
Result: PASS
------------------------------
PREREQUISITES
------------------------------
Prerequisite modules loaded:
requires:
Module Need Have
------------------- ----- --------
Encode 0 2.88
MRO::Compat 0.09 0.12
strict 0 1.11
Sub::Exporter 0.979 0.987
warnings 0 1.37
build_requires:
Module Need Have
------------------- ----- --------
base 0 2.24
lib 0 0.64
Test::FailWarnings 0 0.008
Test::More 0.96 1.302073
utf8 0 1.19
configure_requires:
Module Need Have
------------------- ----- --------
ExtUtils::MakeMaker 6.30 7.24
------------------------------
ENVIRONMENT AND OTHER CONTEXT
------------------------------
Environment variables:
LANG = de_DE.UTF-8
NONINTERACTIVE_TESTING = 1
PATH = /Users/sno/perl5/perlbrew/bin:/Users/sno/perl5/perlbrew/perls/perl-5.25.9/bin:/Users/sno/bin:/opt/pkg/bin:/opt/pkg/sbin:/usr/local/bin:/usr/bin:/bin:/usr/sbin:/sbin:/opt/X11/bin:/usr/local/MacGPG2/bin:/Applications/Wireshark.app/Contents/MacOS
PERL5LIB =
PERL5OPT =
PERL5_CPANPLUS_IS_RUNNING = 76536
PERL5_CPAN_IS_RUNNING = 76536
PERLBREW_BASHRC_VERSION = 0.75
PERLBREW_HOME = /Users/sno/.perlbrew
PERLBREW_MANPATH = /Users/sno/perl5/perlbrew/perls/perl-5.25.9/man
PERLBREW_PATH = /Users/sno/perl5/perlbrew/bin:/Users/sno/perl5/perlbrew/perls/perl-5.25.9/bin
PERLBREW_PERL = perl-5.25.9
PERLBREW_ROOT = /Users/sno/perl5/perlbrew
PERLBREW_VERSION = 0.75
PERL_MM_USE_DEFAULT = 1
SHELL = /bin/bash
TERM = xterm
TMPDIR = /var/folders/5s/sk58jrwj7jj73phc9lcx9nh80000gn/T/
Perl special variables (and OS-specific diagnostics, for MSWin32):
$^X = /Users/sno/perl5/perlbrew/perls/perl-5.25.9/bin/perl5.25.9
$UID/$EUID = 501 / 501
$GID = 20 20 501 12 61 79 80 81 98 33 100 204 395 398 399
$EGID = 20 20 501 12 61 79 80 81 98 33 100 204 395 398 399
Perl module toolchain versions installed:
Module Have
------------------- ----------
CPAN 2.16
CPAN::Meta 2.150010
Cwd 3.66
ExtUtils::CBuilder 0.280225
ExtUtils::Command 7.24
ExtUtils::Install 2.04
ExtUtils::MakeMaker 7.24
ExtUtils::Manifest 1.70
ExtUtils::ParseXS 3.33
File::Spec 3.66
JSON n/a
JSON::PP 2.27400_02
Module::Build 0.4220
Module::Signature n/a
Parse::CPAN::Meta 2.150010
Test::Harness 3.36_01
Test::More 1.302073
YAML n/a
YAML::Syck n/a
version 0.9917
--
Summary of my perl5 (revision 5 version 25 subversion 9) configuration:
Platform:
osname=darwin
osvers=15.6.0
archname=darwin-2level
uname='darwin ernie.muppets.liwing.de 15.6.0 darwin kernel version 15.6.0: mon jan 9 23:07:29 pst 2017; root:xnu-3248.60.11.2.1~1release_x86_64 x86_64 '
config_args='-de -Dprefix=/Users/sno/perl5/perlbrew/perls/perl-5.25.9 -Dusedevel -Aeval:scriptdir=/Users/sno/perl5/perlbrew/perls/perl-5.25.9/bin'
hint=recommended
useposix=true
d_sigaction=define
useithreads=undef
usemultiplicity=undef
use64bitint=define
use64bitall=define
uselongdouble=undef
usemymalloc=n
bincompat5005=undef
Compiler:
cc='cc'
ccflags ='-fno-common -DPERL_DARWIN -fno-strict-aliasing -pipe -fstack-protector-strong'
optimize='-O3'
cppflags='-fno-common -DPERL_DARWIN -fno-strict-aliasing -pipe -fstack-protector-strong'
ccversion=''
gccversion='4.2.1 Compatible Apple LLVM 8.0.0 (clang-800.0.42.1)'
gccosandvers=''
intsize=4
longsize=8
ptrsize=8
doublesize=8
byteorder=12345678
doublekind=3
d_longlong=define
longlongsize=8
d_longdbl=define
longdblsize=16
longdblkind=3
ivtype='long'
ivsize=8
nvtype='double'
nvsize=8
Off_t='off_t'
lseeksize=8
alignbytes=8
prototype=define
Linker and Libraries:
ld='env MACOSX_DEPLOYMENT_TARGET=10.3 cc'
ldflags =' -fstack-protector-strong'
libpth=/Applications/Xcode.app/Contents/Developer/Toolchains/XcodeDefault.xctoolchain/usr/bin/../lib/clang/8.0.0/lib /Applications/Xcode.app/Contents/Developer/Toolchains/XcodeDefault.xctoolchain/usr/lib /usr/lib
libs=-lpthread -ldbm -ldl -lm -lutil -lc
perllibs=-lpthread -ldl -lm -lutil -lc
libc=
so=dylib
useshrplib=false
libperl=libperl.a
gnulibc_version=''
Dynamic Linking:
dlsrc=dl_dlopen.xs
dlext=bundle
d_dlsymun=undef
ccdlflags=' '
cccdlflags=' '
lddlflags=' -bundle -undefined dynamic_lookup -fstack-protector-strong'
Characteristics of this binary (from libperl):
Compile-time options:
HAS_TIMES
PERLIO_LAYERS
PERL_COPY_ON_WRITE
PERL_DONT_CREATE_GVSV
PERL_MALLOC_WRAP
PERL_OP_PARENT
PERL_PRESERVE_IVUV
PERL_USE_DEVEL
USE_64_BIT_ALL
USE_64_BIT_INT
USE_LARGE_FILES
USE_LOCALE
USE_LOCALE_COLLATE
USE_LOCALE_CTYPE
USE_LOCALE_NUMERIC
USE_LOCALE_TIME
USE_PERLIO
USE_PERL_ATOF
Built under darwin
Compiled at Feb 18 2017 18:27:21
%ENV:
PERL5LIB=""
PERL5OPT=""
PERL5_CPANPLUS_IS_RUNNING="76536"
PERL5_CPAN_IS_RUNNING="76536"
PERLBREW_BASHRC_VERSION="0.75"
PERLBREW_HOME="/Users/sno/.perlbrew"
PERLBREW_MANPATH="/Users/sno/perl5/perlbrew/perls/perl-5.25.9/man"
PERLBREW_PATH="/Users/sno/perl5/perlbrew/bin:/Users/sno/perl5/perlbrew/perls/perl-5.25.9/bin"
PERLBREW_PERL="perl-5.25.9"
PERLBREW_ROOT="/Users/sno/perl5/perlbrew"
PERLBREW_VERSION="0.75"
PERL_MM_USE_DEFAULT="1"
@INC:
/Users/sno/perl5/perlbrew/perls/perl-5.25.9/lib/site_perl/5.25.9/darwin-2level
/Users/sno/perl5/perlbrew/perls/perl-5.25.9/lib/site_perl/5.25.9
/Users/sno/perl5/perlbrew/perls/perl-5.25.9/lib/5.25.9/darwin-2level
/Users/sno/perl5/perlbrew/perls/perl-5.25.9/lib/5.25.9
.