Net-OpenStack-Swift v0.13 Perl 5 v5.18.2 MSWin32-x86-multi-thread-64int

Status
Pass
From
Alexandr Ciornii (CHORNY)
Dist
Net-OpenStack-Swift v0.13
Platform
Perl 5 v5.18.2 MSWin32-x86-multi-thread-64int
Date
2017-11-06 18:40:01
ID
b51e39db-6bfe-1014-8e8d-f773152abce9
This distribution has been tested as part of the CPAN Testers
project, supporting the Perl programming language.  See
http://wiki.cpantesters.org/ for more information or email
questions to cpan-testers-discuss@perl.org


--
Dear MASAAKI SAITO,

This is a computer-generated report for Net-OpenStack-Swift-0.13
on perl 5.18.2, created by CPAN-Reporter-1.2018.

Thank you for uploading your work to CPAN.  Congratulations!
All tests were successful.

Sections of this report:

    * Tester comments
    * Program output
    * Prerequisites
    * Environment and other context

------------------------------
TESTER COMMENTS
------------------------------

Additional comments from tester:

this report is from an automated smoke testing program
and was not reviewed by a human for accuracy

------------------------------
PROGRAM OUTPUT
------------------------------

Output from 'C:\strawberry182\perl\bin\perl.exe ./Build test':

t/00_compile.t .... ok
t/01_util.t ....... ok
t/02_keystone.t ... ok
t/03_auth.t ....... ok
t/04_account.t .... ok
t/05_container.t .. ok
t/06_object.t ..... ok
All tests successful.
Files=7, Tests=27,  5 wallclock secs ( 0.09 usr +  0.10 sys =  0.19 CPU)
Result: PASS

------------------------------
PREREQUISITES
------------------------------

Prerequisite modules loaded:

requires:

    Module                          Need      Have      
    ------------------------------- --------- ----------
    App::Rad                        0         1.05      
    Data::Validator                 0         1.07      
    Furl                            0         3.13      
    IO::Socket::SSL                 0         1.967     
    JSON                            0         2.90      
    Log::Minimal                    0         0.17      
    Mouse                           0         2.1.0     
    namespace::clean                0         0.24      
    Parallel::Fork::BossWorkerAsync 0         0.09      
    Path::Tiny                      0         0.052     
    perl                            5.010_001 5.018002  
  ! Sys::CPU                        0         n/a       
    Text::ASCIITable                0         0.22      
    URI::Escape                     0         3.31      

build_requires:

    Module                          Need      Have      
    ------------------------------- --------- ----------
    Data::Section::Simple           0         0.05      
    Test::MockObject                0         1.20120301
    Test::MockObject::Extends       0         1.20120301
    Test::More                      0.98      1.001002  

configure_requires:

    Module                          Need      Have      
    ------------------------------- --------- ----------
    Module::Build::Tiny             0.035     0.035     


------------------------------
ENVIRONMENT AND OTHER CONTEXT
------------------------------

Environment variables:

    AUTOMATED_TESTING = 1
    COMSPEC = C:\WINDOWS\system32\cmd.exe
    NUMBER_OF_PROCESSORS = 1
    PATH = C:\WINDOWS\system32;C:\WINDOWS;C:\WINDOWS\System32\Wbem;C:\strawberry182\c\bin;C:\strawberry182\perl\site\bin;C:\strawberry182\perl\bin
    PERL5LIB = C:\strawberry182\cpan\build\Furl-3.13-lxYf15/blib/arch;C:\strawberry182\cpan\build\Furl-3.13-lxYf15/blib/lib;C:\strawberry182\cpan\build\HTTP-Parser-XS-0.17-S78JAN/blib/arch;C:\strawberry182\cpan\build\HTTP-Parser-XS-0.17-S78JAN/blib/lib;C:\strawberry182\cpan\build\Test-TCP-2.19-tIvsz2/blib/arch;C:\strawberry182\cpan\build\Test-TCP-2.19-tIvsz2/blib/lib;C:\strawberry182\cpan\build\Test-SharedFork-0.35-g4y6al/blib/arch;C:\strawberry182\cpan\build\Test-SharedFork-0.35-g4y6al/blib/lib;C:\strawberry182\cpan\build\Text-ASCIITable-0.22-v34pNt/blib/arch;C:\strawberry182\cpan\build\Text-ASCIITable-0.22-v34pNt/blib/lib;C:\strawberry182\cpan\build\Data-Validator-1.07-ee7ni7/blib/arch;C:\strawberry182\cpan\build\Data-Validator-1.07-ee7ni7/blib/lib;C:\strawberry182\cpan\build\App-Rad-1.05-ofuSI3/blib/arch;C:\strawberry182\cpan\build\App-Rad-1.05-ofuSI3/blib/lib;C:\strawberry182\cpan\build\Parallel-Fork-BossWorkerAsync-0.09-kO17LV/blib/arch;C:\strawberry182\cpan\build\Parallel-Fork-BossWorkerAsync-0.09-kO17LV/blib/lib
    PERL5OPT = 
    PERL5_CPANPLUS_IS_RUNNING = 1384
    PERL5_CPAN_IS_RUNNING = 1384
    PERL5_CPAN_IS_RUNNING_IN_RECURSION = 628,1384
    PERL_CR_SMOKER_CURRENT = Net-OpenStack-Swift-0.13
    PERL_CR_SMOKER_RUNONCE = 1
    PERL_EXTUTILS_AUTOINSTALL = --defaultdeps
    PERL_HASH_SEED = 0x11111111
    PERL_MM_USE_DEFAULT = 1
    PROCESSOR_IDENTIFIER = x86 Family 16 Model 5 Stepping 3, AuthenticAMD
    TEMP = C:\DOCUME~1\c\LOCALS~1\Temp
    TERM = dumb

Perl special variables (and OS-specific diagnostics, for MSWin32):

    $^X = C:\strawberry182\perl\bin\perl.exe
    $UID/$EUID = 0 / 0
    $GID = 0
    $EGID = 0
    Win32::GetOSName = WinXP/.Net
    Win32::GetOSVersion = Service Pack 3, 5, 1, 2600, 2, 3, 0, 256, 1
    Win32::FsType = NTFS
    Win32::IsAdminUser = 1

Perl module toolchain versions installed:

    Module              Have    
    ------------------- --------
    CPAN                2.00    
    CPAN::Meta          2.133380
    Cwd                 3.40    
    ExtUtils::CBuilder  0.280212
    ExtUtils::Command   1.18    
    ExtUtils::Install   1.59    
    ExtUtils::MakeMaker 6.84    
    ExtUtils::Manifest  1.63    
    ExtUtils::ParseXS   3.22    
    File::Spec          3.40    
    JSON                2.90    
    JSON::PP            2.27203 
    Module::Build       0.4203  
    Module::Signature   n/a     
    Parse::CPAN::Meta   1.4414  
    Test::Harness       3.30    
    Test::More          1.001002
    YAML                0.90    
    YAML::Syck          1.27    
    version             0.9904  


--

Summary of my perl5 (revision 5 version 18 subversion 2) configuration:
   
  Platform:
    osname=MSWin32, osvers=6.2, archname=MSWin32-x86-multi-thread-64int
    uname='Win32 strawberry-perl 5.18.2.1 #1 Tue Jan  7 16:30:36 2014 i386'
    config_args='undef'
    hint=recommended, useposix=true, d_sigaction=undef
    useithreads=define, usemultiplicity=define
    useperlio=define, d_sfio=undef, uselargefiles=define, usesocks=undef
    use64bitint=define, use64bitall=undef, uselongdouble=undef
    usemymalloc=n, bincompat5005=undef
  Compiler:
    cc='gcc', ccflags =' -s -O2 -DWIN32  -DPERL_TEXTMODE_SCRIPTS -DPERL_IMPLICIT_CONTEXT -DPERL_IMPLICIT_SYS -DUSE_PERLIO -fno-strict-aliasing -mms-bitfields',
    optimize='-s -O2',
    cppflags='-DWIN32'
    ccversion='', gccversion='4.7.3', gccosandvers=''
    intsize=4, longsize=4, ptrsize=4, doublesize=8, byteorder=12345678
    d_longlong=define, longlongsize=8, d_longdbl=define, longdblsize=12
    ivtype='long long', ivsize=8, nvtype='double', nvsize=8, Off_t='long long', lseeksize=8
    alignbytes=8, prototype=define
  Linker and Libraries:
    ld='g++', ldflags ='-s -L"C:\strawberry182\perl\lib\CORE" -L"C:\strawberry182\c\lib"'
    libpth=C:\strawberry182\c\lib C:\strawberry182\c\i686-w64-mingw32\lib C:\strawberry182\c\lib\gcc\i686-w64-mingw32\4.7.3
    libs=-lmoldname -lkernel32 -luser32 -lgdi32 -lwinspool -lcomdlg32 -ladvapi32 -lshell32 -lole32 -loleaut32 -lnetapi32 -luuid -lws2_32 -lmpr -lwinmm -lversion -lodbc32 -lodbccp32 -lcomctl32
    perllibs=-lmoldname -lkernel32 -luser32 -lgdi32 -lwinspool -lcomdlg32 -ladvapi32 -lshell32 -lole32 -loleaut32 -lnetapi32 -luuid -lws2_32 -lmpr -lwinmm -lversion -lodbc32 -lodbccp32 -lcomctl32
    libc=, so=dll, useshrplib=true, libperl=libperl518.a
    gnulibc_version=''
  Dynamic Linking:
    dlsrc=dl_win32.xs, dlext=dll, d_dlsymun=undef, ccdlflags=' '
    cccdlflags=' ', lddlflags='-mdll -s -L"C:\strawberry182\perl\lib\CORE" -L"C:\strawberry182\c\lib"'


Characteristics of this binary (from libperl): 
  Compile-time options: HAS_TIMES HAVE_INTERP_INTERN MULTIPLICITY
                        PERLIO_LAYERS PERL_DONT_CREATE_GVSV
                        PERL_HASH_FUNC_ONE_AT_A_TIME_HARD
                        PERL_IMPLICIT_CONTEXT PERL_IMPLICIT_SYS
                        PERL_MALLOC_WRAP PERL_PRESERVE_IVUV PERL_SAWAMPERSAND
                        USE_64_BIT_INT USE_ITHREADS USE_LARGE_FILES
                        USE_LOCALE USE_LOCALE_COLLATE USE_LOCALE_CTYPE
                        USE_LOCALE_NUMERIC USE_PERLIO USE_PERL_ATOF
  Built under MSWin32
  Compiled at Jan  7 2014 16:39:31
  %ENV:
    PERL5LIB="C:\strawberry182\cpan\build\Furl-3.13-lxYf15/blib/arch;C:\strawberry182\cpan\build\Furl-3.13-lxYf15/blib/lib;C:\strawberry182\cpan\build\HTTP-Parser-XS-0.17-S78JAN/blib/arch;C:\strawberry182\cpan\build\HTTP-Parser-XS-0.17-S78JAN/blib/lib;C:\strawberry182\cpan\build\Test-TCP-2.19-tIvsz2/blib/arch;C:\strawberry182\cpan\build\Test-TCP-2.19-tIvsz2/blib/lib;C:\strawberry182\cpan\build\Test-SharedFork-0.35-g4y6al/blib/arch;C:\strawberry182\cpan\build\Test-SharedFork-0.35-g4y6al/blib/lib;C:\strawberry182\cpan\build\Text-ASCIITable-0.22-v34pNt/blib/arch;C:\strawberry182\cpan\build\Text-ASCIITable-0.22-v34pNt/blib/lib;C:\strawberry182\cpan\build\Data-Validator-1.07-ee7ni7/blib/arch;C:\strawberry182\cpan\build\Data-Validator-1.07-ee7ni7/blib/lib;C:\strawberry182\cpan\build\App-Rad-1.05-ofuSI3/blib/arch;C:\strawberry182\cpan\build\App-Rad-1.05-ofuSI3/blib/lib;C:\strawberry182\cpan\build\Parallel-Fork-BossWorkerAsync-0.09-kO17LV/blib/arch;C:\strawberry182\cpan\build\Parallel-Fork-BossWorkerAsync-0.09-kO17LV/blib/lib"
    PERL5_CPANPLUS_IS_RUNNING="1384"
    PERL5_CPAN_IS_RUNNING="1384"
    PERL5_CPAN_IS_RUNNING_IN_RECURSION="628,1384"
    PERL_CR_SMOKER_CURRENT="Net-OpenStack-Swift-0.13"
    PERL_CR_SMOKER_RUNONCE="1"
    PERL_EXTUTILS_AUTOINSTALL="--defaultdeps"
    PERL_HASH_SEED="0x11111111"
    PERL_MM_USE_DEFAULT="1"
  @INC:
    C:\strawberry182\cpan\build\Furl-3.13-lxYf15/blib/arch
    C:\strawberry182\cpan\build\Furl-3.13-lxYf15/blib/lib
    C:\strawberry182\cpan\build\HTTP-Parser-XS-0.17-S78JAN/blib/arch
    C:\strawberry182\cpan\build\HTTP-Parser-XS-0.17-S78JAN/blib/lib
    C:\strawberry182\cpan\build\Test-TCP-2.19-tIvsz2/blib/arch
    C:\strawberry182\cpan\build\Test-TCP-2.19-tIvsz2/blib/lib
    C:\strawberry182\cpan\build\Test-SharedFork-0.35-g4y6al/blib/arch
    C:\strawberry182\cpan\build\Test-SharedFork-0.35-g4y6al/blib/lib
    C:\strawberry182\cpan\build\Text-ASCIITable-0.22-v34pNt/blib/arch
    C:\strawberry182\cpan\build\Text-ASCIITable-0.22-v34pNt/blib/lib
    C:\strawberry182\cpan\build\Data-Validator-1.07-ee7ni7/blib/arch
    C:\strawberry182\cpan\build\Data-Validator-1.07-ee7ni7/blib/lib
    C:\strawberry182\cpan\build\App-Rad-1.05-ofuSI3/blib/arch
    C:\strawberry182\cpan\build\App-Rad-1.05-ofuSI3/blib/lib
    C:\strawberry182\cpan\build\Parallel-Fork-BossWorkerAsync-0.09-kO17LV/blib/arch
    C:\strawberry182\cpan\build\Parallel-Fork-BossWorkerAsync-0.09-kO17LV/blib/lib
    C:/strawberry182/perl/site/lib
    C:/strawberry182/perl/vendor/lib
    C:/strawberry182/perl/lib
    .