Report for Dist-Zilla-Plugin-CopyFilesFromBuild-0.170880

Back
From: metabase:user:efaea432-2c23-11e4-82e9-b1bd3c985d1a
Subject: PASS Dist-Zilla-Plugin-CopyFilesFromBuild-0.170880 v5.26.0 RC1 Mac OS X
Date: 2017-05-12T04:37:29Z

This distribution has been tested as part of the CPAN Testers
project, supporting the Perl programming language.  See
http://wiki.cpantesters.org/ for more information or email
questions to cpan-testers-discuss@perl.org


--
Dear RTHOMPSON,

This is a computer-generated report for Dist-Zilla-Plugin-CopyFilesFromBuild-0.170880
on perl 5.26.0, created by App::cpanminus::reporter 0.17 (1.7043).

Thank you for uploading your work to CPAN.  Congratulations!
All tests were successful.

Sections of this report:

    * Tester comments
    * Program output
    * Prerequisites
    * Environment and other context

------------------------------
TESTER COMMENTS
------------------------------

Additional comments from tester:

none provided

------------------------------
PROGRAM OUTPUT
------------------------------

Output from '':

Building and testing Dist-Zilla-Plugin-CopyFilesFromBuild-0.170880
cp lib/Dist/Zilla/Plugin/CopyFilesFromBuild.pm blib/lib/Dist/Zilla/Plugin/CopyFilesFromBuild.pm
Manifying 1 pod document
PERL_DL_NONLAZY=1 "/opt/plenv/versions/5.26.0-RC1/bin/perl5.26.0" "-MExtUtils::Command::MM" "-MTest::Harness" "-e" "undef *Test::Harness::Switches; test_harness(0, 'blib/lib', 'blib/arch')" t/*.t
t/00-compile.t ........... ok
# Testing with Perl 5.026000, /opt/plenv/versions/5.26.0-RC1/bin/perl5.26.0
#     Carp version is 1.42
#     Dist::Zilla::Plugin::ReadmeAnyFromPod version is 0.163250
#     Dist::Zilla::Role::AfterBuild version is 6.009
#     ExtUtils::MakeMaker version is 7.24
#     File::Copy version is 2.32
#     File::Spec version is 3.67
#     IO::File version is 1.16
#     IO::Handle version is 1.36
#     IPC::Open3 version is 1.20
#     List::Util version is 1.4602
#     Moose version is 2.2005
#     MooseX::Has::Sugar version is 1.000006
#     Path::Tiny version is 0.104
#     Scalar::Util version is 1.4602
#     Set::Scalar version is 1.29
#     Test::DZil version is 6.009
#     Test::Exception version is 0.43
#     Test::More version is 1.302073
#     Test::Most version is 0.35
#     autodie version is 2.29
#     blib version is 1.06
#     strict version is 1.11
#     utf8 version is 1.19
#     warnings version is 1.37
t/000-report-versions.t .. ok
t/author-critic.t ........ skipped: these tests are for testing by the author
t/author-pod-coverage.t .. skipped: these tests are for testing by the author
t/author-pod-syntax.t .... skipped: these tests are for testing by the author
t/basic.t ................ ok
t/release-has-version.t .. skipped: these tests are for release candidate testing
t/release-kwalitee.t ..... skipped: these tests are for release candidate testing
t/release-portability.t .. skipped: these tests are for release candidate testing
t/release-unused-vars.t .. skipped: these tests are for release candidate testing
All tests successful.
Files=10, Tests=34,  2 wallclock secs ( 0.04 usr  0.03 sys +  1.59 cusr  0.18 csys =  1.84 CPU)
Result: PASS

------------------------------
PREREQUISITES
------------------------------

Prerequisite modules loaded:

    No requirements found

------------------------------
ENVIRONMENT AND OTHER CONTEXT
------------------------------

Environment variables:

    LANG = en_US.UTF-8
    LC_ALL = en_US.UTF-8
    PATH = /opt/plenv/versions/5.26.0-RC1/bin:/opt/plenv/libexec:/opt/plenv/plugins/perl-build/bin:/opt/plenv/shims:/opt/plenv/bin:/Users/genehack/bin:/opt/nvm/versions/node/v4.7.3/bin:/opt/go/bin:/opt/vim/bin:/opt/tmux/bin:/opt/python/bin:/opt/git/bin:/opt/emacs/bin:/opt/local/bin:/usr/bin:/bin:/usr/sbin:/sbin:/usr/local/bin:/usr/X11/bin:/Users/genehack/proj/go/bin
    PERL_CPANM_OPT = --skip-installed --prompt
    SHELL = /bin/zsh
    TERM = screen-256color
    TMPDIR = /var/folders/gd/n6xwfsjd0dzcngcyp60cxvth0000gn/T/

Perl special variables (and OS-specific diagnostics, for MSWin32):

    EGID = 20 20 501 12 61 79 80 81 98 398 399 33 100 204 395
    EUID = 501
    EXECUTABLE_NAME = /opt/plenv/versions/5.26.0-RC1/bin/perl5.26.0
    GID = 20 20 501 12 61 79 80 81 98 398 399 33 100 204 395
    UID = 501

Perl module toolchain versions installed:

    Module              Have      
    ------------------- ----------
    CPAN                2.18      
    CPAN::Meta          2.150010  
    Cwd                 3.67      
    ExtUtils::CBuilder  0.280225  
    ExtUtils::Command   7.24      
    ExtUtils::Install   2.04      
    ExtUtils::MakeMaker 7.24      
    ExtUtils::Manifest  1.70      
    ExtUtils::ParseXS   3.34      
    File::Spec          3.67      
    JSON                2.90      
    JSON::PP            2.27400_02
    Module::Build       0.4222    
    Module::Signature   n/a       
    Parse::CPAN::Meta   2.150010  
    Test::Harness       3.38      
    Test::More          1.302085  
    YAML                1.23      
    YAML::Syck          n/a       
    version             0.9917    


--

Summary of my perl5 (revision 5 version 26 subversion 0) configuration:
   
  Platform:
    osname=darwin
    osvers=16.5.0
    archname=darwin-2level
    uname='darwin irving.home.genehack.org 16.5.0 darwin kernel version 16.5.0: fri mar 3 16:52:33 pst 2017; root:xnu-3789.51.2~3release_x86_64 x86_64 i386 macbookpro11,1 darwin '
    config_args='-Dprefix=/opt/plenv/versions/5.26.0-RC1 -de -Dusedevel -A'eval:scriptdir=/opt/plenv/versions/5.26.0-RC1/bin''
    hint=recommended
    useposix=true
    d_sigaction=define
    useithreads=undef
    usemultiplicity=undef
    use64bitint=define
    use64bitall=define
    uselongdouble=undef
    usemymalloc=n
    default_inc_excludes_dot=define
    bincompat5005=undef
  Compiler:
    cc='cc'
    ccflags ='-fno-common -DPERL_DARWIN -mmacosx-version-min=10.12 -fno-strict-aliasing -pipe -fstack-protector-strong -I/opt/local/include -DPERL_USE_SAFE_PUTENV'
    optimize='-O3'
    cppflags='-fno-common -DPERL_DARWIN -mmacosx-version-min=10.12 -fno-strict-aliasing -pipe -fstack-protector-strong -I/opt/local/include'
    ccversion=''
    gccversion='4.2.1 Compatible Apple LLVM 8.1.0 (clang-802.0.42)'
    gccosandvers=''
    intsize=4
    longsize=8
    ptrsize=8
    doublesize=8
    byteorder=12345678
    doublekind=3
    d_longlong=define
    longlongsize=8
    d_longdbl=define
    longdblsize=16
    longdblkind=3
    ivtype='long'
    ivsize=8
    nvtype='double'
    nvsize=8
    Off_t='off_t'
    lseeksize=8
    alignbytes=8
    prototype=define
  Linker and Libraries:
    ld='cc'
    ldflags =' -mmacosx-version-min=10.12 -fstack-protector-strong -L/usr/local/lib -L/opt/local/lib'
    libpth=/Applications/Xcode.app/Contents/Developer/Toolchains/XcodeDefault.xctoolchain/usr/bin/../lib/clang/8.1.0/lib /Applications/Xcode.app/Contents/Developer/Toolchains/XcodeDefault.xctoolchain/usr/lib /Applications/Xcode.app/Contents/Developer/Platforms/MacOSX.platform/Developer/SDKs/MacOSX10.12.sdk/usr/lib /usr/local/lib /opt/local/lib /usr/lib
    libs=-lpthread -ldbm -ldl -lm -lutil -lc
    perllibs=-lpthread -ldl -lm -lutil -lc
    libc=
    so=dylib
    useshrplib=false
    libperl=libperl.a
    gnulibc_version=''
  Dynamic Linking:
    dlsrc=dl_dlopen.xs
    dlext=bundle
    d_dlsymun=undef
    ccdlflags=' '
    cccdlflags=' '
    lddlflags=' -mmacosx-version-min=10.12 -bundle -undefined dynamic_lookup -L/usr/local/lib -L/opt/local/lib -fstack-protector-strong'


Characteristics of this binary (from libperl): 
  Compile-time options:
    HAS_TIMES
    PERLIO_LAYERS
    PERL_COPY_ON_WRITE
    PERL_DONT_CREATE_GVSV
    PERL_MALLOC_WRAP
    PERL_OP_PARENT
    PERL_PRESERVE_IVUV
    PERL_USE_DEVEL
    PERL_USE_SAFE_PUTENV
    USE_64_BIT_ALL
    USE_64_BIT_INT
    USE_LARGE_FILES
    USE_LOCALE
    USE_LOCALE_COLLATE
    USE_LOCALE_CTYPE
    USE_LOCALE_NUMERIC
    USE_LOCALE_TIME
    USE_PERLIO
    USE_PERL_ATOF
  Locally applied patches:
    RC1
    Devel::PatchPerl 1.48
  Built under darwin
  Compiled at May 11 2017 19:56:10
  %ENV:
    PERL_CPANM_OPT="--skip-installed --prompt"
  @INC:
    /opt/plenv/versions/5.26.0-RC1/lib/perl5/site_perl/5.26.0/darwin-2level
    /opt/plenv/versions/5.26.0-RC1/lib/perl5/site_perl/5.26.0
    /opt/plenv/versions/5.26.0-RC1/lib/perl5/5.26.0/darwin-2level
    /opt/plenv/versions/5.26.0-RC1/lib/perl5/5.26.0