Report for Catalyst-View-RRDGraph-0.10

Back
From: metabase:user:a0e144f2-373b-11e6-8edd-c6848980b093
Subject: PASS Catalyst-View-RRDGraph-0.10 v5.25.6 GNU/Linux
Date: 2016-11-08T04:42:08Z

This distribution has been tested as part of the CPAN Testers
project, supporting the Perl programming language.  See
http://wiki.cpantesters.org/ for more information or email
questions to cpan-testers-discuss@perl.org


--
Dear Miquel Ruiz Martin,

This is a computer-generated report for Catalyst-View-RRDGraph-0.10
on perl 5.25.6, created by CPAN-Reporter-1.2018.

Thank you for uploading your work to CPAN.  Congratulations!
All tests were successful.

Sections of this report:

    * Tester comments
    * Program output
    * Prerequisites
    * Environment and other context

------------------------------
TESTER COMMENTS
------------------------------

Additional comments from tester:

this report is from an automated smoke testing program
and was not reviewed by a human for accuracy

------------------------------
PROGRAM OUTPUT
------------------------------

Output from '/usr/bin/make test':

PERL_DL_NONLAZY=1 "/home/cpan3/install/bin/perl" "-MExtUtils::Command::MM" "-MTest::Harness" "-e" "undef *Test::Harness::Switches; test_harness(0, 'blib/lib', 'blib/arch')" t/*.t
t/001_load.t ............ ok
t/002_process.t ......... ok
[debug] Debug messages enabled
[debug] Statistics enabled
[debug] Loaded PSGI Middleware:
.----------------------------------------------------------------------------.
| Catalyst::Middleware::Stash                                                |
| Plack::Middleware::HTTPExceptions                                          |
| Plack::Middleware::RemoveRedundantBody  0.04                               |
| Plack::Middleware::FixMissingBodyInRedirect  0.12                          |
| Plack::Middleware::ContentLength                                           |
| Plack::Middleware::MethodOverride  0.15                                    |
| Plack::Middleware::Head                                                    |
'----------------------------------------------------------------------------'

[debug] Loaded Request Data Handlers:
.----------------------------------------------------------------------------.
| application/json                                                           |
| application/x-www-form-urlencoded                                          |
'----------------------------------------------------------------------------'

[debug] Loaded dispatcher "Catalyst::Dispatcher"
[debug] Loaded engine "Catalyst::Engine"
[debug] Found home "/home/cpan3/.cpan/build/Catalyst-View-RRDGraph-0.10-0/t/lib/RRDGraphTest003"
[debug] Loaded components:
.-----------------------------------------------------------------+----------.
| Class                                                           | Type     |
+-----------------------------------------------------------------+----------+
| RRDGraphTest003::Controller::Root                               | instance |
| RRDGraphTest003::View::RRDNormal                                | instance |
| RRDGraphTest003::View::RRDOnServe                               | instance |
| RRDGraphTest003::View::RRDOnServeFunction                       | instance |
'-----------------------------------------------------------------+----------'

[debug] Loaded Private actions:
.----------------------+--------------------------------------+--------------.
| Private              | Class                                | Method       |
+----------------------+--------------------------------------+--------------+
| /image_error_normal  | RRDGraphTest003::Controller::Root    | image_error- |
|                      |                                      | _normal      |
| /zero_byte_error_no- | RRDGraphTest003::Controller::Root    | zero_byte_e- |
| rmal                 |                                      | rror_normal  |
| /image_error         | RRDGraphTest003::Controller::Root    | image_error  |
| /zero_byte_error     | RRDGraphTest003::Controller::Root    | zero_byte_e- |
|                      |                                      | rror         |
| /zero_byte_error_fu- | RRDGraphTest003::Controller::Root    | zero_byte_e- |
| nction               |                                      | rror_functi- |
|                      |                                      | on           |
| /image_error_functi- | RRDGraphTest003::Controller::Root    | image_error- |
| on                   |                                      | _function    |
'----------------------+--------------------------------------+--------------'

[debug] Loaded Path actions:
.-------------------------------------+--------------------------------------.
| Path                                | Private                              |
+-------------------------------------+--------------------------------------+
| /image_error/...                    | /image_error                         |
| /image_error_function/...           | /image_error_function                |
| /image_error_normal/...             | /image_error_normal                  |
| /zero_byte_error/...                | /zero_byte_error                     |
| /zero_byte_error_function/...       | /zero_byte_error_function            |
| /zero_byte_error_normal/...         | /zero_byte_error_normal              |
'-------------------------------------+--------------------------------------'

[info] RRDGraphTest003 powered by Catalyst 5.90112
[info] *** Request 1 (1.000/s) [18434] [Thu Nov  3 01:23:25 2016] ***
[debug] Path is "zero_byte_error"
[debug] "GET" request for "zero_byte_error" from "127.0.0.1"
[error] RRDgraph is 0 bytes
[debug] Static::Simple: Serving static file: error_image.png as image/png
[debug] Response Code: 200; Content-Type: image/png; Content-Length: 14
[info] Request took 0.007672s (130.344/s)
.------------------------------------------------------------+-----------.
| Action                                                     | Time      |
+------------------------------------------------------------+-----------+
| /zero_byte_error                                           | 0.004098s |
|  -> RRDGraphTest003::View::RRDOnServe->process             | 0.003755s |
'------------------------------------------------------------+-----------'

[info] *** Request 2 (2.000/s) [18434] [Thu Nov  3 01:23:25 2016] ***
[debug] Path is "image_error"
[debug] "GET" request for "image_error" from "127.0.0.1"
[error] Unknown option
[debug] Static::Simple: Serving static file: error_image.png as image/png
[debug] Response Code: 200; Content-Type: image/png; Content-Length: 14
[info] Request took 0.003417s (292.654/s)
.------------------------------------------------------------+-----------.
| Action                                                     | Time      |
+------------------------------------------------------------+-----------+
| /image_error                                               | 0.001199s |
|  -> RRDGraphTest003::View::RRDOnServe->process             | 0.000812s |
'------------------------------------------------------------+-----------'

[info] *** Request 3 (3.000/s) [18434] [Thu Nov  3 01:23:25 2016] ***
[debug] Path is "zero_byte_error_normal"
[debug] "GET" request for "zero_byte_error_normal" from "127.0.0.1"
[error] RRDgraph is 0 bytes
[debug] Response Code: 500; Content-Type: text/html; charset=utf-8; Content-Length: unknown
[info] Request took 0.006507s (153.681/s)
.------------------------------------------------------------+-----------.
| Action                                                     | Time      |
+------------------------------------------------------------+-----------+
| /zero_byte_error_normal                                    | 0.000873s |
|  -> RRDGraphTest003::View::RRDNormal->process              | 0.000525s |
'------------------------------------------------------------+-----------'

[info] *** Request 4 (4.000/s) [18434] [Thu Nov  3 01:23:25 2016] ***
[debug] Path is "image_error_normal"
[debug] "GET" request for "image_error_normal" from "127.0.0.1"
[error] Unknown option
[debug] Response Code: 500; Content-Type: text/html; charset=utf-8; Content-Length: unknown
[info] Request took 0.00615s (162.602/s)
.------------------------------------------------------------+-----------.
| Action                                                     | Time      |
+------------------------------------------------------------+-----------+
| /image_error_normal                                        | 0.000830s |
|  -> RRDGraphTest003::View::RRDNormal->process              | 0.000491s |
'------------------------------------------------------------+-----------'

[info] *** Request 5 (5.000/s) [18434] [Thu Nov  3 01:23:25 2016] ***
[debug] Path is "zero_byte_error_function"
[debug] "GET" request for "zero_byte_error_function" from "127.0.0.1"
[debug] Response Code: 200; Content-Type: unknown; Content-Length: unknown
[info] Request took 0.002852s (350.631/s)
.------------------------------------------------------------+-----------.
| Action                                                     | Time      |
+------------------------------------------------------------+-----------+
| /zero_byte_error_function                                  | 0.000755s |
|  -> RRDGraphTest003::View::RRDOnServeFunction->process     | 0.000468s |
'------------------------------------------------------------+-----------'

[info] *** Request 6 (6.000/s) [18434] [Thu Nov  3 01:23:25 2016] ***
[debug] Path is "image_error_function"
[debug] "GET" request for "image_error_function" from "127.0.0.1"
[debug] Response Code: 200; Content-Type: unknown; Content-Length: unknown
[info] Request took 0.002666s (375.094/s)
.------------------------------------------------------------+-----------.
| Action                                                     | Time      |
+------------------------------------------------------------+-----------+
| /image_error_function                                      | 0.000769s |
|  -> RRDGraphTest003::View::RRDOnServeFunction->process     | 0.000503s |
'------------------------------------------------------------+-----------'

t/003_on_error_serve.t .. ok
All tests successful.
Files=3, Tests=17,  1 wallclock secs ( 0.02 usr  0.02 sys +  1.36 cusr  0.08 csys =  1.48 CPU)
Result: PASS

------------------------------
PREREQUISITES
------------------------------

Prerequisite modules loaded:

requires:

    Module                           Need Have      
    -------------------------------- ---- ----------
    Catalyst::Plugin::Static::Simple 0    0.33      
    Catalyst::Runtime                5.7  5.90112   
    MRO::Compat                      0    0.12      

build_requires:

    Module                           Need Have      
    -------------------------------- ---- ----------
    Catalyst::Test                   0    0         
    Test::MockObject                 0    1.20150527
    Test::More                       0    1.302062  

configure_requires:

    Module                           Need Have      
    -------------------------------- ---- ----------
    ExtUtils::MakeMaker              6.30 7.24      


------------------------------
ENVIRONMENT AND OTHER CONTEXT
------------------------------

Environment variables:

    AUTOMATED_TESTING = 1
    HARNESS_OPTIONS = j3
    LANG = en_US.UTF-8
    PATH = /usr/local/bin:/usr/bin:/bin:/usr/local/games:/usr/games
    PERL5LIB = 
    PERL5OPT = 
    PERL5_CPANPLUS_IS_RUNNING = 17492
    PERL5_CPAN_IS_RUNNING = 17492
    PERL5_CPAN_IS_RUNNING_IN_RECURSION = 7970,17492
    PERLBREW_BASHRC_VERSION = 0.76
    PERLBREW_HOME = /home/dcollins/.perlbrew
    PERLBREW_ROOT = /home/dcollins/toolchain/perl5
    PERL_CR_SMOKER_CURRENT = Catalyst-View-RRDGraph-0.10
    PERL_CR_SMOKER_RUNONCE = 1
    PERL_EXTUTILS_AUTOINSTALL = --defaultdeps
    PERL_MM_USE_DEFAULT = 1
    SHELL = /bin/bash
    TERM = putty

Perl special variables (and OS-specific diagnostics, for MSWin32):

    $^X = /home/cpan3/install/bin/perl
    $UID/$EUID = 1004 / 1004
    $GID = 1004 1004
    $EGID = 1004 1004

Perl module toolchain versions installed:

    Module              Have    
    ------------------- --------
    CPAN                2.14    
    CPAN::Meta          2.150010
    Cwd                 3.62    
    ExtUtils::CBuilder  0.280224
    ExtUtils::Command   7.24    
    ExtUtils::Install   2.04    
    ExtUtils::MakeMaker 7.24    
    ExtUtils::Manifest  1.70    
    ExtUtils::ParseXS   3.30    
    File::Spec          3.62    
    JSON                2.90    
    JSON::PP            2.27400 
    Module::Build       0.4220  
    Module::Signature   0.81    
    Parse::CPAN::Meta   2.150010
    Test::Harness       3.36    
    Test::More          1.302062
    YAML                1.18    
    YAML::Syck          1.29    
    version             0.9917  


--

Summary of my perl5 (revision 5 version 25 subversion 6) configuration:
  Commit id: 11a12be6c2df2fcd9601f9fde8c7df8c7538c956
  Platform:
    osname=linux
    osvers=3.16.0-4-amd64
    archname=x86_64-linux-thread-multi
    uname='linux digitalis 3.16.0-4-amd64 #1 smp debian 3.16.36-1+deb8u1 (2016-09-03) x86_64 gnulinux '
    config_args='-Dusedevel -DDEBUGGING -Dusethreads -Dprefix=/home/cpan3/install -Uversiononly -des'
    hint=recommended
    useposix=true
    d_sigaction=define
    useithreads=define
    usemultiplicity=define
    use64bitint=define
    use64bitall=define
    uselongdouble=undef
    usemymalloc=n
    bincompat5005=undef
  Compiler:
    cc='cc'
    ccflags ='-D_REENTRANT -D_GNU_SOURCE -fwrapv -DDEBUGGING -fno-strict-aliasing -pipe -fstack-protector-strong -I/usr/local/include -D_LARGEFILE_SOURCE -D_FILE_OFFSET_BITS=64 -D_FORTIFY_SOURCE=2'
    optimize='-O2 -g'
    cppflags='-D_REENTRANT -D_GNU_SOURCE -fwrapv -DDEBUGGING -fno-strict-aliasing -pipe -fstack-protector-strong -I/usr/local/include'
    ccversion=''
    gccversion='4.9.2'
    gccosandvers=''
    intsize=4
    longsize=8
    ptrsize=8
    doublesize=8
    byteorder=12345678
    doublekind=3
    d_longlong=define
    longlongsize=8
    d_longdbl=define
    longdblsize=16
    longdblkind=3
    ivtype='long'
    ivsize=8
    nvtype='double'
    nvsize=8
    Off_t='off_t'
    lseeksize=8
    alignbytes=8
    prototype=define
  Linker and Libraries:
    ld='cc'
    ldflags =' -fstack-protector-strong -L/usr/local/lib'
    libpth=/usr/local/lib /usr/lib/gcc/x86_64-linux-gnu/4.9/include-fixed /usr/include/x86_64-linux-gnu /usr/lib /lib/x86_64-linux-gnu /lib/../lib /usr/lib/x86_64-linux-gnu /usr/lib/../lib /lib
    libs=-lpthread -lnsl -ldl -lm -lcrypt -lutil -lc
    perllibs=-lpthread -lnsl -ldl -lm -lcrypt -lutil -lc
    libc=libc-2.19.so
    so=so
    useshrplib=false
    libperl=libperl.a
    gnulibc_version='2.19'
  Dynamic Linking:
    dlsrc=dl_dlopen.xs
    dlext=so
    d_dlsymun=undef
    ccdlflags='-Wl,-E'
    cccdlflags='-fPIC'
    lddlflags='-shared -O2 -g -L/usr/local/lib -fstack-protector-strong'


Characteristics of this binary (from libperl): 
  Compile-time options:
    DEBUGGING
    HAS_TIMES
    MULTIPLICITY
    PERLIO_LAYERS
    PERL_COPY_ON_WRITE
    PERL_DONT_CREATE_GVSV
    PERL_HASH_FUNC_ONE_AT_A_TIME_HARD
    PERL_IMPLICIT_CONTEXT
    PERL_MALLOC_WRAP
    PERL_OP_PARENT
    PERL_PRESERVE_IVUV
    PERL_TRACK_MEMPOOL
    PERL_USE_DEVEL
    USE_64_BIT_ALL
    USE_64_BIT_INT
    USE_ITHREADS
    USE_LARGE_FILES
    USE_LOCALE
    USE_LOCALE_COLLATE
    USE_LOCALE_CTYPE
    USE_LOCALE_NUMERIC
    USE_LOCALE_TIME
    USE_PERLIO
    USE_PERL_ATOF
    USE_REENTRANT_API
  Built under linux
  Compiled at Oct 30 2016 10:43:21
  %ENV:
    PERL5LIB=""
    PERL5OPT=""
    PERL5_CPANPLUS_IS_RUNNING="17492"
    PERL5_CPAN_IS_RUNNING="17492"
    PERL5_CPAN_IS_RUNNING_IN_RECURSION="7970,17492"
    PERLBREW_BASHRC_VERSION="0.76"
    PERLBREW_HOME="/home/dcollins/.perlbrew"
    PERLBREW_ROOT="/home/dcollins/toolchain/perl5"
    PERL_CR_SMOKER_CURRENT="Catalyst-View-RRDGraph-0.10"
    PERL_CR_SMOKER_RUNONCE="1"
    PERL_EXTUTILS_AUTOINSTALL="--defaultdeps"
    PERL_MM_USE_DEFAULT="1"
  @INC:
    /home/cpan3/install/lib/perl5/site_perl/5.25.6/x86_64-linux-thread-multi
    /home/cpan3/install/lib/perl5/site_perl/5.25.6
    /home/cpan3/install/lib/perl5/5.25.6/x86_64-linux-thread-multi
    /home/cpan3/install/lib/perl5/5.25.6
    .