Report for XML-RSS-1.56

Back
From: metabase:user:de3f6d0c-9148-11e2-b3ef-101390f652a1
Subject: PASS XML-RSS-1.56 v5.8.9 GNU/Linux
Date: 2014-12-08T10:19:34Z

This distribution has been tested as part of the CPAN Testers
project, supporting the Perl programming language.  See
http://wiki.cpantesters.org/ for more information or email
questions to cpan-testers-discuss@perl.org


--
Dear Shlomi Fish,

This is a computer-generated report for XML-RSS-1.56
on perl 5.8.9, created by CPAN-Reporter-1.2011.

Thank you for uploading your work to CPAN.  Congratulations!
All tests were successful.

Sections of this report:

    * Tester comments
    * Program output
    * Prerequisites
    * Environment and other context

------------------------------
TESTER COMMENTS
------------------------------

Additional comments from tester:

none provided

------------------------------
PROGRAM OUTPUT
------------------------------

Output from './Build test':

t/load.t .............................. ok
t/pod.t ............................... ok
t/cpan-changes.t ...................... skipped: Test::CPAN::Changes required for this test
t/style-trailing-space.t .............. skipped: Test::TrailingSpace required for trailing space test.
t/version.t ........................... ok
t/render-upon-init.t .................. ok
t/encoding.t .......................... ok
t/0.9-generate.t ...................... ok
t/0.9-parse.t ......................... ok
t/0.9-strict.t ........................ ok
t/0.91-parse.t ........................ ok
t/1.0-generate.t ...................... ok
t/1.0-gen-errors-on-missing-fields.t .. ok
t/1.0-parse.t ......................... ok
t/1.0-parse-2.t ....................... ok
t/1.0-parse-exotic.t .................. ok
t/2.0-generate.t ...................... ok
t/2.0-modules.t ....................... ok
t/2.0-permalink.t ..................... ok
t/2.0-parse.t ......................... ok
t/2.0-parse-cloud.t ................... ok
t/2.0-parse-2.t ....................... ok
t/2.0-parse-self.t .................... ok
t/2.0-wo-title.t ...................... ok
t/1.0-to-2.0.t ........................ ok
t/auto_add_modules.t .................. ok
t/enclosures.t ........................ ok
t/enclosures2.t ....................... ok
t/enclosures-multi.t .................. ok
t/encode-output.t ..................... ok
t/test-generated-items.t .............. ok
t/pod-coverage.t ...................... ok
t/rss2-gt-encoding.t .................. ok
t/charset1.t .......................... ok
t/xml-header.t ........................ ok
t/add-item-insert-vs-append.t ......... ok
t/guid.t .............................. ok
t/xml-base.t .......................... ok
t/save-while-in-taint-mode.t .......... ok
All tests successful.
Files=39, Tests=454, 10 wallclock secs ( 0.23 usr  0.06 sys +  9.14 cusr  0.56 csys =  9.99 CPU)
Result: PASS

------------------------------
PREREQUISITES
------------------------------

Prerequisite modules loaded:

requires:

    Module                   Need  Have    
    ------------------------ ----- --------
    DateTime                 0     1.12    
    DateTime::Format::Mail   0     0.401   
    DateTime::Format::W3CDTF 0     0.06    
    HTML::Entities           0     3.69    
    perl                     5.008 5.008009
    XML::Parser              2.23  2.41    

build_requires:

    Module                   Need  Have    
    ------------------------ ----- --------
    Test::Manifest           0.9   2.02    
    Test::More               0     1.001009

configure_requires:

    Module                   Need  Have    
    ------------------------ ----- --------
    Module::Build            0.36  0.4210  


------------------------------
ENVIRONMENT AND OTHER CONTEXT
------------------------------

Environment variables:

    LANG = en_US.UTF-8
    LC_COLLATE = sv_SE.UTF-8
    LC_MEASUREMENT = POSIX
    LC_MESSAGES = POSIX
    LC_MONETARY = POSIX
    LC_NUMERIC = POSIX
    PATH = /opt/perlbrew/bin:/opt/perlbrew/perls/perl-5.8.9-thread-multi/bin:/opt/perlbrew/bin:/opt/perlbrew/perls/perl-5.20.1/bin:/usr/local/bin:/usr/bin:/bin:/opt/bin:/usr/x86_64-pc-linux-gnu/gcc-bin/4.8.3:/usr/x86_64-pc-linux-gnu/armv6j-hardfloat-linux-gnueabi/gcc-bin/4.8.3:/usr/lib64/subversion/bin
    PERL5LIB = 
    PERL5OPT = 
    PERL5_CPANPLUS_IS_RUNNING = 7724
    PERL5_CPAN_IS_RUNNING = 7724
    PERLBREW_BASHRC_VERSION = 0.72
    PERLBREW_HOME = /home/pk/.perlbrew
    PERLBREW_LIB = 
    PERLBREW_MANPATH = /opt/perlbrew/perls/perl-5.8.9-thread-multi/man
    PERLBREW_PATH = /opt/perlbrew/bin:/opt/perlbrew/perls/perl-5.8.9-thread-multi/bin
    PERLBREW_PERL = perl-5.8.9-thread-multi
    PERLBREW_ROOT = /opt/perlbrew
    PERLBREW_VERSION = 0.72
    PERL_LOCAL_LIB_ROOT = 
    SHELL = /bin/bash
    TERM = screen

Perl special variables (and OS-specific diagnostics, for MSWin32):

    $^X = /opt/perlbrew/perls/perl-5.8.9-thread-multi/bin/perl
    $UID/$EUID = 1000 / 1000
    $GID = 100 4 11 18 19 20 26 100 250 444 445 1015
    $EGID = 100 4 11 18 19 20 26 100 250 444 445 1015

Perl module toolchain versions installed:

    Module              Have    
    ------------------- --------
    CPAN                2.05    
    CPAN::Meta          2.143240
    Cwd                 3.47    
    ExtUtils::CBuilder  0.280220
    ExtUtils::Command   1.16    
    ExtUtils::Install   2.04    
    ExtUtils::MakeMaker 7.04    
    ExtUtils::Manifest  1.69    
    ExtUtils::ParseXS   3.24    
    File::Spec          3.47    
    JSON                2.90    
    JSON::PP            2.27203 
    Module::Build       0.4210  
    Module::Signature   n/a     
    Parse::CPAN::Meta   1.4414  
    Test::Harness       3.34    
    Test::More          1.001009
    YAML                1.13    
    YAML::Syck          n/a     
    version             0.9909  


--

Summary of my perl5 (revision 5 version 8 subversion 9) configuration:
  Platform:
    osname=linux, osvers=3.16.5-gentoo, archname=x86_64-linux-thread-multi
    uname='linux elektra 3.16.5-gentoo #2 smp sat oct 25 17:56:17 cest 2014 x86_64 amd athlon(tm) dual core processor 4850e authenticamd gnulinux '
    config_args='-de -Dprefix=/opt/perlbrew/perls/perl-5.8.9-thread-multi -Doptimize=-O3 -march=native -Duseshrplib -Dusemultiplicity -Dusethreads -Aeval:scriptdir=/opt/perlbrew/perls/perl-5.8.9-thread-multi/bin'
    hint=recommended, useposix=true, d_sigaction=define
    usethreads=define use5005threads=undef useithreads=define usemultiplicity=define
    useperlio=define d_sfio=undef uselargefiles=define usesocks=undef
    use64bitint=define use64bitall=define uselongdouble=undef
    usemymalloc=n, bincompat5005=undef
  Compiler:
    cc='cc', ccflags ='-D_REENTRANT -D_GNU_SOURCE -fno-strict-aliasing -pipe -I/usr/local/include -D_LARGEFILE_SOURCE -D_FILE_OFFSET_BITS=64 -I/usr/include/gdbm',
    optimize='-O3 -march=native',
    cppflags='-D_REENTRANT -D_GNU_SOURCE -fno-strict-aliasing -pipe -I/usr/local/include -I/usr/include/gdbm'
    ccversion='', gccversion='4.8.3', gccosandvers=''
    intsize=4, longsize=8, ptrsize=8, doublesize=8, byteorder=12345678
    d_longlong=define, longlongsize=8, d_longdbl=define, longdblsize=16
    ivtype='long', ivsize=8, nvtype='double', nvsize=8, Off_t='off_t', lseeksize=8
    alignbytes=8, prototype=define
  Linker and Libraries:
    ld='cc', ldflags =' -L/usr/local/lib'
    libpth=/usr/local/lib /lib/../lib64 /usr/lib/../lib64 /lib /usr/lib /lib64 /usr/lib64 /usr/local/lib64
    libs=-lnsl -lgdbm -ldb -ldl -lm -lcrypt -lutil -lpthread -lc -lgdbm_compat
    perllibs=-lnsl -ldl -lm -lcrypt -lutil -lpthread -lc -lgdbm_compat
    libc=libc-2.19.so, so=so, useshrplib=true, libperl=libperl.so
    gnulibc_version='2.19'
  Dynamic Linking:
    dlsrc=dl_dlopen.xs, dlext=so, d_dlsymun=undef, ccdlflags='-Wl,-E -Wl,-rpath,/opt/perlbrew/perls/perl-5.8.9-thread-multi/lib/5.8.9/x86_64-linux-thread-multi/CORE'
    cccdlflags='-fPIC', lddlflags='-shared -O3 -march=native -L/usr/local/lib'


Characteristics of this binary (from libperl): 
  Compile-time options: MULTIPLICITY PERL_IMPLICIT_CONTEXT PERL_MALLOC_WRAP
                        USE_64_BIT_ALL USE_64_BIT_INT USE_FAST_STDIO
                        USE_ITHREADS USE_LARGE_FILES USE_PERLIO
                        USE_REENTRANT_API
  Built under linux
  Compiled at Nov  3 2014 15:41:57
  %ENV:
    PERL5LIB=""
    PERL5OPT=""
    PERL5_CPANPLUS_IS_RUNNING="7724"
    PERL5_CPAN_IS_RUNNING="7724"
    PERLBREW_BASHRC_VERSION="0.72"
    PERLBREW_HOME="/home/pk/.perlbrew"
    PERLBREW_LIB=""
    PERLBREW_MANPATH="/opt/perlbrew/perls/perl-5.8.9-thread-multi/man"
    PERLBREW_PATH="/opt/perlbrew/bin:/opt/perlbrew/perls/perl-5.8.9-thread-multi/bin"
    PERLBREW_PERL="perl-5.8.9-thread-multi"
    PERLBREW_ROOT="/opt/perlbrew"
    PERLBREW_VERSION="0.72"
    PERL_LOCAL_LIB_ROOT=""
  @INC:
    /opt/perlbrew/perls/perl-5.8.9-thread-multi/lib/5.8.9/x86_64-linux-thread-multi
    /opt/perlbrew/perls/perl-5.8.9-thread-multi/lib/5.8.9
    /opt/perlbrew/perls/perl-5.8.9-thread-multi/lib/site_perl/5.8.9/x86_64-linux-thread-multi
    /opt/perlbrew/perls/perl-5.8.9-thread-multi/lib/site_perl/5.8.9
    .