Back
From: metabase:user:30977d10-2aae-11df-837a-5e0a49663a4f
Subject: PASS Catalyst-Authentication-Credential-Twitter-2.0.2 v5.18.0
Date: 2013-06-25T09:04:06Z
This distribution has been tested as part of the CPAN Testers
project, supporting the Perl programming language. See
http://wiki.cpantesters.org/ for more information or email
questions to cpan-testers-discuss@perl.org
--
Dear Yanick Champoux,
This is a computer-generated report for Catalyst-Authentication-Credential-Twitter-2.0.2
on perl 5.18.0, created by CPAN-Reporter-1.2010.
Thank you for uploading your work to CPAN. Congratulations!
All tests were successful.
Sections of this report:
* Tester comments
* Program output
* Prerequisites
* Environment and other context
------------------------------
TESTER COMMENTS
------------------------------
Additional comments from tester:
this report is from an automated smoke testing program
and was not reviewed by a human for accuracy
------------------------------
PROGRAM OUTPUT
------------------------------
Output from 'C:\bin\dev\strawberry\perl\bin\perl.exe ./Build test':
t/00-compile.t ................ ok
#
#
# Generated by Dist::Zilla::Plugin::ReportVersions::Tiny v1.08
# perl: 5.018000 (wanted any version) on MSWin32 from C:\bin\dev\strawberry\perl\bin\perl.exe
#
# Catalyst => 5.90042 (want any version)
# Catalyst::Controller => <undef> (want any version)
# Catalyst::Exception => <undef> (want any version)
# Catalyst::Plugin::Session::PerUser => 0.05 (want any version)
# Class::Accessor::Fast => 0.34 (want any version)
# Data::Dumper => 2.145 (want any version)
# File::Find => 1.23 (want any version)
# File::Temp => 0.2301 (want any version)
# Module::Build => 0.4005 (want 0.3601)
# Net::Twitter => 4.00006 (want 4.00001)
# Test::More => 0.98 (want 0.88)
# base => 2.18 (want any version)
# parent => 0.225 (want any version)
# strict => 1.07 (want any version)
# version => 0.9902 (want 0.9901)
# warnings => 1.18 (want any version)
#
# Thanks for using my code. I hope it works for you.
# If not, please try and include this output in the bug report.
# That will help me reproduce the issue and solve your problem.
#
t/000-report-versions-tiny.t .. ok
t/02pod.t ..................... ok
t/basic_app.t ................. skipped: test requires Catalyst::Plugin::Session::Store::FastMmap
t/fail_callback.t ............. skipped: test requires Catalyst::Plugin::Session::Store::FastMmap
t/no_per_user.t ............... skipped: test requires Catalyst::Plugin::Session::Store::FastMmap
All tests successful.
Files=6, Tests=3, 12 wallclock secs ( 0.12 usr + 0.02 sys = 0.14 CPU)
Result: PASS
------------------------------
PREREQUISITES
------------------------------
Prerequisite modules loaded:
requires:
Module Need Have
---------------------------------- ------- -------
base 0 2.18
Catalyst::Exception 0 0
Catalyst::Plugin::Session::PerUser 0 0.05
Class::Accessor::Fast 0 0.34
Data::Dumper 0 2.145
Net::Twitter 4.00001 4.00006
strict 0 1.07
warnings 0 1.18
build_requires:
Module Need Have
---------------------------------- ------- -------
Catalyst 0 5.90042
Catalyst::Controller 0 0
File::Find 0 1.23
File::Temp 0 0.2301
Module::Build 0.3601 0.4005
parent 0 0.225
Test::More 0.88 0.98
configure_requires:
Module Need Have
---------------------------------- ------- -------
Module::Build 0.3601 0.4005
------------------------------
ENVIRONMENT AND OTHER CONTEXT
------------------------------
Environment variables:
AUTOMATED_TESTING = 1
COMSPEC = C:\WINDOWS\system32\cmd.exe
NUMBER_OF_PROCESSORS = 1
PATH = C:\Program Files\Far2\;C:\Program Files\CollabNet\Subversion Client;C:\WINDOWS\system32;C:\WINDOWS;C:\WINDOWS\System32\Wbem;C:\bin\dev\strawberry\c\bin;C:\bin\dev\strawberry\perl\site\bin;C:\bin\dev\strawberry\perl\bin
PERL5LIB =
PERL5OPT =
PERL5_CPANPLUS_IS_RUNNING = 860
PERL5_CPAN_IS_RUNNING = 860
PERL5_CPAN_IS_RUNNING_IN_RECURSION = 1640,860
PERL_CR_SMOKER_CURRENT = Catalyst-Authentication-Credential-Twitter-2.0.2
PERL_EXTUTILS_AUTOINSTALL = --defaultdeps
PERL_MM_USE_DEFAULT = 1
PROCESSOR_IDENTIFIER = x86 Family 6 Model 15 Stepping 10, GenuineIntel
TEMP = C:\DOCUME~1\SERGUE~1\LOCALS~1\Temp
TERM = dumb
Perl special variables (and OS-specific diagnostics, for MSWin32):
$^X = C:\bin\dev\strawberry\perl\bin\perl.exe
$UID/$EUID = 0 / 0
$GID = 0
$EGID = 0
Win32::GetOSName = WinXP/.Net
Win32::GetOSVersion = Service Pack 2, 5, 1, 2600, 2, 2, 0, 256, 1
Win32::FsType = NTFS
Win32::IsAdminUser = 1
Perl module toolchain versions installed:
Module Have
------------------- --------
CPAN 2.02
CPAN::Meta 2.130880
Cwd 3.40
ExtUtils::CBuilder 0.280210
ExtUtils::Command 1.17
ExtUtils::Install 1.59
ExtUtils::MakeMaker 6.68
ExtUtils::Manifest 1.63
ExtUtils::ParseXS 3.18
File::Spec 3.40
JSON 2.59
JSON::PP 2.27202
Module::Build 0.4005
Module::Signature n/a
Parse::CPAN::Meta 1.4404
Test::Harness 3.28
Test::More 0.98
YAML 0.84
YAML::Syck 1.27
version 0.9902
--
Summary of my perl5 (revision 5 version 18 subversion 0) configuration:
Platform:
osname=MSWin32, osvers=4.0, archname=MSWin32-x86-multi-thread-64int
uname='Win32 strawberry-perl 5.18.0.1 #1 Sat May 18 17:46:00 2013 i386'
config_args='undef'
hint=recommended, useposix=true, d_sigaction=undef
useithreads=define, usemultiplicity=define
useperlio=define, d_sfio=undef, uselargefiles=define, usesocks=undef
use64bitint=define, use64bitall=undef, uselongdouble=undef
usemymalloc=n, bincompat5005=undef
Compiler:
cc='gcc', ccflags =' -s -O2 -DWIN32 -DPERL_TEXTMODE_SCRIPTS -DPERL_IMPLICIT_CONTEXT -DPERL_IMPLICIT_SYS -DUSE_PERLIO -fno-strict-aliasing -mms-bitfields',
optimize='-s -O2',
cppflags='-DWIN32'
ccversion='', gccversion='4.6.3', gccosandvers=''
intsize=4, longsize=4, ptrsize=4, doublesize=8, byteorder=12345678
d_longlong=define, longlongsize=8, d_longdbl=define, longdblsize=12
ivtype='long long', ivsize=8, nvtype='double', nvsize=8, Off_t='long long', lseeksize=8
alignbytes=8, prototype=define
Linker and Libraries:
ld='g++', ldflags ='-s -L"C:\bin\dev\strawberry\perl\lib\CORE" -L"C:\bin\dev\strawberry\c\lib"'
libpth=C:\bin\dev\strawberry\c\lib C:\bin\dev\strawberry\c\i686-w64-mingw32\lib
libs=-lmoldname -lkernel32 -luser32 -lgdi32 -lwinspool -lcomdlg32 -ladvapi32 -lshell32 -lole32 -loleaut32 -lnetapi32 -luuid -lws2_32 -lmpr -lwinmm -lversion -lodbc32 -lodbccp32 -lcomctl32
perllibs=-lmoldname -lkernel32 -luser32 -lgdi32 -lwinspool -lcomdlg32 -ladvapi32 -lshell32 -lole32 -loleaut32 -lnetapi32 -luuid -lws2_32 -lmpr -lwinmm -lversion -lodbc32 -lodbccp32 -lcomctl32
libc=, so=dll, useshrplib=true, libperl=libperl518.a
gnulibc_version=''
Dynamic Linking:
dlsrc=dl_win32.xs, dlext=dll, d_dlsymun=undef, ccdlflags=' '
cccdlflags=' ', lddlflags='-mdll -s -L"C:\bin\dev\strawberry\perl\lib\CORE" -L"C:\bin\dev\strawberry\c\lib"'
Characteristics of this binary (from libperl):
Compile-time options: HAS_TIMES HAVE_INTERP_INTERN MULTIPLICITY
PERLIO_LAYERS PERL_DONT_CREATE_GVSV
PERL_HASH_FUNC_ONE_AT_A_TIME_HARD
PERL_IMPLICIT_CONTEXT PERL_IMPLICIT_SYS
PERL_MALLOC_WRAP PERL_PRESERVE_IVUV PERL_SAWAMPERSAND
USE_64_BIT_INT USE_ITHREADS USE_LARGE_FILES
USE_LOCALE USE_LOCALE_COLLATE USE_LOCALE_CTYPE
USE_LOCALE_NUMERIC USE_PERLIO USE_PERL_ATOF
Built under MSWin32
Compiled at May 18 2013 17:53:14
%ENV:
PERL5_CPANPLUS_IS_RUNNING="860"
PERL5_CPAN_IS_RUNNING="860"
PERL5_CPAN_IS_RUNNING_IN_RECURSION="1640,860"
PERL_CR_SMOKER_CURRENT="Catalyst-Authentication-Credential-Twitter-2.0.2"
PERL_EXTUTILS_AUTOINSTALL="--defaultdeps"
PERL_MM_USE_DEFAULT="1"
@INC:
C:/bin/dev/strawberry/perl/site/lib
C:/bin/dev/strawberry/perl/vendor/lib
C:/bin/dev/strawberry/perl/lib
.