Report for Dist-Zilla-Plugin-Test-ReportMetadata-0.5.1

Back
From: metabase:user:314402c4-2aae-11df-837a-5e0a49663a4f
Subject: PASS Dist-Zilla-Plugin-Test-ReportMetadata-0.5.1 v5.8.9 FreeBSD
Date: 2016-12-08T19:29:58Z

This distribution has been tested as part of the CPAN Testers
project, supporting the Perl programming language.  See
http://wiki.cpantesters.org/ for more information or email
questions to cpan-testers-discuss@perl.org


--
Dear Peter Flanigan,

This is a computer-generated report for Dist-Zilla-Plugin-Test-ReportMetadata-0.5.1
on perl 5.8.9, created by CPAN-Reporter-1.2018.

Thank you for uploading your work to CPAN.  Congratulations!
All tests were successful.

Sections of this report:

    * Tester comments
    * Program output
    * Prerequisites
    * Environment and other context

------------------------------
TESTER COMMENTS
------------------------------

Additional comments from tester:

none provided

------------------------------
PROGRAM OUTPUT
------------------------------

Output from './Build test':


OS: freebsd, Host: cvrsnica-freebsd-92

=== Environment variables ===

    $AUTHOR_TESTING                   undef
    $AUTOMATED_TESTING                undef
    $EXTENDED_TESTING                 undef
    $NONINTERACTIVE_TESTING           undef
    $PERL_CPAN_REPORTER_CONFIG        /var/tmp/cpansmoker-1023/2016120818/cpanreporter_000_config.ini
    $PERL_CR_SMOKER_CURRENT           undef
    $PERL5_CPAN_IS_RUNNING            24107
    $PERL5_CPANPLUS_IS_VERSION        undef
    $TEST_CRITIC                      undef
    $TEST_SPELLING                    undef

Versions for all modules listed in MYMETA.json (including optional ones):

=== Configure Requires ===

    Module          Want   Have
    ------------- ------ ------
    Module::Build 0.4004 0.4220
    version         0.88 0.9914

=== Build Requires ===

    Module          Want   Have
    ------------- ------ ------
    Module::Build 0.4004 0.4220
    version         0.88 0.9914

=== Test Requires ===

    Module             Want     Have
    ---------------- ------ --------
    File::Spec          any     3.62
    Module::Build    0.4004   0.4220
    Module::Metadata    any 1.000033
    Sys::Hostname       any     1.11
    Test::Requires     0.06     0.09
    version            0.88   0.9914

=== Test Recommends ===

    Module         Want     Have
    ---------- -------- --------
    CPAN::Meta 2.120900 2.150010

=== Runtime Requires ===

    Module                          Want     Have
    --------------------------- -------- --------
    Data::Section               0.200006 0.200006
    Dist::Zilla                    5.031    5.047
    Moose                         2.1405   2.1806
    MooseX::Role::Parameterized     1.08     1.08
    Sub::Exporter::ForMethods   0.100051 0.100052
    version                         0.88   0.9914

t/00report-metadata.t .. ok
t/02pod.t .............. skipped: POD test only for developers
t/03podcoverage.t ...... skipped: POD coverage test only for developers
t/05kwalitee.t ......... skipped: Kwalitee test only for developers
t/06yaml.t ............. skipped: YAML test only for developers
t/07podspelling.t ...... skipped: POD spelling test only for developers
t/10test_script.t ...... ok
All tests successful.
Files=7, Tests=9, 10 wallclock secs ( 0.05 usr  0.03 sys +  6.60 cusr  0.55 csys =  7.23 CPU)
Result: PASS

------------------------------
PREREQUISITES
------------------------------

Prerequisite modules loaded:

requires:

    Module                      Need     Have    
    --------------------------- -------- --------
    Data::Section               0.200006 0.200006
    Dist::Zilla                 5.031    5.047   
    Moose                       2.1405   2.1806  
    MooseX::Role::Parameterized 1.08     1.08    
    perl                        5.008    5.008009
    Sub::Exporter::ForMethods   0.100051 0.100052
    version                     0.88     0.9914  

build_requires:

    Module                      Need     Have    
    --------------------------- -------- --------
    File::Spec                  0        3.62    
    Module::Build               0.4004   0.4220  
    Module::Metadata            0        1.000033
    Sys::Hostname               0        1.11    
    Test::Requires              0.06     0.09    
    version                     0.88     0.9914  

configure_requires:

    Module                      Need     Have    
    --------------------------- -------- --------
    Module::Build               0.4004   0.4220  
    version                     0.88     0.9914  


------------------------------
ENVIRONMENT AND OTHER CONTEXT
------------------------------

Environment variables:

    LC_ALL = de_DE.ISO8859-1
    PATH = /usr/local/bin:/usr/bin:/bin:/usr/local/sbin:/usr/sbin:/sbin:/home/cpansand/bin/freebsd9.3:/home/cpansand/bin/sh:/home/cpansand/bin:/usr/games:/home/cpansand/devel:/usr/home/eserte/src/srezic-misc/scripts
    PERL5LIB = 
    PERL5OPT = 
    PERL5_CPANPLUS_IS_RUNNING = 24107
    PERL5_CPAN_IS_RUNNING = 24107
    PERL5_CPAN_IS_RUNNING_IN_RECURSION = 24043,24107
    PERLDOC = -MPod::Perldoc::ToTextOverstrike
    PERL_BATCH = yes
    PERL_CANARY_STABILITY_NOPROMPT = 1
    PERL_CPAN_REPORTER_CONFIG = /var/tmp/cpansmoker-1023/2016120818/cpanreporter_000_config.ini
    PERL_EXTUTILS_AUTOINSTALL = --defaultdeps
    SHELL = /usr/local/bin/zsh
    TERM = screen
    TMPDIR = /var/tmp/cpansmoker-1023/2016120818

Perl special variables (and OS-specific diagnostics, for MSWin32):

    $^X = /usr/perl5.8.9/bin/perl
    $UID/$EUID = 1023 / 1023
    $GID = 1023 1023
    $EGID = 1023 1023

Perl module toolchain versions installed:

    Module              Have    
    ------------------- --------
    CPAN                2.10    
    CPAN::Meta          2.150010
    Cwd                 3.62    
    ExtUtils::CBuilder  0.280224
    ExtUtils::Command   7.24    
    ExtUtils::Install   2.04    
    ExtUtils::MakeMaker 7.24    
    ExtUtils::Manifest  1.70    
    ExtUtils::ParseXS   3.30    
    File::Spec          3.62    
    JSON                2.90    
    JSON::PP            2.27400 
    Module::Build       0.4220  
    Module::Signature   0.79    
    Parse::CPAN::Meta   2.150010
    Test::Harness       3.36    
    Test::More          1.302067
    YAML                1.20    
    YAML::Syck          1.29    
    version             0.9914  


--

Summary of my perl5 (revision 5 version 8 subversion 9) configuration:
  Platform:
    osname=freebsd, osvers=9.2-release-p4, archname=amd64-freebsd
    uname='freebsd cvrsnica-freebsd-92 9.2-release-p4 freebsd 9.2-release-p4 #0: tue apr 8 18:08:22 utc 2014 root@amd64-builder.daemonology.net:usrobjusrsrcsysgeneric amd64 '
    config_args='-ds -e -Dprefix=/usr/perl5.8.9'
    hint=recommended, useposix=true, d_sigaction=define
    usethreads=undef use5005threads=undef useithreads=undef usemultiplicity=undef
    useperlio=define d_sfio=undef uselargefiles=define usesocks=undef
    use64bitint=define use64bitall=define uselongdouble=undef
    usemymalloc=n, bincompat5005=undef
  Compiler:
    cc='cc', ccflags ='-DHAS_FPSETMASK -DHAS_FLOATINGPOINT_H -fno-strict-aliasing -pipe -I/usr/local/include',
    optimize='-O',
    cppflags='-DHAS_FPSETMASK -DHAS_FLOATINGPOINT_H -fno-strict-aliasing -pipe -I/usr/local/include'
    ccversion='', gccversion='4.2.1 20070831 patched [FreeBSD]', gccosandvers=''
    intsize=4, longsize=8, ptrsize=8, doublesize=8, byteorder=12345678
    d_longlong=define, longlongsize=8, d_longdbl=define, longdblsize=16
    ivtype='long', ivsize=8, nvtype='double', nvsize=8, Off_t='off_t', lseeksize=8
    alignbytes=8, prototype=define
  Linker and Libraries:
    ld='cc', ldflags ='-Wl,-E  -L/usr/local/lib'
    libpth=/usr/lib /usr/local/lib
    libs=-lgdbm -lm -lcrypt -lutil -lc
    perllibs=-lm -lcrypt -lutil -lc
    libc=, so=so, useshrplib=false, libperl=libperl.a
    gnulibc_version=''
  Dynamic Linking:
    dlsrc=dl_dlopen.xs, dlext=so, d_dlsymun=undef, ccdlflags=' '
    cccdlflags='-DPIC -fPIC', lddlflags='-shared  -L/usr/local/lib'


Characteristics of this binary (from libperl): 
  Compile-time options: PERL_MALLOC_WRAP USE_64_BIT_ALL USE_64_BIT_INT
                        USE_FAST_STDIO USE_LARGE_FILES USE_PERLIO
  Built under freebsd
  Compiled at May 15 2014 22:27:57
  %ENV:
    PERL5LIB=""
    PERL5OPT=""
    PERL5_CPANPLUS_IS_RUNNING="24107"
    PERL5_CPAN_IS_RUNNING="24107"
    PERL5_CPAN_IS_RUNNING_IN_RECURSION="24043,24107"
    PERLDOC="-MPod::Perldoc::ToTextOverstrike"
    PERL_BATCH="yes"
    PERL_CANARY_STABILITY_NOPROMPT="1"
    PERL_CPAN_REPORTER_CONFIG="/var/tmp/cpansmoker-1023/2016120818/cpanreporter_000_config.ini"
    PERL_EXTUTILS_AUTOINSTALL="--defaultdeps"
  @INC:
    /usr/perl5.8.9/lib/5.8.9/amd64-freebsd
    /usr/perl5.8.9/lib/5.8.9
    /usr/perl5.8.9/lib/site_perl/5.8.9/amd64-freebsd
    /usr/perl5.8.9/lib/site_perl/5.8.9
    .