Reaction v0.002005 Perl 5 v5.24.4 RC1 x86_64-linux

Status
Pass
From
Slaven Rezić (SREZIC)
Dist
Reaction v0.002005
Platform
Perl 5 v5.24.4 RC1 x86_64-linux
Date
2018-03-28 06:39:03
ID
b49f1aa0-3252-11e8-9cbd-bb4c3e020320
This distribution has been tested as part of the CPAN Testers
project, supporting the Perl programming language.  See
http://wiki.cpantesters.org/ for more information or email
questions to cpan-testers-discuss@perl.org


--
Dear Justin Hunter,

This is a computer-generated report for Reaction-0.002005
on perl 5.24.4, created by CPAN-Reporter-1.2018.

Thank you for uploading your work to CPAN.  Congratulations!
All tests were successful.

Sections of this report:

    * Tester comments
    * Program output
    * Prerequisites
    * Environment and other context

------------------------------
TESTER COMMENTS
------------------------------

Additional comments from tester:

none provided

------------------------------
PROGRAM OUTPUT
------------------------------

Output from '/usr/bin/make test':

PERL_DL_NONLAZY=1 "/opt/perl-5.24.4-RC1/bin/perl" "-MExtUtils::Command::MM" "-MTest::Harness" "-e" "undef *Test::Harness::Switches; test_harness(0, 'inc', 'blib/lib', 'blib/arch')" t/00componentui_compiles.t t/01app.t t/04load_all.t t/05reflect_attr_from.t t/im_dbic.t t/ui_focus_stack.t t/ui_view.t t/ui_viewport.t t/uncheck_bool_field.t
Class::MOP::load_class is deprecated at /opt/perl-5.24.4-RC1/lib/site_perl/5.24.4/x86_64-linux/Class/MOP.pm line 69.
	Class::MOP::load_class("ComponentUI::TestModel") called at /home/cpansand/.cpan/build/2018032721/Reaction-0.002005-0/blib/lib/Catalyst/Model/Reaction/InterfaceModel/DBIC.pm line 24
	Catalyst::Model::Reaction::InterfaceModel::DBIC::COMPONENT("ComponentUI::Model::TestModel", "ComponentUI", HASH(0x7a9f3e8)) called at /opt/perl-5.24.4-RC1/lib/site_perl/5.24.4/Catalyst.pm line 3212
	eval {...} called at /opt/perl-5.24.4-RC1/lib/site_perl/5.24.4/Catalyst.pm line 3213
	Catalyst::setup_component("ComponentUI", "ComponentUI::Model::TestModel") called at /opt/perl-5.24.4-RC1/lib/site_perl/5.24.4/Catalyst.pm line 3190
	Catalyst::__ANON__() called at /opt/perl-5.24.4-RC1/lib/site_perl/5.24.4/Catalyst.pm line 3037
	Catalyst::setup_components("ComponentUI") called at /opt/perl-5.24.4-RC1/lib/site_perl/5.24.4/Catalyst.pm line 1422
	Catalyst::setup("ComponentUI") called at /home/cpansand/.cpan/build/2018032721/Reaction-0.002005-0/blib/lib/ComponentUI.pm line 32
	require ComponentUI.pm called at t/00componentui_compiles.t line 7
	main::BEGIN() called at /home/cpansand/.cpan/build/2018032721/Reaction-0.002005-0/blib/lib/ComponentUI.pm line 0
	eval {...} called at /home/cpansand/.cpan/build/2018032721/Reaction-0.002005-0/blib/lib/ComponentUI.pm line 0
	eval 'package main;
BEGIN { ${^WARNING_BITS} = $args[-1] if defined $args[-1] }
#line 7 t/00componentui_compiles.t
use ComponentUI @{$args[0]};
1;
' called at /opt/perl-5.24.4-RC1/lib/site_perl/5.24.4/Test/More.pm line 1032
	Test::More::_eval("package main;\x{a}BEGIN { \${^WARNING_BITS} = \$args[-1] if defined"..., ARRAY(0x1e81150), "UUUUUUUUUUUUUUUUU") called at /opt/perl-5.24.4-RC1/lib/site_perl/5.24.4/Test/More.pm line 1007
	Test::More::use_ok("ComponentUI") called at t/00componentui_compiles.t line 7
Class::MOP::load_class is deprecated at /opt/perl-5.24.4-RC1/lib/site_perl/5.24.4/x86_64-linux/Class/MOP.pm line 69.
	Class::MOP::load_class("Reaction::InterfaceModel::Object") called at /home/cpansand/.cpan/build/2018032721/Reaction-0.002005-0/blib/lib/Reaction/InterfaceModel/Reflector/DBIC.pm line 149
	Reaction::InterfaceModel::Reflector::DBIC::reflect_schema(Reaction::InterfaceModel::Reflector::DBIC=HASH(0x8692fb0), "model_class", "ComponentUI::TestModel", "schema_class", "RTest::TestDB", "sources", ARRAY(0x864c3c8)) called at /home/cpansand/.cpan/build/2018032721/Reaction-0.002005-0/blib/lib/ComponentUI/TestModel.pm line 10
	require ComponentUI/TestModel.pm called at /opt/perl-5.24.4-RC1/lib/site_perl/5.24.4/Module/Runtime.pm line 314
	Module::Runtime::require_module("ComponentUI::TestModel") called at /opt/perl-5.24.4-RC1/lib/site_perl/5.24.4/Class/Load.pm line 174
	Class::Load::try {...} () called at /opt/perl-5.24.4-RC1/lib/site_perl/5.24.4/Try/Tiny.pm line 98
	eval {...} called at /opt/perl-5.24.4-RC1/lib/site_perl/5.24.4/Try/Tiny.pm line 93
	Try::Tiny::try(CODE(0x4b8e558), Try::Tiny::Catch=REF(0x7b3c4c8)) called at /opt/perl-5.24.4-RC1/lib/site_perl/5.24.4/Class/Load.pm line 180
	Class::Load::try_load_class("ComponentUI::TestModel", undef) called at /opt/perl-5.24.4-RC1/lib/site_perl/5.24.4/Class/Load.pm line 35
	Class::Load::load_class("ComponentUI::TestModel") called at /home/cpansand/.cpan/build/2018032721/Reaction-0.002005-0/blib/lib/Catalyst/Model/Reaction/InterfaceModel/DBIC.pm line 24
	Catalyst::Model::Reaction::InterfaceModel::DBIC::COMPONENT("ComponentUI::Model::TestModel", "ComponentUI", HASH(0x7a9f3e8)) called at /opt/perl-5.24.4-RC1/lib/site_perl/5.24.4/Catalyst.pm line 3212
	eval {...} called at /opt/perl-5.24.4-RC1/lib/site_perl/5.24.4/Catalyst.pm line 3213
	Catalyst::setup_component("ComponentUI", "ComponentUI::Model::TestModel") called at /opt/perl-5.24.4-RC1/lib/site_perl/5.24.4/Catalyst.pm line 3190
	Catalyst::__ANON__() called at /opt/perl-5.24.4-RC1/lib/site_perl/5.24.4/Catalyst.pm line 3037
	Catalyst::setup_components("ComponentUI") called at /opt/perl-5.24.4-RC1/lib/site_perl/5.24.4/Catalyst.pm line 1422
	Catalyst::setup("ComponentUI") called at /home/cpansand/.cpan/build/2018032721/Reaction-0.002005-0/blib/lib/ComponentUI.pm line 32
	require ComponentUI.pm called at t/00componentui_compiles.t line 7
	main::BEGIN() called at /home/cpansand/.cpan/build/2018032721/Reaction-0.002005-0/blib/lib/ComponentUI/TestModel.pm line 0
	eval {...} called at /home/cpansand/.cpan/build/2018032721/Reaction-0.002005-0/blib/lib/ComponentUI/TestModel.pm line 0
	eval 'package main;
BEGIN { ${^WARNING_BITS} = $args[-1] if defined $args[-1] }
#line 7 t/00componentui_compiles.t
use ComponentUI @{$args[0]};
1;
' called at /opt/perl-5.24.4-RC1/lib/site_perl/5.24.4/Test/More.pm line 1032
	Test::More::_eval("package main;\x{a}BEGIN { \${^WARNING_BITS} = \$args[-1] if defined"..., ARRAY(0x1e81150), "UUUUUUUUUUUUUUUUU") called at /opt/perl-5.24.4-RC1/lib/site_perl/5.24.4/Test/More.pm line 1007
	Test::More::use_ok("ComponentUI") called at t/00componentui_compiles.t line 7
Class::MOP::load_class is deprecated at /opt/perl-5.24.4-RC1/lib/site_perl/5.24.4/x86_64-linux/Class/MOP.pm line 69.
	Class::MOP::load_class("Reaction::InterfaceModel::Object") called at /home/cpansand/.cpan/build/2018032721/Reaction-0.002005-0/blib/lib/Reaction/Class.pm line 123
	Reaction::Class::do_class_sub("Reaction::Class", "ComponentUI::TestModel::Foo", "ComponentUI::TestModel::Foo", "is", "Reaction::InterfaceModel::Object", "which", CODE(0x89bd748)) called at /home/cpansand/.cpan/build/2018032721/Reaction-0.002005-0/blib/lib/Reaction/Class.pm line 86
	Reaction::Class::("ComponentUI::TestModel::Foo", "is", "Reaction::InterfaceModel::Object", "which", CODE(0x89bd748)) called at /home/cpansand/.cpan/build/2018032721/Reaction-0.002005-0/blib/lib/ComponentUI/TestModel/Foo.pm line 8
	require ComponentUI/TestModel/Foo.pm called at /opt/perl-5.24.4-RC1/lib/site_perl/5.24.4/Module/Runtime.pm line 314
	Module::Runtime::require_module("ComponentUI::TestModel::Foo") called at /opt/perl-5.24.4-RC1/lib/site_perl/5.24.4/Class/Load.pm line 174
	Class::Load::try {...} () called at /opt/perl-5.24.4-RC1/lib/site_perl/5.24.4/Try/Tiny.pm line 98
	eval {...} called at /opt/perl-5.24.4-RC1/lib/site_perl/5.24.4/Try/Tiny.pm line 93
	Try::Tiny::try(CODE(0x8989eb0), Try::Tiny::Catch=REF(0x89742b0)) called at /opt/perl-5.24.4-RC1/lib/site_perl/5.24.4/Class/Load.pm line 180
	Class::Load::try_load_class("ComponentUI::TestModel::Foo", undef) called at /opt/perl-5.24.4-RC1/lib/site_perl/5.24.4/Class/Load.pm line 35
	Class::Load::load_class("ComponentUI::TestModel::Foo") called at /home/cpansand/.cpan/build/2018032721/Reaction-0.002005-0/blib/lib/Reaction/InterfaceModel/Reflector/DBIC.pm line 892
	eval {...} called at /home/cpansand/.cpan/build/2018032721/Reaction-0.002005-0/blib/lib/Reaction/InterfaceModel/Reflector/DBIC.pm line 892
	Reaction::InterfaceModel::Reflector::DBIC::_maybe_load_class(Reaction::InterfaceModel::Reflector::DBIC=HASH(0x8692fb0), "ComponentUI::TestModel::Foo") called at /home/cpansand/.cpan/build/2018032721/Reaction-0.002005-0/blib/lib/Reaction/InterfaceModel/Reflector/DBIC.pm line 876
	Reaction::InterfaceModel::Reflector::DBIC::_load_or_create(Reaction::InterfaceModel::Reflector::DBIC=HASH(0x8692fb0), "ComponentUI::TestModel::Foo", "superclasses", ARRAY(0x88974e0)) called at /home/cpansand/.cpan/build/2018032721/Reaction-0.002005-0/blib/lib/Reaction/InterfaceModel/Reflector/DBIC.pm line 448
	Reaction::InterfaceModel::Reflector::DBIC::reflect_source_object(Reaction::InterfaceModel::Reflector::DBIC=HASH(0x8692fb0), "schema_class", "RTest::TestDB", "source_name", "Foo", "parent_domain_model_name", "_rtest_test_db_store", "source_class", ...) called at /home/cpansand/.cpan/build/2018032721/Reaction-0.002005-0/blib/lib/Reaction/InterfaceModel/Reflector/DBIC.pm line 323
	Reaction::InterfaceModel::Reflector::DBIC::reflect_source(Reaction::InterfaceModel::Reflector::DBIC=HASH(0x8692fb0), "source_name", "Foo", "parent_class", "ComponentUI::TestModel", "schema_class", "RTest::TestDB", "source_class", ...) called at /home/cpansand/.cpan/build/2018032721/Reaction-0.002005-0/blib/lib/Reaction/InterfaceModel/Reflector/DBIC.pm line 185
	Reaction::InterfaceModel::Reflector::DBIC::reflect_schema(Reaction::InterfaceModel::Reflector::DBIC=HASH(0x8692fb0), "model_class", "ComponentUI::TestModel", "schema_class", "RTest::TestDB", "sources", ARRAY(0x864c3c8)) called at /home/cpansand/.cpan/build/2018032721/Reaction-0.002005-0/blib/lib/ComponentUI/TestModel.pm line 10
	require ComponentUI/TestModel.pm called at /opt/perl-5.24.4-RC1/lib/site_perl/5.24.4/Module/Runtime.pm line 314
	Module::Runtime::require_module("ComponentUI::TestModel") called at /opt/perl-5.24.4-RC1/lib/site_perl/5.24.4/Class/Load.pm line 174
	Class::Load::try {...} () called at /opt/perl-5.24.4-RC1/lib/site_perl/5.24.4/Try/Tiny.pm line 98
	eval {...} called at /opt/perl-5.24.4-RC1/lib/site_perl/5.24.4/Try/Tiny.pm line 93
	Try::Tiny::try(CODE(0x4b8e558), Try::Tiny::Catch=REF(0x7b3c4c8)) called at /opt/perl-5.24.4-RC1/lib/site_perl/5.24.4/Class/Load.pm line 180
	Class::Load::try_load_class("ComponentUI::TestModel", undef) called at /opt/perl-5.24.4-RC1/lib/site_perl/5.24.4/Class/Load.pm line 35
	Class::Load::load_class("ComponentUI::TestModel") called at /home/cpansand/.cpan/build/2018032721/Reaction-0.002005-0/blib/lib/Catalyst/Model/Reaction/InterfaceModel/DBIC.pm line 24
	Catalyst::Model::Reaction::InterfaceModel::DBIC::COMPONENT("ComponentUI::Model::TestModel", "ComponentUI", HASH(0x7a9f3e8)) called at /opt/perl-5.24.4-RC1/lib/site_perl/5.24.4/Catalyst.pm line 3212
	eval {...} called at /opt/perl-5.24.4-RC1/lib/site_perl/5.24.4/Catalyst.pm line 3213
	Catalyst::setup_component("ComponentUI", "ComponentUI::Model::TestModel") called at /opt/perl-5.24.4-RC1/lib/site_perl/5.24.4/Catalyst.pm line 3190
	Catalyst::__ANON__() called at /opt/perl-5.24.4-RC1/lib/site_perl/5.24.4/Catalyst.pm line 3037
	Catalyst::setup_components("ComponentUI") called at /opt/perl-5.24.4-RC1/lib/site_perl/5.24.4/Catalyst.pm line 1422
	Catalyst::setup("ComponentUI") called at /home/cpansand/.cpan/build/2018032721/Reaction-0.002005-0/blib/lib/ComponentUI.pm line 32
	require ComponentUI.pm called at t/00componentui_compiles.t line 7
	main::BEGIN() called at /home/cpansand/.cpan/build/2018032721/Reaction-0.002005-0/blib/lib/ComponentUI/TestModel/Foo.pm line 0
	eval {...} called at /home/cpansand/.cpan/build/2018032721/Reaction-0.002005-0/blib/lib/ComponentUI/TestModel/Foo.pm line 0
	eval 'package main;
BEGIN { ${^WARNING_BITS} = $args[-1] if defined $args[-1] }
#line 7 t/00componentui_compiles.t
use ComponentUI @{$args[0]};
1;
' called at /opt/perl-5.24.4-RC1/lib/site_perl/5.24.4/Test/More.pm line 1032
	Test::More::_eval("package main;\x{a}BEGIN { \${^WARNING_BITS} = \$args[-1] if defined"..., ARRAY(0x1e81150), "UUUUUUUUUUUUUUUUU") called at /opt/perl-5.24.4-RC1/lib/site_perl/5.24.4/Test/More.pm line 1007
	Test::More::use_ok("ComponentUI") called at t/00componentui_compiles.t line 7
t/00componentui_compiles.t .. ok
Class::MOP::load_class is deprecated at /opt/perl-5.24.4-RC1/lib/site_perl/5.24.4/x86_64-linux/Class/MOP.pm line 69.
	Class::MOP::load_class("ComponentUI::TestModel") called at /home/cpansand/.cpan/build/2018032721/Reaction-0.002005-0/blib/lib/Catalyst/Model/Reaction/InterfaceModel/DBIC.pm line 24
	Catalyst::Model::Reaction::InterfaceModel::DBIC::COMPONENT("ComponentUI::Model::TestModel", "ComponentUI", HASH(0x7477b30)) called at /opt/perl-5.24.4-RC1/lib/site_perl/5.24.4/Catalyst.pm line 3212
	eval {...} called at /opt/perl-5.24.4-RC1/lib/site_perl/5.24.4/Catalyst.pm line 3213
	Catalyst::setup_component("ComponentUI", "ComponentUI::Model::TestModel") called at /opt/perl-5.24.4-RC1/lib/site_perl/5.24.4/Catalyst.pm line 3190
	Catalyst::__ANON__() called at /opt/perl-5.24.4-RC1/lib/site_perl/5.24.4/Catalyst.pm line 3037
	Catalyst::setup_components("ComponentUI") called at /opt/perl-5.24.4-RC1/lib/site_perl/5.24.4/Catalyst.pm line 1422
	Catalyst::setup("ComponentUI") called at /home/cpansand/.cpan/build/2018032721/Reaction-0.002005-0/blib/lib/ComponentUI.pm line 32
	require ComponentUI.pm called at /opt/perl-5.24.4-RC1/lib/site_perl/5.24.4/Module/Runtime.pm line 314
	Module::Runtime::require_module("ComponentUI") called at /opt/perl-5.24.4-RC1/lib/site_perl/5.24.4/Class/Load.pm line 174
	Class::Load::try {...} () called at /opt/perl-5.24.4-RC1/lib/site_perl/5.24.4/Try/Tiny.pm line 98
	eval {...} called at /opt/perl-5.24.4-RC1/lib/site_perl/5.24.4/Try/Tiny.pm line 93
	Try::Tiny::try(CODE(0x2a95f18), Try::Tiny::Catch=REF(0x25be5f8)) called at /opt/perl-5.24.4-RC1/lib/site_perl/5.24.4/Class/Load.pm line 180
	Class::Load::try_load_class("ComponentUI", undef) called at /opt/perl-5.24.4-RC1/lib/site_perl/5.24.4/Class/Load.pm line 35
	Class::Load::load_class("ComponentUI") called at /opt/perl-5.24.4-RC1/lib/site_perl/5.24.4/Catalyst/Test.pm line 29
	Catalyst::Test::_build_request_export("Catalyst::Test", HASH(0x1872ba0)) called at /opt/perl-5.24.4-RC1/lib/site_perl/5.24.4/Catalyst/Test.pm line 95
	Catalyst::Test::__ANON__("Catalyst::Test", "all", HASH(0x1872b70), HASH(0x1868888)) called at /opt/perl-5.24.4-RC1/lib/site_perl/5.24.4/Sub/Exporter.pm line 108
	Sub::Exporter::_expand_group("Catalyst::Test", HASH(0x2ad3a68), ARRAY(0x18687b0), HASH(0x1868888), HASH(0x1872bd0), HASH(0x1872a08)) called at /opt/perl-5.24.4-RC1/lib/site_perl/5.24.4/Sub/Exporter.pm line 39
	Sub::Exporter::_expand_groups("Catalyst::Test", HASH(0x2ad3a68), ARRAY(0x1872738), HASH(0x1868888)) called at /opt/perl-5.24.4-RC1/lib/site_perl/5.24.4/Sub/Exporter.pm line 323
	Sub::Exporter::__ANON__("Catalyst::Test", "-all", HASH(0x18687f8)) called at /opt/perl-5.24.4-RC1/lib/site_perl/5.24.4/Catalyst/Test.pm line 155
	Catalyst::Test::import("Catalyst::Test", "ComponentUI") called at t/01app.t line 7
	main::BEGIN() called at /home/cpansand/.cpan/build/2018032721/Reaction-0.002005-0/blib/lib/ComponentUI.pm line 0
	eval {...} called at /home/cpansand/.cpan/build/2018032721/Reaction-0.002005-0/blib/lib/ComponentUI.pm line 0
	eval 'package main;
BEGIN { ${^WARNING_BITS} = $args[-1] if defined $args[-1] }
#line 7 t/01app.t
use Catalyst::Test @{$args[0]};
1;
' called at /opt/perl-5.24.4-RC1/lib/site_perl/5.24.4/Test/More.pm line 1032
	Test::More::_eval("package main;\x{a}BEGIN { \${^WARNING_BITS} = \$args[-1] if defined"..., ARRAY(0x1828130), "UUUUUUUUUUUUUUUUU") called at /opt/perl-5.24.4-RC1/lib/site_perl/5.24.4/Test/More.pm line 1007
	Test::More::use_ok("Catalyst::Test", "ComponentUI") called at t/01app.t line 7
	main::BEGIN() called at /home/cpansand/.cpan/build/2018032721/Reaction-0.002005-0/blib/lib/ComponentUI.pm line 0
	eval {...} called at /home/cpansand/.cpan/build/2018032721/Reaction-0.002005-0/blib/lib/ComponentUI.pm line 0
Class::MOP::load_class is deprecated at /opt/perl-5.24.4-RC1/lib/site_perl/5.24.4/x86_64-linux/Class/MOP.pm line 69.
	Class::MOP::load_class("Reaction::InterfaceModel::Object") called at /home/cpansand/.cpan/build/2018032721/Reaction-0.002005-0/blib/lib/Reaction/InterfaceModel/Reflector/DBIC.pm line 149
	Reaction::InterfaceModel::Reflector::DBIC::reflect_schema(Reaction::InterfaceModel::Reflector::DBIC=HASH(0x8052398), "model_class", "ComponentUI::TestModel", "schema_class", "RTest::TestDB", "sources", ARRAY(0x80885e8)) called at /home/cpansand/.cpan/build/2018032721/Reaction-0.002005-0/blib/lib/ComponentUI/TestModel.pm line 10
	require ComponentUI/TestModel.pm called at /opt/perl-5.24.4-RC1/lib/site_perl/5.24.4/Module/Runtime.pm line 314
	Module::Runtime::require_module("ComponentUI::TestModel") called at /opt/perl-5.24.4-RC1/lib/site_perl/5.24.4/Class/Load.pm line 174
	Class::Load::try {...} () called at /opt/perl-5.24.4-RC1/lib/site_perl/5.24.4/Try/Tiny.pm line 98
	eval {...} called at /opt/perl-5.24.4-RC1/lib/site_perl/5.24.4/Try/Tiny.pm line 93
	Try::Tiny::try(CODE(0x746b838), Try::Tiny::Catch=REF(0x7b34118)) called at /opt/perl-5.24.4-RC1/lib/site_perl/5.24.4/Class/Load.pm line 180
	Class::Load::try_load_class("ComponentUI::TestModel", undef) called at /opt/perl-5.24.4-RC1/lib/site_perl/5.24.4/Class/Load.pm line 35
	Class::Load::load_class("ComponentUI::TestModel") called at /home/cpansand/.cpan/build/2018032721/Reaction-0.002005-0/blib/lib/Catalyst/Model/Reaction/InterfaceModel/DBIC.pm line 24
	Catalyst::Model::Reaction::InterfaceModel::DBIC::COMPONENT("ComponentUI::Model::TestModel", "ComponentUI", HASH(0x7477b30)) called at /opt/perl-5.24.4-RC1/lib/site_perl/5.24.4/Catalyst.pm line 3212
	eval {...} called at /opt/perl-5.24.4-RC1/lib/site_perl/5.24.4/Catalyst.pm line 3213
	Catalyst::setup_component("ComponentUI", "ComponentUI::Model::TestModel") called at /opt/perl-5.24.4-RC1/lib/site_perl/5.24.4/Catalyst.pm line 3190
	Catalyst::__ANON__() called at /opt/perl-5.24.4-RC1/lib/site_perl/5.24.4/Catalyst.pm line 3037
	Catalyst::setup_components("ComponentUI") called at /opt/perl-5.24.4-RC1/lib/site_perl/5.24.4/Catalyst.pm line 1422
	Catalyst::setup("ComponentUI") called at /home/cpansand/.cpan/build/2018032721/Reaction-0.002005-0/blib/lib/ComponentUI.pm line 32
	require ComponentUI.pm called at /opt/perl-5.24.4-RC1/lib/site_perl/5.24.4/Module/Runtime.pm line 314
	Module::Runtime::require_module("ComponentUI") called at /opt/perl-5.24.4-RC1/lib/site_perl/5.24.4/Class/Load.pm line 174
	Class::Load::try {...} () called at /opt/perl-5.24.4-RC1/lib/site_perl/5.24.4/Try/Tiny.pm line 98
	eval {...} called at /opt/perl-5.24.4-RC1/lib/site_perl/5.24.4/Try/Tiny.pm line 93
	Try::Tiny::try(CODE(0x2a95f18), Try::Tiny::Catch=REF(0x25be5f8)) called at /opt/perl-5.24.4-RC1/lib/site_perl/5.24.4/Class/Load.pm line 180
	Class::Load::try_load_class("ComponentUI", undef) called at /opt/perl-5.24.4-RC1/lib/site_perl/5.24.4/Class/Load.pm line 35
	Class::Load::load_class("ComponentUI") called at /opt/perl-5.24.4-RC1/lib/site_perl/5.24.4/Catalyst/Test.pm line 29
	Catalyst::Test::_build_request_export("Catalyst::Test", HASH(0x1872ba0)) called at /opt/perl-5.24.4-RC1/lib/site_perl/5.24.4/Catalyst/Test.pm line 95
	Catalyst::Test::__ANON__("Catalyst::Test", "all", HASH(0x1872b70), HASH(0x1868888)) called at /opt/perl-5.24.4-RC1/lib/site_perl/5.24.4/Sub/Exporter.pm line 108
	Sub::Exporter::_expand_group("Catalyst::Test", HASH(0x2ad3a68), ARRAY(0x18687b0), HASH(0x1868888), HASH(0x1872bd0), HASH(0x1872a08)) called at /opt/perl-5.24.4-RC1/lib/site_perl/5.24.4/Sub/Exporter.pm line 39
	Sub::Exporter::_expand_groups("Catalyst::Test", HASH(0x2ad3a68), ARRAY(0x1872738), HASH(0x1868888)) called at /opt/perl-5.24.4-RC1/lib/site_perl/5.24.4/Sub/Exporter.pm line 323
	Sub::Exporter::__ANON__("Catalyst::Test", "-all", HASH(0x18687f8)) called at /opt/perl-5.24.4-RC1/lib/site_perl/5.24.4/Catalyst/Test.pm line 155
	Catalyst::Test::import("Catalyst::Test", "ComponentUI") called at t/01app.t line 7
	main::BEGIN() called at /home/cpansand/.cpan/build/2018032721/Reaction-0.002005-0/blib/lib/ComponentUI/TestModel.pm line 0
	eval {...} called at /home/cpansand/.cpan/build/2018032721/Reaction-0.002005-0/blib/lib/ComponentUI/TestModel.pm line 0
	eval 'package main;
BEGIN { ${^WARNING_BITS} = $args[-1] if defined $args[-1] }
#line 7 t/01app.t
use Catalyst::Test @{$args[0]};
1;
' called at /opt/perl-5.24.4-RC1/lib/site_perl/5.24.4/Test/More.pm line 1032
	Test::More::_eval("package main;\x{a}BEGIN { \${^WARNING_BITS} = \$args[-1] if defined"..., ARRAY(0x1828130), "UUUUUUUUUUUUUUUUU") called at /opt/perl-5.24.4-RC1/lib/site_perl/5.24.4/Test/More.pm line 1007
	Test::More::use_ok("Catalyst::Test", "ComponentUI") called at t/01app.t line 7
	main::BEGIN() called at /home/cpansand/.cpan/build/2018032721/Reaction-0.002005-0/blib/lib/ComponentUI/TestModel.pm line 0
	eval {...} called at /home/cpansand/.cpan/build/2018032721/Reaction-0.002005-0/blib/lib/ComponentUI/TestModel.pm line 0
Class::MOP::load_class is deprecated at /opt/perl-5.24.4-RC1/lib/site_perl/5.24.4/x86_64-linux/Class/MOP.pm line 69.
	Class::MOP::load_class("Reaction::InterfaceModel::Object") called at /home/cpansand/.cpan/build/2018032721/Reaction-0.002005-0/blib/lib/Reaction/Class.pm line 123
	Reaction::Class::do_class_sub("Reaction::Class", "ComponentUI::TestModel::Foo", "ComponentUI::TestModel::Foo", "is", "Reaction::InterfaceModel::Object", "which", CODE(0x8283690)) called at /home/cpansand/.cpan/build/2018032721/Reaction-0.002005-0/blib/lib/Reaction/Class.pm line 86
	Reaction::Class::("ComponentUI::TestModel::Foo", "is", "Reaction::InterfaceModel::Object", "which", CODE(0x8283690)) called at /home/cpansand/.cpan/build/2018032721/Reaction-0.002005-0/blib/lib/ComponentUI/TestModel/Foo.pm line 8
	require ComponentUI/TestModel/Foo.pm called at /opt/perl-5.24.4-RC1/lib/site_perl/5.24.4/Module/Runtime.pm line 314
	Module::Runtime::require_module("ComponentUI::TestModel::Foo") called at /opt/perl-5.24.4-RC1/lib/site_perl/5.24.4/Class/Load.pm line 174
	Class::Load::try {...} () called at /opt/perl-5.24.4-RC1/lib/site_perl/5.24.4/Try/Tiny.pm line 98
	eval {...} called at /opt/perl-5.24.4-RC1/lib/site_perl/5.24.4/Try/Tiny.pm line 93
	Try::Tiny::try(CODE(0x8238ac8), Try::Tiny::Catch=REF(0x8242568)) called at /opt/perl-5.24.4-RC1/lib/site_perl/5.24.4/Class/Load.pm line 180
	Class::Load::try_load_class("ComponentUI::TestModel::Foo", undef) called at /opt/perl-5.24.4-RC1/lib/site_perl/5.24.4/Class/Load.pm line 35
	Class::Load::load_class("ComponentUI::TestModel::Foo") called at /home/cpansand/.cpan/build/2018032721/Reaction-0.002005-0/blib/lib/Reaction/InterfaceModel/Reflector/DBIC.pm line 892
	eval {...} called at /home/cpansand/.cpan/build/2018032721/Reaction-0.002005-0/blib/lib/Reaction/InterfaceModel/Reflector/DBIC.pm line 892
	Reaction::InterfaceModel::Reflector::DBIC::_maybe_load_class(Reaction::InterfaceModel::Reflector::DBIC=HASH(0x8052398), "ComponentUI::TestModel::Foo") called at /home/cpansand/.cpan/build/2018032721/Reaction-0.002005-0/blib/lib/Reaction/InterfaceModel/Reflector/DBIC.pm line 876
	Reaction::InterfaceModel::Reflector::DBIC::_load_or_create(Reaction::InterfaceModel::Reflector::DBIC=HASH(0x8052398), "ComponentUI::TestModel::Foo", "superclasses", ARRAY(0x81b4ca8)) called at /home/cpansand/.cpan/build/2018032721/Reaction-0.002005-0/blib/lib/Reaction/InterfaceModel/Reflector/DBIC.pm line 448
	Reaction::InterfaceModel::Reflector::DBIC::reflect_source_object(Reaction::InterfaceModel::Reflector::DBIC=HASH(0x8052398), "parent_class", "ComponentUI::TestModel", "source_class", "RTest::TestDB::Foo", "source_name", "Foo", "schema_class", ...) called at /home/cpansand/.cpan/build/2018032721/Reaction-0.002005-0/blib/lib/Reaction/InterfaceModel/Reflector/DBIC.pm line 323
	Reaction::InterfaceModel::Reflector::DBIC::reflect_source(Reaction::InterfaceModel::Reflector::DBIC=HASH(0x8052398), "source_name", "Foo", "parent_class", "ComponentUI::TestModel", "schema_class", "RTest::TestDB", "source_class", ...) called at /home/cpansand/.cpan/build/2018032721/Reaction-0.002005-0/blib/lib/Reaction/InterfaceModel/Reflector/DBIC.pm line 185
	Reaction::InterfaceModel::Reflector::DBIC::reflect_schema(Reaction::InterfaceModel::Reflector::DBIC=HASH(0x8052398), "model_class", "ComponentUI::TestModel", "schema_class", "RTest::TestDB", "sources", ARRAY(0x80885e8)) called at /home/cpansand/.cpan/build/2018032721/Reaction-0.002005-0/blib/lib/ComponentUI/TestModel.pm line 10
	require ComponentUI/TestModel.pm called at /opt/perl-5.24.4-RC1/lib/site_perl/5.24.4/Module/Runtime.pm line 314
	Module::Runtime::require_module("ComponentUI::TestModel") called at /opt/perl-5.24.4-RC1/lib/site_perl/5.24.4/Class/Load.pm line 174
	Class::Load::try {...} () called at /opt/perl-5.24.4-RC1/lib/site_perl/5.24.4/Try/Tiny.pm line 98
	eval {...} called at /opt/perl-5.24.4-RC1/lib/site_perl/5.24.4/Try/Tiny.pm line 93
	Try::Tiny::try(CODE(0x746b838), Try::Tiny::Catch=REF(0x7b34118)) called at /opt/perl-5.24.4-RC1/lib/site_perl/5.24.4/Class/Load.pm line 180
	Class::Load::try_load_class("ComponentUI::TestModel", undef) called at /opt/perl-5.24.4-RC1/lib/site_perl/5.24.4/Class/Load.pm line 35
	Class::Load::load_class("ComponentUI::TestModel") called at /home/cpansand/.cpan/build/2018032721/Reaction-0.002005-0/blib/lib/Catalyst/Model/Reaction/InterfaceModel/DBIC.pm line 24
	Catalyst::Model::Reaction::InterfaceModel::DBIC::COMPONENT("ComponentUI::Model::TestModel", "ComponentUI", HASH(0x7477b30)) called at /opt/perl-5.24.4-RC1/lib/site_perl/5.24.4/Catalyst.pm line 3212
	eval {...} called at /opt/perl-5.24.4-RC1/lib/site_perl/5.24.4/Catalyst.pm line 3213
	Catalyst::setup_component("ComponentUI", "ComponentUI::Model::TestModel") called at /opt/perl-5.24.4-RC1/lib/site_perl/5.24.4/Catalyst.pm line 3190
	Catalyst::__ANON__() called at /opt/perl-5.24.4-RC1/lib/site_perl/5.24.4/Catalyst.pm line 3037
	Catalyst::setup_components("ComponentUI") called at /opt/perl-5.24.4-RC1/lib/site_perl/5.24.4/Catalyst.pm line 1422
	Catalyst::setup("ComponentUI") called at /home/cpansand/.cpan/build/2018032721/Reaction-0.002005-0/blib/lib/ComponentUI.pm line 32
	require ComponentUI.pm called at /opt/perl-5.24.4-RC1/lib/site_perl/5.24.4/Module/Runtime.pm line 314
	Module::Runtime::require_module("ComponentUI") called at /opt/perl-5.24.4-RC1/lib/site_perl/5.24.4/Class/Load.pm line 174
	Class::Load::try {...} () called at /opt/perl-5.24.4-RC1/lib/site_perl/5.24.4/Try/Tiny.pm line 98
	eval {...} called at /opt/perl-5.24.4-RC1/lib/site_perl/5.24.4/Try/Tiny.pm line 93
	Try::Tiny::try(CODE(0x2a95f18), Try::Tiny::Catch=REF(0x25be5f8)) called at /opt/perl-5.24.4-RC1/lib/site_perl/5.24.4/Class/Load.pm line 180
	Class::Load::try_load_class("ComponentUI", undef) called at /opt/perl-5.24.4-RC1/lib/site_perl/5.24.4/Class/Load.pm line 35
	Class::Load::load_class("ComponentUI") called at /opt/perl-5.24.4-RC1/lib/site_perl/5.24.4/Catalyst/Test.pm line 29
	Catalyst::Test::_build_request_export("Catalyst::Test", HASH(0x1872ba0)) called at /opt/perl-5.24.4-RC1/lib/site_perl/5.24.4/Catalyst/Test.pm line 95
	Catalyst::Test::__ANON__("Catalyst::Test", "all", HASH(0x1872b70), HASH(0x1868888)) called at /opt/perl-5.24.4-RC1/lib/site_perl/5.24.4/Sub/Exporter.pm line 108
	Sub::Exporter::_expand_group("Catalyst::Test", HASH(0x2ad3a68), ARRAY(0x18687b0), HASH(0x1868888), HASH(0x1872bd0), HASH(0x1872a08)) called at /opt/perl-5.24.4-RC1/lib/site_perl/5.24.4/Sub/Exporter.pm line 39
	Sub::Exporter::_expand_groups("Catalyst::Test", HASH(0x2ad3a68), ARRAY(0x1872738), HASH(0x1868888)) called at /opt/perl-5.24.4-RC1/lib/site_perl/5.24.4/Sub/Exporter.pm line 323
	Sub::Exporter::__ANON__("Catalyst::Test", "-all", HASH(0x18687f8)) called at /opt/perl-5.24.4-RC1/lib/site_perl/5.24.4/Catalyst/Test.pm line 155
	Catalyst::Test::import("Catalyst::Test", "ComponentUI") called at t/01app.t line 7
	main::BEGIN() called at /home/cpansand/.cpan/build/2018032721/Reaction-0.002005-0/blib/lib/ComponentUI/TestModel/Foo.pm line 0
	eval {...} called at /home/cpansand/.cpan/build/2018032721/Reaction-0.002005-0/blib/lib/ComponentUI/TestModel/Foo.pm line 0
	eval 'package main;
BEGIN { ${^WARNING_BITS} = $args[-1] if defined $args[-1] }
#line 7 t/01app.t
use Catalyst::Test @{$args[0]};
1;
' called at /opt/perl-5.24.4-RC1/lib/site_perl/5.24.4/Test/More.pm line 1032
	Test::More::_eval("package main;\x{a}BEGIN { \${^WARNING_BITS} = \$args[-1] if defined"..., ARRAY(0x1828130), "UUUUUUUUUUUUUUUUU") called at /opt/perl-5.24.4-RC1/lib/site_perl/5.24.4/Test/More.pm line 1007
	Test::More::use_ok("Catalyst::Test", "ComponentUI") called at t/01app.t line 7
	main::BEGIN() called at /home/cpansand/.cpan/build/2018032721/Reaction-0.002005-0/blib/lib/ComponentUI/TestModel/Foo.pm line 0
	eval {...} called at /home/cpansand/.cpan/build/2018032721/Reaction-0.002005-0/blib/lib/ComponentUI/TestModel/Foo.pm line 0
Class::MOP::load_class is deprecated at /opt/perl-5.24.4-RC1/lib/site_perl/5.24.4/x86_64-linux/Class/MOP.pm line 69.
	Class::MOP::load_class("ComponentUI::RenderingContext::Site") called at /home/cpansand/.cpan/build/2018032721/Reaction-0.002005-0/blib/lib/Reaction/UI/View.pm line 125
	eval {...} called at /home/cpansand/.cpan/build/2018032721/Reaction-0.002005-0/blib/lib/Reaction/UI/View.pm line 125
	Reaction::UI::View::find_related_class(ComponentUI::View::Site=HASH(0x4daded8), "RenderingContext") called at /home/cpansand/.cpan/build/2018032721/Reaction-0.002005-0/blib/lib/Reaction/UI/View.pm line 43
	Reaction::UI::View::_build_rendering_context_class(ComponentUI::View::Site=HASH(0x4daded8)) called at reader Reaction::UI::View::rendering_context_class (defined at /home/cpansand/.cpan/build/2018032721/Reaction-0.002005-0/blib/lib/Reaction/UI/View.pm line 29) line 8
	Reaction::UI::View::rendering_context_class(ComponentUI::View::Site=HASH(0x4daded8)) called at /home/cpansand/.cpan/build/2018032721/Reaction-0.002005-0/blib/lib/Reaction/UI/View.pm line 134
	Reaction::UI::View::create_rendering_context(ComponentUI::View::Site=HASH(0x4daded8)) called at /home/cpansand/.cpan/build/2018032721/Reaction-0.002005-0/blib/lib/Reaction/UI/View.pm line 60
	Reaction::UI::View::render_window(ComponentUI::View::Site=HASH(0x4daded8), Reaction::UI::Window=HASH(0x888b9c0)) called at /home/cpansand/.cpan/build/2018032721/Reaction-0.002005-0/blib/lib/Reaction/UI/Window.pm line 74
	Reaction::UI::Window::flush_view(Reaction::UI::Window=HASH(0x888b9c0)) called at /home/cpansand/.cpan/build/2018032721/Reaction-0.002005-0/blib/lib/Reaction/UI/Window.pm line 36
	Reaction::UI::Window::flush(Reaction::UI::Window=HASH(0x888b9c0)) called at /home/cpansand/.cpan/build/2018032721/Reaction-0.002005-0/blib/lib/Reaction/UI/Controller/Root.pm line 38
	Reaction::UI::Controller::Root::end(ComponentUI::Controller::Root=HASH(0x8829a38), ComponentUI=HASH(0x8824bd8)) called at /opt/perl-5.24.4-RC1/lib/site_perl/5.24.4/Catalyst/Action.pm line 358
	Catalyst::Action::execute(Catalyst::Action=HASH(0x8597998), ComponentUI::Controller::Root=HASH(0x8829a38), ComponentUI=HASH(0x8824bd8)) called at /opt/perl-5.24.4-RC1/lib/site_perl/5.24.4/Catalyst.pm line 2049
	eval {...} called at /opt/perl-5.24.4-RC1/lib/site_perl/5.24.4/Catalyst.pm line 2049
	Catalyst::execute(ComponentUI=HASH(0x8824bd8), "ComponentUI::Controller::Root", Catalyst::Action=HASH(0x8597998)) called at /opt/perl-5.24.4-RC1/lib/site_perl/5.24.4/Catalyst/Action.pm line 353
	Catalyst::Action::dispatch(Catalyst::Action=HASH(0x8597998), ComponentUI=HASH(0x8824bd8)) called at /opt/perl-5.24.4-RC1/lib/site_perl/5.24.4/Catalyst/Controller.pm line 188
	Catalyst::Controller::_END(ComponentUI::Controller::Root=HASH(0x8829a38), ComponentUI=HASH(0x8824bd8)) called at /opt/perl-5.24.4-RC1/lib/site_perl/5.24.4/Catalyst/Action.pm line 358
	Catalyst::Action::execute(Catalyst::Action=HASH(0x86aede0), ComponentUI::Controller::Root=HASH(0x8829a38), ComponentUI=HASH(0x8824bd8)) called at /opt/perl-5.24.4-RC1/lib/site_perl/5.24.4/Catalyst.pm line 2049
	eval {...} called at /opt/perl-5.24.4-RC1/lib/site_perl/5.24.4/Catalyst.pm line 2049
	Catalyst::execute(ComponentUI=HASH(0x8824bd8), "ComponentUI::Controller::Root", Catalyst::Action=HASH(0x86aede0)) called at /opt/perl-5.24.4-RC1/lib/site_perl/5.24.4/Catalyst/Action.pm line 353
	Catalyst::Action::dispatch(Catalyst::Action=HASH(0x86aede0), ComponentUI=HASH(0x8824bd8)) called at /opt/perl-5.24.4-RC1/lib/site_perl/5.24.4/Catalyst/Dispatcher.pm line 262
	Catalyst::Dispatcher::_do_forward(Catalyst::Dispatcher=HASH(0x3b9e4e0), "forward", ComponentUI=HASH(0x8824bd8), "_END") called at /opt/perl-5.24.4-RC1/lib/site_perl/5.24.4/Catalyst/Dispatcher.pm line 242
	Catalyst::Dispatcher::forward(Catalyst::Dispatcher=HASH(0x3b9e4e0), ComponentUI=HASH(0x8824bd8), "_END") called at /opt/perl-5.24.4-RC1/lib/site_perl/5.24.4/Catalyst.pm line 477
	Catalyst::forward(ComponentUI=HASH(0x8824bd8), "_END") called at /opt/perl-5.24.4-RC1/lib/site_perl/5.24.4/Catalyst/Controller.pm line 137
	Catalyst::Controller::_DISPATCH(ComponentUI::Controller::Root=HASH(0x8829a38), ComponentUI=HASH(0x8824bd8)) called at /opt/perl-5.24.4-RC1/lib/site_perl/5.24.4/Catalyst/Action.pm line 358
	Catalyst::Action::execute(Catalyst::Action=HASH(0x86a6110), ComponentUI::Controller::Root=HASH(0x8829a38), ComponentUI=HASH(0x8824bd8)) called at /opt/perl-5.24.4-RC1/lib/site_perl/5.24.4/Catalyst.pm line 2049
	eval {...} called at /opt/perl-5.24.4-RC1/lib/site_perl/5.24.4/Catalyst.pm line 2049
	Catalyst::execute(ComponentUI=HASH(0x8824bd8), "ComponentUI::Controller::Root", Catalyst::Action=HASH(0x86a6110)) called at /opt/perl-5.24.4-RC1/lib/site_perl/5.24.4/Catalyst/Action.pm line 353
	Catalyst::Action::dispatch(Catalyst::Action=HASH(0x86a6110), ComponentUI=HASH(0x8824bd8)) called at /opt/perl-5.24.4-RC1/lib/site_perl/5.24.4/Catalyst/Dispatcher.pm line 262
	Catalyst::Dispatcher::_do_forward(Catalyst::Dispatcher=HASH(0x3b9e4e0), "forward", ComponentUI=HASH(0x8824bd8), "//_DISPATCH") called at /opt/perl-5.24.4-RC1/lib/site_perl/5.24.4/Catalyst/Dispatcher.pm line 242
	Catalyst::Dispatcher::forward(Catalyst::Dispatcher=HASH(0x3b9e4e0), ComponentUI=HASH(0x8824bd8), "//_DISPATCH") called at /opt/perl-5.24.4-RC1/lib/site_perl/5.24.4/Catalyst.pm line 477
	Catalyst::forward(ComponentUI=HASH(0x8824bd8), "//_DISPATCH") called at /opt/perl-5.24.4-RC1/lib/site_perl/5.24.4/Catalyst/Dispatcher.pm line 108
	Catalyst::Dispatcher::dispatch(Catalyst::Dispatcher=HASH(0x3b9e4e0), ComponentUI=HASH(0x8824bd8)) called at /opt/perl-5.24.4-RC1/lib/site_perl/5.24.4/Catalyst.pm line 1995
	Catalyst::dispatch(ComponentUI=HASH(0x8824bd8)) called at /opt/perl-5.24.4-RC1/lib/site_perl/5.24.4/Catalyst/Plugin/Static/Simple.pm line 86
	Class::MOP::Class:::around(CODE(0x3878d68), ComponentUI=HASH(0x8824bd8)) called at /opt/perl-5.24.4-RC1/lib/site_perl/5.24.4/x86_64-linux/Class/MOP/Method/Wrapped.pm line 164
	ComponentUI::_wrapped_dispatch(ComponentUI=HASH(0x8824bd8)) called at /opt/perl-5.24.4-RC1/lib/site_perl/5.24.4/x86_64-linux/Class/MOP/Method/Wrapped.pm line 95
	ComponentUI::dispatch(ComponentUI=HASH(0x8824bd8)) called at /opt/perl-5.24.4-RC1/lib/site_perl/5.24.4/Catalyst.pm line 2390
	Catalyst::try {...} () called at /opt/perl-5.24.4-RC1/lib/site_perl/5.24.4/Try/Tiny.pm line 102
	eval {...} called at /opt/perl-5.24.4-RC1/lib/site_perl/5.24.4/Try/Tiny.pm line 93
	Try::Tiny::try(CODE(0x88213f0), Try::Tiny::Catch=REF(0x88211f8)) called at /opt/perl-5.24.4-RC1/lib/site_perl/5.24.4/Catalyst.pm line 2399
	Catalyst::handle_request("ComponentUI", "env", HASH(0x882c518), "response_cb", CODE(0x8821258)) called at /opt/perl-5.24.4-RC1/lib/site_perl/5.24.4/Catalyst/Engine.pm line 806
	Catalyst::Engine::__ANON__(CODE(0x8821258)) called at /opt/perl-5.24.4-RC1/lib/site_perl/5.24.4/Plack/Middleware/HTTPExceptions.pm line 32
	Plack::Middleware::HTTPExceptions::try {...} () called at /opt/perl-5.24.4-RC1/lib/site_perl/5.24.4/Try/Tiny.pm line 102
	eval {...} called at /opt/perl-5.24.4-RC1/lib/site_perl/5.24.4/Try/Tiny.pm line 93
	Try::Tiny::try(CODE(0x8821090), Try::Tiny::Catch=REF(0x88208f8)) called at /opt/perl-5.24.4-RC1/lib/site_perl/5.24.4/Plack/Middleware/HTTPExceptions.pm line 41
	Plack::Middleware::HTTPExceptions::__ANON__(CODE(0x882cb00)) called at /opt/perl-5.24.4-RC1/lib/site_perl/5.24.4/Plack/Util.pm line 339
	Plack::Util::__ANON__(CODE(0x882c4a0)) called at /opt/perl-5.24.4-RC1/lib/site_perl/5.24.4/Plack/Util.pm line 339
	Plack::Util::__ANON__(CODE(0x882c3b0)) called at /opt/perl-5.24.4-RC1/lib/site_perl/5.24.4/Plack/Util.pm line 339
	Plack::Util::__ANON__(CODE(0x882c338)) called at /opt/perl-5.24.4-RC1/lib/site_perl/5.24.4/HTTP/Message/PSGI.pm line 100
	HTTP::Message::PSGI::res_from_psgi(CODE(0x8820e08)) called at /opt/perl-5.24.4-RC1/lib/site_perl/5.24.4/HTTP/Message/PSGI.pm line 156
	HTTP::Response::from_psgi("HTTP::Response", CODE(0x8820e08)) called at /opt/perl-5.24.4-RC1/lib/site_perl/5.24.4/Plack/Test/MockHTTP.pm line 24
	Plack::Test::MockHTTP::try {...} () called at /opt/perl-5.24.4-RC1/lib/site_perl/5.24.4/Try/Tiny.pm line 100
	eval {...} called at /opt/perl-5.24.4-RC1/lib/site_perl/5.24.4/Try/Tiny.pm line 93
	Try::Tiny::try(CODE(0x8356268), Try::Tiny::Catch=REF(0x873ab88)) called at /opt/perl-5.24.4-RC1/lib/site_perl/5.24.4/Plack/Test/MockHTTP.pm line 27
	Plack::Test::MockHTTP::request(Plack::Test::MockHTTP=HASH(0x881d5a8), HTTP::Request=HASH(0x875e4a8)) called at /opt/perl-5.24.4-RC1/lib/site_perl/5.24.4/Plack/Test.pm line 38
	Plack::Test::__ANON__(HTTP::Request=HASH(0x875e4a8)) called at /opt/perl-5.24.4-RC1/lib/site_perl/5.24.4/Catalyst/Test.pm line 290
	Catalyst::Test::__ANON__(CODE(0x875e748)) called at /opt/perl-5.24.4-RC1/lib/site_perl/5.24.4/Plack/Test.pm line 38
	Plack::Test::test_psgi("app", CODE(0x875e028), "mangle_response", CODE(0x2abc628), "app", CODE(0x8757930), "client", CODE(0x875e658)) called at /opt/perl-5.24.4-RC1/lib/site_perl/5.24.4/Catalyst/Test.pm line 293
	Catalyst::Test::_request(HASH(0x1872bd0), "/") called at /opt/perl-5.24.4-RC1/lib/site_perl/5.24.4/Catalyst/Test.pm line 336
	Catalyst::Test::_local_request("ComponentUI", "/") called at /opt/perl-5.24.4-RC1/lib/site_perl/5.24.4/Catalyst/Test.pm line 32
	Catalyst::Test::__ANON__("/") called at t/01app.t line 10
Class::MOP::is_class_loaded is deprecated at /opt/perl-5.24.4-RC1/lib/site_perl/5.24.4/x86_64-linux/Class/MOP.pm line 87.
	Class::MOP::is_class_loaded("ComponentUI::UI::Widget::SiteLayout") called at /home/cpansand/.cpan/build/2018032721/Reaction-0.002005-0/blib/lib/Reaction/UI/Skin.pm line 178
	Reaction::UI::Skin::widget_class_for(Reaction::UI::Skin=HASH(0x8896cf0), Reaction::UI::LayoutSet::TT=HASH(0x890b180)) called at /home/cpansand/.cpan/build/2018032721/Reaction-0.002005-0/blib/lib/Reaction/UI/LayoutSet.pm line 29
	Reaction::UI::LayoutSet::BUILD(Reaction::UI::LayoutSet::TT=HASH(0x890b180), HASH(0x890b168)) called at constructor Reaction::UI::LayoutSet::TT::new (defined at /home/cpansand/.cpan/build/2018032721/Reaction-0.002005-0/blib/lib/Reaction/UI/LayoutSet/TT.pm line 43) line 80
	Reaction::UI::LayoutSet::TT::new("Reaction::UI::LayoutSet::TT", "name", "site_layout", "skin", Reaction::UI::Skin=HASH(0x8896cf0), "tt_object", Template=HASH(0x72544f0), "source_file", ...) called at /home/cpansand/.cpan/build/2018032721/Reaction-0.002005-0/blib/lib/Reaction/UI/Skin.pm line 115
	Reaction::UI::Skin::_create_layout_set(Reaction::UI::Skin=HASH(0x8896cf0), "site_layout", ARRAY(0x890aac0), Reaction::UI::Skin=HASH(0x8896cf0)) called at /home/cpansand/.cpan/build/2018032721/Reaction-0.002005-0/blib/lib/Reaction/UI/Skin.pm line 110
	Reaction::UI::Skin::create_layout_set(Reaction::UI::Skin=HASH(0x8896cf0), "site_layout") called at /home/cpansand/.cpan/build/2018032721/Reaction-0.002005-0/blib/lib/Reaction/UI/LayoutSet.pm line 83
	Reaction::UI::LayoutSet::_load_file(Reaction::UI::LayoutSet::TT=HASH(0x88f5228), Path::Class::File=HASH(0x88f2c18), HASH(0x88f5258)) called at /home/cpansand/.cpan/build/2018032721/Reaction-0.002005-0/blib/lib/Reaction/UI/LayoutSet.pm line 27
	Reaction::UI::LayoutSet::BUILD(Reaction::UI::LayoutSet::TT=HASH(0x88f5228), HASH(0x88f5258)) called at constructor Reaction::UI::LayoutSet::TT::new (defined at /home/cpansand/.cpan/build/2018032721/Reaction-0.002005-0/blib/lib/Reaction/UI/LayoutSet/TT.pm line 43) line 80
	Reaction::UI::LayoutSet::TT::new("Reaction::UI::LayoutSet::TT", "name", "site_layout", "skin", Reaction::UI::Skin=HASH(0x889e0a8), "next_skin", Reaction::UI::Skin=HASH(0x8896cf0), "tt_object", ...) called at /home/cpansand/.cpan/build/2018032721/Reaction-0.002005-0/blib/lib/Reaction/UI/Skin.pm line 115
	Reaction::UI::Skin::_create_layout_set(Reaction::UI::Skin=HASH(0x889e0a8), "site_layout", ARRAY(0x88a49f0), Reaction::UI::Skin=HASH(0x889e0a8)) called at /home/cpansand/.cpan/build/2018032721/Reaction-0.002005-0/blib/lib/Reaction/UI/Skin.pm line 110
	Reaction::UI::Skin::create_layout_set(Reaction::UI::Skin=HASH(0x889e0a8), "site_layout") called at /home/cpansand/.cpan/build/2018032721/Reaction-0.002005-0/blib/lib/Reaction/UI/LayoutSet.pm line 83
	Reaction::UI::LayoutSet::_load_file(Reaction::UI::LayoutSet::TT=HASH(0x888f418), Path::Class::File=HASH(0x88a46a8), HASH(0x82a2b18)) called at /home/cpansand/.cpan/build/2018032721/Reaction-0.002005-0/blib/lib/Reaction/UI/LayoutSet.pm line 27
	Reaction::UI::LayoutSet::BUILD(Reaction::UI::LayoutSet::TT=HASH(0x888f418), HASH(0x82a2b18)) called at constructor Reaction::UI::LayoutSet::TT::new (defined at /home/cpansand/.cpan/build/2018032721/Reaction-0.002005-0/blib/lib/Reaction/UI/LayoutSet/TT.pm line 43) line 80
	Reaction::UI::LayoutSet::TT::new("Reaction::UI::LayoutSet::TT", "name", "site_layout", "skin", Reaction::UI::Skin=HASH(0x88a4ac8), "next_skin", Reaction::UI::Skin=HASH(0x889e0a8), "tt_object", ...) called at /home/cpansand/.cpan/build/2018032721/Reaction-0.002005-0/blib/lib/Reaction/UI/Skin.pm line 115
	Reaction::UI::Skin::_create_layout_set(Reaction::UI::Skin=HASH(0x88a4ac8), "site_layout", ARRAY(0x8283660), Reaction::UI::Skin=HASH(0x88a4ac8)) called at /home/cpansand/.cpan/build/2018032721/Reaction-0.002005-0/blib/lib/Reaction/UI/Skin.pm line 110
	Reaction::UI::Skin::create_layout_set(Reaction::UI::Skin=HASH(0x88a4ac8), "site_layout") called at inline delegation in Reaction::UI::View for skin->create_layout_set (attribute declared in /home/cpansand/.cpan/build/2018032721/Reaction-0.002005-0/blib/lib/Reaction/UI/View.pm at line 22) line 18
	Reaction::UI::View::create_layout_set(ComponentUI::View::Site=HASH(0x4daded8), "site_layout") called at /home/cpansand/.cpan/build/2018032721/Reaction-0.002005-0/blib/lib/Reaction/UI/View.pm line 99
	Reaction::UI::View::layout_set_for(ComponentUI::View::Site=HASH(0x4daded8), Reaction::UI::ViewPort::SiteLayout=HASH(0x888bff0)) called at /home/cpansand/.cpan/build/2018032721/Reaction-0.002005-0/blib/lib/Reaction/UI/View.pm line 78
	Reaction::UI::View::render_viewport_args(ComponentUI::View::Site=HASH(0x4daded8), Reaction::UI::ViewPort::SiteLayout=HASH(0x888bff0)) called at /home/cpansand/.cpan/build/2018032721/Reaction-0.002005-0/blib/lib/Reaction/UI/View.pm line 61
	Reaction::UI::View::render_window(ComponentUI::View::Site=HASH(0x4daded8), Reaction::UI::Window=HASH(0x888b9c0)) called at /home/cpansand/.cpan/build/2018032721/Reaction-0.002005-0/blib/lib/Reaction/UI/Window.pm line 74
	Reaction::UI::Window::flush_view(Reaction::UI::Window=HASH(0x888b9c0)) called at /home/cpansand/.cpan/build/2018032721/Reaction-0.002005-0/blib/lib/Reaction/UI/Window.pm line 36
	Reaction::UI::Window::flush(Reaction::UI::Window=HASH(0x888b9c0)) called at /home/cpansand/.cpan/build/2018032721/Reaction-0.002005-0/blib/lib/Reaction/UI/Controller/Root.pm line 38
	Reaction::UI::Controller::Root::end(ComponentUI::Controller::Root=HASH(0x8829a38), ComponentUI=HASH(0x8824bd8)) called at /opt/perl-5.24.4-RC1/lib/site_perl/5.24.4/Catalyst/Action.pm line 358
	Catalyst::Action::execute(Catalyst::Action=HASH(0x8597998), ComponentUI::Controller::Root=HASH(0x8829a38), ComponentUI=HASH(0x8824bd8)) called at /opt/perl-5.24.4-RC1/lib/site_perl/5.24.4/Catalyst.pm line 2049
	eval {...} called at /opt/perl-5.24.4-RC1/lib/site_perl/5.24.4/Catalyst.pm line 2049
	Catalyst::execute(ComponentUI=HASH(0x8824bd8), "ComponentUI::Controller::Root", Catalyst::Action=HASH(0x8597998)) called at /opt/perl-5.24.4-RC1/lib/site_perl/5.24.4/Catalyst/Action.pm line 353
	Catalyst::Action::dispatch(Catalyst::Action=HASH(0x8597998), ComponentUI=HASH(0x8824bd8)) called at /opt/perl-5.24.4-RC1/lib/site_perl/5.24.4/Catalyst/Controller.pm line 188
	Catalyst::Controller::_END(ComponentUI::Controller::Root=HASH(0x8829a38), ComponentUI=HASH(0x8824bd8)) called at /opt/perl-5.24.4-RC1/lib/site_perl/5.24.4/Catalyst/Action.pm line 358
	Catalyst::Action::execute(Catalyst::Action=HASH(0x86aede0), ComponentUI::Controller::Root=HASH(0x8829a38), ComponentUI=HASH(0x8824bd8)) called at /opt/perl-5.24.4-RC1/lib/site_perl/5.24.4/Catalyst.pm line 2049
	eval {...} called at /opt/perl-5.24.4-RC1/lib/site_perl/5.24.4/Catalyst.pm line 2049
	Catalyst::execute(ComponentUI=HASH(0x8824bd8), "ComponentUI::Controller::Root", Catalyst::Action=HASH(0x86aede0)) called at /opt/perl-5.24.4-RC1/lib/site_perl/5.24.4/Catalyst/Action.pm line 353
	Catalyst::Action::dispatch(Catalyst::Action=HASH(0x86aede0), ComponentUI=HASH(0x8824bd8)) called at /opt/perl-5.24.4-RC1/lib/site_perl/5.24.4/Catalyst/Dispatcher.pm line 262
	Catalyst::Dispatcher::_do_forward(Catalyst::Dispatcher=HASH(0x3b9e4e0), "forward", ComponentUI=HASH(0x8824bd8), "_END") called at /opt/perl-5.24.4-RC1/lib/site_perl/5.24.4/Catalyst/Dispatcher.pm line 242
	Catalyst::Dispatcher::forward(Catalyst::Dispatcher=HASH(0x3b9e4e0), ComponentUI=HASH(0x8824bd8), "_END") called at /opt/perl-5.24.4-RC1/lib/site_perl/5.24.4/Catalyst.pm line 477
	Catalyst::forward(ComponentUI=HASH(0x8824bd8), "_END") called at /opt/perl-5.24.4-RC1/lib/site_perl/5.24.4/Catalyst/Controller.pm line 137
	Catalyst::Controller::_DISPATCH(ComponentUI::Controller::Root=HASH(0x8829a38), ComponentUI=HASH(0x8824bd8)) called at /opt/perl-5.24.4-RC1/lib/site_perl/5.24.4/Catalyst/Action.pm line 358
	Catalyst::Action::execute(Catalyst::Action=HASH(0x86a6110), ComponentUI::Controller::Root=HASH(0x8829a38), ComponentUI=HASH(0x8824bd8)) called at /opt/perl-5.24.4-RC1/lib/site_perl/5.24.4/Catalyst.pm line 2049
	eval {...} called at /opt/perl-5.24.4-RC1/lib/site_perl/5.24.4/Catalyst.pm line 2049
	Catalyst::execute(ComponentUI=HASH(0x8824bd8), "ComponentUI::Controller::Root", Catalyst::Action=HASH(0x86a6110)) called at /opt/perl-5.24.4-RC1/lib/site_perl/5.24.4/Catalyst/Action.pm line 353
	Catalyst::Action::dispatch(Catalyst::Action=HASH(0x86a6110), ComponentUI=HASH(0x8824bd8)) called at /opt/perl-5.24.4-RC1/lib/site_perl/5.24.4/Catalyst/Dispatcher.pm line 262
	Catalyst::Dispatcher::_do_forward(Catalyst::Dispatcher=HASH(0x3b9e4e0), "forward", ComponentUI=HASH(0x8824bd8), "//_DISPATCH") called at /opt/perl-5.24.4-RC1/lib/site_perl/5.24.4/Catalyst/Dispatcher.pm line 242
	Catalyst::Dispatcher::forward(Catalyst::Dispatcher=HASH(0x3b9e4e0), ComponentUI=HASH(0x8824bd8), "//_DISPATCH") called at /opt/perl-5.24.4-RC1/lib/site_perl/5.24.4/Catalyst.pm line 477
	Catalyst::forward(ComponentUI=HASH(0x8824bd8), "//_DISPATCH") called at /opt/perl-5.24.4-RC1/lib/site_perl/5.24.4/Catalyst/Dispatcher.pm line 108
	Catalyst::Dispatcher::dispatch(Catalyst::Dispatcher=HASH(0x3b9e4e0), ComponentUI=HASH(0x8824bd8)) called at /opt/perl-5.24.4-RC1/lib/site_perl/5.24.4/Catalyst.pm line 1995
	Catalyst::dispatch(ComponentUI=HASH(0x8824bd8)) called at /opt/perl-5.24.4-RC1/lib/site_perl/5.24.4/Catalyst/Plugin/Static/Simple.pm line 86
	Class::MOP::Class:::around(CODE(0x3878d68), ComponentUI=HASH(0x8824bd8)) called at /opt/perl-5.24.4-RC1/lib/site_perl/5.24.4/x86_64-linux/Class/MOP/Method/Wrapped.pm line 164
	ComponentUI::_wrapped_dispatch(ComponentUI=HASH(0x8824bd8)) called at /opt/perl-5.24.4-RC1/lib/site_perl/5.24.4/x86_64-linux/Class/MOP/Method/Wrapped.pm line 95
	ComponentUI::dispatch(ComponentUI=HASH(0x8824bd8)) called at /opt/perl-5.24.4-RC1/lib/site_perl/5.24.4/Catalyst.pm line 2390
	Catalyst::try {...} () called at /opt/perl-5.24.4-RC1/lib/site_perl/5.24.4/Try/Tiny.pm line 102
	eval {...} called at /opt/perl-5.24.4-RC1/lib/site_perl/5.24.4/Try/Tiny.pm line 93
	Try::Tiny::try(CODE(0x88213f0), Try::Tiny::Catch=REF(0x88211f8)) called at /opt/perl-5.24.4-RC1/lib/site_perl/5.24.4/Catalyst.pm line 2399
	Catalyst::handle_request("ComponentUI", "env", HASH(0x882c518), "response_cb", CODE(0x8821258)) called at /opt/perl-5.24.4-RC1/lib/site_perl/5.24.4/Catalyst/Engine.pm line 806
	Catalyst::Engine::__ANON__(CODE(0x8821258)) called at /opt/perl-5.24.4-RC1/lib/site_perl/5.24.4/Plack/Middleware/HTTPExceptions.pm line 32
	Plack::Middleware::HTTPExceptions::try {...} () called at /opt/perl-5.24.4-RC1/lib/site_perl/5.24.4/Try/Tiny.pm line 102
	eval {...} called at /opt/perl-5.24.4-RC1/lib/site_perl/5.24.4/Try/Tiny.pm line 93
	Try::Tiny::try(CODE(0x8821090), Try::Tiny::Catch=REF(0x88208f8)) called at /opt/perl-5.24.4-RC1/lib/site_perl/5.24.4/Plack/Middleware/HTTPExceptions.pm line 41
	Plack::Middleware::HTTPExceptions::__ANON__(CODE(0x882cb00)) called at /opt/perl-5.24.4-RC1/lib/site_perl/5.24.4/Plack/Util.pm line 339
	Plack::Util::__ANON__(CODE(0x882c4a0)) called at /opt/perl-5.24.4-RC1/lib/site_perl/5.24.4/Plack/Util.pm line 339
	Plack::Util::__ANON__(CODE(0x882c3b0)) called at /opt/perl-5.24.4-RC1/lib/site_perl/5.24.4/Plack/Util.pm line 339
	Plack::Util::__ANON__(CODE(0x882c338)) called at /opt/perl-5.24.4-RC1/lib/site_perl/5.24.4/HTTP/Message/PSGI.pm line 100
	HTTP::Message::PSGI::res_from_psgi(CODE(0x8820e08)) called at /opt/perl-5.24.4-RC1/lib/site_perl/5.24.4/HTTP/Message/PSGI.pm line 156
	HTTP::Response::from_psgi("HTTP::Response", CODE(0x8820e08)) called at /opt/perl-5.24.4-RC1/lib/site_perl/5.24.4/Plack/Test/MockHTTP.pm line 24
	Plack::Test::MockHTTP::try {...} () called at /opt/perl-5.24.4-RC1/lib/site_perl/5.24.4/Try/Tiny.pm line 100
	eval {...} called at /opt/perl-5.24.4-RC1/lib/site_perl/5.24.4/Try/Tiny.pm line 93
	Try::Tiny::try(CODE(0x8356268), Try::Tiny::Catch=REF(0x873ab88)) called at /opt/perl-5.24.4-RC1/lib/site_perl/5.24.4/Plack/Test/MockHTTP.pm line 27
	Plack::Test::MockHTTP::request(Plack::Test::MockHTTP=HASH(0x881d5a8), HTTP::Request=HASH(0x875e4a8)) called at /opt/perl-5.24.4-RC1/lib/site_perl/5.24.4/Plack/Test.pm line 38
	Plack::Test::__ANON__(HTTP::Request=HASH(0x875e4a8)) called at /opt/perl-5.24.4-RC1/lib/site_perl/5.24.4/Catalyst/Test.pm line 290
	Catalyst::Test::__ANON__(CODE(0x875e748)) called at /opt/perl-5.24.4-RC1/lib/site_perl/5.24.4/Plack/Test.pm line 38
	Plack::Test::test_psgi("app", CODE(0x875e028), "mangle_response", CODE(0x2abc628), "app", CODE(0x8757930), "client", CODE(0x875e658)) called at /opt/perl-5.24.4-RC1/lib/site_perl/5.24.4/Catalyst/Test.pm line 293
	Catalyst::Test::_request(HASH(0x1872bd0), "/") called at /opt/perl-5.24.4-RC1/lib/site_perl/5.24.4/Catalyst/Test.pm line 336
	Catalyst::Test::_local_request("ComponentUI", "/") called at /opt/perl-5.24.4-RC1/lib/site_perl/5.24.4/Catalyst/Test.pm line 32
	Catalyst::Test::__ANON__("/") called at t/01app.t line 10
Class::MOP::load_class is deprecated at /opt/perl-5.24.4-RC1/lib/site_perl/5.24.4/x86_64-linux/Class/MOP.pm line 69.
	Class::MOP::load_class("Reaction::UI::Widget::SiteLayout") called at /home/cpansand/.cpan/build/2018032721/Reaction-0.002005-0/blib/lib/Reaction/UI/Skin.pm line 181
	eval {...} called at /home/cpansand/.cpan/build/2018032721/Reaction-0.002005-0/blib/lib/Reaction/UI/Skin.pm line 181
	Reaction::UI::Skin::widget_class_for(Reaction::UI::Skin=HASH(0x8896cf0), Reaction::UI::LayoutSet::TT=HASH(0x890b180)) called at /home/cpansand/.cpan/build/2018032721/Reaction-0.002005-0/blib/lib/Reaction/UI/LayoutSet.pm line 29
	Reaction::UI::LayoutSet::BUILD(Reaction::UI::LayoutSet::TT=HASH(0x890b180), HASH(0x890b168)) called at constructor Reaction::UI::LayoutSet::TT::new (defined at /home/cpansand/.cpan/build/2018032721/Reaction-0.002005-0/blib/lib/Reaction/UI/LayoutSet/TT.pm line 43) line 80
	Reaction::UI::LayoutSet::TT::new("Reaction::UI::LayoutSet::TT", "name", "site_layout", "skin", Reaction::UI::Skin=HASH(0x8896cf0), "tt_object", Template=HASH(0x72544f0), "source_file", ...) called at /home/cpansand/.cpan/build/2018032721/Reaction-0.002005-0/blib/lib/Reaction/UI/Skin.pm line 115
	Reaction::UI::Skin::_create_layout_set(Reaction::UI::Skin=HASH(0x8896cf0), "site_layout", ARRAY(0x890aac0), Reaction::UI::Skin=HASH(0x8896cf0)) called at /home/cpansand/.cpan/build/2018032721/Reaction-0.002005-0/blib/lib/Reaction/UI/Skin.pm line 110
	Reaction::UI::Skin::create_layout_set(Reaction::UI::Skin=HASH(0x8896cf0), "site_layout") called at /home/cpansand/.cpan/build/2018032721/Reaction-0.002005-0/blib/lib/Reaction/UI/LayoutSet.pm line 83
	Reaction::UI::LayoutSet::_load_file(Reaction::UI::LayoutSet::TT=HASH(0x88f5228), Path::Class::File=HASH(0x88f2c18), HASH(0x88f5258)) called at /home/cpansand/.cpan/build/2018032721/Reaction-0.002005-0/blib/lib/Reaction/UI/LayoutSet.pm line 27
	Reaction::UI::LayoutSet::BUILD(Reaction::UI::LayoutSet::TT=HASH(0x88f5228), HASH(0x88f5258)) called at constructor Reaction::UI::LayoutSet::TT::new (defined at /home/cpansand/.cpan/build/2018032721/Reaction-0.002005-0/blib/lib/Reaction/UI/LayoutSet/TT.pm line 43) line 80
	Reaction::UI::LayoutSet::TT::new("Reaction::UI::LayoutSet::TT", "name", "site_layout", "skin", Reaction::UI::Skin=HASH(0x889e0a8), "next_skin", Reaction::UI::Skin=HASH(0x8896cf0), "tt_object", ...) called at /home/cpansand/.cpan/build/2018032721/Reaction-0.002005-0/blib/lib/Reaction/UI/Skin.pm line 115
	Reaction::UI::Skin::_create_layout_set(Reaction::UI::Skin=HASH(0x889e0a8), "site_layout", ARRAY(0x88a49f0), Reaction::UI::Skin=HASH(0x889e0a8)) called at /home/cpansand/.cpan/build/2018032721/Reaction-0.002005-0/blib/lib/Reaction/UI/Skin.pm line 110
	Reaction::UI::Skin::create_layout_set(Reaction::UI::Skin=HASH(0x889e0a8), "site_layout") called at /home/cpansand/.cpan/build/2018032721/Reaction-0.002005-0/blib/lib/Reaction/UI/LayoutSet.pm line 83
	Reaction::UI::LayoutSet::_load_file(Reaction::UI::LayoutSet::TT=HASH(0x888f418), Path::Class::File=HASH(0x88a46a8), HASH(0x82a2b18)) called at /home/cpansand/.cpan/build/2018032721/Reaction-0.002005-0/blib/lib/Reaction/UI/LayoutSet.pm line 27
	Reaction::UI::LayoutSet::BUILD(Reaction::UI::LayoutSet::TT=HASH(0x888f418), HASH(0x82a2b18)) called at constructor Reaction::UI::LayoutSet::TT::new (defined at /home/cpansand/.cpan/build/2018032721/Reaction-0.002005-0/blib/lib/Reaction/UI/LayoutSet/TT.pm line 43) line 80
	Reaction::UI::LayoutSet::TT::new("Reaction::UI::LayoutSet::TT", "name", "site_layout", "skin", Reaction::UI::Skin=HASH(0x88a4ac8), "next_skin", Reaction::UI::Skin=HASH(0x889e0a8), "tt_object", ...) called at /home/cpansand/.cpan/build/2018032721/Reaction-0.002005-0/blib/lib/Reaction/UI/Skin.pm line 115
	Reaction::UI::Skin::_create_layout_set(Reaction::UI::Skin=HASH(0x88a4ac8), "site_layout", ARRAY(0x8283660), Reaction::UI::Skin=HASH(0x88a4ac8)) called at /home/cpansand/.cpan/build/2018032721/Reaction-0.002005-0/blib/lib/Reaction/UI/Skin.pm line 110
	Reaction::UI::Skin::create_layout_set(Reaction::UI::Skin=HASH(0x88a4ac8), "site_layout") called at inline delegation in Reaction::UI::View for skin->create_layout_set (attribute declared in /home/cpansand/.cpan/build/2018032721/Reaction-0.002005-0/blib/lib/Reaction/UI/View.pm at line 22) line 18
	Reaction::UI::View::create_layout_set(ComponentUI::View::Site=HASH(0x4daded8), "site_layout") called at /home/cpansand/.cpan/build/2018032721/Reaction-0.002005-0/blib/lib/Reaction/UI/View.pm line 99
	Reaction::UI::View::layout_set_for(ComponentUI::View::Site=HASH(0x4daded8), Reaction::UI::ViewPort::SiteLayout=HASH(0x888bff0)) called at /home/cpansand/.cpan/build/2018032721/Reaction-0.002005-0/blib/lib/Reaction/UI/View.pm line 78
	Reaction::UI::View::render_viewport_args(ComponentUI::View::Site=HASH(0x4daded8), Reaction::UI::ViewPort::SiteLayout=HASH(0x888bff0)) called at /home/cpansand/.cpan/build/2018032721/Reaction-0.002005-0/blib/lib/Reaction/UI/View.pm line 61
	Reaction::UI::View::render_window(ComponentUI::View::Site=HASH(0x4daded8), Reaction::UI::Window=HASH(0x888b9c0)) called at /home/cpansand/.cpan/build/2018032721/Reaction-0.002005-0/blib/lib/Reaction/UI/Window.pm line 74
	Reaction::UI::Window::flush_view(Reaction::UI::Window=HASH(0x888b9c0)) called at /home/cpansand/.cpan/build/2018032721/Reaction-0.002005-0/blib/lib/Reaction/UI/Window.pm line 36
	Reaction::UI::Window::flush(Reaction::UI::Window=HASH(0x888b9c0)) called at /home/cpansand/.cpan/build/2018032721/Reaction-0.002005-0/blib/lib/Reaction/UI/Controller/Root.pm line 38
	Reaction::UI::Controller::Root::end(ComponentUI::Controller::Root=HASH(0x8829a38), ComponentUI=HASH(0x8824bd8)) called at /opt/perl-5.24.4-RC1/lib/site_perl/5.24.4/Catalyst/Action.pm line 358
	Catalyst::Action::execute(Catalyst::Action=HASH(0x8597998), ComponentUI::Controller::Root=HASH(0x8829a38), ComponentUI=HASH(0x8824bd8)) called at /opt/perl-5.24.4-RC1/lib/site_perl/5.24.4/Catalyst.pm line 2049
	eval {...} called at /opt/perl-5.24.4-RC1/lib/site_perl/5.24.4/Catalyst.pm line 2049
	Catalyst::execute(ComponentUI=HASH(0x8824bd8), "ComponentUI::Controller::Root", Catalyst::Action=HASH(0x8597998)) called at /opt/perl-5.24.4-RC1/lib/site_perl/5.24.4/Catalyst/Action.pm line 353
	Catalyst::Action::dispatch(Catalyst::Action=HASH(0x8597998), ComponentUI=HASH(0x8824bd8)) called at /opt/perl-5.24.4-RC1/lib/site_perl/5.24.4/Catalyst/Controller.pm line 188
	Catalyst::Controller::_END(ComponentUI::Controller::Root=HASH(0x8829a38), ComponentUI=HASH(0x8824bd8)) called at /opt/perl-5.24.4-RC1/lib/site_perl/5.24.4/Catalyst/Action.pm line 358
	Catalyst::Action::execute(Catalyst::Action=HASH(0x86aede0), ComponentUI::Controller::Root=HASH(0x8829a38), ComponentUI=HASH(0x8824bd8)) called at /opt/perl-5.24.4-RC1/lib/site_perl/5.24.4/Catalyst.pm line 2049
	eval {...} called at /opt/perl-5.24.4-RC1/lib/site_perl/5.24.4/Catalyst.pm line 2049
	Catalyst::execute(ComponentUI=HASH(0x8824bd8), "ComponentUI::Controller::Root", Catalyst::Action=HASH(0x86aede0)) called at /opt/perl-5.24.4-RC1/lib/site_perl/5.24.4/Catalyst/Action.pm line 353
	Catalyst::Action::dispatch(Catalyst::Action=HASH(0x86aede0), ComponentUI=HASH(0x8824bd8)) called at /opt/perl-5.24.4-RC1/lib/site_perl/5.24.4/Catalyst/Dispatcher.pm line 262
	Catalyst::Dispatcher::_do_forward(Catalyst::Dispatcher=HASH(0x3b9e4e0), "forward", ComponentUI=HASH(0x8824bd8), "_END") called at /opt/perl-5.24.4-RC1/lib/site_perl/5.24.4/Catalyst/Dispatcher.pm line 242
	Catalyst::Dispatcher::forward(Catalyst::Dispatcher=HASH(0x3b9e4e0), ComponentUI=HASH(0x8824bd8), "_END") called at /opt/perl-5.24.4-RC1/lib/site_perl/5.24.4/Catalyst.pm line 477
	Catalyst::forward(ComponentUI=HASH(0x8824bd8), "_END") called at /opt/perl-5.24.4-RC1/lib/site_perl/5.24.4/Catalyst/Controller.pm line 137
	Catalyst::Controller::_DISPATCH(ComponentUI::Controller::Root=HASH(0x8829a38), ComponentUI=HASH(0x8824bd8)) called at /opt/perl-5.24.4-RC1/lib/site_perl/5.24.4/Catalyst/Action.pm line 358
	Catalyst::Action::execute(Catalyst::Action=HASH(0x86a6110), ComponentUI::Controller::Root=HASH(0x8829a38), ComponentUI=HASH(0x8824bd8)) called at /opt/perl-5.24.4-RC1/lib/site_perl/5.24.4/Catalyst.pm line 2049
	eval {...} called at /opt/perl-5.24.4-RC1/lib/site_perl/5.24.4/Catalyst.pm line 2049
	Catalyst::execute(ComponentUI=HASH(0x8824bd8), "ComponentUI::Controller::Root", Catalyst::Action=HASH(0x86a6110)) called at /opt/perl-5.24.4-RC1/lib/site_perl/5.24.4/Catalyst/Action.pm line 353
	Catalyst::Action::dispatch(Catalyst::Action=HASH(0x86a6110), ComponentUI=HASH(0x8824bd8)) called at /opt/perl-5.24.4-RC1/lib/site_perl/5.24.4/Catalyst/Dispatcher.pm line 262
	Catalyst::Dispatcher::_do_forward(Catalyst::Dispatcher=HASH(0x3b9e4e0), "forward", ComponentUI=HASH(0x8824bd8), "//_DISPATCH") called at /opt/perl-5.24.4-RC1/lib/site_perl/5.24.4/Catalyst/Dispatcher.pm line 242
	Catalyst::Dispatcher::forward(Catalyst::Dispatcher=HASH(0x3b9e4e0), ComponentUI=HASH(0x8824bd8), "//_DISPATCH") called at /opt/perl-5.24.4-RC1/lib/site_perl/5.24.4/Catalyst.pm line 477
	Catalyst::forward(ComponentUI=HASH(0x8824bd8), "//_DISPATCH") called at /opt/perl-5.24.4-RC1/lib/site_perl/5.24.4/Catalyst/Dispatcher.pm line 108
	Catalyst::Dispatcher::dispatch(Catalyst::Dispatcher=HASH(0x3b9e4e0), ComponentUI=HASH(0x8824bd8)) called at /opt/perl-5.24.4-RC1/lib/site_perl/5.24.4/Catalyst.pm line 1995
	Catalyst::dispatch(ComponentUI=HASH(0x8824bd8)) called at /opt/perl-5.24.4-RC1/lib/site_perl/5.24.4/Catalyst/Plugin/Static/Simple.pm line 86
	Class::MOP::Class:::around(CODE(0x3878d68), ComponentUI=HASH(0x8824bd8)) called at /opt/perl-5.24.4-RC1/lib/site_perl/5.24.4/x86_64-linux/Class/MOP/Method/Wrapped.pm line 164
	ComponentUI::_wrapped_dispatch(ComponentUI=HASH(0x8824bd8)) called at /opt/perl-5.24.4-RC1/lib/site_perl/5.24.4/x86_64-linux/Class/MOP/Method/Wrapped.pm line 95
	ComponentUI::dispatch(ComponentUI=HASH(0x8824bd8)) called at /opt/perl-5.24.4-RC1/lib/site_perl/5.24.4/Catalyst.pm line 2390
	Catalyst::try {...} () called at /opt/perl-5.24.4-RC1/lib/site_perl/5.24.4/Try/Tiny.pm line 102
	eval {...} called at /opt/perl-5.24.4-RC1/lib/site_perl/5.24.4/Try/Tiny.pm line 93
	Try::Tiny::try(CODE(0x88213f0), Try::Tiny::Catch=REF(0x88211f8)) called at /opt/perl-5.24.4-RC1/lib/site_perl/5.24.4/Catalyst.pm line 2399
	Catalyst::handle_request("ComponentUI", "env", HASH(0x882c518), "response_cb", CODE(0x8821258)) called at /opt/perl-5.24.4-RC1/lib/site_perl/5.24.4/Catalyst/Engine.pm line 806
	Catalyst::Engine::__ANON__(CODE(0x8821258)) called at /opt/perl-5.24.4-RC1/lib/site_perl/5.24.4/Plack/Middleware/HTTPExceptions.pm line 32
	Plack::Middleware::HTTPExceptions::try {...} () called at /opt/perl-5.24.4-RC1/lib/site_perl/5.24.4/Try/Tiny.pm line 102
	eval {...} called at /opt/perl-5.24.4-RC1/lib/site_perl/5.24.4/Try/Tiny.pm line 93
	Try::Tiny::try(CODE(0x8821090), Try::Tiny::Catch=REF(0x88208f8)) called at /opt/perl-5.24.4-RC1/lib/site_perl/5.24.4/Plack/Middleware/HTTPExceptions.pm line 41
	Plack::Middleware::HTTPExceptions::__ANON__(CODE(0x882cb00)) called at /opt/perl-5.24.4-RC1/lib/site_perl/5.24.4/Plack/Util.pm line 339
	Plack::Util::__ANON__(CODE(0x882c4a0)) called at /opt/perl-5.24.4-RC1/lib/site_perl/5.24.4/Plack/Util.pm line 339
	Plack::Util::__ANON__(CODE(0x882c3b0)) called at /opt/perl-5.24.4-RC1/lib/site_perl/5.24.4/Plack/Util.pm line 339
	Plack::Util::__ANON__(CODE(0x882c338)) called at /opt/perl-5.24.4-RC1/lib/site_perl/5.24.4/HTTP/Message/PSGI.pm line 100
	HTTP::Message::PSGI::res_from_psgi(CODE(0x8820e08)) called at /opt/perl-5.24.4-RC1/lib/site_perl/5.24.4/HTTP/Message/PSGI.pm line 156
	HTTP::Response::from_psgi("HTTP::Response", CODE(0x8820e08)) called at /opt/perl-5.24.4-RC1/lib/site_perl/5.24.4/Plack/Test/MockHTTP.pm line 24
	Plack::Test::MockHTTP::try {...} () called at /opt/perl-5.24.4-RC1/lib/site_perl/5.24.4/Try/Tiny.pm line 100
	eval {...} called at /opt/perl-5.24.4-RC1/lib/site_perl/5.24.4/Try/Tiny.pm line 93
	Try::Tiny::try(CODE(0x8356268), Try::Tiny::Catch=REF(0x873ab88)) called at /opt/perl-5.24.4-RC1/lib/site_perl/5.24.4/Plack/Test/MockHTTP.pm line 27
	Plack::Test::MockHTTP::request(Plack::Test::MockHTTP=HASH(0x881d5a8), HTTP::Request=HASH(0x875e4a8)) called at /opt/perl-5.24.4-RC1/lib/site_perl/5.24.4/Plack/Test.pm line 38
	Plack::Test::__ANON__(HTTP::Request=HASH(0x875e4a8)) called at /opt/perl-5.24.4-RC1/lib/site_perl/5.24.4/Catalyst/Test.pm line 290
	Catalyst::Test::__ANON__(CODE(0x875e748)) called at /opt/perl-5.24.4-RC1/lib/site_perl/5.24.4/Plack/Test.pm line 38
	Plack::Test::test_psgi("app", CODE(0x875e028), "mangle_response", CODE(0x2abc628), "app", CODE(0x8757930), "client", CODE(0x875e658)) called at /opt/perl-5.24.4-RC1/lib/site_perl/5.24.4/Catalyst/Test.pm line 293
	Catalyst::Test::_request(HASH(0x1872bd0), "/") called at /opt/perl-5.24.4-RC1/lib/site_perl/5.24.4/Catalyst/Test.pm line 336
	Catalyst::Test::_local_request("ComponentUI", "/") called at /opt/perl-5.24.4-RC1/lib/site_perl/5.24.4/Catalyst/Test.pm line 32
	Catalyst::Test::__ANON__("/") called at t/01app.t line 10
[debug] remote
t/01app.t ................... ok
t/04load_all.t .............. ok
t/05reflect_attr_from.t ..... ok
Class::MOP::load_class is deprecated at /opt/perl-5.24.4-RC1/lib/site_perl/5.24.4/x86_64-linux/Class/MOP.pm line 69.
	Class::MOP::load_class("Reaction::InterfaceModel::Object") called at /home/cpansand/.cpan/build/2018032721/Reaction-0.002005-0/blib/lib/Reaction/InterfaceModel/Reflector/DBIC.pm line 149
	Reaction::InterfaceModel::Reflector::DBIC::reflect_schema(Reaction::InterfaceModel::Reflector::DBIC=HASH(0x3f0d3e0), "model_class", "ComponentUI::TestModel", "schema_class", "RTest::TestDB", "sources", ARRAY(0x3f10780)) called at /home/cpansand/.cpan/build/2018032721/Reaction-0.002005-0/blib/lib/ComponentUI/TestModel.pm line 10
	require ComponentUI/TestModel.pm called at t/lib/RTest/InterfaceModel/Reflector/DBIC.pm line 6
	RTest::InterfaceModel::Reflector::DBIC::BEGIN() called at /home/cpansand/.cpan/build/2018032721/Reaction-0.002005-0/blib/lib/ComponentUI/TestModel.pm line 0
	eval {...} called at /home/cpansand/.cpan/build/2018032721/Reaction-0.002005-0/blib/lib/ComponentUI/TestModel.pm line 0
	require RTest/InterfaceModel/Reflector/DBIC.pm called at t/im_dbic.t line 7
	main::BEGIN() called at /home/cpansand/.cpan/build/2018032721/Reaction-0.002005-0/blib/lib/ComponentUI/TestModel.pm line 0
	eval {...} called at /home/cpansand/.cpan/build/2018032721/Reaction-0.002005-0/blib/lib/ComponentUI/TestModel.pm line 0
Class::MOP::load_class is deprecated at /opt/perl-5.24.4-RC1/lib/site_perl/5.24.4/x86_64-linux/Class/MOP.pm line 69.
	Class::MOP::load_class("Reaction::InterfaceModel::Object") called at /home/cpansand/.cpan/build/2018032721/Reaction-0.002005-0/blib/lib/Reaction/Class.pm line 123
	Reaction::Class::do_class_sub("Reaction::Class", "ComponentUI::TestModel::Foo", "ComponentUI::TestModel::Foo", "is", "Reaction::InterfaceModel::Object", "which", CODE(0x54483b0)) called at /home/cpansand/.cpan/build/2018032721/Reaction-0.002005-0/blib/lib/Reaction/Class.pm line 86
	Reaction::Class::("ComponentUI::TestModel::Foo", "is", "Reaction::InterfaceModel::Object", "which", CODE(0x54483b0)) called at /home/cpansand/.cpan/build/2018032721/Reaction-0.002005-0/blib/lib/ComponentUI/TestModel/Foo.pm line 8
	require ComponentUI/TestModel/Foo.pm called at /opt/perl-5.24.4-RC1/lib/site_perl/5.24.4/Module/Runtime.pm line 314
	Module::Runtime::require_module("ComponentUI::TestModel::Foo") called at /opt/perl-5.24.4-RC1/lib/site_perl/5.24.4/Class/Load.pm line 174
	Class::Load::try {...} () called at /opt/perl-5.24.4-RC1/lib/site_perl/5.24.4/Try/Tiny.pm line 98
	eval {...} called at /opt/perl-5.24.4-RC1/lib/site_perl/5.24.4/Try/Tiny.pm line 93
	Try::Tiny::try(CODE(0x5407840), Try::Tiny::Catch=REF(0x53ad698)) called at /opt/perl-5.24.4-RC1/lib/site_perl/5.24.4/Class/Load.pm line 180
	Class::Load::try_load_class("ComponentUI::TestModel::Foo", undef) called at /opt/perl-5.24.4-RC1/lib/site_perl/5.24.4/Class/Load.pm line 35
	Class::Load::load_class("ComponentUI::TestModel::Foo") called at /home/cpansand/.cpan/build/2018032721/Reaction-0.002005-0/blib/lib/Reaction/InterfaceModel/Reflector/DBIC.pm line 892
	eval {...} called at /home/cpansand/.cpan/build/2018032721/Reaction-0.002005-0/blib/lib/Reaction/InterfaceModel/Reflector/DBIC.pm line 892
	Reaction::InterfaceModel::Reflector::DBIC::_maybe_load_class(Reaction::InterfaceModel::Reflector::DBIC=HASH(0x3f0d3e0), "ComponentUI::TestModel::Foo") called at /home/cpansand/.cpan/build/2018032721/Reaction-0.002005-0/blib/lib/Reaction/InterfaceModel/Reflector/DBIC.pm line 876
	Reaction::InterfaceModel::Reflector::DBIC::_load_or_create(Reaction::InterfaceModel::Reflector::DBIC=HASH(0x3f0d3e0), "ComponentUI::TestModel::Foo", "superclasses", ARRAY(0x52faae0)) called at /home/cpansand/.cpan/build/2018032721/Reaction-0.002005-0/blib/lib/Reaction/InterfaceModel/Reflector/DBIC.pm line 448
	Reaction::InterfaceModel::Reflector::DBIC::reflect_source_object(Reaction::InterfaceModel::Reflector::DBIC=HASH(0x3f0d3e0), "source_name", "Foo", "parent_domain_model_name", "_rtest_test_db_store", "schema_class", "RTest::TestDB", "parent_class", ...) called at /home/cpansand/.cpan/build/2018032721/Reaction-0.002005-0/blib/lib/Reaction/InterfaceModel/Reflector/DBIC.pm line 323
	Reaction::InterfaceModel::Reflector::DBIC::reflect_source(Reaction::InterfaceModel::Reflector::DBIC=HASH(0x3f0d3e0), "source_name", "Foo", "parent_class", "ComponentUI::TestModel", "schema_class", "RTest::TestDB", "source_class", ...) called at /home/cpansand/.cpan/build/2018032721/Reaction-0.002005-0/blib/lib/Reaction/InterfaceModel/Reflector/DBIC.pm line 185
	Reaction::InterfaceModel::Reflector::DBIC::reflect_schema(Reaction::InterfaceModel::Reflector::DBIC=HASH(0x3f0d3e0), "model_class", "ComponentUI::TestModel", "schema_class", "RTest::TestDB", "sources", ARRAY(0x3f10780)) called at /home/cpansand/.cpan/build/2018032721/Reaction-0.002005-0/blib/lib/ComponentUI/TestModel.pm line 10
	require ComponentUI/TestModel.pm called at t/lib/RTest/InterfaceModel/Reflector/DBIC.pm line 6
	RTest::InterfaceModel::Reflector::DBIC::BEGIN() called at /home/cpansand/.cpan/build/2018032721/Reaction-0.002005-0/blib/lib/ComponentUI/TestModel/Foo.pm line 0
	eval {...} called at /home/cpansand/.cpan/build/2018032721/Reaction-0.002005-0/blib/lib/ComponentUI/TestModel/Foo.pm line 0
	require RTest/InterfaceModel/Reflector/DBIC.pm called at t/im_dbic.t line 7
	main::BEGIN() called at /home/cpansand/.cpan/build/2018032721/Reaction-0.002005-0/blib/lib/ComponentUI/TestModel/Foo.pm line 0
	eval {...} called at /home/cpansand/.cpan/build/2018032721/Reaction-0.002005-0/blib/lib/ComponentUI/TestModel/Foo.pm line 0
Class::MOP::is_class_loaded is deprecated at /opt/perl-5.24.4-RC1/lib/site_perl/5.24.4/x86_64-linux/Class/MOP.pm line 87.
	Class::MOP::is_class_loaded("RTest::TestIM::Foo") called at t/lib/RTest/InterfaceModel/Reflector/DBIC.pm line 74
	RTest::InterfaceModel::Reflector::DBIC::test_reflect_schema(RTest::InterfaceModel::Reflector::DBIC=HASH(0x1f55f80)) called at /opt/perl-5.24.4-RC1/lib/site_perl/5.24.4/Test/Class.pm line 293
	Test::Class::try {...} () called at /opt/perl-5.24.4-RC1/lib/site_perl/5.24.4/Try/Tiny.pm line 100
	eval {...} called at /opt/perl-5.24.4-RC1/lib/site_perl/5.24.4/Try/Tiny.pm line 93
	Try::Tiny::try(CODE(0x69e90a0), Try::Tiny::Catch=REF(0x69e88d8)) called at /opt/perl-5.24.4-RC1/lib/site_perl/5.24.4/Test/Class.pm line 293
	Test::Class::_run_method(RTest::InterfaceModel::Reflector::DBIC=HASH(0x1f55f80), "test_reflect_schema", ARRAY(0x2710d18)) called at /opt/perl-5.24.4-RC1/lib/site_perl/5.24.4/Test/Class.pm line 395
	Test::Class::runtests("Test::Class", RTest::InterfaceModel::Reflector::DBIC=HASH(0x1f55f80)) called at t/im_dbic.t line 10
t/im_dbic.t ................. ok
t/ui_focus_stack.t .......... ok
t/ui_view.t ................. ok
t/ui_viewport.t ............. ok
Class::MOP::load_class is deprecated at /opt/perl-5.24.4-RC1/lib/site_perl/5.24.4/x86_64-linux/Class/MOP.pm line 69.
	Class::MOP::load_class("ComponentUI::TestModel") called at /home/cpansand/.cpan/build/2018032721/Reaction-0.002005-0/blib/lib/Catalyst/Model/Reaction/InterfaceModel/DBIC.pm line 24
	Catalyst::Model::Reaction::InterfaceModel::DBIC::COMPONENT("ComponentUI::Model::TestModel", "ComponentUI", HASH(0x785e798)) called at /opt/perl-5.24.4-RC1/lib/site_perl/5.24.4/Catalyst.pm line 3212
	eval {...} called at /opt/perl-5.24.4-RC1/lib/site_perl/5.24.4/Catalyst.pm line 3213
	Catalyst::setup_component("ComponentUI", "ComponentUI::Model::TestModel") called at /opt/perl-5.24.4-RC1/lib/site_perl/5.24.4/Catalyst.pm line 3190
	Catalyst::__ANON__() called at /opt/perl-5.24.4-RC1/lib/site_perl/5.24.4/Catalyst.pm line 3037
	Catalyst::setup_components("ComponentUI") called at /opt/perl-5.24.4-RC1/lib/site_perl/5.24.4/Catalyst.pm line 1422
	Catalyst::setup("ComponentUI") called at /home/cpansand/.cpan/build/2018032721/Reaction-0.002005-0/blib/lib/ComponentUI.pm line 32
	require ComponentUI.pm called at /opt/perl-5.24.4-RC1/lib/site_perl/5.24.4/Module/Runtime.pm line 314
	Module::Runtime::require_module("ComponentUI") called at /opt/perl-5.24.4-RC1/lib/site_perl/5.24.4/Class/Load.pm line 174
	Class::Load::try {...} () called at /opt/perl-5.24.4-RC1/lib/site_perl/5.24.4/Try/Tiny.pm line 98
	eval {...} called at /opt/perl-5.24.4-RC1/lib/site_perl/5.24.4/Try/Tiny.pm line 93
	Try::Tiny::try(CODE(0x14822e0), Try::Tiny::Catch=REF(0x2fae668)) called at /opt/perl-5.24.4-RC1/lib/site_perl/5.24.4/Class/Load.pm line 180
	Class::Load::try_load_class("ComponentUI", undef) called at /opt/perl-5.24.4-RC1/lib/site_perl/5.24.4/Class/Load.pm line 35
	Class::Load::load_class("ComponentUI") called at /opt/perl-5.24.4-RC1/lib/site_perl/5.24.4/Test/WWW/Mechanize/Catalyst.pm line 245
	Test::WWW::Mechanize::Catalyst::import("Test::WWW::Mechanize::Catalyst", "ComponentUI") called at t/uncheck_bool_field.t line 6
	main::BEGIN() called at /home/cpansand/.cpan/build/2018032721/Reaction-0.002005-0/blib/lib/ComponentUI.pm line 0
	eval {...} called at /home/cpansand/.cpan/build/2018032721/Reaction-0.002005-0/blib/lib/ComponentUI.pm line 0
Class::MOP::load_class is deprecated at /opt/perl-5.24.4-RC1/lib/site_perl/5.24.4/x86_64-linux/Class/MOP.pm line 69.
	Class::MOP::load_class("Reaction::InterfaceModel::Object") called at /home/cpansand/.cpan/build/2018032721/Reaction-0.002005-0/blib/lib/Reaction/InterfaceModel/Reflector/DBIC.pm line 149
	Reaction::InterfaceModel::Reflector::DBIC::reflect_schema(Reaction::InterfaceModel::Reflector::DBIC=HASH(0x8468bd0), "model_class", "ComponentUI::TestModel", "schema_class", "RTest::TestDB", "sources", ARRAY(0x8477288)) called at /home/cpansand/.cpan/build/2018032721/Reaction-0.002005-0/blib/lib/ComponentUI/TestModel.pm line 10
	require ComponentUI/TestModel.pm called at /opt/perl-5.24.4-RC1/lib/site_perl/5.24.4/Module/Runtime.pm line 314
	Module::Runtime::require_module("ComponentUI::TestModel") called at /opt/perl-5.24.4-RC1/lib/site_perl/5.24.4/Class/Load.pm line 174
	Class::Load::try {...} () called at /opt/perl-5.24.4-RC1/lib/site_perl/5.24.4/Try/Tiny.pm line 98
	eval {...} called at /opt/perl-5.24.4-RC1/lib/site_perl/5.24.4/Try/Tiny.pm line 93
	Try::Tiny::try(CODE(0x4963e78), Try::Tiny::Catch=REF(0x7f0e0d0)) called at /opt/perl-5.24.4-RC1/lib/site_perl/5.24.4/Class/Load.pm line 180
	Class::Load::try_load_class("ComponentUI::TestModel", undef) called at /opt/perl-5.24.4-RC1/lib/site_perl/5.24.4/Class/Load.pm line 35
	Class::Load::load_class("ComponentUI::TestModel") called at /home/cpansand/.cpan/build/2018032721/Reaction-0.002005-0/blib/lib/Catalyst/Model/Reaction/InterfaceModel/DBIC.pm line 24
	Catalyst::Model::Reaction::InterfaceModel::DBIC::COMPONENT("ComponentUI::Model::TestModel", "ComponentUI", HASH(0x785e798)) called at /opt/perl-5.24.4-RC1/lib/site_perl/5.24.4/Catalyst.pm line 3212
	eval {...} called at /opt/perl-5.24.4-RC1/lib/site_perl/5.24.4/Catalyst.pm line 3213
	Catalyst::setup_component("ComponentUI", "ComponentUI::Model::TestModel") called at /opt/perl-5.24.4-RC1/lib/site_perl/5.24.4/Catalyst.pm line 3190
	Catalyst::__ANON__() called at /opt/perl-5.24.4-RC1/lib/site_perl/5.24.4/Catalyst.pm line 3037
	Catalyst::setup_components("ComponentUI") called at /opt/perl-5.24.4-RC1/lib/site_perl/5.24.4/Catalyst.pm line 1422
	Catalyst::setup("ComponentUI") called at /home/cpansand/.cpan/build/2018032721/Reaction-0.002005-0/blib/lib/ComponentUI.pm line 32
	require ComponentUI.pm called at /opt/perl-5.24.4-RC1/lib/site_perl/5.24.4/Module/Runtime.pm line 314
	Module::Runtime::require_module("ComponentUI") called at /opt/perl-5.24.4-RC1/lib/site_perl/5.24.4/Class/Load.pm line 174
	Class::Load::try {...} () called at /opt/perl-5.24.4-RC1/lib/site_perl/5.24.4/Try/Tiny.pm line 98
	eval {...} called at /opt/perl-5.24.4-RC1/lib/site_perl/5.24.4/Try/Tiny.pm line 93
	Try::Tiny::try(CODE(0x14822e0), Try::Tiny::Catch=REF(0x2fae668)) called at /opt/perl-5.24.4-RC1/lib/site_perl/5.24.4/Class/Load.pm line 180
	Class::Load::try_load_class("ComponentUI", undef) called at /opt/perl-5.24.4-RC1/lib/site_perl/5.24.4/Class/Load.pm line 35
	Class::Load::load_class("ComponentUI") called at /opt/perl-5.24.4-RC1/lib/site_perl/5.24.4/Test/WWW/Mechanize/Catalyst.pm line 245
	Test::WWW::Mechanize::Catalyst::import("Test::WWW::Mechanize::Catalyst", "ComponentUI") called at t/uncheck_bool_field.t line 6
	main::BEGIN() called at /home/cpansand/.cpan/build/2018032721/Reaction-0.002005-0/blib/lib/ComponentUI/TestModel.pm line 0
	eval {...} called at /home/cpansand/.cpan/build/2018032721/Reaction-0.002005-0/blib/lib/ComponentUI/TestModel.pm line 0
Class::MOP::load_class is deprecated at /opt/perl-5.24.4-RC1/lib/site_perl/5.24.4/x86_64-linux/Class/MOP.pm line 69.
	Class::MOP::load_class("Reaction::InterfaceModel::Object") called at /home/cpansand/.cpan/build/2018032721/Reaction-0.002005-0/blib/lib/Reaction/Class.pm line 123
	Reaction::Class::do_class_sub("Reaction::Class", "ComponentUI::TestModel::Foo", "ComponentUI::TestModel::Foo", "is", "Reaction::InterfaceModel::Object", "which", CODE(0x8776ad8)) called at /home/cpansand/.cpan/build/2018032721/Reaction-0.002005-0/blib/lib/Reaction/Class.pm line 86
	Reaction::Class::("ComponentUI::TestModel::Foo", "is", "Reaction::InterfaceModel::Object", "which", CODE(0x8776ad8)) called at /home/cpansand/.cpan/build/2018032721/Reaction-0.002005-0/blib/lib/ComponentUI/TestModel/Foo.pm line 8
	require ComponentUI/TestModel/Foo.pm called at /opt/perl-5.24.4-RC1/lib/site_perl/5.24.4/Module/Runtime.pm line 314
	Module::Runtime::require_module("ComponentUI::TestModel::Foo") called at /opt/perl-5.24.4-RC1/lib/site_perl/5.24.4/Class/Load.pm line 174
	Class::Load::try {...} () called at /opt/perl-5.24.4-RC1/lib/site_perl/5.24.4/Try/Tiny.pm line 98
	eval {...} called at /opt/perl-5.24.4-RC1/lib/site_perl/5.24.4/Try/Tiny.pm line 93
	Try::Tiny::try(CODE(0x86bd440), Try::Tiny::Catch=REF(0x86ff8b8)) called at /opt/perl-5.24.4-RC1/lib/site_perl/5.24.4/Class/Load.pm line 180
	Class::Load::try_load_class("ComponentUI::TestModel::Foo", undef) called at /opt/perl-5.24.4-RC1/lib/site_perl/5.24.4/Class/Load.pm line 35
	Class::Load::load_class("ComponentUI::TestModel::Foo") called at /home/cpansand/.cpan/build/2018032721/Reaction-0.002005-0/blib/lib/Reaction/InterfaceModel/Reflector/DBIC.pm line 892
	eval {...} called at /home/cpansand/.cpan/build/2018032721/Reaction-0.002005-0/blib/lib/Reaction/InterfaceModel/Reflector/DBIC.pm line 892
	Reaction::InterfaceModel::Reflector::DBIC::_maybe_load_class(Reaction::InterfaceModel::Reflector::DBIC=HASH(0x8468bd0), "ComponentUI::TestModel::Foo") called at /home/cpansand/.cpan/build/2018032721/Reaction-0.002005-0/blib/lib/Reaction/InterfaceModel/Reflector/DBIC.pm line 876
	Reaction::InterfaceModel::Reflector::DBIC::_load_or_create(Reaction::InterfaceModel::Reflector::DBIC=HASH(0x8468bd0), "ComponentUI::TestModel::Foo", "superclasses", ARRAY(0x862bb28)) called at /home/cpansand/.cpan/build/2018032721/Reaction-0.002005-0/blib/lib/Reaction/InterfaceModel/Reflector/DBIC.pm line 448
	Reaction::InterfaceModel::Reflector::DBIC::reflect_source_object(Reaction::InterfaceModel::Reflector::DBIC=HASH(0x8468bd0), "source_class", "RTest::TestDB::Foo", "parent_domain_model_name", "_rtest_test_db_store", "parent_class", "ComponentUI::TestModel", "source_name", ...) called at /home/cpansand/.cpan/build/2018032721/Reaction-0.002005-0/blib/lib/Reaction/InterfaceModel/Reflector/DBIC.pm line 323
	Reaction::InterfaceModel::Reflector::DBIC::reflect_source(Reaction::InterfaceModel::Reflector::DBIC=HASH(0x8468bd0), "source_name", "Foo", "parent_class", "ComponentUI::TestModel", "schema_class", "RTest::TestDB", "source_class", ...) called at /home/cpansand/.cpan/build/2018032721/Reaction-0.002005-0/blib/lib/Reaction/InterfaceModel/Reflector/DBIC.pm line 185
	Reaction::InterfaceModel::Reflector::DBIC::reflect_schema(Reaction::InterfaceModel::Reflector::DBIC=HASH(0x8468bd0), "model_class", "ComponentUI::TestModel", "schema_class", "RTest::TestDB", "sources", ARRAY(0x8477288)) called at /home/cpansand/.cpan/build/2018032721/Reaction-0.002005-0/blib/lib/ComponentUI/TestModel.pm line 10
	require ComponentUI/TestModel.pm called at /opt/perl-5.24.4-RC1/lib/site_perl/5.24.4/Module/Runtime.pm line 314
	Module::Runtime::require_module("ComponentUI::TestModel") called at /opt/perl-5.24.4-RC1/lib/site_perl/5.24.4/Class/Load.pm line 174
	Class::Load::try {...} () called at /opt/perl-5.24.4-RC1/lib/site_perl/5.24.4/Try/Tiny.pm line 98
	eval {...} called at /opt/perl-5.24.4-RC1/lib/site_perl/5.24.4/Try/Tiny.pm line 93
	Try::Tiny::try(CODE(0x4963e78), Try::Tiny::Catch=REF(0x7f0e0d0)) called at /opt/perl-5.24.4-RC1/lib/site_perl/5.24.4/Class/Load.pm line 180
	Class::Load::try_load_class("ComponentUI::TestModel", undef) called at /opt/perl-5.24.4-RC1/lib/site_perl/5.24.4/Class/Load.pm line 35
	Class::Load::load_class("ComponentUI::TestModel") called at /home/cpansand/.cpan/build/2018032721/Reaction-0.002005-0/blib/lib/Catalyst/Model/Reaction/InterfaceModel/DBIC.pm line 24
	Catalyst::Model::Reaction::InterfaceModel::DBIC::COMPONENT("ComponentUI::Model::TestModel", "ComponentUI", HASH(0x785e798)) called at /opt/perl-5.24.4-RC1/lib/site_perl/5.24.4/Catalyst.pm line 3212
	eval {...} called at /opt/perl-5.24.4-RC1/lib/site_perl/5.24.4/Catalyst.pm line 3213
	Catalyst::setup_component("ComponentUI", "ComponentUI::Model::TestModel") called at /opt/perl-5.24.4-RC1/lib/site_perl/5.24.4/Catalyst.pm line 3190
	Catalyst::__ANON__() called at /opt/perl-5.24.4-RC1/lib/site_perl/5.24.4/Catalyst.pm line 3037
	Catalyst::setup_components("ComponentUI") called at /opt/perl-5.24.4-RC1/lib/site_perl/5.24.4/Catalyst.pm line 1422
	Catalyst::setup("ComponentUI") called at /home/cpansand/.cpan/build/2018032721/Reaction-0.002005-0/blib/lib/ComponentUI.pm line 32
	require ComponentUI.pm called at /opt/perl-5.24.4-RC1/lib/site_perl/5.24.4/Module/Runtime.pm line 314
	Module::Runtime::require_module("ComponentUI") called at /opt/perl-5.24.4-RC1/lib/site_perl/5.24.4/Class/Load.pm line 174
	Class::Load::try {...} () called at /opt/perl-5.24.4-RC1/lib/site_perl/5.24.4/Try/Tiny.pm line 98
	eval {...} called at /opt/perl-5.24.4-RC1/lib/site_perl/5.24.4/Try/Tiny.pm line 93
	Try::Tiny::try(CODE(0x14822e0), Try::Tiny::Catch=REF(0x2fae668)) called at /opt/perl-5.24.4-RC1/lib/site_perl/5.24.4/Class/Load.pm line 180
	Class::Load::try_load_class("ComponentUI", undef) called at /opt/perl-5.24.4-RC1/lib/site_perl/5.24.4/Class/Load.pm line 35
	Class::Load::load_class("ComponentUI") called at /opt/perl-5.24.4-RC1/lib/site_perl/5.24.4/Test/WWW/Mechanize/Catalyst.pm line 245
	Test::WWW::Mechanize::Catalyst::import("Test::WWW::Mechanize::Catalyst", "ComponentUI") called at t/uncheck_bool_field.t line 6
	main::BEGIN() called at /home/cpansand/.cpan/build/2018032721/Reaction-0.002005-0/blib/lib/ComponentUI/TestModel/Foo.pm line 0
	eval {...} called at /home/cpansand/.cpan/build/2018032721/Reaction-0.002005-0/blib/lib/ComponentUI/TestModel/Foo.pm line 0
Class::MOP::load_class is deprecated at /opt/perl-5.24.4-RC1/lib/site_perl/5.24.4/x86_64-linux/Class/MOP.pm line 69.
	Class::MOP::load_class("ComponentUI::RenderingContext::Site") called at /home/cpansand/.cpan/build/2018032721/Reaction-0.002005-0/blib/lib/Reaction/UI/View.pm line 125
	eval {...} called at /home/cpansand/.cpan/build/2018032721/Reaction-0.002005-0/blib/lib/Reaction/UI/View.pm line 125
	Reaction::UI::View::find_related_class(ComponentUI::View::Site=HASH(0x52dee58), "RenderingContext") called at /home/cpansand/.cpan/build/2018032721/Reaction-0.002005-0/blib/lib/Reaction/UI/View.pm line 43
	Reaction::UI::View::_build_rendering_context_class(ComponentUI::View::Site=HASH(0x52dee58)) called at reader Reaction::UI::View::rendering_context_class (defined at /home/cpansand/.cpan/build/2018032721/Reaction-0.002005-0/blib/lib/Reaction/UI/View.pm line 29) line 8
	Reaction::UI::View::rendering_context_class(ComponentUI::View::Site=HASH(0x52dee58)) called at /home/cpansand/.cpan/build/2018032721/Reaction-0.002005-0/blib/lib/Reaction/UI/View.pm line 134
	Reaction::UI::View::create_rendering_context(ComponentUI::View::Site=HASH(0x52dee58)) called at /home/cpansand/.cpan/build/2018032721/Reaction-0.002005-0/blib/lib/Reaction/UI/View.pm line 60
	Reaction::UI::View::render_window(ComponentUI::View::Site=HASH(0x52dee58), Reaction::UI::Window=HASH(0x8d26bf8)) called at /home/cpansand/.cpan/build/2018032721/Reaction-0.002005-0/blib/lib/Reaction/UI/Window.pm line 74
	Reaction::UI::Window::flush_view(Reaction::UI::Window=HASH(0x8d26bf8)) called at /home/cpansand/.cpan/build/2018032721/Reaction-0.002005-0/blib/lib/Reaction/UI/Window.pm line 36
	Reaction::UI::Window::flush(Reaction::UI::Window=HASH(0x8d26bf8)) called at /home/cpansand/.cpan/build/2018032721/Reaction-0.002005-0/blib/lib/Reaction/UI/Controller/Root.pm line 38
	Reaction::UI::Controller::Root::end(ComponentUI::Controller::Root=HASH(0x8d26d18), ComponentUI=HASH(0x8ce9e00)) called at /opt/perl-5.24.4-RC1/lib/site_perl/5.24.4/Catalyst/Action.pm line 358
	Catalyst::Action::execute(Catalyst::Action=HASH(0x8a7d6d8), ComponentUI::Controller::Root=HASH(0x8d26d18), ComponentUI=HASH(0x8ce9e00)) called at /opt/perl-5.24.4-RC1/lib/site_perl/5.24.4/Catalyst.pm line 2049
	eval {...} called at /opt/perl-5.24.4-RC1/lib/site_perl/5.24.4/Catalyst.pm line 2049
	Catalyst::execute(ComponentUI=HASH(0x8ce9e00), "ComponentUI::Controller::Root", Catalyst::Action=HASH(0x8a7d6d8)) called at /opt/perl-5.24.4-RC1/lib/site_perl/5.24.4/Catalyst/Action.pm line 353
	Catalyst::Action::dispatch(Catalyst::Action=HASH(0x8a7d6d8), ComponentUI=HASH(0x8ce9e00)) called at /opt/perl-5.24.4-RC1/lib/site_perl/5.24.4/Catalyst/Controller.pm line 188
	Catalyst::Controller::_END(ComponentUI::Controller::TestModel::Baz=HASH(0x8cecae8), ComponentUI=HASH(0x8ce9e00)) called at /opt/perl-5.24.4-RC1/lib/site_perl/5.24.4/Catalyst/Action.pm line 358
	Catalyst::Action::execute(Catalyst::Action=HASH(0x8b16cb8), ComponentUI::Controller::TestModel::Baz=HASH(0x8cecae8), ComponentUI=HASH(0x8ce9e00)) called at /opt/perl-5.24.4-RC1/lib/site_perl/5.24.4/Catalyst.pm line 2049
	eval {...} called at /opt/perl-5.24.4-RC1/lib/site_perl/5.24.4/Catalyst.pm line 2049
	Catalyst::execute(ComponentUI=HASH(0x8ce9e00), "ComponentUI::Controller::TestModel::Baz", Catalyst::Action=HASH(0x8b16cb8)) called at /opt/perl-5.24.4-RC1/lib/site_perl/5.24.4/Catalyst/Action.pm line 353
	Catalyst::Action::dispatch(Catalyst::Action=HASH(0x8b16cb8), ComponentUI=HASH(0x8ce9e00)) called at /opt/perl-5.24.4-RC1/lib/site_perl/5.24.4/Catalyst/Dispatcher.pm line 262
	Catalyst::Dispatcher::_do_forward(Catalyst::Dispatcher=HASH(0x3f97fb0), "forward", ComponentUI=HASH(0x8ce9e00), "_END") called at /opt/perl-5.24.4-RC1/lib/site_perl/5.24.4/Catalyst/Dispatcher.pm line 242
	Catalyst::Dispatcher::forward(Catalyst::Dispatcher=HASH(0x3f97fb0), ComponentUI=HASH(0x8ce9e00), "_END") called at /opt/perl-5.24.4-RC1/lib/site_perl/5.24.4/Catalyst.pm line 477
	Catalyst::forward(ComponentUI=HASH(0x8ce9e00), "_END") called at /opt/perl-5.24.4-RC1/lib/site_perl/5.24.4/Catalyst/Controller.pm line 137
	Catalyst::Controller::_DISPATCH(ComponentUI::Controller::TestModel::Baz=HASH(0x8cecae8), ComponentUI=HASH(0x8ce9e00)) called at /opt/perl-5.24.4-RC1/lib/site_perl/5.24.4/Catalyst/Action.pm line 358
	Catalyst::Action::execute(Catalyst::Action=HASH(0x8b1b8c8), ComponentUI::Controller::TestModel::Baz=HASH(0x8cecae8), ComponentUI=HASH(0x8ce9e00)) called at /opt/perl-5.24.4-RC1/lib/site_perl/5.24.4/Catalyst.pm line 2049
	eval {...} called at /opt/perl-5.24.4-RC1/lib/site_perl/5.24.4/Catalyst.pm line 2049
	Catalyst::execute(ComponentUI=HASH(0x8ce9e00), "ComponentUI::Controller::TestModel::Baz", Catalyst::Action=HASH(0x8b1b8c8)) called at /opt/perl-5.24.4-RC1/lib/site_perl/5.24.4/Catalyst/Action.pm line 353
	Catalyst::Action::dispatch(Catalyst::Action=HASH(0x8b1b8c8), ComponentUI=HASH(0x8ce9e00)) called at /opt/perl-5.24.4-RC1/lib/site_perl/5.24.4/Catalyst/Dispatcher.pm line 262
	Catalyst::Dispatcher::_do_forward(Catalyst::Dispatcher=HASH(0x3f97fb0), "forward", ComponentUI=HASH(0x8ce9e00), "/testmodel/baz/_DISPATCH") called at /opt/perl-5.24.4-RC1/lib/site_perl/5.24.4/Catalyst/Dispatcher.pm line 242
	Catalyst::Dispatcher::forward(Catalyst::Dispatcher=HASH(0x3f97fb0), ComponentUI=HASH(0x8ce9e00), "/testmodel/baz/_DISPATCH") called at /opt/perl-5.24.4-RC1/lib/site_perl/5.24.4/Catalyst.pm line 477
	Catalyst::forward(ComponentUI=HASH(0x8ce9e00), "/testmodel/baz/_DISPATCH") called at /opt/perl-5.24.4-RC1/lib/site_perl/5.24.4/Catalyst/Dispatcher.pm line 108
	Catalyst::Dispatcher::dispatch(Catalyst::Dispatcher=HASH(0x3f97fb0), ComponentUI=HASH(0x8ce9e00)) called at /opt/perl-5.24.4-RC1/lib/site_perl/5.24.4/Catalyst.pm line 1995
	Catalyst::dispatch(ComponentUI=HASH(0x8ce9e00)) called at /opt/perl-5.24.4-RC1/lib/site_perl/5.24.4/Catalyst/Plugin/Static/Simple.pm line 86
	Class::MOP::Class:::around(CODE(0x3c71c70), ComponentUI=HASH(0x8ce9e00)) called at /opt/perl-5.24.4-RC1/lib/site_perl/5.24.4/x86_64-linux/Class/MOP/Method/Wrapped.pm line 164
	ComponentUI::_wrapped_dispatch(ComponentUI=HASH(0x8ce9e00)) called at /opt/perl-5.24.4-RC1/lib/site_perl/5.24.4/x86_64-linux/Class/MOP/Method/Wrapped.pm line 95
	ComponentUI::dispatch(ComponentUI=HASH(0x8ce9e00)) called at /opt/perl-5.24.4-RC1/lib/site_perl/5.24.4/Catalyst.pm line 2390
	Catalyst::try {...} () called at /opt/perl-5.24.4-RC1/lib/site_perl/5.24.4/Try/Tiny.pm line 102
	eval {...} called at /opt/perl-5.24.4-RC1/lib/site_perl/5.24.4/Try/Tiny.pm line 93
	Try::Tiny::try(CODE(0x8ce9770), Try::Tiny::Catch=REF(0x8ce9578)) called at /opt/perl-5.24.4-RC1/lib/site_perl/5.24.4/Catalyst.pm line 2399
	Catalyst::handle_request("ComponentUI", "env", HASH(0x8cf72e8), "response_cb", CODE(0x8ce95d8)) called at /opt/perl-5.24.4-RC1/lib/site_perl/5.24.4/Catalyst/Engine.pm line 806
	Catalyst::Engine::__ANON__(CODE(0x8ce95d8)) called at /opt/perl-5.24.4-RC1/lib/site_perl/5.24.4/Plack/Middleware/HTTPExceptions.pm line 32
	Plack::Middleware::HTTPExceptions::try {...} () called at /opt/perl-5.24.4-RC1/lib/site_perl/5.24.4/Try/Tiny.pm line 102
	eval {...} called at /opt/perl-5.24.4-RC1/lib/site_perl/5.24.4/Try/Tiny.pm line 93
	Try::Tiny::try(CODE(0x8ce9410), Try::Tiny::Catch=REF(0x8cf7b40)) called at /opt/perl-5.24.4-RC1/lib/site_perl/5.24.4/Plack/Middleware/HTTPExceptions.pm line 41
	Plack::Middleware::HTTPExceptions::__ANON__(CODE(0x8cf7708)) called at /opt/perl-5.24.4-RC1/lib/site_perl/5.24.4/Plack/Util.pm line 339
	Plack::Util::__ANON__(CODE(0x8cf7240)) called at /opt/perl-5.24.4-RC1/lib/site_perl/5.24.4/Plack/Util.pm line 339
	Plack::Util::__ANON__(CODE(0x8cf7150)) called at /opt/perl-5.24.4-RC1/lib/site_perl/5.24.4/Plack/Util.pm line 339
	Plack::Util::__ANON__(CODE(0x8cf70d8)) called at /opt/perl-5.24.4-RC1/lib/site_perl/5.24.4/HTTP/Message/PSGI.pm line 100
	HTTP::Message::PSGI::res_from_psgi(CODE(0x8ce91b8)) called at /opt/perl-5.24.4-RC1/lib/site_perl/5.24.4/HTTP/Message/PSGI.pm line 156
	HTTP::Response::from_psgi("HTTP::Response", CODE(0x8ce91b8)) called at /opt/perl-5.24.4-RC1/lib/site_perl/5.24.4/Plack/Test/MockHTTP.pm line 24
	Plack::Test::MockHTTP::try {...} () called at /opt/perl-5.24.4-RC1/lib/site_perl/5.24.4/Try/Tiny.pm line 100
	eval {...} called at /opt/perl-5.24.4-RC1/lib/site_perl/5.24.4/Try/Tiny.pm line 93
	Try::Tiny::try(CODE(0x8cba478), Try::Tiny::Catch=REF(0x8a8db18)) called at /opt/perl-5.24.4-RC1/lib/site_perl/5.24.4/Plack/Test/MockHTTP.pm line 27
	Plack::Test::MockHTTP::request(Plack::Test::MockHTTP=HASH(0x8ce3568), HTTP::Request=HASH(0x8c9b6b8)) called at /opt/perl-5.24.4-RC1/lib/site_perl/5.24.4/Plack/Test.pm line 38
	Plack::Test::__ANON__(HTTP::Request=HASH(0x8c9b6b8)) called at /opt/perl-5.24.4-RC1/lib/site_perl/5.24.4/Catalyst/Test.pm line 290
	Catalyst::Test::__ANON__(CODE(0x8ce33d0)) called at /opt/perl-5.24.4-RC1/lib/site_perl/5.24.4/Plack/Test.pm line 38
	Plack::Test::test_psgi("app", CODE(0x8ce3028), "mangle_response", CODE(0x2f8afe8), "app", CODE(0x8ce3268), "client", CODE(0x8ce32e0)) called at /opt/perl-5.24.4-RC1/lib/site_perl/5.24.4/Catalyst/Test.pm line 293
	Catalyst::Test::_request(HASH(0x8cba6b8), HTTP::Request=HASH(0x8c9b6b8)) called at /opt/perl-5.24.4-RC1/lib/site_perl/5.24.4/Catalyst/Test.pm line 336
	Catalyst::Test::_local_request("ComponentUI", HTTP::Request=HASH(0x8c9b6b8)) called at /opt/perl-5.24.4-RC1/lib/site_perl/5.24.4/Test/WWW/Mechanize/Catalyst.pm line 176
	Test::WWW::Mechanize::Catalyst::_do_catalyst_request(Test::WWW::Mechanize::Catalyst=HASH(0x7b658a0), HTTP::Request=HASH(0x8c9b6b8)) called at /opt/perl-5.24.4-RC1/lib/site_perl/5.24.4/Test/WWW/Mechanize/Catalyst.pm line 78
	Test::WWW::Mechanize::Catalyst::_make_request(Test::WWW::Mechanize::Catalyst=HASH(0x7b658a0), HTTP::Request=HASH(0x8c9b6b8)) called at /opt/perl-5.24.4-RC1/lib/site_perl/5.24.4/WWW/Mechanize.pm line 1274
	WWW::Mechanize::request(Test::WWW::Mechanize::Catalyst=HASH(0x7b658a0), HTTP::Request=HASH(0x8c9b6b8)) called at /opt/perl-5.24.4-RC1/lib/site_perl/5.24.4/LWP/UserAgent.pm line 438
	LWP::UserAgent::get(Test::WWW::Mechanize::Catalyst=HASH(0x7b658a0), "http://localhost/testmodel/baz/id/1/update") called at /opt/perl-5.24.4-RC1/lib/site_perl/5.24.4/WWW/Mechanize.pm line 120
	WWW::Mechanize::get(Test::WWW::Mechanize::Catalyst=HASH(0x7b658a0), "http://localhost/testmodel/baz/id/1/update") called at /opt/perl-5.24.4-RC1/lib/site_perl/5.24.4/Test/WWW/Mechanize.pm line 160
	Test::WWW::Mechanize::get_ok(Test::WWW::Mechanize::Catalyst=HASH(0x7b658a0), "http://localhost/testmodel/baz/id/1/update") called at t/uncheck_bool_field.t line 9
Class::MOP::is_class_loaded is deprecated at /opt/perl-5.24.4-RC1/lib/site_perl/5.24.4/x86_64-linux/Class/MOP.pm line 87.
	Class::MOP::is_class_loaded("ComponentUI::UI::Widget::SiteLayout") called at /home/cpansand/.cpan/build/2018032721/Reaction-0.002005-0/blib/lib/Reaction/UI/Skin.pm line 178
	Reaction::UI::Skin::widget_class_for(Reaction::UI::Skin=HASH(0x4550da0), Reaction::UI::LayoutSet::TT=HASH(0x90d3480)) called at /home/cpansand/.cpan/build/2018032721/Reaction-0.002005-0/blib/lib/Reaction/UI/LayoutSet.pm line 29
	Reaction::UI::LayoutSet::BUILD(Reaction::UI::LayoutSet::TT=HASH(0x90d3480), HASH(0x90d3468)) called at constructor Reaction::UI::LayoutSet::TT::new (defined at /home/cpansand/.cpan/build/2018032721/Reaction-0.002005-0/blib/lib/Reaction/UI/LayoutSet/TT.pm line 43) line 80
	Reaction::UI::LayoutSet::TT::new("Reaction::UI::LayoutSet::TT", "name", "site_layout", "skin", Reaction::UI::Skin=HASH(0x4550da0), "tt_object", Template=HASH(0x785ea38), "source_file", ...) called at /home/cpansand/.cpan/build/2018032721/Reaction-0.002005-0/blib/lib/Reaction/UI/Skin.pm line 115
	Reaction::UI::Skin::_create_layout_set(Reaction::UI::Skin=HASH(0x4550da0), "site_layout", ARRAY(0x90d2dc0), Reaction::UI::Skin=HASH(0x4550da0)) called at /home/cpansand/.cpan/build/2018032721/Reaction-0.002005-0/blib/lib/Reaction/UI/Skin.pm line 110
	Reaction::UI::Skin::create_layout_set(Reaction::UI::Skin=HASH(0x4550da0), "site_layout") called at /home/cpansand/.cpan/build/2018032721/Reaction-0.002005-0/blib/lib/Reaction/UI/LayoutSet.pm line 83
	Reaction::UI::LayoutSet::_load_file(Reaction::UI::LayoutSet::TT=HASH(0x90c6eb8), Path::Class::File=HASH(0x90c5b20), HASH(0x90c6ee8)) called at /home/cpansand/.cpan/build/2018032721/Reaction-0.002005-0/blib/lib/Reaction/UI/LayoutSet.pm line 27
	Reaction::UI::LayoutSet::BUILD(Reaction::UI::LayoutSet::TT=HASH(0x90c6eb8), HASH(0x90c6ee8)) called at constructor Reaction::UI::LayoutSet::TT::new (defined at /home/cpansand/.cpan/build/2018032721/Reaction-0.002005-0/blib/lib/Reaction/UI/LayoutSet/TT.pm line 43) line 80
	Reaction::UI::LayoutSet::TT::new("Reaction::UI::LayoutSet::TT", "name", "site_layout", "skin", Reaction::UI::Skin=HASH(0x9058370), "next_skin", Reaction::UI::Skin=HASH(0x4550da0), "tt_object", ...) called at /home/cpansand/.cpan/build/2018032721/Reaction-0.002005-0/blib/lib/Reaction/UI/Skin.pm line 115
	Reaction::UI::Skin::_create_layout_set(Reaction::UI::Skin=HASH(0x9058370), "site_layout", ARRAY(0x90d0fe0), Reaction::UI::Skin=HASH(0x9058370)) called at /home/cpansand/.cpan/build/2018032721/Reaction-0.002005-0/blib/lib/Reaction/UI/Skin.pm line 110
	Reaction::UI::Skin::create_layout_set(Reaction::UI::Skin=HASH(0x9058370), "site_layout") called at /home/cpansand/.cpan/build/2018032721/Reaction-0.002005-0/blib/lib/Reaction/UI/LayoutSet.pm line 83
	Reaction::UI::LayoutSet::_load_file(Reaction::UI::LayoutSet::TT=HASH(0x9074120), Path::Class::File=HASH(0x907a4f8), HASH(0x1450a08)) called at /home/cpansand/.cpan/build/2018032721/Reaction-0.002005-0/blib/lib/Reaction/UI/LayoutSet.pm line 27
	Reaction::UI::LayoutSet::BUILD(Reaction::UI::LayoutSet::TT=HASH(0x9074120), HASH(0x1450a08)) called at constructor Reaction::UI::LayoutSet::TT::new (defined at /home/cpansand/.cpan/build/2018032721/Reaction-0.002005-0/blib/lib/Reaction/UI/LayoutSet/TT.pm line 43) line 80
	Reaction::UI::LayoutSet::TT::new("Reaction::UI::LayoutSet::TT", "name", "site_layout", "skin", Reaction::UI::Skin=HASH(0x90741c8), "next_skin", Reaction::UI::Skin=HASH(0x9058370), "tt_object", ...) called at /home/cpansand/.cpan/build/2018032721/Reaction-0.002005-0/blib/lib/Reaction/UI/Skin.pm line 115
	Reaction::UI::Skin::_create_layout_set(Reaction::UI::Skin=HASH(0x90741c8), "site_layout", ARRAY(0x9073dc0), Reaction::UI::Skin=HASH(0x90741c8)) called at /home/cpansand/.cpan/build/2018032721/Reaction-0.002005-0/blib/lib/Reaction/UI/Skin.pm line 110
	Reaction::UI::Skin::create_layout_set(Reaction::UI::Skin=HASH(0x90741c8), "site_layout") called at inline delegation in Reaction::UI::View for skin->create_layout_set (attribute declared in /home/cpansand/.cpan/build/2018032721/Reaction-0.002005-0/blib/lib/Reaction/UI/View.pm at line 22) line 18
	Reaction::UI::View::create_layout_set(ComponentUI::View::Site=HASH(0x52dee58), "site_layout") called at /home/cpansand/.cpan/build/2018032721/Reaction-0.002005-0/blib/lib/Reaction/UI/View.pm line 99
	Reaction::UI::View::layout_set_for(ComponentUI::View::Site=HASH(0x52dee58), Reaction::UI::ViewPort::SiteLayout=HASH(0x8d273d8)) called at /home/cpansand/.cpan/build/2018032721/Reaction-0.002005-0/blib/lib/Reaction/UI/View.pm line 78
	Reaction::UI::View::render_viewport_args(ComponentUI::View::Site=HASH(0x52dee58), Reaction::UI::ViewPort::SiteLayout=HASH(0x8d273d8)) called at /home/cpansand/.cpan/build/2018032721/Reaction-0.002005-0/blib/lib/Reaction/UI/View.pm line 61
	Reaction::UI::View::render_window(ComponentUI::View::Site=HASH(0x52dee58), Reaction::UI::Window=HASH(0x8d26bf8)) called at /home/cpansand/.cpan/build/2018032721/Reaction-0.002005-0/blib/lib/Reaction/UI/Window.pm line 74
	Reaction::UI::Window::flush_view(Reaction::UI::Window=HASH(0x8d26bf8)) called at /home/cpansand/.cpan/build/2018032721/Reaction-0.002005-0/blib/lib/Reaction/UI/Window.pm line 36
	Reaction::UI::Window::flush(Reaction::UI::Window=HASH(0x8d26bf8)) called at /home/cpansand/.cpan/build/2018032721/Reaction-0.002005-0/blib/lib/Reaction/UI/Controller/Root.pm line 38
	Reaction::UI::Controller::Root::end(ComponentUI::Controller::Root=HASH(0x8d26d18), ComponentUI=HASH(0x8ce9e00)) called at /opt/perl-5.24.4-RC1/lib/site_perl/5.24.4/Catalyst/Action.pm line 358
	Catalyst::Action::execute(Catalyst::Action=HASH(0x8a7d6d8), ComponentUI::Controller::Root=HASH(0x8d26d18), ComponentUI=HASH(0x8ce9e00)) called at /opt/perl-5.24.4-RC1/lib/site_perl/5.24.4/Catalyst.pm line 2049
	eval {...} called at /opt/perl-5.24.4-RC1/lib/site_perl/5.24.4/Catalyst.pm line 2049
	Catalyst::execute(ComponentUI=HASH(0x8ce9e00), "ComponentUI::Controller::Root", Catalyst::Action=HASH(0x8a7d6d8)) called at /opt/perl-5.24.4-RC1/lib/site_perl/5.24.4/Catalyst/Action.pm line 353
	Catalyst::Action::dispatch(Catalyst::Action=HASH(0x8a7d6d8), ComponentUI=HASH(0x8ce9e00)) called at /opt/perl-5.24.4-RC1/lib/site_perl/5.24.4/Catalyst/Controller.pm line 188
	Catalyst::Controller::_END(ComponentUI::Controller::TestModel::Baz=HASH(0x8cecae8), ComponentUI=HASH(0x8ce9e00)) called at /opt/perl-5.24.4-RC1/lib/site_perl/5.24.4/Catalyst/Action.pm line 358
	Catalyst::Action::execute(Catalyst::Action=HASH(0x8b16cb8), ComponentUI::Controller::TestModel::Baz=HASH(0x8cecae8), ComponentUI=HASH(0x8ce9e00)) called at /opt/perl-5.24.4-RC1/lib/site_perl/5.24.4/Catalyst.pm line 2049
	eval {...} called at /opt/perl-5.24.4-RC1/lib/site_perl/5.24.4/Catalyst.pm line 2049
	Catalyst::execute(ComponentUI=HASH(0x8ce9e00), "ComponentUI::Controller::TestModel::Baz", Catalyst::Action=HASH(0x8b16cb8)) called at /opt/perl-5.24.4-RC1/lib/site_perl/5.24.4/Catalyst/Action.pm line 353
	Catalyst::Action::dispatch(Catalyst::Action=HASH(0x8b16cb8), ComponentUI=HASH(0x8ce9e00)) called at /opt/perl-5.24.4-RC1/lib/site_perl/5.24.4/Catalyst/Dispatcher.pm line 262
	Catalyst::Dispatcher::_do_forward(Catalyst::Dispatcher=HASH(0x3f97fb0), "forward", ComponentUI=HASH(0x8ce9e00), "_END") called at /opt/perl-5.24.4-RC1/lib/site_perl/5.24.4/Catalyst/Dispatcher.pm line 242
	Catalyst::Dispatcher::forward(Catalyst::Dispatcher=HASH(0x3f97fb0), ComponentUI=HASH(0x8ce9e00), "_END") called at /opt/perl-5.24.4-RC1/lib/site_perl/5.24.4/Catalyst.pm line 477
	Catalyst::forward(ComponentUI=HASH(0x8ce9e00), "_END") called at /opt/perl-5.24.4-RC1/lib/site_perl/5.24.4/Catalyst/Controller.pm line 137
	Catalyst::Controller::_DISPATCH(ComponentUI::Controller::TestModel::Baz=HASH(0x8cecae8), ComponentUI=HASH(0x8ce9e00)) called at /opt/perl-5.24.4-RC1/lib/site_perl/5.24.4/Catalyst/Action.pm line 358
	Catalyst::Action::execute(Catalyst::Action=HASH(0x8b1b8c8), ComponentUI::Controller::TestModel::Baz=HASH(0x8cecae8), ComponentUI=HASH(0x8ce9e00)) called at /opt/perl-5.24.4-RC1/lib/site_perl/5.24.4/Catalyst.pm line 2049
	eval {...} called at /opt/perl-5.24.4-RC1/lib/site_perl/5.24.4/Catalyst.pm line 2049
	Catalyst::execute(ComponentUI=HASH(0x8ce9e00), "ComponentUI::Controller::TestModel::Baz", Catalyst::Action=HASH(0x8b1b8c8)) called at /opt/perl-5.24.4-RC1/lib/site_perl/5.24.4/Catalyst/Action.pm line 353
	Catalyst::Action::dispatch(Catalyst::Action=HASH(0x8b1b8c8), ComponentUI=HASH(0x8ce9e00)) called at /opt/perl-5.24.4-RC1/lib/site_perl/5.24.4/Catalyst/Dispatcher.pm line 262
	Catalyst::Dispatcher::_do_forward(Catalyst::Dispatcher=HASH(0x3f97fb0), "forward", ComponentUI=HASH(0x8ce9e00), "/testmodel/baz/_DISPATCH") called at /opt/perl-5.24.4-RC1/lib/site_perl/5.24.4/Catalyst/Dispatcher.pm line 242
	Catalyst::Dispatcher::forward(Catalyst::Dispatcher=HASH(0x3f97fb0), ComponentUI=HASH(0x8ce9e00), "/testmodel/baz/_DISPATCH") called at /opt/perl-5.24.4-RC1/lib/site_perl/5.24.4/Catalyst.pm line 477
	Catalyst::forward(ComponentUI=HASH(0x8ce9e00), "/testmodel/baz/_DISPATCH") called at /opt/perl-5.24.4-RC1/lib/site_perl/5.24.4/Catalyst/Dispatcher.pm line 108
	Catalyst::Dispatcher::dispatch(Catalyst::Dispatcher=HASH(0x3f97fb0), ComponentUI=HASH(0x8ce9e00)) called at /opt/perl-5.24.4-RC1/lib/site_perl/5.24.4/Catalyst.pm line 1995
	Catalyst::dispatch(ComponentUI=HASH(0x8ce9e00)) called at /opt/perl-5.24.4-RC1/lib/site_perl/5.24.4/Catalyst/Plugin/Static/Simple.pm line 86
	Class::MOP::Class:::around(CODE(0x3c71c70), ComponentUI=HASH(0x8ce9e00)) called at /opt/perl-5.24.4-RC1/lib/site_perl/5.24.4/x86_64-linux/Class/MOP/Method/Wrapped.pm line 164
	ComponentUI::_wrapped_dispatch(ComponentUI=HASH(0x8ce9e00)) called at /opt/perl-5.24.4-RC1/lib/site_perl/5.24.4/x86_64-linux/Class/MOP/Method/Wrapped.pm line 95
	ComponentUI::dispatch(ComponentUI=HASH(0x8ce9e00)) called at /opt/perl-5.24.4-RC1/lib/site_perl/5.24.4/Catalyst.pm line 2390
	Catalyst::try {...} () called at /opt/perl-5.24.4-RC1/lib/site_perl/5.24.4/Try/Tiny.pm line 102
	eval {...} called at /opt/perl-5.24.4-RC1/lib/site_perl/5.24.4/Try/Tiny.pm line 93
	Try::Tiny::try(CODE(0x8ce9770), Try::Tiny::Catch=REF(0x8ce9578)) called at /opt/perl-5.24.4-RC1/lib/site_perl/5.24.4/Catalyst.pm line 2399
	Catalyst::handle_request("ComponentUI", "env", HASH(0x8cf72e8), "response_cb", CODE(0x8ce95d8)) called at /opt/perl-5.24.4-RC1/lib/site_perl/5.24.4/Catalyst/Engine.pm line 806
	Catalyst::Engine::__ANON__(CODE(0x8ce95d8)) called at /opt/perl-5.24.4-RC1/lib/site_perl/5.24.4/Plack/Middleware/HTTPExceptions.pm line 32
	Plack::Middleware::HTTPExceptions::try {...} () called at /opt/perl-5.24.4-RC1/lib/site_perl/5.24.4/Try/Tiny.pm line 102
	eval {...} called at /opt/perl-5.24.4-RC1/lib/site_perl/5.24.4/Try/Tiny.pm line 93
	Try::Tiny::try(CODE(0x8ce9410), Try::Tiny::Catch=REF(0x8cf7b40)) called at /opt/perl-5.24.4-RC1/lib/site_perl/5.24.4/Plack/Middleware/HTTPExceptions.pm line 41
	Plack::Middleware::HTTPExceptions::__ANON__(CODE(0x8cf7708)) called at /opt/perl-5.24.4-RC1/lib/site_perl/5.24.4/Plack/Util.pm line 339
	Plack::Util::__ANON__(CODE(0x8cf7240)) called at /opt/perl-5.24.4-RC1/lib/site_perl/5.24.4/Plack/Util.pm line 339
	Plack::Util::__ANON__(CODE(0x8cf7150)) called at /opt/perl-5.24.4-RC1/lib/site_perl/5.24.4/Plack/Util.pm line 339
	Plack::Util::__ANON__(CODE(0x8cf70d8)) called at /opt/perl-5.24.4-RC1/lib/site_perl/5.24.4/HTTP/Message/PSGI.pm line 100
	HTTP::Message::PSGI::res_from_psgi(CODE(0x8ce91b8)) called at /opt/perl-5.24.4-RC1/lib/site_perl/5.24.4/HTTP/Message/PSGI.pm line 156
	HTTP::Response::from_psgi("HTTP::Response", CODE(0x8ce91b8)) called at /opt/perl-5.24.4-RC1/lib/site_perl/5.24.4/Plack/Test/MockHTTP.pm line 24
	Plack::Test::MockHTTP::try {...} () called at /opt/perl-5.24.4-RC1/lib/site_perl/5.24.4/Try/Tiny.pm line 100
	eval {...} called at /opt/perl-5.24.4-RC1/lib/site_perl/5.24.4/Try/Tiny.pm line 93
	Try::Tiny::try(CODE(0x8cba478), Try::Tiny::Catch=REF(0x8a8db18)) called at /opt/perl-5.24.4-RC1/lib/site_perl/5.24.4/Plack/Test/MockHTTP.pm line 27
	Plack::Test::MockHTTP::request(Plack::Test::MockHTTP=HASH(0x8ce3568), HTTP::Request=HASH(0x8c9b6b8)) called at /opt/perl-5.24.4-RC1/lib/site_perl/5.24.4/Plack/Test.pm line 38
	Plack::Test::__ANON__(HTTP::Request=HASH(0x8c9b6b8)) called at /opt/perl-5.24.4-RC1/lib/site_perl/5.24.4/Catalyst/Test.pm line 290
	Catalyst::Test::__ANON__(CODE(0x8ce33d0)) called at /opt/perl-5.24.4-RC1/lib/site_perl/5.24.4/Plack/Test.pm line 38
	Plack::Test::test_psgi("app", CODE(0x8ce3028), "mangle_response", CODE(0x2f8afe8), "app", CODE(0x8ce3268), "client", CODE(0x8ce32e0)) called at /opt/perl-5.24.4-RC1/lib/site_perl/5.24.4/Catalyst/Test.pm line 293
	Catalyst::Test::_request(HASH(0x8cba6b8), HTTP::Request=HASH(0x8c9b6b8)) called at /opt/perl-5.24.4-RC1/lib/site_perl/5.24.4/Catalyst/Test.pm line 336
	Catalyst::Test::_local_request("ComponentUI", HTTP::Request=HASH(0x8c9b6b8)) called at /opt/perl-5.24.4-RC1/lib/site_perl/5.24.4/Test/WWW/Mechanize/Catalyst.pm line 176
	Test::WWW::Mechanize::Catalyst::_do_catalyst_request(Test::WWW::Mechanize::Catalyst=HASH(0x7b658a0), HTTP::Request=HASH(0x8c9b6b8)) called at /opt/perl-5.24.4-RC1/lib/site_perl/5.24.4/Test/WWW/Mechanize/Catalyst.pm line 78
	Test::WWW::Mechanize::Catalyst::_make_request(Test::WWW::Mechanize::Catalyst=HASH(0x7b658a0), HTTP::Request=HASH(0x8c9b6b8)) called at /opt/perl-5.24.4-RC1/lib/site_perl/5.24.4/WWW/Mechanize.pm line 1274
	WWW::Mechanize::request(Test::WWW::Mechanize::Catalyst=HASH(0x7b658a0), HTTP::Request=HASH(0x8c9b6b8)) called at /opt/perl-5.24.4-RC1/lib/site_perl/5.24.4/LWP/UserAgent.pm line 438
	LWP::UserAgent::get(Test::WWW::Mechanize::Catalyst=HASH(0x7b658a0), "http://localhost/testmodel/baz/id/1/update") called at /opt/perl-5.24.4-RC1/lib/site_perl/5.24.4/WWW/Mechanize.pm line 120
	WWW::Mechanize::get(Test::WWW::Mechanize::Catalyst=HASH(0x7b658a0), "http://localhost/testmodel/baz/id/1/update") called at /opt/perl-5.24.4-RC1/lib/site_perl/5.24.4/Test/WWW/Mechanize.pm line 160
	Test::WWW::Mechanize::get_ok(Test::WWW::Mechanize::Catalyst=HASH(0x7b658a0), "http://localhost/testmodel/baz/id/1/update") called at t/uncheck_bool_field.t line 9
Class::MOP::load_class is deprecated at /opt/perl-5.24.4-RC1/lib/site_perl/5.24.4/x86_64-linux/Class/MOP.pm line 69.
	Class::MOP::load_class("Reaction::UI::Widget::SiteLayout") called at /home/cpansand/.cpan/build/2018032721/Reaction-0.002005-0/blib/lib/Reaction/UI/Skin.pm line 181
	eval {...} called at /home/cpansand/.cpan/build/2018032721/Reaction-0.002005-0/blib/lib/Reaction/UI/Skin.pm line 181
	Reaction::UI::Skin::widget_class_for(Reaction::UI::Skin=HASH(0x4550da0), Reaction::UI::LayoutSet::TT=HASH(0x90d3480)) called at /home/cpansand/.cpan/build/2018032721/Reaction-0.002005-0/blib/lib/Reaction/UI/LayoutSet.pm line 29
	Reaction::UI::LayoutSet::BUILD(Reaction::UI::LayoutSet::TT=HASH(0x90d3480), HASH(0x90d3468)) called at constructor Reaction::UI::LayoutSet::TT::new (defined at /home/cpansand/.cpan/build/2018032721/Reaction-0.002005-0/blib/lib/Reaction/UI/LayoutSet/TT.pm line 43) line 80
	Reaction::UI::LayoutSet::TT::new("Reaction::UI::LayoutSet::TT", "name", "site_layout", "skin", Reaction::UI::Skin=HASH(0x4550da0), "tt_object", Template=HASH(0x785ea38), "source_file", ...) called at /home/cpansand/.cpan/build/2018032721/Reaction-0.002005-0/blib/lib/Reaction/UI/Skin.pm line 115
	Reaction::UI::Skin::_create_layout_set(Reaction::UI::Skin=HASH(0x4550da0), "site_layout", ARRAY(0x90d2dc0), Reaction::UI::Skin=HASH(0x4550da0)) called at /home/cpansand/.cpan/build/2018032721/Reaction-0.002005-0/blib/lib/Reaction/UI/Skin.pm line 110
	Reaction::UI::Skin::create_layout_set(Reaction::UI::Skin=HASH(0x4550da0), "site_layout") called at /home/cpansand/.cpan/build/2018032721/Reaction-0.002005-0/blib/lib/Reaction/UI/LayoutSet.pm line 83
	Reaction::UI::LayoutSet::_load_file(Reaction::UI::LayoutSet::TT=HASH(0x90c6eb8), Path::Class::File=HASH(0x90c5b20), HASH(0x90c6ee8)) called at /home/cpansand/.cpan/build/2018032721/Reaction-0.002005-0/blib/lib/Reaction/UI/LayoutSet.pm line 27
	Reaction::UI::LayoutSet::BUILD(Reaction::UI::LayoutSet::TT=HASH(0x90c6eb8), HASH(0x90c6ee8)) called at constructor Reaction::UI::LayoutSet::TT::new (defined at /home/cpansand/.cpan/build/2018032721/Reaction-0.002005-0/blib/lib/Reaction/UI/LayoutSet/TT.pm line 43) line 80
	Reaction::UI::LayoutSet::TT::new("Reaction::UI::LayoutSet::TT", "name", "site_layout", "skin", Reaction::UI::Skin=HASH(0x9058370), "next_skin", Reaction::UI::Skin=HASH(0x4550da0), "tt_object", ...) called at /home/cpansand/.cpan/build/2018032721/Reaction-0.002005-0/blib/lib/Reaction/UI/Skin.pm line 115
	Reaction::UI::Skin::_create_layout_set(Reaction::UI::Skin=HASH(0x9058370), "site_layout", ARRAY(0x90d0fe0), Reaction::UI::Skin=HASH(0x9058370)) called at /home/cpansand/.cpan/build/2018032721/Reaction-0.002005-0/blib/lib/Reaction/UI/Skin.pm line 110
	Reaction::UI::Skin::create_layout_set(Reaction::UI::Skin=HASH(0x9058370), "site_layout") called at /home/cpansand/.cpan/build/2018032721/Reaction-0.002005-0/blib/lib/Reaction/UI/LayoutSet.pm line 83
	Reaction::UI::LayoutSet::_load_file(Reaction::UI::LayoutSet::TT=HASH(0x9074120), Path::Class::File=HASH(0x907a4f8), HASH(0x1450a08)) called at /home/cpansand/.cpan/build/2018032721/Reaction-0.002005-0/blib/lib/Reaction/UI/LayoutSet.pm line 27
	Reaction::UI::LayoutSet::BUILD(Reaction::UI::LayoutSet::TT=HASH(0x9074120), HASH(0x1450a08)) called at constructor Reaction::UI::LayoutSet::TT::new (defined at /home/cpansand/.cpan/build/2018032721/Reaction-0.002005-0/blib/lib/Reaction/UI/LayoutSet/TT.pm line 43) line 80
	Reaction::UI::LayoutSet::TT::new("Reaction::UI::LayoutSet::TT", "name", "site_layout", "skin", Reaction::UI::Skin=HASH(0x90741c8), "next_skin", Reaction::UI::Skin=HASH(0x9058370), "tt_object", ...) called at /home/cpansand/.cpan/build/2018032721/Reaction-0.002005-0/blib/lib/Reaction/UI/Skin.pm line 115
	Reaction::UI::Skin::_create_layout_set(Reaction::UI::Skin=HASH(0x90741c8), "site_layout", ARRAY(0x9073dc0), Reaction::UI::Skin=HASH(0x90741c8)) called at /home/cpansand/.cpan/build/2018032721/Reaction-0.002005-0/blib/lib/Reaction/UI/Skin.pm line 110
	Reaction::UI::Skin::create_layout_set(Reaction::UI::Skin=HASH(0x90741c8), "site_layout") called at inline delegation in Reaction::UI::View for skin->create_layout_set (attribute declared in /home/cpansand/.cpan/build/2018032721/Reaction-0.002005-0/blib/lib/Reaction/UI/View.pm at line 22) line 18
	Reaction::UI::View::create_layout_set(ComponentUI::View::Site=HASH(0x52dee58), "site_layout") called at /home/cpansand/.cpan/build/2018032721/Reaction-0.002005-0/blib/lib/Reaction/UI/View.pm line 99
	Reaction::UI::View::layout_set_for(ComponentUI::View::Site=HASH(0x52dee58), Reaction::UI::ViewPort::SiteLayout=HASH(0x8d273d8)) called at /home/cpansand/.cpan/build/2018032721/Reaction-0.002005-0/blib/lib/Reaction/UI/View.pm line 78
	Reaction::UI::View::render_viewport_args(ComponentUI::View::Site=HASH(0x52dee58), Reaction::UI::ViewPort::SiteLayout=HASH(0x8d273d8)) called at /home/cpansand/.cpan/build/2018032721/Reaction-0.002005-0/blib/lib/Reaction/UI/View.pm line 61
	Reaction::UI::View::render_window(ComponentUI::View::Site=HASH(0x52dee58), Reaction::UI::Window=HASH(0x8d26bf8)) called at /home/cpansand/.cpan/build/2018032721/Reaction-0.002005-0/blib/lib/Reaction/UI/Window.pm line 74
	Reaction::UI::Window::flush_view(Reaction::UI::Window=HASH(0x8d26bf8)) called at /home/cpansand/.cpan/build/2018032721/Reaction-0.002005-0/blib/lib/Reaction/UI/Window.pm line 36
	Reaction::UI::Window::flush(Reaction::UI::Window=HASH(0x8d26bf8)) called at /home/cpansand/.cpan/build/2018032721/Reaction-0.002005-0/blib/lib/Reaction/UI/Controller/Root.pm line 38
	Reaction::UI::Controller::Root::end(ComponentUI::Controller::Root=HASH(0x8d26d18), ComponentUI=HASH(0x8ce9e00)) called at /opt/perl-5.24.4-RC1/lib/site_perl/5.24.4/Catalyst/Action.pm line 358
	Catalyst::Action::execute(Catalyst::Action=HASH(0x8a7d6d8), ComponentUI::Controller::Root=HASH(0x8d26d18), ComponentUI=HASH(0x8ce9e00)) called at /opt/perl-5.24.4-RC1/lib/site_perl/5.24.4/Catalyst.pm line 2049
	eval {...} called at /opt/perl-5.24.4-RC1/lib/site_perl/5.24.4/Catalyst.pm line 2049
	Catalyst::execute(ComponentUI=HASH(0x8ce9e00), "ComponentUI::Controller::Root", Catalyst::Action=HASH(0x8a7d6d8)) called at /opt/perl-5.24.4-RC1/lib/site_perl/5.24.4/Catalyst/Action.pm line 353
	Catalyst::Action::dispatch(Catalyst::Action=HASH(0x8a7d6d8), ComponentUI=HASH(0x8ce9e00)) called at /opt/perl-5.24.4-RC1/lib/site_perl/5.24.4/Catalyst/Controller.pm line 188
	Catalyst::Controller::_END(ComponentUI::Controller::TestModel::Baz=HASH(0x8cecae8), ComponentUI=HASH(0x8ce9e00)) called at /opt/perl-5.24.4-RC1/lib/site_perl/5.24.4/Catalyst/Action.pm line 358
	Catalyst::Action::execute(Catalyst::Action=HASH(0x8b16cb8), ComponentUI::Controller::TestModel::Baz=HASH(0x8cecae8), ComponentUI=HASH(0x8ce9e00)) called at /opt/perl-5.24.4-RC1/lib/site_perl/5.24.4/Catalyst.pm line 2049
	eval {...} called at /opt/perl-5.24.4-RC1/lib/site_perl/5.24.4/Catalyst.pm line 2049
	Catalyst::execute(ComponentUI=HASH(0x8ce9e00), "ComponentUI::Controller::TestModel::Baz", Catalyst::Action=HASH(0x8b16cb8)) called at /opt/perl-5.24.4-RC1/lib/site_perl/5.24.4/Catalyst/Action.pm line 353
	Catalyst::Action::dispatch(Catalyst::Action=HASH(0x8b16cb8), ComponentUI=HASH(0x8ce9e00)) called at /opt/perl-5.24.4-RC1/lib/site_perl/5.24.4/Catalyst/Dispatcher.pm line 262
	Catalyst::Dispatcher::_do_forward(Catalyst::Dispatcher=HASH(0x3f97fb0), "forward", ComponentUI=HASH(0x8ce9e00), "_END") called at /opt/perl-5.24.4-RC1/lib/site_perl/5.24.4/Catalyst/Dispatcher.pm line 242
	Catalyst::Dispatcher::forward(Catalyst::Dispatcher=HASH(0x3f97fb0), ComponentUI=HASH(0x8ce9e00), "_END") called at /opt/perl-5.24.4-RC1/lib/site_perl/5.24.4/Catalyst.pm line 477
	Catalyst::forward(ComponentUI=HASH(0x8ce9e00), "_END") called at /opt/perl-5.24.4-RC1/lib/site_perl/5.24.4/Catalyst/Controller.pm line 137
	Catalyst::Controller::_DISPATCH(ComponentUI::Controller::TestModel::Baz=HASH(0x8cecae8), ComponentUI=HASH(0x8ce9e00)) called at /opt/perl-5.24.4-RC1/lib/site_perl/5.24.4/Catalyst/Action.pm line 358
	Catalyst::Action::execute(Catalyst::Action=HASH(0x8b1b8c8), ComponentUI::Controller::TestModel::Baz=HASH(0x8cecae8), ComponentUI=HASH(0x8ce9e00)) called at /opt/perl-5.24.4-RC1/lib/site_perl/5.24.4/Catalyst.pm line 2049
	eval {...} called at /opt/perl-5.24.4-RC1/lib/site_perl/5.24.4/Catalyst.pm line 2049
	Catalyst::execute(ComponentUI=HASH(0x8ce9e00), "ComponentUI::Controller::TestModel::Baz", Catalyst::Action=HASH(0x8b1b8c8)) called at /opt/perl-5.24.4-RC1/lib/site_perl/5.24.4/Catalyst/Action.pm line 353
	Catalyst::Action::dispatch(Catalyst::Action=HASH(0x8b1b8c8), ComponentUI=HASH(0x8ce9e00)) called at /opt/perl-5.24.4-RC1/lib/site_perl/5.24.4/Catalyst/Dispatcher.pm line 262
	Catalyst::Dispatcher::_do_forward(Catalyst::Dispatcher=HASH(0x3f97fb0), "forward", ComponentUI=HASH(0x8ce9e00), "/testmodel/baz/_DISPATCH") called at /opt/perl-5.24.4-RC1/lib/site_perl/5.24.4/Catalyst/Dispatcher.pm line 242
	Catalyst::Dispatcher::forward(Catalyst::Dispatcher=HASH(0x3f97fb0), ComponentUI=HASH(0x8ce9e00), "/testmodel/baz/_DISPATCH") called at /opt/perl-5.24.4-RC1/lib/site_perl/5.24.4/Catalyst.pm line 477
	Catalyst::forward(ComponentUI=HASH(0x8ce9e00), "/testmodel/baz/_DISPATCH") called at /opt/perl-5.24.4-RC1/lib/site_perl/5.24.4/Catalyst/Dispatcher.pm line 108
	Catalyst::Dispatcher::dispatch(Catalyst::Dispatcher=HASH(0x3f97fb0), ComponentUI=HASH(0x8ce9e00)) called at /opt/perl-5.24.4-RC1/lib/site_perl/5.24.4/Catalyst.pm line 1995
	Catalyst::dispatch(ComponentUI=HASH(0x8ce9e00)) called at /opt/perl-5.24.4-RC1/lib/site_perl/5.24.4/Catalyst/Plugin/Static/Simple.pm line 86
	Class::MOP::Class:::around(CODE(0x3c71c70), ComponentUI=HASH(0x8ce9e00)) called at /opt/perl-5.24.4-RC1/lib/site_perl/5.24.4/x86_64-linux/Class/MOP/Method/Wrapped.pm line 164
	ComponentUI::_wrapped_dispatch(ComponentUI=HASH(0x8ce9e00)) called at /opt/perl-5.24.4-RC1/lib/site_perl/5.24.4/x86_64-linux/Class/MOP/Method/Wrapped.pm line 95
	ComponentUI::dispatch(ComponentUI=HASH(0x8ce9e00)) called at /opt/perl-5.24.4-RC1/lib/site_perl/5.24.4/Catalyst.pm line 2390
	Catalyst::try {...} () called at /opt/perl-5.24.4-RC1/lib/site_perl/5.24.4/Try/Tiny.pm line 102
	eval {...} called at /opt/perl-5.24.4-RC1/lib/site_perl/5.24.4/Try/Tiny.pm line 93
	Try::Tiny::try(CODE(0x8ce9770), Try::Tiny::Catch=REF(0x8ce9578)) called at /opt/perl-5.24.4-RC1/lib/site_perl/5.24.4/Catalyst.pm line 2399
	Catalyst::handle_request("ComponentUI", "env", HASH(0x8cf72e8), "response_cb", CODE(0x8ce95d8)) called at /opt/perl-5.24.4-RC1/lib/site_perl/5.24.4/Catalyst/Engine.pm line 806
	Catalyst::Engine::__ANON__(CODE(0x8ce95d8)) called at /opt/perl-5.24.4-RC1/lib/site_perl/5.24.4/Plack/Middleware/HTTPExceptions.pm line 32
	Plack::Middleware::HTTPExceptions::try {...} () called at /opt/perl-5.24.4-RC1/lib/site_perl/5.24.4/Try/Tiny.pm line 102
	eval {...} called at /opt/perl-5.24.4-RC1/lib/site_perl/5.24.4/Try/Tiny.pm line 93
	Try::Tiny::try(CODE(0x8ce9410), Try::Tiny::Catch=REF(0x8cf7b40)) called at /opt/perl-5.24.4-RC1/lib/site_perl/5.24.4/Plack/Middleware/HTTPExceptions.pm line 41
	Plack::Middleware::HTTPExceptions::__ANON__(CODE(0x8cf7708)) called at /opt/perl-5.24.4-RC1/lib/site_perl/5.24.4/Plack/Util.pm line 339
	Plack::Util::__ANON__(CODE(0x8cf7240)) called at /opt/perl-5.24.4-RC1/lib/site_perl/5.24.4/Plack/Util.pm line 339
	Plack::Util::__ANON__(CODE(0x8cf7150)) called at /opt/perl-5.24.4-RC1/lib/site_perl/5.24.4/Plack/Util.pm line 339
	Plack::Util::__ANON__(CODE(0x8cf70d8)) called at /opt/perl-5.24.4-RC1/lib/site_perl/5.24.4/HTTP/Message/PSGI.pm line 100
	HTTP::Message::PSGI::res_from_psgi(CODE(0x8ce91b8)) called at /opt/perl-5.24.4-RC1/lib/site_perl/5.24.4/HTTP/Message/PSGI.pm line 156
	HTTP::Response::from_psgi("HTTP::Response", CODE(0x8ce91b8)) called at /opt/perl-5.24.4-RC1/lib/site_perl/5.24.4/Plack/Test/MockHTTP.pm line 24
	Plack::Test::MockHTTP::try {...} () called at /opt/perl-5.24.4-RC1/lib/site_perl/5.24.4/Try/Tiny.pm line 100
	eval {...} called at /opt/perl-5.24.4-RC1/lib/site_perl/5.24.4/Try/Tiny.pm line 93
	Try::Tiny::try(CODE(0x8cba478), Try::Tiny::Catch=REF(0x8a8db18)) called at /opt/perl-5.24.4-RC1/lib/site_perl/5.24.4/Plack/Test/MockHTTP.pm line 27
	Plack::Test::MockHTTP::request(Plack::Test::MockHTTP=HASH(0x8ce3568), HTTP::Request=HASH(0x8c9b6b8)) called at /opt/perl-5.24.4-RC1/lib/site_perl/5.24.4/Plack/Test.pm line 38
	Plack::Test::__ANON__(HTTP::Request=HASH(0x8c9b6b8)) called at /opt/perl-5.24.4-RC1/lib/site_perl/5.24.4/Catalyst/Test.pm line 290
	Catalyst::Test::__ANON__(CODE(0x8ce33d0)) called at /opt/perl-5.24.4-RC1/lib/site_perl/5.24.4/Plack/Test.pm line 38
	Plack::Test::test_psgi("app", CODE(0x8ce3028), "mangle_response", CODE(0x2f8afe8), "app", CODE(0x8ce3268), "client", CODE(0x8ce32e0)) called at /opt/perl-5.24.4-RC1/lib/site_perl/5.24.4/Catalyst/Test.pm line 293
	Catalyst::Test::_request(HASH(0x8cba6b8), HTTP::Request=HASH(0x8c9b6b8)) called at /opt/perl-5.24.4-RC1/lib/site_perl/5.24.4/Catalyst/Test.pm line 336
	Catalyst::Test::_local_request("ComponentUI", HTTP::Request=HASH(0x8c9b6b8)) called at /opt/perl-5.24.4-RC1/lib/site_perl/5.24.4/Test/WWW/Mechanize/Catalyst.pm line 176
	Test::WWW::Mechanize::Catalyst::_do_catalyst_request(Test::WWW::Mechanize::Catalyst=HASH(0x7b658a0), HTTP::Request=HASH(0x8c9b6b8)) called at /opt/perl-5.24.4-RC1/lib/site_perl/5.24.4/Test/WWW/Mechanize/Catalyst.pm line 78
	Test::WWW::Mechanize::Catalyst::_make_request(Test::WWW::Mechanize::Catalyst=HASH(0x7b658a0), HTTP::Request=HASH(0x8c9b6b8)) called at /opt/perl-5.24.4-RC1/lib/site_perl/5.24.4/WWW/Mechanize.pm line 1274
	WWW::Mechanize::request(Test::WWW::Mechanize::Catalyst=HASH(0x7b658a0), HTTP::Request=HASH(0x8c9b6b8)) called at /opt/perl-5.24.4-RC1/lib/site_perl/5.24.4/LWP/UserAgent.pm line 438
	LWP::UserAgent::get(Test::WWW::Mechanize::Catalyst=HASH(0x7b658a0), "http://localhost/testmodel/baz/id/1/update") called at /opt/perl-5.24.4-RC1/lib/site_perl/5.24.4/WWW/Mechanize.pm line 120
	WWW::Mechanize::get(Test::WWW::Mechanize::Catalyst=HASH(0x7b658a0), "http://localhost/testmodel/baz/id/1/update") called at /opt/perl-5.24.4-RC1/lib/site_perl/5.24.4/Test/WWW/Mechanize.pm line 160
	Test::WWW::Mechanize::get_ok(Test::WWW::Mechanize::Catalyst=HASH(0x7b658a0), "http://localhost/testmodel/baz/id/1/update") called at t/uncheck_bool_field.t line 9
t/uncheck_bool_field.t ...... ok
All tests successful.
Files=9, Tests=604, 12 wallclock secs ( 0.08 usr  0.04 sys + 10.95 cusr  0.87 csys = 11.94 CPU)
Result: PASS

------------------------------
PREREQUISITES
------------------------------

Prerequisite modules loaded:

requires:

    Module                                  Need      Have    
    --------------------------------------- --------- --------
    aliased                                 0.22      0.34    
    Catalyst                                5.80002   5.90117 
    Catalyst::Component::ACCEPT_CONTEXT     0.05      0.07    
    Catalyst::Component::InstancePerContext 0.001001  0.001001
    Catalyst::Model::DBIC::Schema           0.23      0.65    
    Catalyst::Plugin::ConfigLoader          0.23      0.34    
    Catalyst::Plugin::I18N                  0.09      0.10    
    Catalyst::Plugin::Static::Simple        0.21      0.36    
    Catalyst::View::TT                      0.29      0.44    
    Class::MOP                              0.81      2.2010  
    Config::General                         2.42      2.63    
    Crypt::Eksblowfish::Bcrypt              0.005     0.009   
    DateTime                                0.47      1.48    
    DateTime::Event::Recurrence             0.16      0.19    
    DateTime::Span                          0         0.3900  
    DBIx::Class                             0.08100   0.082841
    DBIx::Class::IntrospectableM2M          0.001001  0.001002
    Devel::Declare                          0.005000  0.006019
    Email::Valid                            0.181     1.202   
    ExtUtils::MakeMaker                     6.11      7.34    
    File::ShareDir                          1.00      1.104   
    File::Spec                              3.29      3.74    
    JSON                                    0         2.97001 
    metaclass                               0.81      2.2010  
    Method::Signatures::Simple              0.03      1.07    
    Moose                                   0.74      2.2010  
    MooseX::MethodAttributes                0.18      0.31    
    MooseX::Role::Parameterized             0.24      1.10    
    MooseX::Types                           0.10      0.50    
    MooseX::Types::Common                   0.001000  0.001014
    MooseX::Types::DateTime                 0.03      0.13    
    MooseX::Types::URI                      0.02      0.08    
    namespace::clean                        0.11      0.27    
    Path::Class::Dir                        0         0.37    
    Path::Class::File                       0         0.37    
    perl                                    5.008001  5.024004
    Scalar::Util                            1.19      1.50    
    signatures                              0.05      0.13    
    SQL::Translator                         0.11002   0.11024 
    Sub::Exporter                           0.982     0.987   
    Sub::Name                               0.04      0.21    
    Template                                2.20      2.27    
    Test::Class                             0.31      0.50    
    Test::Memory::Cycle                     1.04      1.06    
    Test::WWW::Mechanize::Catalyst          0.51      0.60    
    Time::ParseDate                         2006.0814 2015.103
    URI                                     1.37      1.73    

build_requires:

    Module                                  Need      Have    
    --------------------------------------- --------- --------
    ExtUtils::MakeMaker                     6.42      7.34    
    SQL::Translator                         0.11002   0.11024 
    Test::Class                             0.31      0.50    
    Test::Memory::Cycle                     1.04      1.06    
    Test::WWW::Mechanize::Catalyst          0.51      0.60    

configure_requires:

    Module                                  Need      Have    
    --------------------------------------- --------- --------
    ExtUtils::MakeMaker                     6.42      7.34    


------------------------------
ENVIRONMENT AND OTHER CONTEXT
------------------------------

Environment variables:

    LANG = en_US.UTF-8
    LC_ALL = de_DE.UTF-8
    PATH = /usr/local/bin:/usr/bin:/bin:/usr/local/sbin:/usr/sbin:/sbin:/home/cpansand/bin/linux-gnu:/home/cpansand/bin/sh:/home/cpansand/bin:/usr/games:/home/cpansand/devel:/home/eserte/src/srezic-misc/scripts
    PERL5LIB = 
    PERL5OPT = 
    PERL5_CPANPLUS_IS_RUNNING = 17119
    PERL5_CPAN_IS_RUNNING = 17119
    PERL5_CPAN_IS_RUNNING_IN_RECURSION = 22557,17119
    PERLDOC = -MPod::Perldoc::ToTextOverstrike
    PERL_BATCH = yes
    PERL_CANARY_STABILITY_NOPROMPT = 1
    PERL_CPAN_REPORTER_CONFIG = /var/tmp/cpansmoker-1023/2018032721/cpanreporter_002_config.ini
    PERL_EXTUTILS_AUTOINSTALL = --defaultdeps
    PERL_PARALLEL_SMOKER = yes
    SHELL = /usr/bin/zsh
    TERM = screen
    TMPDIR = /var/tmp/cpansmoker-1023/2018032721

Perl special variables (and OS-specific diagnostics, for MSWin32):

    $^X = /opt/perl-5.24.4-RC1/bin/perl
    $UID/$EUID = 1023 / 1023
    $GID = 1023 1023
    $EGID = 1023 1023

Perl module toolchain versions installed:

    Module              Have    
    ------------------- --------
    CPAN                2.16    
    CPAN::Meta          2.150010
    Cwd                 3.74    
    ExtUtils::CBuilder  0.280230
    ExtUtils::Command   7.34    
    ExtUtils::Install   2.14    
    ExtUtils::MakeMaker 7.34    
    ExtUtils::Manifest  1.70    
    ExtUtils::ParseXS   3.35    
    File::Spec          3.74    
    JSON                2.97001 
    JSON::PP            2.97001 
    Module::Build       0.4224  
    Module::Signature   0.81    
    Parse::CPAN::Meta   2.150010
    Test::Harness       3.42    
    Test::More          1.302133
    YAML                1.24    
    YAML::Syck          1.30    
    version             0.9918  


--

Summary of my perl5 (revision 5 version 24 subversion 4) configuration:
   
  Platform:
    osname=linux, osvers=4.4.0-116-generic, archname=x86_64-linux
    uname='linux ubuntu16 4.4.0-116-generic #140-ubuntu smp mon feb 12 21:23:04 utc 2018 x86_64 x86_64 x86_64 gnulinux '
    config_args='-ds -e -Dprefix=/opt/perl-5.24.4-RC1 -Dcf_email=srezic@cpan.org'
    hint=recommended, useposix=true, d_sigaction=define
    useithreads=undef, usemultiplicity=undef
    use64bitint=define, use64bitall=define, uselongdouble=undef
    usemymalloc=n, bincompat5005=undef
  Compiler:
    cc='cc', ccflags ='-fwrapv -fno-strict-aliasing -pipe -fstack-protector-strong -I/usr/local/include -D_LARGEFILE_SOURCE -D_FILE_OFFSET_BITS=64',
    optimize='-O2',
    cppflags='-fwrapv -fno-strict-aliasing -pipe -fstack-protector-strong -I/usr/local/include'
    ccversion='', gccversion='5.4.0 20160609', gccosandvers=''
    intsize=4, longsize=8, ptrsize=8, doublesize=8, byteorder=12345678, doublekind=3
    d_longlong=define, longlongsize=8, d_longdbl=define, longdblsize=16, longdblkind=3
    ivtype='long', ivsize=8, nvtype='double', nvsize=8, Off_t='off_t', lseeksize=8
    alignbytes=8, prototype=define
  Linker and Libraries:
    ld='cc', ldflags =' -fstack-protector-strong -L/usr/local/lib'
    libpth=/usr/local/lib /usr/lib/gcc/x86_64-linux-gnu/5/include-fixed /usr/include/x86_64-linux-gnu /usr/lib /lib/x86_64-linux-gnu /lib/../lib /usr/lib/x86_64-linux-gnu /usr/lib/../lib /lib
    libs=-lpthread -lnsl -lgdbm -ldb -ldl -lm -lcrypt -lutil -lc -lgdbm_compat
    perllibs=-lpthread -lnsl -ldl -lm -lcrypt -lutil -lc
    libc=libc-2.23.so, so=so, useshrplib=false, libperl=libperl.a
    gnulibc_version='2.23'
  Dynamic Linking:
    dlsrc=dl_dlopen.xs, dlext=so, d_dlsymun=undef, ccdlflags='-Wl,-E'
    cccdlflags='-fPIC', lddlflags='-shared -O2 -L/usr/local/lib -fstack-protector-strong'


Characteristics of this binary (from libperl): 
  Compile-time options: HAS_TIMES PERLIO_LAYERS PERL_COPY_ON_WRITE
                        PERL_DONT_CREATE_GVSV
                        PERL_HASH_FUNC_ONE_AT_A_TIME_HARD PERL_MALLOC_WRAP
                        PERL_PRESERVE_IVUV USE_64_BIT_ALL USE_64_BIT_INT
                        USE_LARGE_FILES USE_LOCALE USE_LOCALE_COLLATE
                        USE_LOCALE_CTYPE USE_LOCALE_NUMERIC USE_LOCALE_TIME
                        USE_PERLIO USE_PERL_ATOF
  Locally applied patches:
	RC1
  Built under linux
  Compiled at Mar 24 2018 19:56:23
  %ENV:
    PERL5LIB=""
    PERL5OPT=""
    PERL5_CPANPLUS_IS_RUNNING="17119"
    PERL5_CPAN_IS_RUNNING="17119"
    PERL5_CPAN_IS_RUNNING_IN_RECURSION="22557,17119"
    PERLDOC="-MPod::Perldoc::ToTextOverstrike"
    PERL_BATCH="yes"
    PERL_CANARY_STABILITY_NOPROMPT="1"
    PERL_CPAN_REPORTER_CONFIG="/var/tmp/cpansmoker-1023/2018032721/cpanreporter_002_config.ini"
    PERL_EXTUTILS_AUTOINSTALL="--defaultdeps"
    PERL_PARALLEL_SMOKER="yes"
  @INC:
    /opt/perl-5.24.4-RC1/lib/site_perl/5.24.4/x86_64-linux
    /opt/perl-5.24.4-RC1/lib/site_perl/5.24.4
    /opt/perl-5.24.4-RC1/lib/5.24.4/x86_64-linux
    /opt/perl-5.24.4-RC1/lib/5.24.4
    .