WWW-Mechanize-Cached v1.56 Perl 5 v5.12.5 amd64-freebsd-thread-multi

Status
Pass
From
Chris Williams (BINGOS)
Dist
WWW-Mechanize-Cached v1.56
Platform
Perl 5 v5.12.5 amd64-freebsd-thread-multi
Date
2022-05-29 12:34:38
ID
b47c21c6-df4b-11ec-8f4e-c962458f5e5b
This distribution has been tested as part of the CPAN Testers
project, supporting the Perl programming language.  See
http://wiki.cpantesters.org/ for more information or email
questions to cpan-testers-discuss@perl.org


--

Dear OALDERS,

This is a computer-generated error report created automatically by
CPANPLUS, version 0.9914. Testers personal comments may appear
at the end of this report.


Thank you for uploading your work to CPAN.  Congratulations!
All tests were successful.

TEST RESULTS:

Below is the error stack from stage 'make test':

PERL_DL_NONLAZY=1 "/usr/home/cpan/pit/thr/perl-5.12.5/bin/perl" "-MExtUtils::Command::MM" "-MTest::Harness" "-e" "undef *Test::Harness::Switches; test_harness(0, 'blib/lib', 'blib/arch')" t/*.t
# 
# Versions for all modules listed in MYMETA.json (including optional ones):
# 
# === Configure Requires ===
# 
#     Module              Want Have
#     ------------------- ---- ----
#     ExtUtils::MakeMaker  any 7.64
# 
# === Build Requires ===
# 
#     Module              Want Have
#     ------------------- ---- ----
#     ExtUtils::MakeMaker  any 7.64
# 
# === Test Requires ===
# 
#     Module                 Want     Have
#     ---------------------- ---- --------
#     CHI                     any     0.61
#     Cache::FileCache        any    undef
#     ExtUtils::MakeMaker     any     7.64
#     File::Spec              any     3.75
#     HTTP::Request           any     6.36
#     HTTP::Response          any     6.36
#     Path::Tiny              any    0.122
#     Test::Fatal             any    0.016
#     Test::More              any 1.302190
#     Test::Needs             any 0.002009
#     Test::RequiresInternet  any     0.05
#     Test::Warnings          any    0.031
#     URI::file               any     5.10
#     constant                any     1.20
#     lib                     any     0.62
#     strict                  any     1.04
# 
# === Test Recommends ===
# 
#     Module         Want     Have
#     ---------- -------- --------
#     CPAN::Meta 2.120900 2.150010
# 
# === Runtime Requires ===
# 
#     Module                           Want     Have
#     ---------------------------- -------- --------
#     Cache::FileCache                  any    undef
#     Carp                              any     1.50
#     Data::Dump                        any     1.25
#     LWP::UserAgent                   6.66     6.66
#     Module::Runtime                   any    0.016
#     Moo                          1.004005 2.005004
#     MooX::Types::MooseLike::Base      any     0.29
#     Storable                         2.21     3.25
#     WWW::Mechanize                    any     2.07
#     namespace::clean                  any     0.27
#     warnings                          any     1.09
# 
# === Runtime Recommends ===
# 
#     Module Want Have
#     ------ ---- ----
#     CHI     any 0.61
# 
t/00-report-prereqs.t ........ ok
t/002-bad-custom-cache.t ..... ok
t/004-cached.t ............... ok
t/005-custom-cache.t ......... ok
t/006-cached-chi.t ........... ok
t/007-clear-cache.t .......... ok
t/007-initialize-warnings.t .. ok
# reversing page order
t/cache_key.t ................ ok
t/cache_ok.t ................. ok
t/default.t .................. ok
t/is_cached.t ................ ok
t/response_cache_ok.t ........ ok
All tests successful.
Files=12, Tests=129, 10 wallclock secs ( 0.23 usr  0.09 sys +  7.87 cusr  1.45 csys =  9.62 CPU)
Result: PASS


PREREQUISITES:

Here is a list of prerequisites you specified and versions we
managed to load:

	  Module Name                        Have     Want
	  CHI                                0.61        0
	  Cache::FileCache                      0        0
	  Carp                               1.50        0
	  Data::Dump                         1.25        0
	  ExtUtils::MakeMaker                7.64        0
	  File::Spec                         3.75        0
	  HTTP::Request                      6.36        0
	  HTTP::Response                     6.36        0
	  LWP::UserAgent                     6.66     6.66
	  Module::Runtime                   0.016        0
	  Moo                            2.005004 1.004005
	  MooX::Types::MooseLike::Base       0.29        0
	  Path::Tiny                        0.122        0
	  Storable                           3.25     2.21
	  Test::Fatal                       0.016        0
	  Test::More                     1.302190        0
	  Test::Needs                    0.002009        0
	  Test::RequiresInternet             0.05        0
	  Test::Warnings                    0.031        0
	  URI::file                          5.10        0
	  WWW::Mechanize                     2.07        0
	  constant                           1.20        0
	  lib                                0.62        0
	  namespace::clean                   0.27        0
	  strict                             1.04        0
	  warnings                           1.09        0

Perl module toolchain versions installed:
	Module Name                        Have
	CPANPLUS                         0.9914
	CPANPLUS::Dist::Build              0.90
	Cwd                                3.75
	ExtUtils::CBuilder             0.280236
	ExtUtils::Command                  7.64
	ExtUtils::Install                  2.20
	ExtUtils::MakeMaker                7.64
	ExtUtils::Manifest                 1.73
	ExtUtils::ParseXS                  3.44
	File::Spec                         3.75
	Module::Build                    0.4231
	Pod::Parser                        1.37
	Pod::Simple                        3.14
	Test2                          1.302190
	Test::Harness                      3.42
	Test::More                     1.302190
	version                          0.9929

******************************** NOTE ********************************
The comments above are created mechanically, possibly without manual
checking by the sender.  As there are many people performing automatic
tests on each upload to CPAN, it is likely that you will receive
identical messages about the same problem.

If you believe that the message is mistaken, please reply to the first
one with correction and/or additional informations, and do not take
it personally.  We appreciate your patience. :)
**********************************************************************

Additional comments:


This report was machine-generated by CPANPLUS::Dist::YACSmoke 1.08.
Powered by minismokebox version 0.68

CPANPLUS is prefering Build.PL

------------------------------
ENVIRONMENT AND OTHER CONTEXT
------------------------------

Environment variables:

    AUTOMATED_TESTING = 1
    LANG = C.UTF-8
    NONINTERACTIVE_TESTING = 1
    PATH = /sbin:/bin:/usr/sbin:/usr/bin:/usr/local/sbin:/usr/local/bin:/home/cpan/bin
    PERL5LIB = /usr/home/cpan/pit/jail/0bNzrAfI8g/lib/perl5:/usr/home/cpan/pit/thr/conf/perl-5.12.5/.cpanplus/5.12.5/build/koADrtprMt/WWW-Mechanize-Cached-1.56/blib/lib:/usr/home/cpan/pit/thr/conf/perl-5.12.5/.cpanplus/5.12.5/build/koADrtprMt/WWW-Mechanize-Cached-1.56/blib/arch
    PERL5_CPANPLUS_IS_RUNNING = 74702
    PERL5_CPANPLUS_IS_VERSION = 0.9914
    PERL5_MINISMOKEBOX = 0.68
    PERL5_YACSMOKE_BASE = /usr/home/cpan/pit/thr/conf/perl-5.12.5
    PERL_EXTUTILS_AUTOINSTALL = --defaultdeps
    PERL_LOCAL_LIB_ROOT = /usr/home/cpan/pit/jail/0bNzrAfI8g
    PERL_MB_OPT = --install_base "/usr/home/cpan/pit/jail/0bNzrAfI8g"
    PERL_MM_OPT = INSTALL_BASE=/usr/home/cpan/pit/jail/0bNzrAfI8g
    PERL_MM_USE_DEFAULT = 1
    SHELL = /usr/local/bin/bash
    TERM = screen

Perl special variables (and OS-specific diagnostics, for MSWin32):

    Perl: $^X = /usr/home/cpan/pit/thr/perl-5.12.5/bin/perl
    UID:  $<  = 1002
    EUID: $>  = 1002
    GID:  $(  = 1002 1002
    EGID: $)  = 1002 1002


-------------------------------


--

Summary of my perl5 (revision 5 version 12 subversion 5) configuration:
   
  Platform:
    osname=freebsd, osvers=13.0-release, archname=amd64-freebsd-thread-multi
    uname='freebsd fever 13.0-release freebsd 13.0-release #0 releng13.0-n244733-ea31abc261f: fri apr 9 04:24:09 utc 2021 root@releng1.nyi.freebsd.org:usrobjusrsrcamd64.amd64sysgeneric amd64 '
    config_args='-des -Dprefix=/usr/home/cpan/pit/thr/perl-5.12.5 -Dusethreads'
    hint=recommended, useposix=true, d_sigaction=define
    useithreads=define, usemultiplicity=define
    useperlio=define, d_sfio=undef, uselargefiles=define, usesocks=undef
    use64bitint=define, use64bitall=define, uselongdouble=undef
    usemymalloc=n, bincompat5005=undef
  Compiler:
    cc='cc', ccflags ='-DHAS_FPSETMASK -DHAS_FLOATINGPOINT_H -fno-strict-aliasing -pipe -fstack-protector -I/usr/local/include',
    optimize='-O2',
    cppflags='-DHAS_FPSETMASK -DHAS_FLOATINGPOINT_H -fno-strict-aliasing -pipe -fstack-protector -I/usr/local/include'
    ccversion='', gccversion='FreeBSD Clang 11.0.1 (git@github.com:llvm/llvm-project.git llvmorg-11.0.1-0-g43ff75f2c3fe)', gccosandvers=''
    intsize=4, longsize=8, ptrsize=8, doublesize=8, byteorder=12345678
    d_longlong=define, longlongsize=8, d_longdbl=define, longdblsize=16
    ivtype='long', ivsize=8, nvtype='double', nvsize=8, Off_t='off_t', lseeksize=8
    alignbytes=8, prototype=define
  Linker and Libraries:
    ld='cc', ldflags ='-pthread -Wl,-E  -fstack-protector -L/usr/local/lib'
    libpth=/usr/lib /usr/local/lib
    libs=-lgdbm -ldl -lm -lcrypt -lutil
    perllibs=-ldl -lm -lcrypt -lutil
    libc=, so=so, useshrplib=false, libperl=libperl.a
    gnulibc_version=''
  Dynamic Linking:
    dlsrc=dl_dlopen.xs, dlext=so, d_dlsymun=undef, ccdlflags=' '
    cccdlflags='-DPIC -fPIC', lddlflags='-shared  -L/usr/local/lib -fstack-protector'


Characteristics of this binary (from libperl): 
  Compile-time options: MULTIPLICITY PERL_DONT_CREATE_GVSV
                        PERL_IMPLICIT_CONTEXT PERL_MALLOC_WRAP USE_64_BIT_ALL
                        USE_64_BIT_INT USE_ITHREADS USE_LARGE_FILES
                        USE_PERLIO USE_PERL_ATOF USE_REENTRANT_API
  Locally applied patches:
	Devel::PatchPerl 2.08
  Built under freebsd
  Compiled at Apr 15 2021 07:16:09
  %ENV:
    PERL5LIB="/usr/home/cpan/pit/jail/0bNzrAfI8g/lib/perl5:/usr/home/cpan/pit/thr/conf/perl-5.12.5/.cpanplus/5.12.5/build/koADrtprMt/WWW-Mechanize-Cached-1.56/blib/lib:/usr/home/cpan/pit/thr/conf/perl-5.12.5/.cpanplus/5.12.5/build/koADrtprMt/WWW-Mechanize-Cached-1.56/blib/arch"
    PERL5_CPANPLUS_IS_RUNNING="74702"
    PERL5_CPANPLUS_IS_VERSION="0.9914"
    PERL5_MINISMOKEBOX="0.68"
    PERL5_YACSMOKE_BASE="/usr/home/cpan/pit/thr/conf/perl-5.12.5"
    PERL_EXTUTILS_AUTOINSTALL="--defaultdeps"
    PERL_LOCAL_LIB_ROOT="/usr/home/cpan/pit/jail/0bNzrAfI8g"
    PERL_MB_OPT="--install_base "/usr/home/cpan/pit/jail/0bNzrAfI8g""
    PERL_MM_OPT="INSTALL_BASE=/usr/home/cpan/pit/jail/0bNzrAfI8g"
    PERL_MM_USE_DEFAULT="1"
  @INC:
    /usr/home/cpan/pit/jail/0bNzrAfI8g/lib/perl5/5.12.5/amd64-freebsd-thread-multi
    /usr/home/cpan/pit/jail/0bNzrAfI8g/lib/perl5/5.12.5
    /usr/home/cpan/pit/jail/0bNzrAfI8g/lib/perl5/amd64-freebsd-thread-multi
    /usr/home/cpan/pit/jail/0bNzrAfI8g/lib/perl5
    /usr/home/cpan/pit/thr/conf/perl-5.12.5/.cpanplus/5.12.5/build/koADrtprMt/WWW-Mechanize-Cached-1.56/blib/lib
    /usr/home/cpan/pit/thr/conf/perl-5.12.5/.cpanplus/5.12.5/build/koADrtprMt/WWW-Mechanize-Cached-1.56/blib/arch
    /usr/home/cpan/pit/thr/perl-5.12.5/lib/site_perl/5.12.5/amd64-freebsd-thread-multi
    /usr/home/cpan/pit/thr/perl-5.12.5/lib/site_perl/5.12.5
    /usr/home/cpan/pit/thr/perl-5.12.5/lib/5.12.5/amd64-freebsd-thread-multi
    /usr/home/cpan/pit/thr/perl-5.12.5/lib/5.12.5
    .