Report for Tapper-Testplan-4.1.2

Back
From: metabase:user:30977d10-2aae-11df-837a-5e0a49663a4f
Subject: PASS Tapper-Testplan-4.1.2 v5.23.5 GNU/Linux
Date: 2015-12-16T00:41:11Z

This distribution has been tested as part of the CPAN Testers
project, supporting the Perl programming language.  See
http://wiki.cpantesters.org/ for more information or email
questions to cpan-testers-discuss@perl.org


--
Dear Tapper Team,

This is a computer-generated report for Tapper-Testplan-4.1.2
on perl 5.23.5, created by CPAN-Reporter-1.2015.

Thank you for uploading your work to CPAN.  Congratulations!
All tests were successful.

Sections of this report:

    * Tester comments
    * Program output
    * Prerequisites
    * Environment and other context

------------------------------
TESTER COMMENTS
------------------------------

Additional comments from tester:

this report is from an automated smoke testing program
and was not reviewed by a human for accuracy

------------------------------
PROGRAM OUTPUT
------------------------------

Output from '/usr/bin/make test':

PERL_DL_NONLAZY=1 "/home/stro/perl/5.23.5t/bin/perl" "-MExtUtils::Command::MM" "-MTest::Harness" "-e" "undef *Test::Harness::Switches; test_harness(0, 'blib/lib', 'blib/arch')" t/*.t
given is experimental at /home/stro/perl/5.23.5t/lib/site_perl/5.23.5/Tapper/Cmd/Testplan.pm line 25.
when is experimental at /home/stro/perl/5.23.5t/lib/site_perl/5.23.5/Tapper/Cmd/Testplan.pm line 26.
t/00-load.t .................... ok
t/01-use.t ..................... ok
t/pod.t ........................ ok
t/release-eol.t ................ skipped: these tests are for release candidate testing
t/release-no-tabs.t ............ skipped: these tests are for release candidate testing
t/release-pod-coverage.t ....... skipped: these tests are for release candidate testing
t/release-pod-syntax.t ......... skipped: these tests are for release candidate testing
given is experimental at /home/stro/perl/5.23.5t/lib/site_perl/5.23.5/Tapper/Cmd/Testplan.pm line 25.
when is experimental at /home/stro/perl/5.23.5t/lib/site_perl/5.23.5/Tapper/Cmd/Testplan.pm line 26.
t/tapper-testplan-generator.t .. ok
t/tapper-testplan-reporter.t ... ok
All tests successful.
Files=9, Tests=23,  5 wallclock secs ( 0.02 usr  0.00 sys +  2.81 cusr  0.15 csys =  2.98 CPU)
Result: PASS

------------------------------
PREREQUISITES
------------------------------

Prerequisite modules loaded:

requires:

    Module                         Need Have    
    ------------------------------ ---- --------
    CHI                            0    0.60    
    DateTime                       0    1.21    
    DateTime::Format::DateParse    0    0.05    
    DateTime::Format::Natural      0    1.03    
    DateTime::Format::Strptime     0    1.61    
    Email::Sender::Simple          0    1.300021
    Email::Sender::Transport::SMTP 0    1.300021
    Email::Simple                  0    2.208   
    File::ShareDir                 0    1.102   
    File::Slurp                    0    9999.19 
    File::Temp                     0    0.2304  
    Hash::Merge                    0    0.200   
    Module::Find                   0.11 0.13    
    Moose                          0    2.1604  
    strict                         0    1.09    
    Tapper::Cmd::Testplan          0    4.1.8   
    Tapper::Config                 0    4.1.3   
    Tapper::Model                  0    4.1.2   
    Template                       0    2.26    
    Text::CSV::Slurp               0    1.02    
    warnings                       0    1.35    

build_requires:

    Module                         Need Have    
    ------------------------------ ---- --------
    Data::Dumper                   0    2.158   
    HTTP::Daemon                   0    6.01    
    HTTP::Status                   0    6.11    
    POSIX                          0    1.59    
    Tapper::Schema::TestTools      0    4.1.3   
    Test::Differences              0    0.64    
    Test::Fixture::DBIC::Schema    0    0.04    
    Test::MockModule               0    0.11    
    Test::More                     0    1.001014

configure_requires:

    Module                         Need Have    
    ------------------------------ ---- --------
    ExtUtils::MakeMaker            6.30 7.10    


------------------------------
ENVIRONMENT AND OTHER CONTEXT
------------------------------

Environment variables:

    AUTOMATED_TESTING = 1
    LANG = en_US.UTF-8
    PATH = /usr/local/bin:/usr/bin:/bin:/usr/local/games:/usr/games
    PERL5LIB = 
    PERL5OPT = 
    PERL5_CPANPLUS_IS_RUNNING = 831
    PERL5_CPAN_IS_RUNNING = 831
    PERL5_CPAN_IS_RUNNING_IN_RECURSION = 3424,831
    PERL_CR_SMOKER_CURRENT = Tapper-CLI-4.1.7
    PERL_EXTUTILS_AUTOINSTALL = --defaultdeps
    PERL_MM_USE_DEFAULT = 1
    SHELL = /bin/bash
    TERM = xterm

Perl special variables (and OS-specific diagnostics, for MSWin32):

    $^X = /home/stro/perl/5.23.5t/bin/perl
    $UID/$EUID = 1000 / 1000
    $GID = 1000 24 25 29 30 44 46 108 114 1000
    $EGID = 1000 24 25 29 30 44 46 108 114 1000

Perl module toolchain versions installed:

    Module              Have    
    ------------------- --------
    CPAN                2.11    
    CPAN::Meta          2.150005
    Cwd                 3.59    
    ExtUtils::CBuilder  0.280224
    ExtUtils::Command   7.10    
    ExtUtils::Install   2.04    
    ExtUtils::MakeMaker 7.10    
    ExtUtils::Manifest  1.70    
    ExtUtils::ParseXS   3.30    
    File::Spec          3.59    
    JSON                2.90    
    JSON::PP            2.27300 
    Module::Build       0.4214  
    Module::Signature   n/a     
    Parse::CPAN::Meta   1.4417  
    Test::Harness       3.35    
    Test::More          1.001014
    YAML                1.15    
    YAML::Syck          1.29    
    version             0.9909  


--

Summary of my perl5 (revision 5 version 23 subversion 5) configuration:
   
  Platform:
    osname=linux, osvers=3.16.0-4-amd64, archname=x86_64-linux-thread-multi
    uname='linux vm-debian-001 3.16.0-4-amd64 #1 smp debian 3.16.7-ckt11-1 (2015-05-24) x86_64 gnulinux '
    config_args=''
    hint=recommended, useposix=true, d_sigaction=define
    useithreads=define, usemultiplicity=define
    use64bitint=define, use64bitall=define, uselongdouble=undef
    usemymalloc=n, bincompat5005=undef
  Compiler:
    cc='cc', ccflags ='-D_REENTRANT -D_GNU_SOURCE -fwrapv -fno-strict-aliasing -pipe -fstack-protector-strong -I/usr/local/include -D_LARGEFILE_SOURCE -D_FILE_OFFSET_BITS=64 -D_FORTIFY_SOURCE=2',
    optimize='-O2',
    cppflags='-D_REENTRANT -D_GNU_SOURCE -fwrapv -fno-strict-aliasing -pipe -fstack-protector-strong -I/usr/local/include'
    ccversion='', gccversion='4.9.2', gccosandvers=''
    intsize=4, longsize=8, ptrsize=8, doublesize=8, byteorder=12345678, doublekind=3
    d_longlong=define, longlongsize=8, d_longdbl=define, longdblsize=16, longdblkind=3
    ivtype='long', ivsize=8, nvtype='double', nvsize=8, Off_t='off_t', lseeksize=8
    alignbytes=8, prototype=define
  Linker and Libraries:
    ld='cc', ldflags =' -fstack-protector-strong -L/usr/local/lib'
    libpth=/usr/local/lib /usr/lib/gcc/x86_64-linux-gnu/4.9/include-fixed /usr/include/x86_64-linux-gnu /usr/lib /lib/x86_64-linux-gnu /lib/../lib /usr/lib/x86_64-linux-gnu /usr/lib/../lib /lib
    libs=-lpthread -lnsl -ldl -lm -lcrypt -lutil -lc
    perllibs=-lpthread -lnsl -ldl -lm -lcrypt -lutil -lc
    libc=libc-2.19.so, so=so, useshrplib=false, libperl=libperl.a
    gnulibc_version='2.19'
  Dynamic Linking:
    dlsrc=dl_dlopen.xs, dlext=so, d_dlsymun=undef, ccdlflags='-Wl,-E'
    cccdlflags='-fPIC', lddlflags='-shared -O2 -L/usr/local/lib -fstack-protector-strong'


Characteristics of this binary (from libperl): 
  Compile-time options: HAS_TIMES MULTIPLICITY PERLIO_LAYERS
                        PERL_COPY_ON_WRITE PERL_DONT_CREATE_GVSV
                        PERL_HASH_FUNC_ONE_AT_A_TIME_HARD
                        PERL_IMPLICIT_CONTEXT PERL_MALLOC_WRAP
                        PERL_PRESERVE_IVUV USE_64_BIT_ALL USE_64_BIT_INT
                        USE_ITHREADS USE_LARGE_FILES USE_LOCALE
                        USE_LOCALE_COLLATE USE_LOCALE_CTYPE
                        USE_LOCALE_NUMERIC USE_LOCALE_TIME USE_PERLIO
                        USE_PERL_ATOF USE_REENTRANT_API
  Built under linux
  Compiled at Dec 13 2015 17:41:55
  %ENV:
    PERL5LIB=""
    PERL5OPT=""
    PERL5_CPANPLUS_IS_RUNNING="831"
    PERL5_CPAN_IS_RUNNING="831"
    PERL5_CPAN_IS_RUNNING_IN_RECURSION="3424,831"
    PERL_CR_SMOKER_CURRENT="Tapper-CLI-4.1.7"
    PERL_EXTUTILS_AUTOINSTALL="--defaultdeps"
    PERL_MM_USE_DEFAULT="1"
  @INC:
    /home/stro/perl/5.23.5t/lib/site_perl/5.23.5/x86_64-linux-thread-multi
    /home/stro/perl/5.23.5t/lib/site_perl/5.23.5
    /home/stro/perl/5.23.5t/lib/5.23.5/x86_64-linux-thread-multi
    /home/stro/perl/5.23.5t/lib/5.23.5
    .