Report for PDF-ReportWriter-1.5

Back
From: metabase:user:3198cbe2-2aae-11df-837a-5e0a49663a4f
Subject: PASS PDF-ReportWriter-1.5 v5.18.1 GNU/Linux
Date: 2013-10-25T09:42:03Z

This distribution has been tested as part of the CPAN Testers
project, supporting the Perl programming language.  See
http://wiki.cpantesters.org/ for more information or email
questions to cpan-testers-discuss@perl.org


--
Dear Daniel Kasak,

This is a computer-generated report for PDF-ReportWriter-1.5
on perl 5.18.1, created by CPAN-Reporter-1.2010.

Thank you for uploading your work to CPAN.  Congratulations!
All tests were successful.

Sections of this report:

    * Tester comments
    * Program output
    * Prerequisites
    * Environment and other context

------------------------------
TESTER COMMENTS
------------------------------

Additional comments from tester:

this report is from an automated smoke testing program
and was not reviewed by a human for accuracy

------------------------------
PROGRAM OUTPUT
------------------------------

Output from '/usr/bin/make test':

PERL_DL_NONLAZY=1 /home/graham/perls/perl-5.18.1/bin/perl "-MExtUtils::Command::MM" "-MTest::Harness" "-e" "undef *Test::Harness::Switches; test_harness(0, 'blib/lib', 'blib/arch')" t/*.t
t/000_load.t ......... ok
# $rp=undef
# $rp=PDF::ReportWriter::Report=HASH(0x20cc9a8)
# $VAR1 = {
#           'definition' => {
#                             'default_font_size' => '10',
#                             'destination' => 'myreport.pdf',
#                             'y_margin' => '20',
#                             'file' => 'basic.xml',
#                             'orientation' => 'landscape',
#                             'template' => 'mytemplate.pdf',
#                             'paper' => 'A4',
#                             'default_font' => 'Helvetica',
#                             'name' => 'basic',
#                             'debug' => '0',
#                             'x_margin' => '20',
#                             'font' => [
#                                       'Helvetica',
#                                       'Courier'
#                                     ]
#                           },
#           'data' => {
#                     'page' => {
#                               'footer' => [
#                                           {
#                                             'x' => '500',
#                                             'background' => {
#                                                             'colour' => 'grey',
#                                                             'shape' => 'box'
#                                                           },
#                                             'index' => '0',
#                                             'text' => 'My Cell 1',
#                                             'percent' => '20',
#                                             'y' => '200',
#                                             'colour' => 'red'
#                                           },
#                                           {
#                                             'x' => '200',
#                                             'background' => {
#                                                             'colour' => 'green',
#                                                             'shape' => 'box'
#                                                           },
#                                             'index' => '1',
#                                             'text' => 'My Cell 2',
#                                             'percent' => '20',
#                                             'y' => '100',
#                                             'colour' => 'yellow'
#                                           }
#                                         ],
#                               'header' => [
#                                             {}
#                                           ]
#                             },
#                     'fields' => [
#                                 {
#                                   'label' => 'item',
#                                   'percent' => '20',
#                                   'align' => 'left',
#                                   'header_colour' => 'white',
#                                   'font_size' => '12',
#                                   'index' => '0'
#                                 },
#                                 {
#                                   'font_size' => '12',
#                                   'header_colour' => 'white',
#                                   'align' => 'left',
#                                   'percent' => '20',
#                                   'label' => 'date',
#                                   'index' => '1'
#                                 }
#                               ],
#                     'max_font_size' => '12',
#                     'groups' => [
#                                   {
#                                     'data_column' => '1',
#                                     'aggregate_source' => '0',
#                                     'name' => 'GrandTotals'
#                                   },
#                                   {
#                                     'data_column' => '1',
#                                     'aggregate_source' => '0',
#                                     'name' => 'ItemTotals'
#                                   }
#                                 ],
#                     'cell_borders' => '1'
#                   }
#         };
# $VAR1 = {
#           'data' => {
#                     'fields' => [
#                                 {
#                                   'percent' => '20',
#                                   'header_colour' => 'white',
#                                   'font_size' => '12',
#                                   'align' => 'left',
#                                   'label' => 'item',
#                                   'index' => '0'
#                                 },
#                                 {
#                                   'index' => '1',
#                                   'label' => 'date',
#                                   'percent' => '20',
#                                   'header_colour' => 'white',
#                                   'align' => 'left',
#                                   'font_size' => '12'
#                                 }
#                               ],
#                     'page' => {
#                               'header' => [
#                                             {}
#                                           ],
#                               'footer' => [
#                                           {
#                                             'x' => '500',
#                                             'index' => '0',
#                                             'text' => 'My Cell 1',
#                                             'background' => {
#                                                             'shape' => 'box',
#                                                             'colour' => 'grey'
#                                                           },
#                                             'y' => '200',
#                                             'percent' => '20',
#                                             'colour' => 'red'
#                                           },
#                                           {
#                                             'index' => '1',
#                                             'text' => 'My Cell 2',
#                                             'background' => {
#                                                             'shape' => 'box',
#                                                             'colour' => 'green'
#                                                           },
#                                             'x' => '200',
#                                             'colour' => 'yellow',
#                                             'y' => '100',
#                                             'percent' => '20'
#                                           }
#                                         ]
#                             },
#                     'groups' => [
#                                   {
#                                     'data_column' => '1',
#                                     'name' => 'GrandTotals',
#                                     'aggregate_source' => '0'
#                                   },
#                                   {
#                                     'name' => 'SubTotals',
#                                     'aggregate_source' => '0',
#                                     'data_column' => '1'
#                                   }
#                                 ],
#                     'cell_borders' => '1',
#                     'max_font_size' => '12'
#                   },
#           'definition' => {
#                             'paper' => 'A4',
#                             'default_font' => 'Helvetica',
#                             'name' => 'sample',
#                             'debug' => '0',
#                             'x_margin' => '20',
#                             'font' => [
#                                       'Helvetica',
#                                       'Courier'
#                                     ],
#                             'orientation' => 'landscape',
#                             'template' => 'mytemplate.pdf',
#                             'info' => {
#                                       'Author' => 'Cosimo Streppone',
#                                       'CreationDate' => '2006-03-13',
#                                       'Subject' => 'A sample report',
#                                       'Creator' => 'PDF::ReportWriter',
#                                       'Keywords' => 'Bla Bla Bla',
#                                       'ModDate' => '2006-03-13',
#                                       'Title' => 'The sample report title'
#                                     },
#                             'default_font_size' => '10',
#                             'url' => 'sample.xml',
#                             'destination' => 'myreport.pdf',
#                             'y_margin' => '20'
#                           }
#         };
# $VAR1 = {
#           'data' => {
#                     'fields' => [
#                                 {
#                                   'index' => '0',
#                                   'align' => 'left',
#                                   'font_size' => '12',
#                                   'header_colour' => 'white',
#                                   'percent' => '20',
#                                   'label' => 'item'
#                                 },
#                                 {
#                                   'index' => '1',
#                                   'font_size' => '12',
#                                   'align' => 'left',
#                                   'header_colour' => 'white',
#                                   'percent' => '20',
#                                   'label' => 'date'
#                                 }
#                               ],
#                     'page' => {
#                               'header' => [
#                                             {}
#                                           ],
#                               'footer' => [
#                                           {
#                                             'y' => '200',
#                                             'percent' => '20',
#                                             'colour' => 'red',
#                                             'x' => '500',
#                                             'text' => 'My Cell 1',
#                                             'index' => '0',
#                                             'background' => {
#                                                             'shape' => 'box',
#                                                             'colour' => 'grey'
#                                                           }
#                                           },
#                                           {
#                                             'colour' => 'yellow',
#                                             'percent' => '20',
#                                             'y' => '100',
#                                             'background' => {
#                                                             'shape' => 'box',
#                                                             'colour' => 'green'
#                                                           },
#                                             'text' => 'My Cell 2',
#                                             'index' => '1',
#                                             'x' => '200'
#                                           }
#                                         ]
#                             },
#                     'groups' => [
#                                   {
#                                     'aggregate_source' => '0',
#                                     'name' => 'GrandTotals',
#                                     'data_column' => '1'
#                                   },
#                                   {
#                                     'aggregate_source' => '0',
#                                     'name' => 'SubTotals',
#                                     'data_column' => '1'
#                                   }
#                                 ],
#                     'cell_borders' => '1',
#                     'max_font_size' => '12'
#                   },
#           'definition' => {
#                             'default_font' => 'Helvetica',
#                             'name' => 'sample',
#                             'paper' => 'A4',
#                             'font' => [
#                                       'Helvetica',
#                                       'Courier'
#                                     ],
#                             'x_margin' => '20',
#                             'debug' => '0',
#                             'orientation' => 'landscape',
#                             'template' => 'mytemplate.pdf',
#                             'info' => {
#                                       'ModDate' => '2006-03-13',
#                                       'Title' => 'The sample report title',
#                                       'Creator' => 'PDF::ReportWriter',
#                                       'Keywords' => 'Bla Bla Bla',
#                                       'CreationDate' => '2006-03-13',
#                                       'Subject' => 'A sample report',
#                                       'Author' => 'Cosimo Streppone'
#                                     },
#                             'default_font_size' => '10',
#                             'url' => 'sample.xml',
#                             'y_margin' => '20',
#                             'destination' => 'myreport.pdf'
#                           }
#         };
# $VAR1 = {
#           'data' => {
#                     'groups' => []
#                   },
#           'definition' => {
#                             'name' => 'empty',
#                             'file' => 'empty.xml',
#                             'font' => [
#                                         undef
#                                       ]
#                           }
#         };
t/010_report.t ....... ok
# $rp=PDF::ReportWriter::Report=HASH(0x24568e8)
# $VAR1 = bless( {
#                  '_config' => {
#                                 'data' => {
#                                           'fields' => [
#                                                         {
#                                                           'align' => 'left',
#                                                           'label' => 'item',
#                                                           'percent' => '20',
#                                                           'header_colour' => 'white',
#                                                           'font_size' => '12',
#                                                           'index' => '0'
#                                                         }
#                                                       ],
#                                           'groups' => [
#                                                         {}
#                                                       ],
#                                           'datasource' => [
#                                                           {
#                                                             'name' => 'master',
#                                                             'sql' => 'SELECT docnum,docdate,docstate FROM documents WHERE docnum = ? LIMIT 1',
#                                                             'type' => 'DBI'
#                                                           },
#                                                           {
#                                                             'name' => 'detail',
#                                                             'type' => 'DBI',
#                                                             'sql' => 'SELECT * FROM documents WHERE docnum = ?'
#                                                           }
#                                                         ],
#                                           'page' => {
#                                                     'footer' => [
#                                                                   {}
#                                                                 ],
#                                                     'header' => [
#                                                                   {}
#                                                                 ]
#                                                   }
#                                         },
#                                 'definition' => {
#                                                   'destination' => 'myreport.pdf',
#                                                   'font' => [
#                                                               undef
#                                                             ],
#                                                   'file' => 'datasources.xml',
#                                                   'name' => 'datasources',
#                                                   'paper' => 'A4'
#                                                 }
#                               },
#                  'report' => './t/reports/datasources.xml'
#                }, 'PDF::ReportWriter::Report' );
t/011_datasources.t .. ok
t/020_cell.t ......... ok
All tests successful.
Files=4, Tests=30,  3 wallclock secs ( 0.04 usr  0.01 sys +  1.55 cusr  0.13 csys =  1.73 CPU)
Result: PASS

------------------------------
PREREQUISITES
------------------------------

Prerequisite modules loaded:

requires:

    Module              Need Have   
    ------------------- ---- -------
    Image::Size         2    3.232  
    PDF::API2           0.3  2.015  
    XML::Simple         0    2.20   

build_requires:

    Module              Need Have   
    ------------------- ---- -------
    ExtUtils::MakeMaker 0    6.81_03


------------------------------
ENVIRONMENT AND OTHER CONTEXT
------------------------------

Environment variables:

    AUTOMATED_TESTING = 1
    LANG = en_GB.UTF-8
    PATH = /home/graham/perls/perl-5.18.1/bin:/usr/local/sbin:/usr/local/bin:/usr/bin:/usr/bin/vendor_perl:/usr/bin/core_perl
    PERL5LIB = 
    PERL5OPT = 
    PERL5_CPANPLUS_IS_RUNNING = 11305
    PERL5_CPAN_IS_RUNNING = 11305
    PERL5_CPAN_IS_RUNNING_IN_RECURSION = 374,11305
    PERL_CR_SMOKER_CURRENT = PDF-ReportWriter-1.5
    PERL_EXTUTILS_AUTOINSTALL = --defaultdeps
    PERL_MM_USE_DEFAULT = 1
    SHELL = /bin/bash
    TERM = xterm

Perl special variables (and OS-specific diagnostics, for MSWin32):

    $^X = /home/graham/perls/perl-5.18.1/bin/perl
    $UID/$EUID = 1000 / 1000
    $GID = 100 10 95 98 100
    $EGID = 100 10 95 98 100

Perl module toolchain versions installed:

    Module              Have    
    ------------------- --------
    CPAN                2.00    
    CPAN::Meta          2.132830
    Cwd                 3.40    
    ExtUtils::CBuilder  0.280212
    ExtUtils::Command   1.18    
    ExtUtils::Install   1.59    
    ExtUtils::MakeMaker 6.81_03 
    ExtUtils::Manifest  1.63    
    ExtUtils::ParseXS   3.22    
    File::Spec          3.40    
    JSON                2.61    
    JSON::PP            2.27203 
    Module::Build       0.4003  
    Module::Signature   0.73    
    Parse::CPAN::Meta   1.4409  
    Test::Harness       3.29    
    Test::More          0.99    
    YAML                0.84    
    YAML::Syck          1.27    
    version             0.9904  


--

Summary of my perl5 (revision 5 version 18 subversion 1) configuration:
   
  Platform:
    osname=linux, osvers=3.11.4-1-arch, archname=x86_64-linux
    uname='linux grosics 3.11.4-1-arch #1 smp preempt sat oct 5 21:22:51 cest 2013 x86_64 gnulinux '
    config_args=''
    hint=recommended, useposix=true, d_sigaction=define
    useithreads=undef, usemultiplicity=undef
    useperlio=define, d_sfio=undef, uselargefiles=define, usesocks=undef
    use64bitint=define, use64bitall=define, uselongdouble=undef
    usemymalloc=n, bincompat5005=undef
  Compiler:
    cc='cc', ccflags ='-fno-strict-aliasing -pipe -fstack-protector -I/usr/local/include -D_LARGEFILE_SOURCE -D_FILE_OFFSET_BITS=64',
    optimize='-O2',
    cppflags='-fno-strict-aliasing -pipe -fstack-protector -I/usr/local/include'
    ccversion='', gccversion='4.8.1 20130725 (prerelease)', gccosandvers=''
    intsize=4, longsize=8, ptrsize=8, doublesize=8, byteorder=12345678
    d_longlong=define, longlongsize=8, d_longdbl=define, longdblsize=16
    ivtype='long', ivsize=8, nvtype='double', nvsize=8, Off_t='off_t', lseeksize=8
    alignbytes=8, prototype=define
  Linker and Libraries:
    ld='cc', ldflags =' -fstack-protector -L/usr/local/lib'
    libpth=/usr/local/lib /lib/../lib /usr/lib/../lib /lib /usr/lib /lib64 /usr/lib64
    libs=-lnsl -lgdbm -ldb -ldl -lm -lcrypt -lutil -lc -lgdbm_compat
    perllibs=-lnsl -ldl -lm -lcrypt -lutil -lc
    libc=/lib/libc-2.18.so, so=so, useshrplib=false, libperl=libperl.a
    gnulibc_version='2.18'
  Dynamic Linking:
    dlsrc=dl_dlopen.xs, dlext=so, d_dlsymun=undef, ccdlflags='-Wl,-E'
    cccdlflags='-fPIC', lddlflags='-shared -O2 -L/usr/local/lib -fstack-protector'


Characteristics of this binary (from libperl): 
  Compile-time options: HAS_TIMES PERLIO_LAYERS PERL_DONT_CREATE_GVSV
                        PERL_HASH_FUNC_ONE_AT_A_TIME_HARD PERL_MALLOC_WRAP
                        PERL_PRESERVE_IVUV PERL_SAWAMPERSAND USE_64_BIT_ALL
                        USE_64_BIT_INT USE_LARGE_FILES USE_LOCALE
                        USE_LOCALE_COLLATE USE_LOCALE_CTYPE
                        USE_LOCALE_NUMERIC USE_PERLIO USE_PERL_ATOF
  Built under linux
  Compiled at Oct 11 2013 10:49:28
  %ENV:
    PERL5LIB=""
    PERL5OPT=""
    PERL5_CPANPLUS_IS_RUNNING="11305"
    PERL5_CPAN_IS_RUNNING="11305"
    PERL5_CPAN_IS_RUNNING_IN_RECURSION="374,11305"
    PERL_CR_SMOKER_CURRENT="PDF-ReportWriter-1.5"
    PERL_EXTUTILS_AUTOINSTALL="--defaultdeps"
    PERL_MM_USE_DEFAULT="1"
  @INC:
    /home/graham/perls/perl-5.18.1/lib/site_perl/5.18.1/x86_64-linux
    /home/graham/perls/perl-5.18.1/lib/site_perl/5.18.1
    /home/graham/perls/perl-5.18.1/lib/5.18.1/x86_64-linux
    /home/graham/perls/perl-5.18.1/lib/5.18.1
    .