Catalyst-Controller-ActionRole v0.17 Perl 5 v5.39.3 amd64-freebsd-thread-multi
- Status
- Pass
- From
- Carlos Guevara
- Dist
-
Catalyst-Controller-ActionRole v0.17
- Platform
- Perl 5 v5.39.3 amd64-freebsd-thread-multi
- Date
- 2023-08-26 14:49:05
- ID
- b45ce9b6-441f-11ee-a603-e920d1ee186b
This distribution has been tested as part of the CPAN Testers
project, supporting the Perl programming language. See
http://wiki.cpantesters.org/ for more information or email
questions to cpan-testers-discuss@perl.org
--
Dear Karen Etheridge,
This is a computer-generated report for Catalyst-Controller-ActionRole-0.17
on perl 5.39.3, created by CPAN-Reporter-1.2019.
Thank you for uploading your work to CPAN. Congratulations!
All tests were successful.
Sections of this report:
* Tester comments
* Program output
* Prerequisites
* Environment and other context
------------------------------
TESTER COMMENTS
------------------------------
Additional comments from tester:
this report is from an automated smoke testing program
and was not reviewed by a human for accuracy
------------------------------
PROGRAM OUTPUT
------------------------------
Output from './Build test':
#
# Versions for all modules listed in MYMETA.json (including optional ones):
#
# === Configure Requires ===
#
# Module Want Have
# ------------------- ----- -----
# Module::Build::Tiny 0.039 0.046
#
# === Test Requires ===
#
# Module Want Have
# ---------------------- ---- --------
# Catalyst any 5.90131
# Catalyst::Action any undef
# Catalyst::Action::REST 0.74 1.21
# Catalyst::Test any undef
# ExtUtils::MakeMaker any 7.70
# File::Spec any 3.90
# FindBin any 1.53
# Moose::Role any 2.2206
# Test::More any 1.302195
# lib any 0.65
# namespace::clean any 0.27
# parent any 0.241
# strict any 1.13
# warnings any 1.67
#
# === Test Recommends ===
#
# Module Want Have
# ---------- -------- --------
# CPAN::Meta 2.120900 2.150010
#
# === Runtime Requires ===
#
# Module Want Have
# --------------------- ------- -------
# Catalyst::Controller any undef
# Catalyst::Runtime 5.80025 5.90131
# Catalyst::Utils any undef
# Class::Load any 0.25
# List::Util any 1.63
# Moose any 2.2206
# Moose::Meta::Class any 2.2206
# MooseX::Types::Moose any 0.50
# String::RewritePrefix 0.004 0.009
# namespace::autoclean any 0.29
#
t/00-report-prereqs.t ..... ok
t/action-class.t .......... ok
t/basic.t ................. ok
t/basic_rest.t ............ ok
t/execution-via-config.t .. ok
t/execution-via-does.t .... ok
All tests successful.
Files=6, Tests=44, 6 wallclock secs ( 0.06 usr 0.02 sys + 4.86 cusr 1.34 csys = 6.28 CPU)
Result: PASS
------------------------------
PREREQUISITES
------------------------------
Prerequisite modules loaded:
requires:
Module Need Have
---------------------- ------- --------
Catalyst::Controller 0 0
Catalyst::Runtime 5.80025 5.90131
Catalyst::Utils 0 0
Class::Load 0 0.25
List::Util 0 1.63
Moose 0 2.2206
Moose::Meta::Class 0 2.2206
MooseX::Types::Moose 0 0.50
namespace::autoclean 0 0.29
perl 5.006 5.039003
String::RewritePrefix 0.004 0.009
build_requires:
Module Need Have
---------------------- ------- --------
Catalyst 0 5.90131
Catalyst::Action 0 0
Catalyst::Action::REST 0.74 1.21
Catalyst::Test 0 0
ExtUtils::MakeMaker 0 7.70
File::Spec 0 3.90
FindBin 0 1.53
lib 0 0.65
Moose::Role 0 2.2206
namespace::clean 0 0.27
parent 0 0.241
perl 5.006 5.039003
strict 0 1.13
Test::More 0 1.302195
warnings 0 1.67
configure_requires:
Module Need Have
---------------------- ------- --------
Module::Build::Tiny 0.039 0.046
perl 5.006 5.039003
------------------------------
ENVIRONMENT AND OTHER CONTEXT
------------------------------
Environment variables:
AUTOMATED_TESTING = 1
DATE_MANIP_TEST_DM5 = 1
LANG = C.UTF-8
LC_ALL = C
NONINTERACTIVE_TESTING = 1
NO_NETWORK_TESTING = 1
PATH = /home/cpan/bin/perl/bin:/home/cpan/bin:/sbin:/bin:/usr/sbin:/usr/bin:/usr/local/sbin:/usr/local/bin:/home/cpan/bin
PERL5LIB =
PERL5OPT =
PERL5_CPANPLUS_IS_RUNNING = 18536
PERL5_CPAN_IS_RUNNING = 18536
PERL_MM_USE_DEFAULT = 1
PERL_USE_UNSAFE_INC = 1
SHELL = /usr/local/bin/bash
TERM = screen
TMPDIR = /home/cpan/tmp
Perl special variables (and OS-specific diagnostics, for MSWin32):
$^X = /usr/home/cpan/bin/perl/bin/perl5.39.3
$UID/$EUID = 1002 / 1002
$GID = 1002 1002
$EGID = 1002 1002
Perl module toolchain versions installed:
Module Have
------------------- --------
CPAN 2.36
CPAN::Meta 2.150010
Cwd 3.90
ExtUtils::CBuilder 0.280239
ExtUtils::Command 7.70
ExtUtils::Install 2.22
ExtUtils::MakeMaker 7.70
ExtUtils::Manifest 1.75
ExtUtils::ParseXS 3.51
File::Spec 3.90
JSON 4.10
JSON::PP 4.16
Module::Build 0.4234
Module::Signature n/a
Parse::CPAN::Meta 2.150010
Test2 1.302195
Test::Harness 3.47
Test::More 1.302195
YAML 1.30
YAML::Syck 1.34
version 0.9929
--
Summary of my perl5 (revision 5 version 39 subversion 3) configuration:
Commit id: b82b16a38d98ef71e399a80f4e56073741c613cd
Platform:
osname=freebsd
osvers=13.2-release-p2
archname=amd64-freebsd-thread-multi
uname='freebsd cjg-freebsd13 13.2-release-p2 freebsd 13.2-release-p2 generic amd64 '
config_args='-des -Dprefix=/home/cpan/bin/perl -Dscriptdir=/home/cpan/bin/perl/bin -Dusedevel -Duse64bitall -Duseithreads'
hint=recommended
useposix=true
d_sigaction=define
useithreads=define
usemultiplicity=define
use64bitint=define
use64bitall=define
uselongdouble=undef
usemymalloc=n
default_inc_excludes_dot=define
Compiler:
cc='cc'
ccflags ='-DHAS_FPSETMASK -DHAS_FLOATINGPOINT_H -fno-strict-aliasing -pipe -fstack-protector-strong -I/usr/local/include'
optimize='-O2'
cppflags='-DHAS_FPSETMASK -DHAS_FLOATINGPOINT_H -fno-strict-aliasing -pipe -fstack-protector-strong -I/usr/local/include'
ccversion=''
gccversion='FreeBSD Clang 14.0.5 (https://github.com/llvm/llvm-project.git llvmorg-14.0.5-0-gc12386ae247c)'
gccosandvers=''
intsize=4
longsize=8
ptrsize=8
doublesize=8
byteorder=12345678
doublekind=3
d_longlong=define
longlongsize=8
d_longdbl=define
longdblsize=16
longdblkind=3
ivtype='long'
ivsize=8
nvtype='double'
nvsize=8
Off_t='off_t'
lseeksize=8
alignbytes=8
prototype=define
Linker and Libraries:
ld='cc'
ldflags ='-pthread -Wl,-E -fstack-protector-strong -L/usr/local/lib'
libpth=/usr/lib /usr/local/lib /usr/lib/clang/14.0.5/lib
libs=-lpthread -ldl -lm -lcrypt -lutil
perllibs=-lpthread -ldl -lm -lcrypt -lutil
libc=
so=so
useshrplib=false
libperl=libperl.a
gnulibc_version=''
Dynamic Linking:
dlsrc=dl_dlopen.xs
dlext=so
d_dlsymun=undef
ccdlflags=' '
cccdlflags='-DPIC -fPIC'
lddlflags='-shared -L/usr/local/lib -fstack-protector-strong'
Characteristics of this binary (from libperl):
Compile-time options:
HAS_LONG_DOUBLE
HAS_STRTOLD
HAS_TIMES
MULTIPLICITY
PERLIO_LAYERS
PERL_COPY_ON_WRITE
PERL_DONT_CREATE_GVSV
PERL_HASH_FUNC_SIPHASH13
PERL_HASH_USE_SBOX32
PERL_MALLOC_WRAP
PERL_OP_PARENT
PERL_PRESERVE_IVUV
PERL_USE_DEVEL
PERL_USE_SAFE_PUTENV
USE_64_BIT_ALL
USE_64_BIT_INT
USE_ITHREADS
USE_LARGE_FILES
USE_LOCALE
USE_LOCALE_COLLATE
USE_LOCALE_CTYPE
USE_LOCALE_NUMERIC
USE_LOCALE_TIME
USE_PERLIO
USE_PERL_ATOF
USE_REENTRANT_API
Built under freebsd
Compiled at Aug 26 2023 01:52:28
%ENV:
PERL5LIB=""
PERL5OPT=""
PERL5_CPANPLUS_IS_RUNNING="18536"
PERL5_CPAN_IS_RUNNING="18536"
PERL_MM_USE_DEFAULT="1"
PERL_USE_UNSAFE_INC="1"
@INC:
/home/cpan/bin/perl/lib/site_perl/5.39.3/amd64-freebsd-thread-multi
/home/cpan/bin/perl/lib/site_perl/5.39.3
/home/cpan/bin/perl/lib/5.39.3/amd64-freebsd-thread-multi
/home/cpan/bin/perl/lib/5.39.3
.