JSON-Schema-Modern v0.609 Perl 5 v5.40.0 aarch64-linux
- Status
- Pass
- From
- Slaven Rezić
- Dist
-
JSON-Schema-Modern v0.609
- Platform
- Perl 5 v5.40.0 aarch64-linux
- Date
- 2025-04-21 19:20:37
- ID
- b45a472c-1ee5-11f0-bd19-6e506e8775ea
This distribution has been tested as part of the CPAN Testers
project, supporting the Perl programming language. See
http://wiki.cpantesters.org/ for more information or email
questions to cpan-testers-discuss@perl.org
--
Dear Karen Etheridge,
This is a computer-generated report for JSON-Schema-Modern-0.609
on perl 5.40.0, created by CPAN-Reporter-1.2020.
Thank you for uploading your work to CPAN. Congratulations!
All tests were successful.
Sections of this report:
* Tester comments
* Program output
* Prerequisites
* Environment and other context
------------------------------
TESTER COMMENTS
------------------------------
Additional comments from tester:
this report is from an automated smoke testing program
and was not reviewed by a human for accuracy
------------------------------
PROGRAM OUTPUT
------------------------------
Output from './Build test':
#
# Versions for all modules listed in MYMETA.json (including optional ones):
#
# === Configure Requires ===
#
# Module Want Have
# ------------------- ----- --------
# Module::Build::Tiny 0.034 0.051
# perl 5.020 5.040000
#
# === Test Requires ===
#
# Module Want Have
# ------------------------------ -------- --------
# CPAN::Meta::Check 0.011 0.018
# CPAN::Meta::Requirements any 2.143
# Data::Dumper any 2.189
# File::Spec any 3.90
# Math::BigInt 1.999701 2.005002
# Module::Metadata any 1.000038
# Term::ANSIColor any 5.01
# Test2::API any 1.302209
# Test::Deep any 1.205
# Test::Deep::UnorderedPairs any 0.006
# Test::Fatal any 0.017
# Test::File::ShareDir any 1.001002
# Test::JSON::Schema::Acceptance 1.021 1.026
# Test::Memory::Cycle any 1.06
# Test::More 0.96 1.302209
# Test::Needs any 0.002010
# Test::Warnings any 0.033
# Test::Without::Module 0.19 0.21
# lib any 0.65
# perl v5.20.0 5.040000
# utf8 any 1.25
#
# === Test Recommends ===
#
# Module Want Have
# ---------- -------- --------
# CPAN::Meta 2.120900 2.150010
#
# === Runtime Requires ===
#
# Module Want Have
# ------------------------- -------- --------
# B any 1.89
# Carp any 1.54
# Cpanel::JSON::XS 4.38 4.38
# Digest::MD5 any 2.58_01
# Exporter any 5.78
# Feature::Compat::Try any 0.05
# File::ShareDir any 1.118
# Getopt::Long::Descriptive any 0.114
# JSON::PP 4.11 4.16
# List::Util 1.55 1.69
# MIME::Base64 any 3.16_01
# Math::BigFloat any 2.005002
# Math::BigInt 1.999701 2.005002
# Mojo::JSON any undef
# Mojo::JSON::Pointer any undef
# Mojo::Message::Response any undef
# Mojo::URL any undef
# Mojolicious 7.87 9.39
# Moo any 2.005005
# Moo::Role any 2.005005
# MooX::TypeTiny 0.002002 0.002003
# Path::Tiny any 0.146
# Ref::Util 0.100 0.204
# Safe::Isa 1.000008 1.000010
# Scalar::Util any 1.69
# Storable any 3.32
# Sub::Install any 0.929
# Types::Common::Numeric any 2.008000
# Types::Standard 1.016003 2.008000
# autovivification any 0.18
# builtin::compat 0.003003 0.003003
# constant any 1.33
# experimental 0.026 0.034
# if any 0.0610
# namespace::clean any 0.27
# open any 1.13
# overload any 1.37
# perl v5.20.0 5.040000
# stable 0.031 0.034
# strict any 1.13
# strictures 2 2.000006
# warnings any 1.70
#
# === Runtime Suggests ===
#
# Module Want Have
# ------------------------- ---- -------
# Class::XSAccessor any 1.19
# Data::Validate::Domain 0.13 0.15
# DateTime::Format::RFC3339 any v1.8.0
# Email::Address::XS 1.04 1.05
# Net::IDN::Encode any 2.500
# Ref::Util::XS any 0.117
# Sereal any 5.004
# Time::Moment any 0.44
# Type::Tiny::XS any missing
#
# === Other Modules ===
#
# Module Have
# ----------------- --------
# Cpanel::JSON::XS 4.38
# Encode 3.21
# File::Temp 0.2311
# JSON::PP 4.16
# JSON::XS 4.03
# Math::BigFloat 2.005002
# Math::BigInt 2.005002
# Module::Runtime 0.016
# Mojolicious 9.39
# Sereal::Decoder 5.004
# Sereal::Encoder 5.004
# Sub::Name 0.27
# YAML 1.31
# autodie 2.37
# builtin 0.014
# builtin::Backport missing
#
t/00-report-prereqs.t ................... ok
t/add-schema.t .......................... ok
#
# AUTHOR_TESTING: <undef>
# AUTOMATED_TESTING: 1
# EXTENDED_TESTING: <undef>
# NO_TODO: <undef>
# TEST_DIR: <undef>
# NO_SHORT_CIRCUIT: <undef>
#
#
#
# generated with: Test::JSON::Schema::Acceptance 1.026
# specification version: draft2019-09
# using custom test directory: t/additional-tests-draft2019-09
# optional tests included: yes
#
# filename pass todo-fail fail
# ---------------------------------------------------------------
# anchor.json 2 0 0
# annotation-collection.json 10 0 0
# badRef.json 3 0 0
# faux-buggy-schemas.json 2 0 0
# format-duration.json 9 0 0
# format-ipv4.json 4 0 0
# format-ipv6.json 17 0 0
# format-relative-json-pointer.json 7 0 0
# formats.json 4 0 0
# id.json 6 0 0
# integers.json 29 0 0
# keyword-independence.json 812 0 0
# loose-types-const-enum.json 8 0 0
# recursive-dynamic.json 4 0 0
# ref-and-id.json 6 0 0
# ref.json 10 0 0
# short-circuit.json 20 0 0
# unknownKeyword.json 4 0 0
# vocabulary.json 5 0 0
# optional/format-date-time.json 4 0 0
# optional/format-date.json 1 0 0
# optional/format-time.json 13 0 0
# ---------------------------------------------------------------
# TOTAL 980 0 0
#
# Congratulations, all non-optional tests are passing!
#
t/additional-tests-draft2019-09.t ....... ok
#
# AUTHOR_TESTING: <undef>
# AUTOMATED_TESTING: 1
# EXTENDED_TESTING: <undef>
# NO_TODO: <undef>
# TEST_DIR: <undef>
# NO_SHORT_CIRCUIT: <undef>
#
#
#
# generated with: Test::JSON::Schema::Acceptance 1.026
# specification version: draft2020-12
# using custom test directory: t/additional-tests-draft2020-12
# optional tests included: yes
#
# filename pass todo-fail fail
# ---------------------------------------------------------------
# anchor.json 2 0 0
# annotation-collection.json 10 0 0
# badRef.json 3 0 0
# dynamicRef.json 7 0 0
# faux-buggy-schemas.json 2 0 0
# format-duration.json 9 0 0
# format-ipv4.json 4 0 0
# format-ipv6.json 17 0 0
# format-relative-json-pointer.json 7 0 0
# formats.json 4 0 0
# id.json 6 0 0
# integers.json 29 0 0
# keyword-independence.json 884 0 0
# loose-types-const-enum.json 8 0 0
# recursive-dynamic.json 2 0 0
# ref-and-id.json 6 0 0
# ref.json 10 0 0
# short-circuit.json 20 0 0
# unknownKeyword.json 4 0 0
# vocabulary.json 11 0 0
# optional/format-date-time.json 4 0 0
# optional/format-date.json 1 0 0
# optional/format-time.json 13 0 0
# ---------------------------------------------------------------
# TOTAL 1063 0 0
#
# Congratulations, all non-optional tests are passing!
#
t/additional-tests-draft2020-12.t ....... ok
#
# AUTHOR_TESTING: <undef>
# AUTOMATED_TESTING: 1
# EXTENDED_TESTING: <undef>
# NO_TODO: <undef>
# TEST_DIR: <undef>
# NO_SHORT_CIRCUIT: <undef>
#
#
#
# generated with: Test::JSON::Schema::Acceptance 1.026
# specification version: draft7
# using custom test directory: t/additional-tests-draft7
# optional tests included: yes
#
# filename pass todo-fail fail
# ---------------------------------------------------------------
# badRef.json 3 0 0
# faux-buggy-schemas.json 2 0 0
# format-ipv4.json 4 0 0
# format-relative-json-pointer.json 7 0 0
# id.json 9 0 0
# integers.json 29 0 0
# keyword-independence.json 636 0 0
# loose-types-const-enum.json 8 0 0
# not-an-anchor.json 2 0 0
# not-an-id.json 2 0 0
# ref-and-id.json 2 0 0
# ref.json 10 0 0
# short-circuit.json 16 0 0
# unknownKeyword.json 8 0 0
# vocabulary.json 3 0 0
# optional/format-date-time.json 4 0 0
# optional/format-date.json 1 0 0
# optional/format-time.json 13 0 0
# ---------------------------------------------------------------
# TOTAL 759 0 0
#
# Congratulations, all non-optional tests are passing!
#
t/additional-tests-draft7.t ............. ok
t/annotations.t ......................... ok
t/boolean-data.t ........................ ok
t/boolean-schemas.t ..................... ok
t/cached-metaschemas.t .................. ok
t/callbacks.t ........................... ok
t/checksums.t ........................... ok
t/content-encoding.t .................... ok
t/dialects.t ............................ ok
t/document.t ............................ ok
t/equality.t ............................ ok
t/errors.t .............................. ok
t/evaluate_json_string.t ................ ok
t/find-identifiers.t .................... ok
t/formats.t ............................. ok
#
# AUTHOR_TESTING: <undef>
# AUTOMATED_TESTING: 1
# EXTENDED_TESTING: <undef>
# NO_TODO: <undef>
# TEST_DIR: <undef>
# NO_SHORT_CIRCUIT: <undef>
#
#
#
# generated with: Test::JSON::Schema::Acceptance 1.026
# specification version: draft2019-09
# using custom test directory: t/invalid-schemas
# optional tests included: no
#
# filename pass todo-fail fail
# ---------------------------------------------------------------
# invalid-input.json 2 0 0
# ref.json 2 0 0
# vocabulary.json 4 0 0
# ---------------------------------------------------------------
# TOTAL 8 0 0
#
# Congratulations, all non-optional tests are passing!
#
#
# AUTHOR_TESTING: <undef>
# AUTOMATED_TESTING: 1
# EXTENDED_TESTING: <undef>
# NO_TODO: <undef>
# TEST_DIR: <undef>
# NO_SHORT_CIRCUIT: <undef>
#
#
#
# generated with: Test::JSON::Schema::Acceptance 1.026
# specification version: draft2020-12
# using custom test directory: t/invalid-schemas
# optional tests included: no
#
# filename pass todo-fail fail
# ---------------------------------------------------------------
# invalid-input.json 2 0 0
# ref.json 2 0 0
# vocabulary.json 4 0 0
# ---------------------------------------------------------------
# TOTAL 8 0 0
#
# Congratulations, all non-optional tests are passing!
#
t/invalid-schemas.t ..................... ok
t/max_traversal_depth.t ................. ok
t/multipleOf.t .......................... ok
t/output_format.t ....................... ok
t/pattern.t ............................. ok
t/ref.t ................................. ok
t/serialization.t ....................... ok
t/specification_version.t ............... ok
t/strict.t .............................. ok
t/stringy-numbers.t ..................... ok
t/traverse.t ............................ ok
t/type.t ................................ ok
t/unsupported-keywords.t ................ ok
t/validate-schema.t ..................... ok
t/vocabularies.t ........................ ok
#
# AUTHOR_TESTING: <undef>
# AUTOMATED_TESTING: 1
# EXTENDED_TESTING: <undef>
# NO_TODO: <undef>
# TEST_DIR: <undef>
# NO_SHORT_CIRCUIT: <undef>
#
#
#
# generated with: Test::JSON::Schema::Acceptance 1.026
# with commit: 9fc880bfb6d8ccd093bc82431f17d13681ffae8e (23.2.0-117-g9fc880b)
# from repository: git://github.com/json-schema-org/JSON-Schema-Test-Suite.git
# specification version: draft2019-09
# using custom test directory: <base test directory>/optional/format
# optional tests included: yes
#
# filename pass todo-fail fail
# ---------------------------------------------------------------
# date-time.json 25 0 0
# date.json 47 0 0
# duration.json 25 0 0
# email.json 15 0 0
# hostname.json 23 0 0
# idn-email.json 10 0 0
# idn-hostname.json 41 15 0
# ipv4.json 16 0 0
# ipv6.json 40 0 0
# iri-reference.json 11 2 0
# iri.json 14 1 0
# json-pointer.json 38 0 0
# regex.json 8 0 0
# relative-json-pointer.json 18 0 0
# time.json 45 0 0
# unknown.json 7 0 0
# uri-reference.json 13 0 0
# uri-template.json 9 1 0
# uri.json 25 1 0
# uuid.json 21 0 0
# ---------------------------------------------------------------
# TOTAL 451 20 0
#
# Congratulations, all non-optional tests are passing!
#
t/zzz-acceptance-draft2019-09-format.t .. ok
#
# AUTHOR_TESTING: <undef>
# AUTOMATED_TESTING: 1
# EXTENDED_TESTING: <undef>
# NO_TODO: <undef>
# TEST_DIR: <undef>
# NO_SHORT_CIRCUIT: <undef>
#
#
#
# generated with: Test::JSON::Schema::Acceptance 1.026
# with commit: 9fc880bfb6d8ccd093bc82431f17d13681ffae8e (23.2.0-117-g9fc880b)
# from repository: git://github.com/json-schema-org/JSON-Schema-Test-Suite.git
# specification version: draft2019-09
# optional tests included: yes
# skipping directory: optional/format
#
# filename pass todo-fail fail
# ---------------------------------------------------------------
# additionalItems.json 20 0 0
# additionalProperties.json 21 0 0
# allOf.json 30 0 0
# anchor.json 8 0 0
# anyOf.json 18 0 0
# boolean_schema.json 18 0 0
# const.json 50 0 0
# contains.json 21 0 0
# content.json 18 0 0
# default.json 7 0 0
# defs.json 2 0 0
# dependentRequired.json 20 0 0
# dependentSchemas.json 20 0 0
# enum.json 45 0 0
# exclusiveMaximum.json 4 0 0
# exclusiveMinimum.json 4 0 0
# format.json 114 0 0
# if-then-else.json 26 0 0
# infinite-loop-detection.json 2 0 0
# items.json 28 0 0
# maxContains.json 12 0 0
# maxItems.json 6 0 0
# maxLength.json 7 0 0
# maxProperties.json 10 0 0
# maximum.json 8 0 0
# minContains.json 28 0 0
# minItems.json 6 0 0
# minLength.json 7 0 0
# minProperties.json 8 0 0
# minimum.json 11 0 0
# multipleOf.json 10 0 0
# not.json 40 0 0
# oneOf.json 27 0 0
# pattern.json 9 0 0
# patternProperties.json 23 0 0
# properties.json 28 0 0
# propertyNames.json 13 0 0
# recursiveRef.json 34 0 0
# ref.json 79 0 0
# refRemote.json 31 0 0
# required.json 16 0 0
# type.json 80 0 0
# unevaluatedItems.json 55 0 0
# unevaluatedProperties.json 122 0 0
# uniqueItems.json 69 0 0
# vocabulary.json 5 0 0
# optional/anchor.json 4 0 0
# optional/bignum.json 9 0 0
# optional/cross-draft.json 3 0 0
# optional/dependencies-compatibility.json 22 14 0
# optional/ecmascript-regex.json 60 14 0
# optional/float-overflow.json 1 0 0
# optional/id.json 3 0 0
# optional/no-schema.json 3 0 0
# optional/non-bmp-regex.json 12 0 0
# optional/refOfUnknownKeyword.json 3 3 0
# optional/unknownKeyword.json 3 0 0
# ---------------------------------------------------------------
# TOTAL 1343 31 0
#
# Congratulations, all non-optional tests are passing!
#
t/zzz-acceptance-draft2019-09.t ......... ok
#
# AUTHOR_TESTING: <undef>
# AUTOMATED_TESTING: 1
# EXTENDED_TESTING: <undef>
# NO_TODO: <undef>
# TEST_DIR: <undef>
# NO_SHORT_CIRCUIT: <undef>
#
#
#
# generated with: Test::JSON::Schema::Acceptance 1.026
# with commit: 9fc880bfb6d8ccd093bc82431f17d13681ffae8e (23.2.0-117-g9fc880b)
# from repository: git://github.com/json-schema-org/JSON-Schema-Test-Suite.git
# specification version: draft2020-12
# using custom test directory: <base test directory>/optional/format
# optional tests included: yes
#
# filename pass todo-fail fail
# ---------------------------------------------------------------
# date-time.json 25 0 0
# date.json 47 0 0
# duration.json 25 0 0
# email.json 20 2 0
# hostname.json 23 0 0
# idn-email.json 10 0 0
# idn-hostname.json 41 15 0
# ipv4.json 16 0 0
# ipv6.json 40 0 0
# iri-reference.json 11 2 0
# iri.json 14 1 0
# json-pointer.json 38 0 0
# regex.json 8 0 0
# relative-json-pointer.json 18 0 0
# time.json 45 0 0
# unknown.json 7 0 0
# uri-reference.json 13 0 0
# uri-template.json 9 1 0
# uri.json 25 1 0
# uuid.json 21 0 0
# ---------------------------------------------------------------
# TOTAL 456 22 0
#
# Congratulations, all non-optional tests are passing!
#
t/zzz-acceptance-draft2020-12-format.t .. ok
#
# AUTHOR_TESTING: <undef>
# AUTOMATED_TESTING: 1
# EXTENDED_TESTING: <undef>
# NO_TODO: <undef>
# TEST_DIR: <undef>
# NO_SHORT_CIRCUIT: <undef>
#
#
#
# generated with: Test::JSON::Schema::Acceptance 1.026
# with commit: 9fc880bfb6d8ccd093bc82431f17d13681ffae8e (23.2.0-117-g9fc880b)
# from repository: git://github.com/json-schema-org/JSON-Schema-Test-Suite.git
# specification version: draft2020-12
# optional tests included: yes
# skipping directory: optional/format
#
# filename pass todo-fail fail
# ---------------------------------------------------------------
# additionalProperties.json 21 0 0
# allOf.json 30 0 0
# anchor.json 8 0 0
# anyOf.json 18 0 0
# boolean_schema.json 18 0 0
# const.json 50 0 0
# contains.json 21 0 0
# content.json 18 0 0
# default.json 7 0 0
# defs.json 2 0 0
# dependentRequired.json 20 0 0
# dependentSchemas.json 20 0 0
# dynamicRef.json 42 0 0
# enum.json 45 0 0
# exclusiveMaximum.json 4 0 0
# exclusiveMinimum.json 4 0 0
# format.json 133 0 0
# if-then-else.json 26 0 0
# infinite-loop-detection.json 2 0 0
# items.json 29 0 0
# maxContains.json 12 0 0
# maxItems.json 6 0 0
# maxLength.json 7 0 0
# maxProperties.json 10 0 0
# maximum.json 8 0 0
# minContains.json 28 0 0
# minItems.json 6 0 0
# minLength.json 7 0 0
# minProperties.json 8 0 0
# minimum.json 11 0 0
# multipleOf.json 10 0 0
# not.json 40 0 0
# oneOf.json 27 0 0
# pattern.json 9 0 0
# patternProperties.json 23 0 0
# prefixItems.json 11 0 0
# properties.json 28 0 0
# propertyNames.json 10 0 0
# ref.json 77 0 0
# refRemote.json 31 0 0
# required.json 16 0 0
# type.json 80 0 0
# unevaluatedItems.json 66 0 0
# unevaluatedProperties.json 122 0 0
# uniqueItems.json 69 0 0
# vocabulary.json 5 0 0
# optional/anchor.json 4 0 0
# optional/bignum.json 9 0 0
# optional/cross-draft.json 1 0 0
# optional/dependencies-compatibility.json 22 14 0
# optional/dynamicRef.json 2 0 0
# optional/ecmascript-regex.json 60 15 0
# optional/float-overflow.json 1 0 0
# optional/format-assertion.json 4 0 0
# optional/id.json 3 0 0
# optional/no-schema.json 3 0 0
# optional/non-bmp-regex.json 12 0 0
# optional/refOfUnknownKeyword.json 3 3 0
# optional/unknownKeyword.json 3 0 0
# ---------------------------------------------------------------
# TOTAL 1372 32 0
#
# Congratulations, all non-optional tests are passing!
#
t/zzz-acceptance-draft2020-12.t ......... ok
#
# AUTHOR_TESTING: <undef>
# AUTOMATED_TESTING: 1
# EXTENDED_TESTING: <undef>
# NO_TODO: <undef>
# TEST_DIR: <undef>
# NO_SHORT_CIRCUIT: <undef>
#
#
#
# generated with: Test::JSON::Schema::Acceptance 1.026
# with commit: 9fc880bfb6d8ccd093bc82431f17d13681ffae8e (23.2.0-117-g9fc880b)
# from repository: git://github.com/json-schema-org/JSON-Schema-Test-Suite.git
# specification version: draft4
# using custom test directory: <base test directory>/optional/format
# optional tests included: yes
#
# filename pass todo-fail fail
# ---------------------------------------------------------------
# date-time.json 25 0 0
# email.json 15 0 0
# hostname.json 22 0 0
# ipv4.json 16 0 0
# ipv6.json 40 0 0
# unknown.json 7 0 0
# uri.json 25 1 0
# ---------------------------------------------------------------
# TOTAL 150 1 0
#
# Congratulations, all non-optional tests are passing!
#
t/zzz-acceptance-draft4-format.t ........ ok
#
# AUTHOR_TESTING: <undef>
# AUTOMATED_TESTING: 1
# EXTENDED_TESTING: <undef>
# NO_TODO: <undef>
# TEST_DIR: <undef>
# NO_SHORT_CIRCUIT: <undef>
#
#
#
# generated with: Test::JSON::Schema::Acceptance 1.026
# with commit: 9fc880bfb6d8ccd093bc82431f17d13681ffae8e (23.2.0-117-g9fc880b)
# from repository: git://github.com/json-schema-org/JSON-Schema-Test-Suite.git
# specification version: draft4
# optional tests included: yes
# skipping directory: optional/format
#
# filename pass todo-fail fail
# ---------------------------------------------------------------
# additionalItems.json 18 0 0
# additionalProperties.json 16 0 0
# allOf.json 27 0 0
# anyOf.json 15 0 0
# default.json 7 0 0
# definitions.json 2 0 0
# dependencies.json 29 0 0
# enum.json 45 0 0
# format.json 36 0 0
# infinite-loop-detection.json 2 0 0
# items.json 21 0 0
# maxItems.json 4 0 0
# maxLength.json 5 0 0
# maxProperties.json 8 0 0
# maximum.json 14 0 0
# minItems.json 4 0 0
# minLength.json 5 0 0
# minProperties.json 6 0 0
# minimum.json 17 0 0
# multipleOf.json 10 0 0
# not.json 20 0 0
# oneOf.json 23 0 0
# pattern.json 9 0 0
# patternProperties.json 18 0 0
# properties.json 24 0 0
# ref.json 45 0 0
# refRemote.json 17 0 0
# required.json 15 0 0
# type.json 79 0 0
# uniqueItems.json 69 0 0
# optional/bignum.json 9 0 0
# optional/ecmascript-regex.json 60 14 0
# optional/float-overflow.json 1 0 0
# optional/id.json 3 0 0
# optional/non-bmp-regex.json 12 0 0
# optional/zeroTerminatedFloats.json 0 1 0
# ---------------------------------------------------------------
# TOTAL 695 15 0
#
# Congratulations, all non-optional tests are passing!
#
t/zzz-acceptance-draft4.t ............... ok
#
# AUTHOR_TESTING: <undef>
# AUTOMATED_TESTING: 1
# EXTENDED_TESTING: <undef>
# NO_TODO: <undef>
# TEST_DIR: <undef>
# NO_SHORT_CIRCUIT: <undef>
#
#
#
# generated with: Test::JSON::Schema::Acceptance 1.026
# with commit: 9fc880bfb6d8ccd093bc82431f17d13681ffae8e (23.2.0-117-g9fc880b)
# from repository: git://github.com/json-schema-org/JSON-Schema-Test-Suite.git
# specification version: draft6
# using custom test directory: <base test directory>/optional/format
# optional tests included: yes
#
# filename pass todo-fail fail
# ---------------------------------------------------------------
# date-time.json 25 0 0
# email.json 15 0 0
# hostname.json 22 0 0
# ipv4.json 16 0 0
# ipv6.json 40 0 0
# json-pointer.json 38 0 0
# unknown.json 7 0 0
# uri-reference.json 13 0 0
# uri-template.json 9 1 0
# uri.json 25 1 0
# ---------------------------------------------------------------
# TOTAL 210 2 0
#
# Congratulations, all non-optional tests are passing!
#
t/zzz-acceptance-draft6-format.t ........ ok
#
# AUTHOR_TESTING: <undef>
# AUTOMATED_TESTING: 1
# EXTENDED_TESTING: <undef>
# NO_TODO: <undef>
# TEST_DIR: <undef>
# NO_SHORT_CIRCUIT: <undef>
#
#
#
# generated with: Test::JSON::Schema::Acceptance 1.026
# with commit: 9fc880bfb6d8ccd093bc82431f17d13681ffae8e (23.2.0-117-g9fc880b)
# from repository: git://github.com/json-schema-org/JSON-Schema-Test-Suite.git
# specification version: draft6
# optional tests included: yes
# skipping directory: optional/format
#
# filename pass todo-fail fail
# ---------------------------------------------------------------
# additionalItems.json 20 0 0
# additionalProperties.json 16 0 0
# allOf.json 30 0 0
# anyOf.json 18 0 0
# boolean_schema.json 18 0 0
# const.json 50 0 0
# contains.json 19 0 0
# default.json 7 0 0
# definitions.json 2 0 0
# dependencies.json 36 0 0
# enum.json 45 0 0
# exclusiveMaximum.json 4 0 0
# exclusiveMinimum.json 4 0 0
# format.json 54 0 0
# infinite-loop-detection.json 2 0 0
# items.json 28 0 0
# maxItems.json 6 0 0
# maxLength.json 7 0 0
# maxProperties.json 10 0 0
# maximum.json 8 0 0
# minItems.json 6 0 0
# minLength.json 7 0 0
# minProperties.json 8 0 0
# minimum.json 11 0 0
# multipleOf.json 10 0 0
# not.json 38 0 0
# oneOf.json 27 0 0
# pattern.json 9 0 0
# patternProperties.json 23 0 0
# properties.json 28 0 0
# propertyNames.json 13 0 0
# ref.json 70 0 0
# refRemote.json 23 0 0
# required.json 16 0 0
# type.json 80 0 0
# uniqueItems.json 69 0 0
# optional/bignum.json 9 0 0
# optional/ecmascript-regex.json 60 14 0
# optional/float-overflow.json 1 0 0
# optional/id.json 7 0 0
# optional/non-bmp-regex.json 12 0 0
# optional/unknownKeyword.json 3 0 0
# ---------------------------------------------------------------
# TOTAL 914 14 0
#
# Congratulations, all non-optional tests are passing!
#
t/zzz-acceptance-draft6.t ............... ok
#
# AUTHOR_TESTING: <undef>
# AUTOMATED_TESTING: 1
# EXTENDED_TESTING: <undef>
# NO_TODO: <undef>
# TEST_DIR: <undef>
# NO_SHORT_CIRCUIT: <undef>
#
#
#
# generated with: Test::JSON::Schema::Acceptance 1.026
# with commit: 9fc880bfb6d8ccd093bc82431f17d13681ffae8e (23.2.0-117-g9fc880b)
# from repository: git://github.com/json-schema-org/JSON-Schema-Test-Suite.git
# specification version: draft7
# using custom test directory: <base test directory>/optional/format
# optional tests included: yes
#
# filename pass todo-fail fail
# ---------------------------------------------------------------
# date-time.json 25 0 0
# date.json 47 0 0
# email.json 15 0 0
# hostname.json 22 0 0
# idn-email.json 10 0 0
# idn-hostname.json 40 15 0
# ipv4.json 16 0 0
# ipv6.json 40 0 0
# iri-reference.json 11 2 0
# iri.json 14 1 0
# json-pointer.json 38 0 0
# regex.json 8 0 0
# relative-json-pointer.json 18 0 0
# time.json 45 0 0
# unknown.json 7 0 0
# uri-reference.json 13 0 0
# uri-template.json 9 1 0
# uri.json 25 1 0
# ---------------------------------------------------------------
# TOTAL 403 20 0
#
# Congratulations, all non-optional tests are passing!
#
t/zzz-acceptance-draft7-format.t ........ ok
#
# AUTHOR_TESTING: <undef>
# AUTOMATED_TESTING: 1
# EXTENDED_TESTING: <undef>
# NO_TODO: <undef>
# TEST_DIR: <undef>
# NO_SHORT_CIRCUIT: <undef>
#
#
#
# generated with: Test::JSON::Schema::Acceptance 1.026
# with commit: 9fc880bfb6d8ccd093bc82431f17d13681ffae8e (23.2.0-117-g9fc880b)
# from repository: git://github.com/json-schema-org/JSON-Schema-Test-Suite.git
# specification version: draft7
# optional tests included: yes
# skipping directory: optional/format
#
# filename pass todo-fail fail
# ---------------------------------------------------------------
# additionalItems.json 20 0 0
# additionalProperties.json 16 0 0
# allOf.json 30 0 0
# anyOf.json 18 0 0
# boolean_schema.json 18 0 0
# const.json 50 0 0
# contains.json 21 0 0
# default.json 7 0 0
# definitions.json 2 0 0
# dependencies.json 36 0 0
# enum.json 45 0 0
# exclusiveMaximum.json 4 0 0
# exclusiveMinimum.json 4 0 0
# format.json 102 0 0
# if-then-else.json 26 0 0
# infinite-loop-detection.json 2 0 0
# items.json 28 0 0
# maxItems.json 6 0 0
# maxLength.json 7 0 0
# maxProperties.json 10 0 0
# maximum.json 8 0 0
# minItems.json 6 0 0
# minLength.json 7 0 0
# minProperties.json 8 0 0
# minimum.json 11 0 0
# multipleOf.json 10 0 0
# not.json 38 0 0
# oneOf.json 27 0 0
# pattern.json 9 0 0
# patternProperties.json 23 0 0
# properties.json 28 0 0
# propertyNames.json 13 0 0
# ref.json 78 0 0
# refRemote.json 23 0 0
# required.json 16 0 0
# type.json 80 0 0
# uniqueItems.json 69 0 0
# optional/bignum.json 9 0 0
# optional/content.json 10 0 0
# optional/cross-draft.json 2 0 0
# optional/ecmascript-regex.json 60 14 0
# optional/float-overflow.json 1 0 0
# optional/id.json 7 0 0
# optional/non-bmp-regex.json 12 0 0
# optional/unknownKeyword.json 3 0 0
# ---------------------------------------------------------------
# TOTAL 1010 14 0
#
# Congratulations, all non-optional tests are passing!
#
t/zzz-acceptance-draft7.t ............... ok
# [33mBreakages found with JSON-Schema-Modern:[0m
# [33mInstalled version (0.013) of Mojolicious::Plugin::OpenAPI::Modern is in range '< 0.014'[0m
#
# [33mYou should now update these modules![0m
t/zzz-check-breaks.t .................... ok
All tests successful.
Test Summary Report
-------------------
t/zzz-acceptance-draft2019-09-format.t (Wstat: 0 Tests: 473 Failed: 0)
TODO passed: 146-201, 258-270, 282, 415-424, 450
t/zzz-acceptance-draft2019-09.t (Wstat: 0 Tests: 1376 Failed: 0)
TODO passed: 1237-1272, 1281-1290, 1296, 1307, 1318-1319
1326, 1335-1336, 1343, 1366-1371
t/zzz-acceptance-draft2020-12-format.t (Wstat: 0 Tests: 480 Failed: 0)
TODO passed: 118-119, 153-208, 265-277, 289, 422-431
457
t/zzz-acceptance-draft2020-12.t (Wstat: 0 Tests: 1406 Failed: 0)
TODO passed: 1260-1295, 1306-1315, 1321, 1332, 1343-1344
1351-1352, 1361-1362, 1369, 1396-1401
t/zzz-acceptance-draft4-format.t (Wstat: 0 Tests: 153 Failed: 0)
TODO passed: 151
t/zzz-acceptance-draft4.t (Wstat: 0 Tests: 712 Failed: 0)
TODO passed: 446, 628-637, 643, 654, 665-666, 673, 682-683
690, 710
t/zzz-acceptance-draft6-format.t (Wstat: 0 Tests: 214 Failed: 0)
TODO passed: 177-186, 212
t/zzz-acceptance-draft6.t (Wstat: 0 Tests: 930 Failed: 0)
TODO passed: 840-849, 855, 866, 877-878, 885, 894-895
902
t/zzz-acceptance-draft7-format.t (Wstat: 0 Tests: 425 Failed: 0)
TODO passed: 120-174, 231-243, 255, 388-397, 423
t/zzz-acceptance-draft7.t (Wstat: 0 Tests: 1026 Failed: 0)
TODO passed: 936-945, 951, 962, 973-974, 981, 990-991
998
Files=45, Tests=10345, 111 wallclock secs ( 8.31 usr 0.42 sys + 105.85 cusr 4.48 csys = 119.06 CPU)
Result: PASS
------------------------------
PREREQUISITES
------------------------------
Prerequisite modules loaded:
requires:
Module Need Have
------------------------------ -------- --------
autovivification 0 0.18
B 0 1.89
builtin::compat 0.003003 0.003003
Carp 0 1.54
constant 0 1.33
Cpanel::JSON::XS 4.38 4.38
Digest::MD5 0 2.58_01
experimental 0.026 0.034
Exporter 0 5.78
Feature::Compat::Try 0 0.05
File::ShareDir 0 1.118
Getopt::Long::Descriptive 0 0.114
if 0 0.0610
JSON::PP 4.11 4.16
List::Util 1.55 1.69
Math::BigFloat 0 2.005002
Math::BigInt 1.999701 2.005002
MIME::Base64 0 3.16_01
Mojo::JSON 0 0
Mojo::JSON::Pointer 0 0
Mojo::Message::Response 0 0
Mojo::URL 0 0
Mojolicious 7.87 9.39
Moo 0 2.005005
Moo::Role 0 2.005005
MooX::TypeTiny 0.002002 0.002003
namespace::clean 0 0.27
open 0 1.13
overload 0 1.37
Path::Tiny 0 0.146
perl v5.20.0 5.040000
Ref::Util 0.100 0.204
Safe::Isa 1.000008 1.000010
Scalar::Util 0 1.69
stable 0.031 0.034
Storable 0 3.32
strict 0 1.13
strictures 2 2.000006
Sub::Install 0 0.929
Types::Common::Numeric 0 2.008000
Types::Standard 1.016003 2.008000
warnings 0 1.70
build_requires:
Module Need Have
------------------------------ -------- --------
CPAN::Meta::Check 0.011 0.018
CPAN::Meta::Requirements 0 2.143
Data::Dumper 0 2.189
File::Spec 0 3.90
lib 0 0.65
Math::BigInt 1.999701 2.005002
Module::Metadata 0 1.000038
perl v5.20.0 5.040000
Term::ANSIColor 0 5.01
Test2::API 0 1.302209
Test::Deep 0 1.205
Test::Deep::UnorderedPairs 0 0.006
Test::Fatal 0 0.017
Test::File::ShareDir 0 1.001002
Test::JSON::Schema::Acceptance 1.021 1.026
Test::Memory::Cycle 0 1.06
Test::More 0.96 1.302209
Test::Needs 0 0.002010
Test::Warnings 0 0.033
Test::Without::Module 0.19 0.21
utf8 0 1.25
configure_requires:
Module Need Have
------------------------------ -------- --------
Module::Build::Tiny 0.034 0.051
perl 5.020 5.040000
------------------------------
ENVIRONMENT AND OTHER CONTEXT
------------------------------
Environment variables:
AUTOMATED_TESTING = 1
LANG = en_US.UTF-8
PATH = /usr/local/bin:/usr/bin:/bin:/usr/local/sbin:/usr/sbin:/sbin:/home/cpansand/bin/linux-gnu:/home/cpansand/bin/sh:/home/cpansand/bin:/usr/games:/home/cpansand/devel:/home/eserte/src/srezic-misc/scripts
PERL5LIB = /home/cpansand/.local/share/.cpan/build/2025042023/Graphics-Toolkit-Color-1.71-1/blib/arch:/home/cpansand/.local/share/.cpan/build/2025042023/Graphics-Toolkit-Color-1.71-1/blib/lib
PERL5OPT =
PERL5_CPANPLUS_IS_RUNNING = 930433
PERL5_CPAN_IS_RUNNING = 930433
PERL5_CPAN_IS_RUNNING_IN_RECURSION = 929364,930433
PERLDOC = -MPod::Perldoc::ToTextOverstrike
PERL_BATCH = yes
PERL_CANARY_STABILITY_NOPROMPT = 1
PERL_CPAN_REPORTER_CONFIG = /var/tmp/cpansmoker-1023/2025042023/cpanreporter_000_config.ini
PERL_EXTUTILS_AUTOINSTALL = --defaultdeps
PERL_USE_UNSAFE_INC = 1
SHELL = /usr/bin/zsh
TERM = screen
TMPDIR = /var/tmp/cpansmoker-1023/2025042023
Perl special variables (and OS-specific diagnostics, for MSWin32):
$^X = /opt/perl-5.40.0/bin/perl
$UID/$EUID = 1023 / 1023
$GID = 1023 1023
$EGID = 1023 1023
Perl module toolchain versions installed:
Module Have
------------------- --------
CPAN 2.36
CPAN::Meta 2.150010
Cwd 3.90
ExtUtils::CBuilder 0.280240
ExtUtils::Command 7.72
ExtUtils::Install 2.22
ExtUtils::MakeMaker 7.72
ExtUtils::Manifest 1.75
ExtUtils::ParseXS 3.51
File::Spec 3.90
JSON 4.10
JSON::PP 4.16
Module::Build 0.4234
Module::Signature n/a
Parse::CPAN::Meta 2.150010
Test2 1.302209
Test::Harness 3.48
Test::More 1.302209
YAML 1.31
YAML::Syck 1.34
version 0.9930
--
Summary of my perl5 (revision 5 version 40 subversion 0) configuration:
Platform:
osname=linux
osvers=6.8.0-35-generic
archname=aarch64-linux
uname='linux cloud6.bbbike.org 6.8.0-35-generic #35-ubuntu smp preempt_dynamic tue may 21 07:52:29 utc 2024 aarch64 aarch64 aarch64 gnulinux '
config_args='-ds -e -Dprefix=/opt/perl-5.40.0 -Uinstallusrbinperl -Dcf_email=srezic@cpan.org'
hint=recommended
useposix=true
d_sigaction=define
useithreads=undef
usemultiplicity=undef
use64bitint=define
use64bitall=define
uselongdouble=undef
usemymalloc=n
default_inc_excludes_dot=define
Compiler:
cc='cc'
ccflags ='-fwrapv -fno-strict-aliasing -pipe -fstack-protector-strong -I/usr/local/include -D_LARGEFILE_SOURCE -D_FILE_OFFSET_BITS=64'
optimize='-O2'
cppflags='-fwrapv -fno-strict-aliasing -pipe -fstack-protector-strong -I/usr/local/include'
ccversion=''
gccversion='13.2.0'
gccosandvers=''
intsize=4
longsize=8
ptrsize=8
doublesize=8
byteorder=12345678
doublekind=3
d_longlong=define
longlongsize=8
d_longdbl=define
longdblsize=16
longdblkind=1
ivtype='long'
ivsize=8
nvtype='double'
nvsize=8
Off_t='off_t'
lseeksize=8
alignbytes=8
prototype=define
Linker and Libraries:
ld='cc'
ldflags =' -fstack-protector-strong -L/usr/local/lib'
libpth=/usr/local/lib /usr/lib/aarch64-linux-gnu /usr/lib
libs=-lpthread -ldb -ldl -lm -lcrypt -lutil -lc
perllibs=-lpthread -ldl -lm -lcrypt -lutil -lc
libc=/lib/aarch64-linux-gnu/libc.so.6
so=so
useshrplib=false
libperl=libperl.a
gnulibc_version='2.39'
Dynamic Linking:
dlsrc=dl_dlopen.xs
dlext=so
d_dlsymun=undef
ccdlflags='-Wl,-E'
cccdlflags='-fPIC'
lddlflags='-shared -O2 -L/usr/local/lib -fstack-protector-strong'
Characteristics of this binary (from libperl):
Compile-time options:
HAS_LONG_DOUBLE
HAS_STRTOLD
HAS_TIMES
PERLIO_LAYERS
PERL_COPY_ON_WRITE
PERL_DONT_CREATE_GVSV
PERL_HASH_FUNC_SIPHASH13
PERL_HASH_USE_SBOX32
PERL_MALLOC_WRAP
PERL_OP_PARENT
PERL_PRESERVE_IVUV
PERL_USE_SAFE_PUTENV
USE_64_BIT_ALL
USE_64_BIT_INT
USE_LARGE_FILES
USE_LOCALE
USE_LOCALE_COLLATE
USE_LOCALE_CTYPE
USE_LOCALE_NUMERIC
USE_LOCALE_TIME
USE_PERLIO
USE_PERL_ATOF
Built under linux
Compiled at Jun 10 2024 21:14:35
%ENV:
PERL5LIB="/home/cpansand/.local/share/.cpan/build/2025042023/Graphics-Toolkit-Color-1.71-1/blib/arch:/home/cpansand/.local/share/.cpan/build/2025042023/Graphics-Toolkit-Color-1.71-1/blib/lib"
PERL5OPT=""
PERL5_CPANPLUS_IS_RUNNING="930433"
PERL5_CPAN_IS_RUNNING="930433"
PERL5_CPAN_IS_RUNNING_IN_RECURSION="929364,930433"
PERLDOC="-MPod::Perldoc::ToTextOverstrike"
PERL_BATCH="yes"
PERL_CANARY_STABILITY_NOPROMPT="1"
PERL_CPAN_REPORTER_CONFIG="/var/tmp/cpansmoker-1023/2025042023/cpanreporter_000_config.ini"
PERL_EXTUTILS_AUTOINSTALL="--defaultdeps"
PERL_USE_UNSAFE_INC="1"
@INC:
/home/cpansand/.local/share/.cpan/build/2025042023/Graphics-Toolkit-Color-1.71-1/blib/arch
/home/cpansand/.local/share/.cpan/build/2025042023/Graphics-Toolkit-Color-1.71-1/blib/lib
/opt/perl-5.40.0/lib/site_perl/5.40.0/aarch64-linux
/opt/perl-5.40.0/lib/site_perl/5.40.0
/opt/perl-5.40.0/lib/5.40.0/aarch64-linux
/opt/perl-5.40.0/lib/5.40.0
.