Math-MPFR v4.38 Perl 5 v5.24.0 MSWin32-x86-multi-thread-64int

Status
Pass
From
NONAME
Dist
Math-MPFR v4.38
Platform
Perl 5 v5.24.0 MSWin32-x86-multi-thread-64int
Date
2025-03-19 15:19:37
ID
b3f4ce94-6e90-1014-ae02-01dd07c19ce6
This distribution has been tested as part of the CPAN Testers
project, supporting the Perl programming language.  See
http://wiki.cpantesters.org/ for more information or email
questions to cpan-testers-discuss@perl.org


--
Dear Sisyphus,

This is a computer-generated report for Math-MPFR-4.38
on perl 5.24.0, created by CPAN-Reporter-1.2020.

Thank you for uploading your work to CPAN.  Congratulations!
All tests were successful.

Sections of this report:

    * Tester comments
    * Program output
    * Prerequisites
    * Environment and other context

------------------------------
TESTER COMMENTS
------------------------------

Additional comments from tester:

none provided

------------------------------
PROGRAM OUTPUT
------------------------------

Output from 'C:\Strawberry\c\bin\dmake.exe test':

"C:\Strawberry\perl\bin\perl.exe" -MExtUtils::Command::MM -e cp_nonempty -- MPFR.bs blib\arch\auto\Math\MPFR\MPFR.bs 644
"C:\Strawberry\perl\bin\perl.exe" -MExtUtils::Command::MM -e cp_nonempty -- Prec.bs ..\blib\arch\auto\Math\MPFR\Prec\Prec.bs 644
"C:\Strawberry\perl\bin\perl.exe" -MExtUtils::Command::MM -e cp_nonempty -- Random.bs ..\blib\arch\auto\Math\MPFR\Random\Random.bs 644
"C:\Strawberry\perl\bin\perl.exe" -MExtUtils::Command::MM -e cp_nonempty -- V.bs ..\blib\arch\auto\Math\MPFR\V\V.bs 644
"C:\Strawberry\perl\bin\perl.exe" -MExtUtils::Command::MM -e cp_nonempty -- Prec.bs ..\blib\arch\auto\Math\MPFR\Prec\Prec.bs 644
'No tests defined for Math::MPFR::Prec extension.'
"C:\Strawberry\perl\bin\perl.exe" -MExtUtils::Command::MM -e cp_nonempty -- Random.bs ..\blib\arch\auto\Math\MPFR\Random\Random.bs 644
'No tests defined for Math::MPFR::Random extension.'
"C:\Strawberry\perl\bin\perl.exe" -MExtUtils::Command::MM -e cp_nonempty -- V.bs ..\blib\arch\auto\Math\MPFR\V\V.bs 644
'No tests defined for Math::MPFR::V extension.'
"C:\Strawberry\perl\bin\perl.exe" "-MExtUtils::Command::MM" "-MTest::Harness" "-e" "undef *Test::Harness::Switches; test_harness(0, 'blib\lib', 'blib\arch')" t/*.t

GMP Header version (major): 6
GMP Header version (minor): 1
GMP Header version (patchlevel): 0
GMP CC: gcc -std=gnu99
GMP CFLAGS: -m32 -O2 -pedantic -fomit-frame-pointer
MPFR Header version (major): 3
MPFR Header version (minor): 1
MPFR Header version (patchlevel): 4
t/_1aaa_v.t ...................... ok

# Using Math::MPFR version     4.38
# MPFR_VERSION is              196868
# Using mpfr library version   3.1.4
# Using gmp library version    6.1.0
# GMP_LIMB_BITS is             32
# GMP_NAIL_BITS is             0
# __GMP__CFLAGS is             -m32 -O2 -pedantic -fomit-frame-pointer
# __GMP__CC is                 gcc -std=gnu99
# sizeof mpfr_exp_t:           4 bytes
# sizeof mpfr_prec_t:          4 bytes
# has _WIN32_BIZARRE_INFNAN:   0
# has MPFR_PV_NV_BUG:          0
# has WIN32_FMT_BUG:           1
# has _Float16                 0
# Machine appears to be little-endian
# Byte Order: 12345678
# mpfr library built WITH thread safety
# mpfr library built WITHOUT _Decimal64 support
# mpfr library built WITHOUT gmp internals
# mpfr library thresholds file: src/x86/mparam.h
t/_1basic.t ...................... ok
Skipping test 3 - no long double support
t/_2exp.t ........................ ok
t/_Float16.t ..................... ok
Skipping for 5.024000 - the aim here is to detect any recent changes,
                        not to concern ourselves with old behaviour.
t/_itsa.t ........................ ok
t/anomaly.t ...................... ok
t/anytoa.t ....................... ok
t/atonum.t ....................... ok

 Skipping tests 2 to 3 - nothing else to check
t/atonv.t ........................ ok
t/base_conversion.t .............. ok
t/bessel.t ....................... ok
t/buildopt.t ..................... ok

byteorder: 12345678
longdblkind: 3: x86 80-bit little endian
HAVE_IEEE_754_LONG_DOUBLE is 0
HAVE_EXTENDED_PRECISION_LONG_DOUBLE is 1
t/bytes.t ........................ ok
t/cmp_uj_sj.t .................... ok
MPFR_VERSION: 196868
MPFR_VERSION_STRING: 3.1.4
t/compound.t ..................... ok

FYI:
 DBL_DIG = 15

FYI:
 LDBL_DIG = 18

FYI:
 FLT128_DIG not defined
t/constants.t .................... ok
t/cross_class_mpq.t .............. ok

 Skipping all tests - Math::MPFR not built with MPFR_WANT_DECIMAL64 defined
t/D64_LD.t ....................... ok

 Skipping all tests - Math::MPFR not built with MPFR_WANT_DECIMAL_FLOATS defined
t/decimal128_conv.t .............. ok

 Skipping all tests - Math::MPFR not built with MPFR_WANT_DECIMAL_FLOATS defined
t/decimal64_conv.t ............... ok
 Unable to validate decimalize() results.
 check_exact_decimal() requires mpfr-3.1.6 or later.
 Math::MPFR was built against mpfr-3.1.4. at t/decimalize.t line 194.
check_exact_decimal() requires mpfr-3.1.6 or later
t/decimalize.t ................... ok
t/div_by_zero.t .................. ok

Skipping all tests - not a Double-Double build
t/DoubleDouble.t ................. ok

not a Double-Double build.
LDBL_MANT_DIG is 64
t/DoubleDouble2.t ................ ok

Skipping all tests - they require mpfr-3.1.6 or later
t/doubletoa.t .................... ok
t/exceptions.t ................... ok
 Skipping - these tests require mpfr-4.0.0
 or later, but we have only mpfr-3.1.4
t/faithful_rounding.t ............ ok
t/flags.t ........................ ok

 Skipping all tests: __float128 tests not applicable to this build of perl
t/float128_conv.t ................ ok

 skipping all tests - nvtype is not __float128
t/float128_subnormal.t ........... ok
t/get_IV.t ....................... ok
t/get_NV.t ....................... ok
t/grandom.t ...................... ok
t/hex_fmt.t ...................... ok
t/infnan_str.t ................... ok
t/inits.t ........................ ok
t/integer_string.t ............... ok
t/lngamma_bug.t .................. ok

LDBLKIND: 3
t/LongDouble.t ................... ok

 Skipping tests 19 and 20 - requires mpfr-4.0.0 or later
t/MPFR_RND.t ..................... ok
 Skipping - these tests require mpfr-4.0.0
 or later, but we have only mpfr-3.1.4
t/mpfrtoa.t ...................... ok
Skipping dragon_test() checks - mpfr-3.1.6 (or later) required
t/mpfrtoa_precisions.t ........... ok
t/nan_cmp.t ...................... ok

 Skipping all tests - nvtype is double
t/native_float128.t .............. ok
t/neg_zero_bug.t ................. ok
t/new.t .......................... ok

 Skipping tests 9 to 23 for this version of the mpfr library

 Skipping tests 35 & 36 - nothing to test
t/new_in_4.0.0.t ................. ok

 Skipping tests 2 & 3 - we don't have mpfr-4.1.0 or later

 Skipping tests 9 & 10 - we don't have mpfr-4.1.0 or later
t/new_in_4.1.0.t ................. ok
t/new_pow_log_exp.t .............. ok
ISSUE_19550 not set
t/NOK_and_POK.t .................. ok
t/not_zero.t ..................... ok
t/numtoa.t ....................... ok
t/NV_overloading.t ............... ok
t/nvtoa.t ........................ skipped: nvtoa.t utilizes Math::MPFR functionality that requires mpfr-3.1.6
t/nvtoa2.t ....................... skipped: nvtoa2.t utilizes Math::MPFR functionality that requires mpfr-3.1.6
t/nvtoa3.t ....................... skipped: Perl's string to NV assignment is unreliable
t/nvtoa_dd.t ..................... skipped: nvtoa.t utilizes Math::MPFR functionality that requires mpfr-3.1.6
t/nvtoa_subnormal.t .............. ok
t/out_str.t ...................... ok
t/overload.t ..................... ok
t/overload_cmp_q.t ............... ok
t/overload_cmp_z.t ............... ok
t/overload_cross_class.t ......... ok

 Skipping all tests - can't pass __float128 type
t/overload_float128.t ............ ok
t/overload_math_gmp.t ............ ok
t/overload_mod.t ................. ok
t/overload_shift.t ............... ok
t/overload_switch.t .............. ok
t/overloadex.t ................... ok
t/P_specifier.t .................. ok

Test::Pod version: 1.52

Pod::Simple version: 3.45
t/pod.t .......................... ok
t/printf.t ....................... ok

 MPFR_PV_NV_BUG set to 0
t/PV_NV_BUG.t .................... ok
t/q_arith.t ...................... ok
t/random2.t ...................... ok
t/random3.t ...................... ok
t/remainder.t .................... ok
t/Rmpfr_asinu.t .................. ok
t/Rmpfr_fmod_ui.t ................ ok
t/Rmpfr_get_q.t .................. ok
t/Rmpfr_q_div_and_Rmpfr_z_div.t .. ok
t/Rmpfr_rec_root.t ............... ok
t/Rmpfr_rootn_ui.t ............... ok
t/Rmpfr_sinu.t ................... ok

 # Minimum allowed exponent: -1073741823
 # Current minimum exponent: -1073741823

 Rmpfr_round_nearest_away requires that emin (-1073741823)
 be greater than or equal to emin_min (-1073741823)
Skipping test 125 - __float128 not supported
Skipping test 126 - long double not supported
t/rndna.t ........................ ok

 # Minimum allowed exponent: -1073741823
 # Current minimum exponent: -1073741823
 # Resetting minimum exponent to -1073741822
 #  for this test script. (See the
 #  Rmpfr_round_nearest_away() documentation.)
Skipping test 125 - __float128 not supported
Skipping test 126 - long double not supported
t/rndna2.t ....................... ok
t/ryu_checks.t ................... ok

Using set_uj and _set_sj functions
t/set_IV.t ....................... ok

Using mpfr*_set_d and mpfr_cmp_d functions
t/set_NV.t ....................... ok
t/set_str.t ...................... ok
t/sign.t ......................... ok
t/sizes.t ........................ ok
t/snprintf.t ..................... ok
t/sprintf.t ...................... ok
t/subnormal_doubles.t ............ ok

Calling Rmpfr_free_cache()
t/sum.t .......................... ok
Skipping test 53: Rmpfr_random2 no longer implemented
t/test1.t ........................ ok
t/test2.t ........................ ok
t/test3.t ........................ ok
t/test4.t ........................ ok
t/tls.t .......................... ok
t/tls_flags.t .................... ok
t/trig.t ......................... ok
t/trigamma.t ..................... ok
t/TRmpfr_out_str.t ............... ok
t/underflow.t .................... ok
long long int support detected
Skipping test 4 - original test is no longer relevant at t/use64bitint.t line 230.
t/use64bitint.t .................. ok
Skipping test 2 - nothing to test
Skipping test 3 - nothing to test
Skipping test 4 - no long double support
Skipping test 6 - no long double support
Skipping test 7 - no long double support
Skipping test 8 - no long double support
Skipping test 9 - no long double support
Skipping test 10 - no long double support
t/uselongdouble.t ................ ok

 No tests here - just output (if any) from any configuration
 probing that was done during the 'perl Makefile.PL' step

checklib.exe: Found the mpfr and gmp libraries
try_dec64.exe: mpfr_buildopt_decimal_p() returned false
try_dec128.exe: This version (3.1.4) of mpfr does not support _Decimal128. Need at least 4.1.0


try_flt128 build: C:\Users\user\AppData\Local\Temp\cc4fC8jA.o:try_flt128.in:(.text.startup+0xf): undefined reference to `mpfr_buildopt_float128_p'
collect2.exe: error: ld returned 1 exit status

t/view_config.t .................. ok
All tests successful.
Files=109, Tests=9593, 50 wallclock secs ( 2.15 usr +  0.55 sys =  2.70 CPU)
Result: PASS

------------------------------
PREREQUISITES
------------------------------

Prerequisite modules loaded:

requires:

    Module              Need Have    
    ------------------- ---- --------
    Test::More          0.88 1.302208

build_requires:

    Module              Need Have    
    ------------------- ---- --------
    ExtUtils::MakeMaker 0    7.72    

configure_requires:

    Module              Need Have    
    ------------------- ---- --------
    ExtUtils::MakeMaker 0    7.72    


------------------------------
ENVIRONMENT AND OTHER CONTEXT
------------------------------

Environment variables:

    COMSPEC = C:\windows\system32\cmd.exe
    NONINTERACTIVE_TESTING = 1
    NUMBER_OF_PROCESSORS = 4
    PATH = C:\home\west\perl5\bin;C:\windows\system32;C:\windows;C:\windows\System32\Wbem;C:\windows\System32\WindowsPowerShell\v1.0\;C:\Strawberry\c\bin;C:\Strawberry\perl\site\bin;C:\Strawberry\perl\bin
    PERL5LIB = C:\home\west\perl5\lib\perl5
    PERL5OPT = 
    PERL5_CPANPLUS_IS_RUNNING = 2232
    PERL5_CPAN_IS_RUNNING = 2232
    PERL_LOCAL_LIB_ROOT = C:\home\west\perl5
    PERL_MB_OPT = --install_base "C:\\home\\west\\perl5"
    PERL_MM_OPT = INSTALL_BASE=C:\\home\\west\\perl5
    PERL_MM_USE_DEFAULT = 1
    PERL_USE_UNSAFE_INC = 1
    PROCESSOR_IDENTIFIER = x86 Family 6 Model 37 Stepping 5, GenuineIntel
    TEMP = C:\Users\user\AppData\Local\Temp
    TERM = dumb

Perl special variables (and OS-specific diagnostics, for MSWin32):

    $^X = C:\Strawberry\perl\bin\perl.exe
    $UID/$EUID = 0 / 0
    $GID = 0
    $EGID = 0
    Win32::GetOSName = Win7
    Win32::GetOSVersion = Service Pack 1, 6, 1, 7601, 2, 1, 0, 256, 1
    Win32::FsType = NTFS
    Win32::IsAdminUser = 0

Perl module toolchain versions installed:

    Module              Have    
    ------------------- --------
    CPAN                2.34    
    CPAN::Meta          2.150010
    Cwd                 3.75    
    ExtUtils::CBuilder  0.280236
    ExtUtils::Command   7.72    
    ExtUtils::Install   2.22    
    ExtUtils::MakeMaker 7.72    
    ExtUtils::Manifest  1.75    
    ExtUtils::ParseXS   3.51    
    File::Spec          3.75    
    JSON                4.10    
    JSON::PP            4.17_01 
    Module::Build       0.4234  
    Module::Signature   0.89    
    Parse::CPAN::Meta   2.150010
    Test2               1.302208
    Test::Harness       3.50    
    Test::More          1.302208
    YAML                1.31    
    YAML::Syck          1.34    
    version             0.9933  


--

Summary of my perl5 (revision 5 version 24 subversion 0) configuration:
   
  Platform:
    osname=MSWin32, osvers=6.3, archname=MSWin32-x86-multi-thread-64int
    uname='Win32 strawberry-perl 5.24.0.1 #1 Tue May 10 17:10:11 2016 i386'
    config_args='undef'
    hint=recommended, useposix=true, d_sigaction=undef
    useithreads=define, usemultiplicity=define
    use64bitint=define, use64bitall=undef, uselongdouble=undef
    usemymalloc=n, bincompat5005=undef
  Compiler:
    cc='gcc', ccflags =' -s -O2 -DWIN32  -DPERL_TEXTMODE_SCRIPTS -DPERL_IMPLICIT_CONTEXT -DPERL_IMPLICIT_SYS -fwrapv -fno-strict-aliasing -mms-bitfields',
    optimize='-s -O2',
    cppflags='-DWIN32'
    ccversion='', gccversion='4.9.2', gccosandvers=''
    intsize=4, longsize=4, ptrsize=4, doublesize=8, byteorder=12345678, doublekind=3
    d_longlong=define, longlongsize=8, d_longdbl=define, longdblsize=12, longdblkind=3
    ivtype='long long', ivsize=8, nvtype='double', nvsize=8, Off_t='long long', lseeksize=8
    alignbytes=8, prototype=define
  Linker and Libraries:
    ld='g++', ldflags ='-s -L"C:\Strawberry\perl\lib\CORE" -L"C:\Strawberry\c\lib"'
    libpth=C:\Strawberry\c\lib C:\Strawberry\c\i686-w64-mingw32\lib C:\Strawberry\c\lib\gcc\i686-w64-mingw32\4.9.2
    libs=-lmoldname -lkernel32 -luser32 -lgdi32 -lwinspool -lcomdlg32 -ladvapi32 -lshell32 -lole32 -loleaut32 -lnetapi32 -luuid -lws2_32 -lmpr -lwinmm -lversion -lodbc32 -lodbccp32 -lcomctl32
    perllibs=-lmoldname -lkernel32 -luser32 -lgdi32 -lwinspool -lcomdlg32 -ladvapi32 -lshell32 -lole32 -loleaut32 -lnetapi32 -luuid -lws2_32 -lmpr -lwinmm -lversion -lodbc32 -lodbccp32 -lcomctl32
    libc=, so=dll, useshrplib=true, libperl=libperl524.a
    gnulibc_version=''
  Dynamic Linking:
    dlsrc=dl_win32.xs, dlext=xs.dll, d_dlsymun=undef, ccdlflags=' '
    cccdlflags=' ', lddlflags='-mdll -s -L"C:\Strawberry\perl\lib\CORE" -L"C:\Strawberry\c\lib"'


Characteristics of this binary (from libperl): 
  Compile-time options: HAS_TIMES HAVE_INTERP_INTERN MULTIPLICITY
                        PERLIO_LAYERS PERL_COPY_ON_WRITE
                        PERL_DONT_CREATE_GVSV
                        PERL_HASH_FUNC_ONE_AT_A_TIME_HARD
                        PERL_IMPLICIT_CONTEXT PERL_IMPLICIT_SYS
                        PERL_MALLOC_WRAP PERL_PRESERVE_IVUV USE_64_BIT_INT
                        USE_ITHREADS USE_LARGE_FILES USE_LOCALE
                        USE_LOCALE_COLLATE USE_LOCALE_CTYPE
                        USE_LOCALE_NUMERIC USE_LOCALE_TIME USE_PERLIO
                        USE_PERL_ATOF
  Built under MSWin32
  Compiled at May 10 2016 17:20:50
  %ENV:
    PERL5LIB="C:\home\west\perl5\lib\perl5"
    PERL5_CPANPLUS_IS_RUNNING="2232"
    PERL5_CPAN_IS_RUNNING="2232"
    PERL_LOCAL_LIB_ROOT="C:\home\west\perl5"
    PERL_MB_OPT="--install_base "C:\\home\\west\\perl5""
    PERL_MM_OPT="INSTALL_BASE=C:\\home\\west\\perl5"
    PERL_MM_USE_DEFAULT="1"
    PERL_USE_UNSAFE_INC="1"
  @INC:
    C:\home\west\perl5\lib\perl5/MSWin32-x86-multi-thread-64int
    C:\home\west\perl5\lib\perl5
    C:/Strawberry/perl/site/lib
    C:/Strawberry/perl/vendor/lib
    C:/Strawberry/perl/lib
    .