Report for Directory-Scratch-Structured-0.04

Back
From: metabase:user:315f03b2-2aae-11df-837a-5e0a49663a4f
Subject: PASS Directory-Scratch-Structured-0.04 v5.12.1 Mac OS X
Date: 2012-11-15T05:31:27Z

This distribution has been tested as part of the CPAN Testers
project, supporting the Perl programming language.  See
http://wiki.cpantesters.org/ for more information or email
questions to cpan-testers-discuss@perl.org


--
Dear Nadim Ibn Hamouda El Khemir,

This is a computer-generated report for Directory-Scratch-Structured-0.04
on perl 5.12.1, created by CPAN-Reporter-1.2006.

Thank you for uploading your work to CPAN.  Congratulations!
All tests were successful.

Sections of this report:

    * Tester comments
    * Program output
    * Prerequisites
    * Environment and other context

------------------------------
TESTER COMMENTS
------------------------------

Additional comments from tester:

this report is from an automated smoke testing program
and was not reviewed by a human for accuracy

------------------------------
PROGRAM OUTPUT
------------------------------

Output from './Build test':

t/001_0_load.t ......... ok
t/001_1_load.t ......... ok
t/004_create.t ......... ok
t/005_bad_arguments.t .. ok
All tests successful.
Files=4, Tests=18,  1 wallclock secs ( 0.04 usr  0.02 sys +  0.56 cusr  0.09 csys =  0.71 CPU)
Result: PASS

------------------------------
PREREQUISITES
------------------------------

Prerequisite modules loaded:

requires:

    Module             Need Have 
    ------------------ ---- -----
    Data::TreeDumper   0    0.37 
    Directory::Scratch 0    0.14 
    Readonly           0    1.03 
    Sub::Exporter      0    0.982
    Sub::Install       0    0.925
    Test::Block        0    0.11 
    Test::Exception    0    0.29 
    Test::NoWarnings   0    1.01 
    Test::Strict       0    0.14 
    Test::Warn         0    0.21 


------------------------------
ENVIRONMENT AND OTHER CONTEXT
------------------------------

Environment variables:

    AUTOMATED_TESTING = 1
    PATH = /usr/local/bin:/usr/bin:/bin:/usr/sbin:/sbin:/usr/local/bin:/usr/X11/bin
    PERL5LIB = 
    PERL5OPT = 
    PERL5_CPANPLUS_IS_RUNNING = 56075
    PERL5_CPAN_IS_RUNNING = 56075
    PERL5_CPAN_IS_RUNNING_IN_RECURSION = 49458,56075
    PERL_CR_SMOKER_CURRENT = Directory-Scratch-Structured-0.04
    PERL_EXTUTILS_AUTOINSTALL = --defaultdeps
    PERL_MM_USE_DEFAULT = 1
    SHELL = /bin/bash
    TERM = screen

Perl special variables (and OS-specific diagnostics, for MSWin32):

    $^X = /usr/local/bin/perl
    $UID/$EUID = 666 / 666
    $GID = 666 666 61 12 402 403 102 101
    $EGID = 666 666 61 12 402 403 102 101

Perl module toolchain versions installed:

    Module              Have    
    ------------------- --------
    CPAN                1.9800  
    CPAN::Meta          2.120921
    Cwd                 3.31    
    ExtUtils::CBuilder  0.2703  
    ExtUtils::Command   1.16    
    ExtUtils::Install   1.55    
    ExtUtils::MakeMaker 6.56    
    ExtUtils::Manifest  1.57    
    ExtUtils::ParseXS   2.21    
    File::Spec          3.31    
    JSON                2.50    
    JSON::PP            2.27200 
    Module::Build       0.3607  
    Module::Signature   0.64    
    Parse::CPAN::Meta   1.4404  
    Test::Harness       3.22    
    Test::More          0.96    
    YAML                0.71    
    YAML::Syck          1.10    
    version             0.9901  


--

Summary of my perl5 (revision 5 version 12 subversion 1) configuration:
   
  Platform:
    osname=darwin, osvers=10.3.0, archname=darwin-thread-multi-2level
    uname='darwin pokey 10.3.0 darwin kernel version 10.3.0: fri feb 26 11:58:09 pst 2010; root:xnu-1504.3.12~1release_i386 i386 '
    config_args=''
    hint=recommended, useposix=true, d_sigaction=define
    useithreads=define, usemultiplicity=define
    useperlio=define, d_sfio=undef, uselargefiles=define, usesocks=undef
    use64bitint=define, use64bitall=define, uselongdouble=undef
    usemymalloc=n, bincompat5005=undef
  Compiler:
    cc='cc', ccflags ='-fno-common -DPERL_DARWIN -no-cpp-precomp -fno-strict-aliasing -pipe -fstack-protector -I/usr/local/include -I/opt/local/include',
    optimize='-O3',
    cppflags='-no-cpp-precomp -fno-common -DPERL_DARWIN -no-cpp-precomp -fno-strict-aliasing -pipe -fstack-protector -I/usr/local/include -I/opt/local/include'
    ccversion='', gccversion='4.2.1 (Apple Inc. build 5659)', gccosandvers=''
    intsize=4, longsize=8, ptrsize=8, doublesize=8, byteorder=12345678
    d_longlong=define, longlongsize=8, d_longdbl=define, longdblsize=16
    ivtype='long', ivsize=8, nvtype='double', nvsize=8, Off_t='off_t', lseeksize=8
    alignbytes=8, prototype=define
  Linker and Libraries:
    ld='env MACOSX_DEPLOYMENT_TARGET=10.3 cc', ldflags =' -fstack-protector -L/usr/local/lib -L/opt/local/lib'
    libpth=/usr/local/lib /opt/local/lib /usr/lib
    libs=-lgdbm -ldbm -ldl -lm -lutil -lc
    perllibs=-ldl -lm -lutil -lc
    libc=/usr/lib/libc.dylib, so=dylib, useshrplib=false, libperl=libperl.a
    gnulibc_version=''
  Dynamic Linking:
    dlsrc=dl_dlopen.xs, dlext=bundle, d_dlsymun=undef, ccdlflags=' '
    cccdlflags=' ', lddlflags=' -bundle -undefined dynamic_lookup -L/usr/local/lib -L/opt/local/lib -fstack-protector'


Characteristics of this binary (from libperl): 
  Compile-time options: MULTIPLICITY PERL_DONT_CREATE_GVSV
                        PERL_IMPLICIT_CONTEXT PERL_MALLOC_WRAP USE_64_BIT_ALL
                        USE_64_BIT_INT USE_ITHREADS USE_LARGE_FILES
                        USE_PERLIO USE_PERL_ATOF
  Built under darwin
  Compiled at Jun  9 2010 19:41:09
  %ENV:
    PERL5LIB=""
    PERL5OPT=""
    PERL5_CPANPLUS_IS_RUNNING="56075"
    PERL5_CPAN_IS_RUNNING="56075"
    PERL5_CPAN_IS_RUNNING_IN_RECURSION="49458,56075"
    PERL_CR_SMOKER_CURRENT="Directory-Scratch-Structured-0.04"
    PERL_EXTUTILS_AUTOINSTALL="--defaultdeps"
    PERL_MM_USE_DEFAULT="1"
  @INC:
    /usr/local/lib/perl5/site_perl/5.12.1/darwin-thread-multi-2level
    /usr/local/lib/perl5/site_perl/5.12.1
    /usr/local/lib/perl5/5.12.1/darwin-thread-multi-2level
    /usr/local/lib/perl5/5.12.1
    .