Report for Class-Method-Modifiers-2.10

Back
From: metabase:user:8286d1fc-3d52-11e2-9ec4-cb9cdd236785
Subject: PASS Class-Method-Modifiers-2.10 v5.8.8 GNU/Linux
Date: 2014-06-20T14:46:46Z

This distribution has been tested as part of the CPAN Testers
project, supporting the Perl programming language.  See
http://wiki.cpantesters.org/ for more information or email
questions to cpan-testers-discuss@perl.org


--
Dear Karen Etheridge,

This is a computer-generated report for Class-Method-Modifiers-2.10
on perl 5.8.8, created by CPAN-Reporter-1.2006.

Thank you for uploading your work to CPAN.  Congratulations!
All tests were successful.

Sections of this report:

    * Tester comments
    * Program output
    * Prerequisites
    * Environment and other context

------------------------------
TESTER COMMENTS
------------------------------

Additional comments from tester:

none provided

------------------------------
PROGRAM OUTPUT
------------------------------

Output from '/usr/local/bin/make test':

PERL_DL_NONLAZY=1 /usr/bin/perl "-MExtUtils::Command::MM" "-MTest::Harness" "-e" "undef *Test::Harness::Switches; test_harness(0, 'blib/lib', 'blib/arch')" t/*.t
# 
# Versions for all modules listed in MYMETA.json (including optional ones):
#    Version Module                  
#   -------- ------------------------
#    1.09_01 B                       
#   2.141520 CPAN::Meta              
#      2.125 CPAN::Meta::Requirements
#     1.3301 Carp                    
#       5.70 Exporter                
#       6.98 ExtUtils::MakeMaker     
#       3.47 File::Spec::Functions   
#       1.38 List::Util              
#      0.013 Test::Fatal             
#   1.001003 Test::More              
#       2.18 base                    
#     0.0601 if                      
#       1.03 strict                  
#     0.9908 version                 
#       1.05 warnings                
t/00-report-prereqs.t ............... ok
t/000-load.t ........................ ok
t/001-error.t ....................... ok
t/002-cache.t ....................... ok
t/003-basic.t ....................... ok
t/004-around.t ...................... ok
t/005-return.t ...................... ok
t/010-before-args.t ................. ok
t/011-after-args.t .................. ok
t/012-around-args.t ................. ok
t/020-multiple-inheritance.t ........ ok
t/030-multiple-before.t ............. ok
t/031-multiple-after.t .............. ok
t/032-multiple-around.t ............. ok
t/034-multiple-everything.t ......... ok
t/035-multiple-everything-twice.t ... ok
t/040-twice-orig.t .................. ok
t/041-modify-parent.t ............... ok
t/051-undef-list-ctxt.t ............. ok
t/060-caller.t ...................... ok
t/070-modify-multiple-at-once.t ..... ok
t/080-multiple-modifiers.t .......... ok
t/081-sub-and-modifier.t ............ ok
t/090-diamond.t ..................... ok
t/100-class-mop-method-modifiers.t .. ok
t/110-namespace-clean.t ............. ok
t/120-fresh.t ....................... ok
t/130-clean-underscore.t ............ ok
t/140-lvalue.t ...................... ok
All tests successful.
Files=29, Tests=129, 26 wallclock secs ( 0.33 usr  0.11 sys +  4.58 cusr  0.86 csys =  5.88 CPU)
Result: PASS

------------------------------
PREREQUISITES
------------------------------

Prerequisite modules loaded:

requires:

    Module                Need Have    
    --------------------- ---- --------
    B                     0    1.09_01 
    base                  0    2.18    
    Carp                  0    1.3301  
    Exporter              0    5.70    
    strict                0    1.03    
    warnings              0    1.05    

build_requires:

    Module                Need Have    
    --------------------- ---- --------
    ExtUtils::MakeMaker   0    6.98    
    File::Spec::Functions 0    3.47    
    if                    0    0.0601  
    List::Util            0    1.38    
    Test::Fatal           0    0.013   
    Test::More            0    1.001003
    version               0    0.9908  

configure_requires:

    Module                Need Have    
    --------------------- ---- --------
    ExtUtils::MakeMaker   6.30 6.98    


------------------------------
ENVIRONMENT AND OTHER CONTEXT
------------------------------

Environment variables:

    LANG = en_US.UTF-8
    PATH = /usr/lib/qt-3.3/bin:/usr/kerberos/sbin:/usr/kerberos/bin:/usr/lib/ccache:/usr/local/sbin:/usr/local/bin:/sbin:/bin:/usr/sbin:/usr/bin:/usr/X11R6/bin:/usr/lib/alliance/bin:/opt/real/RealPlayer:/root/bin:/usr/lib/alliance/bin:/opt/real/RealPlayer
    PERL5LIB = 
    PERL5OPT = 
    PERL5_CPANPLUS_IS_RUNNING = 28349
    PERL5_CPAN_IS_RUNNING = 28349
    PERL_ANYEVENT_MODEL = POE
    SHELL = /bin/bash
    TERM = xterm

Perl special variables (and OS-specific diagnostics, for MSWin32):

    $^X = /usr/bin/perl
    $UID/$EUID = 0 / 0
    $GID = 0 10 6 4 3 2 1 0
    $EGID = 0 10 6 4 3 2 1 0

Perl module toolchain versions installed:

    Module              Have    
    ------------------- --------
    CPAN                2.03    
    CPAN::Meta          2.141520
    Cwd                 3.47    
    ExtUtils::CBuilder  0.280216
    ExtUtils::Command   1.17    
    ExtUtils::Install   1.67    
    ExtUtils::MakeMaker 6.98    
    ExtUtils::Manifest  1.63    
    ExtUtils::ParseXS   3.24    
    File::Spec          3.47    
    JSON                2.90    
    JSON::PP            2.27203 
    Module::Build       0.4205  
    Module::Signature   0.73    
    Parse::CPAN::Meta   1.4414  
    Test::Harness       3.32    
    Test::More          1.001003
    YAML                0.90    
    YAML::Syck          1.27    
    version             0.9908  


--

Summary of my perl5 (revision 5 version 8 subversion 8) configuration:
  Platform:
    osname=linux, osvers=2.6.9-55.0.9.elsmp, archname=i386-linux-thread-multi
    uname='linux hs20-bc2-2.build.redhat.com 2.6.9-55.0.9.elsmp #1 smp tue sep 25 02:16:15 edt 2007 i686 i686 i386 gnulinux '
    config_args='-des -Doptimize=-O2 -g -pipe -Wall -Wp,-D_FORTIFY_SOURCE=2 -fexceptions -fstack-protector --param=ssp-buffer-size=4 -m32 -march=i386 -mtune=generic -fasynchronous-unwind-tables -Dversion=5.8.8 -Dmyhostname=localhost -Dperladmin=root@localhost -Dcc=gcc -Dcf_by=Red Hat, Inc. -Dinstallprefix=/usr -Dprefix=/usr -Darchname=i386-linux -Dvendorprefix=/usr -Dsiteprefix=/usr -Duseshrplib -Dusethreads -Duseithreads -Duselargefiles -Dd_dosuid -Dd_semctl_semun -Di_db -Ui_ndbm -Di_gdbm -Di_shadow -Di_syslog -Dman3ext=3pm -Duseperlio -Dinstallusrbinperl=n -Ubincompat5005 -Uversiononly -Dpager=/usr/bin/less -isr -Dd_gethostent_r_proto -Ud_endhostent_r_proto -Ud_sethostent_r_proto -Ud_endprotoent_r_proto -Ud_setprotoent_r_proto -Ud_endservent_r_proto -Ud_setservent_r_proto -Dinc_version_list=5.8.7 5.8.6 5.8.5 -Dscriptdir=/usr/bin'
    hint=recommended, useposix=true, d_sigaction=define
    usethreads=define use5005threads=undef useithreads=define usemultiplicity=define
    useperlio=define d_sfio=undef uselargefiles=define usesocks=undef
    use64bitint=undef use64bitall=undef uselongdouble=undef
    usemymalloc=n, bincompat5005=undef
  Compiler:
    cc='gcc', ccflags ='-D_REENTRANT -D_GNU_SOURCE -fno-strict-aliasing -pipe -Wdeclaration-after-statement -I/usr/local/include -D_LARGEFILE_SOURCE -D_FILE_OFFSET_BITS=64 -I/usr/include/gdbm',
    optimize='-O2 -g -pipe -Wall -Wp,-D_FORTIFY_SOURCE=2 -fexceptions -fstack-protector --param=ssp-buffer-size=4 -m32 -march=i386 -mtune=generic -fasynchronous-unwind-tables',
    cppflags='-D_REENTRANT -D_GNU_SOURCE -fno-strict-aliasing -pipe -Wdeclaration-after-statement -I/usr/local/include -I/usr/include/gdbm'
    ccversion='', gccversion='4.1.2 20070626 (Red Hat 4.1.2-13)', gccosandvers=''
    intsize=4, longsize=4, ptrsize=4, doublesize=8, byteorder=1234
    d_longlong=define, longlongsize=8, d_longdbl=define, longdblsize=12
    ivtype='long', ivsize=4, nvtype='double', nvsize=8, Off_t='off_t', lseeksize=8
    alignbytes=4, prototype=define
  Linker and Libraries:
    ld='gcc', ldflags =' -L/usr/local/lib'
    libpth=/usr/local/lib /lib /usr/lib
    libs=-lresolv -lnsl -lgdbm -ldb -ldl -lm -lcrypt -lutil -lpthread -lc
    perllibs=-lresolv -lnsl -ldl -lm -lcrypt -lutil -lpthread -lc
    libc=/lib/libc-2.5.so, so=so, useshrplib=true, libperl=libperl.so
    gnulibc_version='2.5'
  Dynamic Linking:
    dlsrc=dl_dlopen.xs, dlext=so, d_dlsymun=undef, ccdlflags='-Wl,-E -Wl,-rpath,/usr/lib/perl5/5.8.8/i386-linux-thread-multi/CORE'
    cccdlflags='-fPIC', lddlflags='-shared -O2 -g -pipe -Wall -Wp,-D_FORTIFY_SOURCE=2 -fexceptions -fstack-protector --param=ssp-buffer-size=4 -m32 -march=i386 -mtune=generic -fasynchronous-unwind-tables -L/usr/local/lib'


Characteristics of this binary (from libperl): 
  Compile-time options: MULTIPLICITY PERL_IMPLICIT_CONTEXT
                        PERL_MALLOC_WRAP USE_ITHREADS USE_LARGE_FILES
                        USE_PERLIO USE_REENTRANT_API
  Built under linux
  Compiled at Nov 12 2007 21:36:08
  %ENV:
    PERL5LIB=""
    PERL5OPT=""
    PERL5_CPANPLUS_IS_RUNNING="28349"
    PERL5_CPAN_IS_RUNNING="28349"
    PERL_ANYEVENT_MODEL="POE"
  @INC:
    /usr/lib/perl5/site_perl/5.8.8/i386-linux-thread-multi
    /usr/lib/perl5/site_perl/5.8.7/i386-linux-thread-multi
    /usr/lib/perl5/site_perl/5.8.6/i386-linux-thread-multi
    /usr/lib/perl5/site_perl/5.8.5/i386-linux-thread-multi
    /usr/lib/perl5/site_perl/5.8.8
    /usr/lib/perl5/site_perl/5.8.7
    /usr/lib/perl5/site_perl/5.8.6
    /usr/lib/perl5/site_perl/5.8.5
    /usr/lib/perl5/site_perl
    /usr/lib/perl5/vendor_perl/5.8.8/i386-linux-thread-multi
    /usr/lib/perl5/vendor_perl/5.8.7/i386-linux-thread-multi
    /usr/lib/perl5/vendor_perl/5.8.6/i386-linux-thread-multi
    /usr/lib/perl5/vendor_perl/5.8.5/i386-linux-thread-multi
    /usr/lib/perl5/vendor_perl/5.8.8
    /usr/lib/perl5/vendor_perl/5.8.7
    /usr/lib/perl5/vendor_perl/5.8.6
    /usr/lib/perl5/vendor_perl/5.8.5
    /usr/lib/perl5/vendor_perl
    /usr/lib/perl5/5.8.8/i386-linux-thread-multi
    /usr/lib/perl5/5.8.8
    .