Module-Setup v0.09 Perl 5 v5.10.1 x86_64-linux
- Status
- Pass
- From
- Slaven Rezić (SREZIC)
- Dist
-
Module-Setup v0.09
- Platform
- Perl 5 v5.10.1 x86_64-linux
- Date
- 2017-10-28 12:29:54
- ID
- b3b9f3c8-bbdb-11e7-b679-f28303386f56
This distribution has been tested as part of the CPAN Testers
project, supporting the Perl programming language. See
http://wiki.cpantesters.org/ for more information or email
questions to cpan-testers-discuss@perl.org
--
Dear Kazuhiro Osawa,
This is a computer-generated report for Module-Setup-0.09
on perl 5.10.1, created by CPAN-Reporter-1.2018.
Thank you for uploading your work to CPAN. Congratulations!
All tests were successful.
Sections of this report:
* Tester comments
* Program output
* Prerequisites
* Environment and other context
------------------------------
TESTER COMMENTS
------------------------------
Additional comments from tester:
none provided
------------------------------
PROGRAM OUTPUT
------------------------------
Output from 'make test':
PERL_DL_NONLAZY=1 "/opt/perl-5.10.1/bin/perl" "-MExtUtils::Command::MM" "-MTest::Harness" "-e" "undef *Test::Harness::Switches; test_harness(0, 'inc', 'blib/lib', 'blib/arch')" t/*.t t/*/*.t
t/00_compile.t .................................... ok
t/010_core/detect-flavor-tests-error.t ............ ok
t/010_core/detect_module_and_flavor_name_error.t .. ok
t/010_core/dialog.t ............................... ok
t/010_core/distribute.t ........................... ok
t/010_core/flavor.t ............................... ok
t/010_core/load_argv.t ............................ ok
t/010_core/path.t ................................. ok
t/010_core/select-flavor.t ........................ ok
t/010_core/setup_base_dir.t ....................... ok
t/010_core/setup_options.t ........................ ok
t/010_core/setup_options_code.t ................... ok
t/010_core/stdout-log.t ........................... ok
t/010_core/system.t ............................... ok
t/010_core/test_util.t ............................ ok
t/020_run/additional.t ............................ ok
t/020_run/binary.t ................................ ok
t/020_run/direct.t ................................ ok
t/020_run/dupe-flavor.t ........................... ok
t/020_run/dupe.t .................................. ok
t/020_run/empty_dir.t ............................. ok
t/020_run/fail_flavor.t ........................... ok
t/020_run/hasnt-flavorclass.t ..................... ok
t/020_run/init.t .................................. ok
t/020_run/nullflavors.t ........................... ok
t/020_run/pack-additional.t ....................... ok
t/020_run/pack.t .................................. ok
t/020_run/simple.t ................................ ok
t/030_plugin/append_template_file.t ............... ok
t/030_plugin/append_template_file2.t .............. ok
t/030_plugin/illegalplugin.t ...................... ok
t/030_plugin/illegalpluginconfig.t ................ ok
t/030_plugin/localplugin.t ........................ ok
t/030_plugin/plain.t .............................. ok
t/030_plugin/site_github.t ........................ ok
t/030_plugin/template.t ........................... ok
cannot remove path when cwd is /var/tmp/cpansmoker-1023/2017102806/KKy3J3Mx7j/Test-Makefile3_3 for /var/tmp/cpansmoker-1023/2017102806/KKy3J3Mx7j: at /opt/perl-5.10.1/lib/5.10.1/File/Temp.pm line 1616.
t/030_plugin/test_makefile.t ...................... ok
error: pathspec 'commit' did not match any file(s) known to git.
cannot remove path when cwd is /var/tmp/cpansmoker-1023/2017102806/h1lYsvVjH7/VC-Git3_2 for /var/tmp/cpansmoker-1023/2017102806/h1lYsvVjH7: at /opt/perl-5.10.1/lib/5.10.1/File/Temp.pm line 1616.
t/030_plugin/vc_git.t ............................. ok
Name "Module::Setup::Flavor::Default::setup_config" used only once: possible typo at t/030_plugin/vc_svk.t line 17.
t/030_plugin/vc_svk.t ............................. ok
t/030_plugin/vc_svn.t ............................. ok
t/040_flavor/coderepos.t .......................... ok
t/040_flavor/default-setup_config.t ............... ok
t/040_flavor/default.t ............................ ok
t/040_flavor/github.t ............................. ok
t/050_helper/basic-callback.t ..................... ok
t/050_helper/basic-foo.t .......................... ok
t/050_helper/basic.t .............................. ok
All tests successful.
Files=47, Tests=467, 7 wallclock secs ( 0.07 usr 0.18 sys + 5.73 cusr 1.37 csys = 7.35 CPU)
Result: PASS
------------------------------
PREREQUISITES
------------------------------
Prerequisite modules loaded:
requires:
Module Need Have
---------------------------- ---- --------
Class::Trigger 0 0.14
Cwd 0 3.62
ExtUtils::MakeMaker 0 7.30
File::Basename 0 2.77
File::Find::Rule 0 0.34
File::HomeDir 0 1.002
File::Path 0 2.14
File::Temp 0.2 0.2304
Filter::Util::Call 0 1.08
Getopt::Long 0 2.5
IO::Scalar 0 2.111
LWP::UserAgent 0 6.27
Module::Collect 0.06 0.06
Module::Install::AuthorTests 0 0.002
Module::Install::Repository 0 0.06
Path::Class 0 0.37
Pod::Usage 0 1.69
Scalar::Util 0 1.49
Storable 0 2.51
Template 2.2 2.27
Test::More 0 1.302106
Test::Requires 0 0.10
Text::Patch 0 1.8
YAML 0 1.23
build_requires:
Module Need Have
---------------------------- ---- --------
ExtUtils::MakeMaker 0 7.30
configure_requires:
Module Need Have
---------------------------- ---- --------
ExtUtils::MakeMaker 6.42 7.30
------------------------------
ENVIRONMENT AND OTHER CONTEXT
------------------------------
Environment variables:
LANG = en_US.UTF-8
PATH = /usr/local/bin:/usr/bin:/bin:/usr/local/sbin:/usr/sbin:/sbin:/home/cpansand/bin/linux-gnu:/home/cpansand/bin/sh:/home/cpansand/bin:/usr/games:/home/cpansand/devel:/home/eserte/src/srezic-misc/scripts
PERL5LIB = /home/cpansand/.cpan/build/2017102806/Text-Patch-1.8-0/blib/arch:/home/cpansand/.cpan/build/2017102806/Text-Patch-1.8-0/blib/lib:/home/cpansand/.cpan/build/2017102806/Module-Install-Repository-0.06-0/blib/arch:/home/cpansand/.cpan/build/2017102806/Module-Install-Repository-0.06-0/blib/lib:/home/cpansand/.cpan/build/2017102806/Module-Install-AuthorTests-0.002-0/blib/arch:/home/cpansand/.cpan/build/2017102806/Module-Install-AuthorTests-0.002-0/blib/lib:/home/cpansand/.cpan/build/2017102806/Module-Collect-0.06-0/blib/arch:/home/cpansand/.cpan/build/2017102806/Module-Collect-0.06-0/blib/lib
PERL5OPT =
PERL5_CPANPLUS_IS_RUNNING = 23709
PERL5_CPAN_IS_RUNNING = 23709
PERL5_CPAN_IS_RUNNING_IN_RECURSION = 23693,23709
PERLDOC = -MPod::Perldoc::ToTextOverstrike
PERL_BATCH = yes
PERL_CANARY_STABILITY_NOPROMPT = 1
PERL_CPAN_REPORTER_CONFIG = /var/tmp/cpansmoker-1023/2017102806/cpanreporter_000_config.ini
PERL_EXTUTILS_AUTOINSTALL = --defaultdeps
SHELL = /bin/zsh
TERM = screen
TMPDIR = /var/tmp/cpansmoker-1023/2017102806
Perl special variables (and OS-specific diagnostics, for MSWin32):
$^X = /opt/perl-5.10.1/bin/perl
$UID/$EUID = 1023 / 1023
$GID = 1023 1023
$EGID = 1023 1023
Perl module toolchain versions installed:
Module Have
------------------- --------
CPAN 2.16
CPAN::Meta 2.150010
Cwd 3.62
ExtUtils::CBuilder 0.280226
ExtUtils::Command 7.30
ExtUtils::Install 2.06
ExtUtils::MakeMaker 7.30
ExtUtils::Manifest 1.70
ExtUtils::ParseXS 3.30
File::Spec 3.62
JSON 2.94
JSON::PP 2.94
Module::Build 0.4224
Module::Signature 0.81
Parse::CPAN::Meta 2.150010
Test::Harness 3.39
Test::More 1.302106
YAML 1.23
YAML::Syck 1.30
version 0.9918
--
Summary of my perl5 (revision 5 version 10 subversion 1) configuration:
Platform:
osname=linux, osvers=2.6.32-696.3.1.el6.x86_64, archname=x86_64-linux
uname='linux centos6 2.6.32-696.3.1.el6.x86_64 #1 smp tue may 30 19:52:55 utc 2017 x86_64 x86_64 x86_64 gnulinux '
config_args='-ds -e -Dprefix=/opt/perl-5.10.1 -Dcf_email=srezic@cpan.org'
hint=recommended, useposix=true, d_sigaction=define
useithreads=undef, usemultiplicity=undef
useperlio=define, d_sfio=undef, uselargefiles=define, usesocks=undef
use64bitint=define, use64bitall=define, uselongdouble=undef
usemymalloc=n, bincompat5005=undef
Compiler:
cc='cc', ccflags ='-fno-strict-aliasing -pipe -fstack-protector -I/usr/local/include -D_LARGEFILE_SOURCE -D_FILE_OFFSET_BITS=64',
optimize='-O2',
cppflags='-fno-strict-aliasing -pipe -fstack-protector -I/usr/local/include'
ccversion='', gccversion='4.4.7 20120313 (Red Hat 4.4.7-18)', gccosandvers=''
intsize=4, longsize=8, ptrsize=8, doublesize=8, byteorder=12345678
d_longlong=define, longlongsize=8, d_longdbl=define, longdblsize=16
ivtype='long', ivsize=8, nvtype='double', nvsize=8, Off_t='off_t', lseeksize=8
alignbytes=8, prototype=define
Linker and Libraries:
ld='cc', ldflags =' -fstack-protector -L/usr/local/lib'
libpth=/usr/local/lib /lib /usr/lib /lib64 /usr/lib64 /usr/local/lib64
libs=-lnsl -lgdbm -ldb -ldl -lm -lcrypt -lutil -lc
perllibs=-lnsl -ldl -lm -lcrypt -lutil -lc
libc=, so=so, useshrplib=false, libperl=libperl.a
gnulibc_version='2.12'
Dynamic Linking:
dlsrc=dl_dlopen.xs, dlext=so, d_dlsymun=undef, ccdlflags='-Wl,-E'
cccdlflags='-fPIC', lddlflags='-shared -O2 -L/usr/local/lib -fstack-protector'
Characteristics of this binary (from libperl):
Compile-time options: PERL_DONT_CREATE_GVSV PERL_MALLOC_WRAP USE_64_BIT_ALL
USE_64_BIT_INT USE_LARGE_FILES USE_PERLIO
Built under linux
Compiled at Jun 24 2017 10:30:21
%ENV:
PERL5LIB="/home/cpansand/.cpan/build/2017102806/Text-Patch-1.8-0/blib/arch:/home/cpansand/.cpan/build/2017102806/Text-Patch-1.8-0/blib/lib:/home/cpansand/.cpan/build/2017102806/Module-Install-Repository-0.06-0/blib/arch:/home/cpansand/.cpan/build/2017102806/Module-Install-Repository-0.06-0/blib/lib:/home/cpansand/.cpan/build/2017102806/Module-Install-AuthorTests-0.002-0/blib/arch:/home/cpansand/.cpan/build/2017102806/Module-Install-AuthorTests-0.002-0/blib/lib:/home/cpansand/.cpan/build/2017102806/Module-Collect-0.06-0/blib/arch:/home/cpansand/.cpan/build/2017102806/Module-Collect-0.06-0/blib/lib"
PERL5OPT=""
PERL5_CPANPLUS_IS_RUNNING="23709"
PERL5_CPAN_IS_RUNNING="23709"
PERL5_CPAN_IS_RUNNING_IN_RECURSION="23693,23709"
PERLDOC="-MPod::Perldoc::ToTextOverstrike"
PERL_BATCH="yes"
PERL_CANARY_STABILITY_NOPROMPT="1"
PERL_CPAN_REPORTER_CONFIG="/var/tmp/cpansmoker-1023/2017102806/cpanreporter_000_config.ini"
PERL_EXTUTILS_AUTOINSTALL="--defaultdeps"
@INC:
/home/cpansand/.cpan/build/2017102806/Text-Patch-1.8-0/blib/arch
/home/cpansand/.cpan/build/2017102806/Text-Patch-1.8-0/blib/lib
/home/cpansand/.cpan/build/2017102806/Module-Install-Repository-0.06-0/blib/arch
/home/cpansand/.cpan/build/2017102806/Module-Install-Repository-0.06-0/blib/lib
/home/cpansand/.cpan/build/2017102806/Module-Install-AuthorTests-0.002-0/blib/arch
/home/cpansand/.cpan/build/2017102806/Module-Install-AuthorTests-0.002-0/blib/lib
/home/cpansand/.cpan/build/2017102806/Module-Collect-0.06-0/blib/arch
/home/cpansand/.cpan/build/2017102806/Module-Collect-0.06-0/blib/lib
/opt/perl-5.10.1/lib/5.10.1/x86_64-linux
/opt/perl-5.10.1/lib/5.10.1
/opt/perl-5.10.1/lib/site_perl/5.10.1/x86_64-linux
/opt/perl-5.10.1/lib/site_perl/5.10.1
.