Module-Install v1.21 Perl 5 v5.37.10 x86_64-linux
- Status
- Pass
- From
- Slaven Rezić
- Dist
-
Module-Install v1.21
- Platform
- Perl 5 v5.37.10 x86_64-linux
- Date
- 2023-04-28 08:50:18
- ID
- b3a38f8e-e5a1-11ed-a1f7-16f46d8775ea
This distribution has been tested as part of the CPAN Testers
project, supporting the Perl programming language. See
http://wiki.cpantesters.org/ for more information or email
questions to cpan-testers-discuss@perl.org
--
Dear Karen Etheridge,
This is a computer-generated report for Module-Install-1.21
on perl 5.37.10, created by CPAN-Reporter-1.2018.
Thank you for uploading your work to CPAN. Congratulations!
All tests were successful.
Sections of this report:
* Tester comments
* Program output
* Prerequisites
* Environment and other context
------------------------------
TESTER COMMENTS
------------------------------
Additional comments from tester:
none provided
------------------------------
PROGRAM OUTPUT
------------------------------
Output from '/usr/bin/make test':
PERL_DL_NONLAZY=1 "/opt/perl-5.37.10/bin/perl5.37.10" "-MExtUtils::Command::MM" "-MTest::Harness" "-e" "undef *Test::Harness::Switches; test_harness(0, 'inc', 'blib/lib', 'blib/arch')" t/*.t t/recursive/*.t
t/01_compile.t .......................... ok
t/02_mymeta.t ........................... skipped: New EU::MM has own MYMETA support
t/03_autoinstall.t ...................... skipped: Skipping dangerous test
t/04_version.t .......................... ok
t/05_share.t ............................ ok
t/06_ppport.t ........................... ok
t/07_perl_version.t ..................... ok
t/09_read.t ............................. ok
t/10_test.t ............................. ok
t/11_extraction.t ....................... ok
t/12_eumm_params.t ...................... ok
t/13_author_tests.t ..................... ok
t/13_author_tests_ext.t ................. skipped: requires Module::Install::AuthorTests
t/13_author_tests_ext2.t ................ skipped: requires Module::Install::ExtraTests 0.007
t/14_auto_include_deps_with_version.t ... skipped: your perl is new enough to have File::Spec 3.30 in core
t/15_wrong_usage.t ...................... ok
t/16_require.t .......................... ok
t/17_sign.t ............................. ok
t/18_all_from.t ......................... ok
t/19_authors.t .......................... ok
t/20_authors_with_special_characters.t .. ok
t/21_makemaker_args.t ................... ok
Use of uninitialized value $cmd in substitution (s///) at /opt/perl-5.37.10/lib/5.37.10/ExtUtils/MM_Any.pm line 347.
Use of uninitialized value $mandir in pattern match (m//) at /opt/perl-5.37.10/lib/5.37.10/ExtUtils/MM_Unix.pm line 1529.
Use of uninitialized value $mandir in pattern match (m//) at /opt/perl-5.37.10/lib/5.37.10/ExtUtils/MM_Unix.pm line 1529.
Use of uninitialized value $mandir in pattern match (m//) at /opt/perl-5.37.10/lib/5.37.10/ExtUtils/MM_Unix.pm line 1529.
Use of uninitialized value $mandir in pattern match (m//) at /opt/perl-5.37.10/lib/5.37.10/ExtUtils/MM_Unix.pm line 1529.
Use of uninitialized value $mandir in pattern match (m//) at /opt/perl-5.37.10/lib/5.37.10/ExtUtils/MM_Unix.pm line 1529.
Use of uninitialized value $mandir in pattern match (m//) at /opt/perl-5.37.10/lib/5.37.10/ExtUtils/MM_Unix.pm line 1529.
Use of uninitialized value $mandir in pattern match (m//) at /opt/perl-5.37.10/lib/5.37.10/ExtUtils/MM_Unix.pm line 1529.
Use of uninitialized value $mandir in pattern match (m//) at /opt/perl-5.37.10/lib/5.37.10/ExtUtils/MM_Unix.pm line 1529.
Use of uninitialized value $mandir in pattern match (m//) at /opt/perl-5.37.10/lib/5.37.10/ExtUtils/MM_Unix.pm line 1529.
Use of uninitialized value $cmd in substitution (s///) at /opt/perl-5.37.10/lib/5.37.10/ExtUtils/MM_Any.pm line 347.
Use of uninitialized value $mandir in pattern match (m//) at /opt/perl-5.37.10/lib/5.37.10/ExtUtils/MM_Unix.pm line 1529.
Use of uninitialized value $mandir in pattern match (m//) at /opt/perl-5.37.10/lib/5.37.10/ExtUtils/MM_Unix.pm line 1529.
Use of uninitialized value $mandir in pattern match (m//) at /opt/perl-5.37.10/lib/5.37.10/ExtUtils/MM_Unix.pm line 1529.
Use of uninitialized value $mandir in pattern match (m//) at /opt/perl-5.37.10/lib/5.37.10/ExtUtils/MM_Unix.pm line 1529.
Use of uninitialized value $mandir in pattern match (m//) at /opt/perl-5.37.10/lib/5.37.10/ExtUtils/MM_Unix.pm line 1529.
Use of uninitialized value $mandir in pattern match (m//) at /opt/perl-5.37.10/lib/5.37.10/ExtUtils/MM_Unix.pm line 1529.
Use of uninitialized value $mandir in pattern match (m//) at /opt/perl-5.37.10/lib/5.37.10/ExtUtils/MM_Unix.pm line 1529.
Use of uninitialized value $mandir in pattern match (m//) at /opt/perl-5.37.10/lib/5.37.10/ExtUtils/MM_Unix.pm line 1529.
Use of uninitialized value $mandir in pattern match (m//) at /opt/perl-5.37.10/lib/5.37.10/ExtUtils/MM_Unix.pm line 1529.
Use of uninitialized value $cmd in substitution (s///) at /opt/perl-5.37.10/lib/5.37.10/ExtUtils/MM_Any.pm line 347.
Use of uninitialized value $mandir in pattern match (m//) at /opt/perl-5.37.10/lib/5.37.10/ExtUtils/MM_Unix.pm line 1529.
Use of uninitialized value $mandir in pattern match (m//) at /opt/perl-5.37.10/lib/5.37.10/ExtUtils/MM_Unix.pm line 1529.
Use of uninitialized value $mandir in pattern match (m//) at /opt/perl-5.37.10/lib/5.37.10/ExtUtils/MM_Unix.pm line 1529.
Use of uninitialized value $mandir in pattern match (m//) at /opt/perl-5.37.10/lib/5.37.10/ExtUtils/MM_Unix.pm line 1529.
Use of uninitialized value $mandir in pattern match (m//) at /opt/perl-5.37.10/lib/5.37.10/ExtUtils/MM_Unix.pm line 1529.
Use of uninitialized value $mandir in pattern match (m//) at /opt/perl-5.37.10/lib/5.37.10/ExtUtils/MM_Unix.pm line 1529.
Use of uninitialized value $mandir in pattern match (m//) at /opt/perl-5.37.10/lib/5.37.10/ExtUtils/MM_Unix.pm line 1529.
Use of uninitialized value $mandir in pattern match (m//) at /opt/perl-5.37.10/lib/5.37.10/ExtUtils/MM_Unix.pm line 1529.
Use of uninitialized value $mandir in pattern match (m//) at /opt/perl-5.37.10/lib/5.37.10/ExtUtils/MM_Unix.pm line 1529.
Use of uninitialized value $cmd in substitution (s///) at /opt/perl-5.37.10/lib/5.37.10/ExtUtils/MM_Any.pm line 347.
Use of uninitialized value $mandir in pattern match (m//) at /opt/perl-5.37.10/lib/5.37.10/ExtUtils/MM_Unix.pm line 1529.
Use of uninitialized value $mandir in pattern match (m//) at /opt/perl-5.37.10/lib/5.37.10/ExtUtils/MM_Unix.pm line 1529.
Use of uninitialized value $mandir in pattern match (m//) at /opt/perl-5.37.10/lib/5.37.10/ExtUtils/MM_Unix.pm line 1529.
Use of uninitialized value $mandir in pattern match (m//) at /opt/perl-5.37.10/lib/5.37.10/ExtUtils/MM_Unix.pm line 1529.
Use of uninitialized value $mandir in pattern match (m//) at /opt/perl-5.37.10/lib/5.37.10/ExtUtils/MM_Unix.pm line 1529.
Use of uninitialized value $mandir in pattern match (m//) at /opt/perl-5.37.10/lib/5.37.10/ExtUtils/MM_Unix.pm line 1529.
Use of uninitialized value $mandir in pattern match (m//) at /opt/perl-5.37.10/lib/5.37.10/ExtUtils/MM_Unix.pm line 1529.
Use of uninitialized value $mandir in pattern match (m//) at /opt/perl-5.37.10/lib/5.37.10/ExtUtils/MM_Unix.pm line 1529.
Use of uninitialized value $mandir in pattern match (m//) at /opt/perl-5.37.10/lib/5.37.10/ExtUtils/MM_Unix.pm line 1529.
old INSTALLDIRS (probably set by makemaker_args) is overriden by installdirs
Use of uninitialized value $cmd in substitution (s///) at /opt/perl-5.37.10/lib/5.37.10/ExtUtils/MM_Any.pm line 347.
Use of uninitialized value $mandir in pattern match (m//) at /opt/perl-5.37.10/lib/5.37.10/ExtUtils/MM_Unix.pm line 1529.
Use of uninitialized value $mandir in pattern match (m//) at /opt/perl-5.37.10/lib/5.37.10/ExtUtils/MM_Unix.pm line 1529.
Use of uninitialized value $mandir in pattern match (m//) at /opt/perl-5.37.10/lib/5.37.10/ExtUtils/MM_Unix.pm line 1529.
Use of uninitialized value $mandir in pattern match (m//) at /opt/perl-5.37.10/lib/5.37.10/ExtUtils/MM_Unix.pm line 1529.
Use of uninitialized value $mandir in pattern match (m//) at /opt/perl-5.37.10/lib/5.37.10/ExtUtils/MM_Unix.pm line 1529.
Use of uninitialized value $mandir in pattern match (m//) at /opt/perl-5.37.10/lib/5.37.10/ExtUtils/MM_Unix.pm line 1529.
Use of uninitialized value $mandir in pattern match (m//) at /opt/perl-5.37.10/lib/5.37.10/ExtUtils/MM_Unix.pm line 1529.
Use of uninitialized value $mandir in pattern match (m//) at /opt/perl-5.37.10/lib/5.37.10/ExtUtils/MM_Unix.pm line 1529.
Use of uninitialized value $mandir in pattern match (m//) at /opt/perl-5.37.10/lib/5.37.10/ExtUtils/MM_Unix.pm line 1529.
Use of uninitialized value $cmd in substitution (s///) at /opt/perl-5.37.10/lib/5.37.10/ExtUtils/MM_Any.pm line 347.
Use of uninitialized value $mandir in pattern match (m//) at /opt/perl-5.37.10/lib/5.37.10/ExtUtils/MM_Unix.pm line 1529.
Use of uninitialized value $mandir in pattern match (m//) at /opt/perl-5.37.10/lib/5.37.10/ExtUtils/MM_Unix.pm line 1529.
Use of uninitialized value $mandir in pattern match (m//) at /opt/perl-5.37.10/lib/5.37.10/ExtUtils/MM_Unix.pm line 1529.
Use of uninitialized value $mandir in pattern match (m//) at /opt/perl-5.37.10/lib/5.37.10/ExtUtils/MM_Unix.pm line 1529.
Use of uninitialized value $mandir in pattern match (m//) at /opt/perl-5.37.10/lib/5.37.10/ExtUtils/MM_Unix.pm line 1529.
Use of uninitialized value $mandir in pattern match (m//) at /opt/perl-5.37.10/lib/5.37.10/ExtUtils/MM_Unix.pm line 1529.
Use of uninitialized value $mandir in pattern match (m//) at /opt/perl-5.37.10/lib/5.37.10/ExtUtils/MM_Unix.pm line 1529.
Use of uninitialized value $mandir in pattern match (m//) at /opt/perl-5.37.10/lib/5.37.10/ExtUtils/MM_Unix.pm line 1529.
Use of uninitialized value $mandir in pattern match (m//) at /opt/perl-5.37.10/lib/5.37.10/ExtUtils/MM_Unix.pm line 1529.
t/22_installdirs.t ...................... ok
t/23_pl_files.t ......................... ok
t/24_multiple_license_blocks.t .......... ok
t/25_perl_version_from.t ................ ok
t/26_unknown_func.t ..................... ok
Warning: prerequisite Test::More 9999 not found. We have 1.302194.
t/27_build_requires_and_include.t ....... ok
t/28_makemaker_args.t ................... ok
t/29_requires_from.t .................... ok
t/30_build_subdirs.t .................... ok
t/31_add_metadata.t ..................... ok
t/32_module_name.t ...................... ok
t/33_copy.t ............................. ok
t/34_readwrite.t ........................ ok
t/recursive/test.t ...................... ok
All tests successful.
Files=36, Tests=547, 14 wallclock secs ( 0.16 usr 0.03 sys + 12.67 cusr 1.74 csys = 14.60 CPU)
Result: PASS
------------------------------
PREREQUISITES
------------------------------
Prerequisite modules loaded:
requires:
Module Need Have
------------------- ------ ----------
Devel::PPPort 3.16 3.70
ExtUtils::Install 1.52 2.22
ExtUtils::MakeMaker 6.59 7.66
ExtUtils::ParseXS 2.19 3.49
File::Path 0 2.18
File::Remove 1.42 1.61
File::Spec 3.28 3.88
Module::Build 0.29 0.4232
Module::CoreList 2.17 5.20230320
Module::ScanDeps 1.09 1.31
Parse::CPAN::Meta 1.4413 2.150010
perl 5.006 5.037010
YAML::Tiny 1.38 1.74
build_requires:
Module Need Have
------------------- ------ ----------
autodie 0 2.36
ExtUtils::MakeMaker 6.59 7.66
Test::Harness 3.13 3.44
Test::More 0.86 1.302194
YAML::Tiny 1.33 1.74
configure_requires:
Module Need Have
------------------- ------ ----------
ExtUtils::MakeMaker 6.59 7.66
YAML::Tiny 1.33 1.74
------------------------------
ENVIRONMENT AND OTHER CONTEXT
------------------------------
Environment variables:
LANG = en_US.UTF-8
PATH = /usr/local/bin:/usr/bin:/bin:/usr/local/sbin:/usr/sbin:/sbin:/home/cpansand/bin/linux-gnu:/home/cpansand/bin/sh:/home/cpansand/bin:/usr/games:/home/cpansand/devel:/home/eserte/src/srezic-misc/scripts
PERL5LIB =
PERL5OPT =
PERL5_CPANPLUS_IS_RUNNING = 1806055
PERL5_CPAN_IS_RUNNING = 1806055
PERL5_CPAN_IS_RUNNING_IN_RECURSION = 1805803,1806055
PERLDOC = -MPod::Perldoc::ToTextOverstrike
PERL_BATCH = yes
PERL_CANARY_STABILITY_NOPROMPT = 1
PERL_CPAN_REPORTER_CONFIG = /var/tmp/cpansmoker-1023/2023042808/cpanreporter_000_config.ini
PERL_EXTUTILS_AUTOINSTALL = --defaultdeps
PERL_USE_UNSAFE_INC = 1
SHELL = /usr/bin/zsh
TERM = screen
TMPDIR = /var/tmp/cpansmoker-1023/2023042808
Perl special variables (and OS-specific diagnostics, for MSWin32):
$^X = /opt/perl-5.37.10/bin/perl5.37.10
$UID/$EUID = 1023 / 1023
$GID = 1023 1023
$EGID = 1023 1023
Perl module toolchain versions installed:
Module Have
------------------- --------
CPAN 2.35
CPAN::Meta 2.150010
Cwd 3.89
ExtUtils::CBuilder 0.280238
ExtUtils::Command 7.66
ExtUtils::Install 2.22
ExtUtils::MakeMaker 7.66
ExtUtils::Manifest 1.73
ExtUtils::ParseXS 3.49
File::Spec 3.88
JSON 4.10
JSON::PP 4.16
Module::Build 0.4232
Module::Signature n/a
Parse::CPAN::Meta 2.150010
Test::Harness 3.44
Test::More 1.302194
YAML 1.30
YAML::Syck 1.34
version 0.9929
--
Summary of my perl5 (revision 5 version 37 subversion 10) configuration:
Platform:
osname=linux
osvers=5.10.0-20-amd64
archname=x86_64-linux
uname='linux cloud7.bbbike.org 5.10.0-20-amd64 #1 smp debian 5.10.158-2 (2022-12-13) x86_64 gnulinux '
config_args='-ds -e -Dprefix=/opt/perl-5.37.10 -Dusedevel -Dusemallocwrap=no -Dcf_email=srezic@cpan.org'
hint=recommended
useposix=true
d_sigaction=define
useithreads=undef
usemultiplicity=undef
use64bitint=define
use64bitall=define
uselongdouble=undef
usemymalloc=n
default_inc_excludes_dot=define
Compiler:
cc='cc'
ccflags ='-fwrapv -fno-strict-aliasing -pipe -fstack-protector-strong -I/usr/local/include -D_LARGEFILE_SOURCE -D_FILE_OFFSET_BITS=64 -D_FORTIFY_SOURCE=2'
optimize='-O2'
cppflags='-fwrapv -fno-strict-aliasing -pipe -fstack-protector-strong -I/usr/local/include'
ccversion=''
gccversion='10.2.1 20210110'
gccosandvers=''
intsize=4
longsize=8
ptrsize=8
doublesize=8
byteorder=12345678
doublekind=3
d_longlong=define
longlongsize=8
d_longdbl=define
longdblsize=16
longdblkind=3
ivtype='long'
ivsize=8
nvtype='double'
nvsize=8
Off_t='off_t'
lseeksize=8
alignbytes=8
prototype=define
Linker and Libraries:
ld='cc'
ldflags =' -fstack-protector-strong -L/usr/local/lib'
libpth=/usr/local/lib /usr/lib/x86_64-linux-gnu /usr/lib /usr/lib64
libs=-lpthread -lgdbm -ldb -ldl -lm -lcrypt -lutil -lc
perllibs=-lpthread -ldl -lm -lcrypt -lutil -lc
libc=libc-2.31.so
so=so
useshrplib=false
libperl=libperl.a
gnulibc_version='2.31'
Dynamic Linking:
dlsrc=dl_dlopen.xs
dlext=so
d_dlsymun=undef
ccdlflags='-Wl,-E'
cccdlflags='-fPIC'
lddlflags='-shared -O2 -L/usr/local/lib -fstack-protector-strong'
Characteristics of this binary (from libperl):
Compile-time options:
HAS_TIMES
PERLIO_LAYERS
PERL_COPY_ON_WRITE
PERL_DONT_CREATE_GVSV
PERL_HASH_FUNC_SIPHASH13
PERL_HASH_USE_SBOX32
PERL_OP_PARENT
PERL_PRESERVE_IVUV
PERL_USE_DEVEL
PERL_USE_SAFE_PUTENV
USE_64_BIT_ALL
USE_64_BIT_INT
USE_LARGE_FILES
USE_LOCALE
USE_LOCALE_COLLATE
USE_LOCALE_CTYPE
USE_LOCALE_NUMERIC
USE_LOCALE_TIME
USE_PERLIO
USE_PERL_ATOF
Built under linux
Compiled at Apr 3 2023 05:51:35
%ENV:
PERL5LIB=""
PERL5OPT=""
PERL5_CPANPLUS_IS_RUNNING="1806055"
PERL5_CPAN_IS_RUNNING="1806055"
PERL5_CPAN_IS_RUNNING_IN_RECURSION="1805803,1806055"
PERLDOC="-MPod::Perldoc::ToTextOverstrike"
PERL_BATCH="yes"
PERL_CANARY_STABILITY_NOPROMPT="1"
PERL_CPAN_REPORTER_CONFIG="/var/tmp/cpansmoker-1023/2023042808/cpanreporter_000_config.ini"
PERL_EXTUTILS_AUTOINSTALL="--defaultdeps"
PERL_USE_UNSAFE_INC="1"
@INC:
/opt/perl-5.37.10/lib/site_perl/5.37.10/x86_64-linux
/opt/perl-5.37.10/lib/site_perl/5.37.10
/opt/perl-5.37.10/lib/5.37.10/x86_64-linux
/opt/perl-5.37.10/lib/5.37.10
.