Back
From: metabase:user:aa2f4906-a28e-11e0-92e0-7574012c00e7
Subject: PASS Class-StrongSingleton-0.02 v5.15.0 FreeBSD
Date: 2011-12-03T06:19:05Z
This distribution has been tested as part of the CPAN Testers
project, supporting the Perl programming language. See
http://wiki.cpantesters.org/ for more information or email
questions to cpan-testers-discuss@perl.org
--
Dear Stevan Little,
This is a computer-generated report for Class-StrongSingleton-0.02
on perl 5.15.0, created by CPAN-Reporter-1.2002.
Thank you for uploading your work to CPAN. Congratulations!
All tests were successful.
Sections of this report:
* Tester comments
* Program output
* Prerequisites
* Environment and other context
------------------------------
TESTER COMMENTS
------------------------------
Additional comments from tester:
this report is from an automated smoke testing program
and was not reviewed by a human for accuracy
------------------------------
PROGRAM OUTPUT
------------------------------
Output from '/usr/bin/make test':
PERL_DL_NONLAZY=1 /home/sean/perl5/perlbrew/perls/perl-5.15.0/bin/perl5.15.0 "-MExtUtils::Command::MM" "-e" "test_harness(0, 'blib/lib', 'blib/arch')" t/*.t
Attempt to free unreferenced scalar: SV 0x2836e260 at /usr/home/sean/.cpan/build/Class-StrongSingleton-0.02-4GSOmf/blib/lib/Class/StrongSingleton.pm line 58.
t/10_Class_StrongSingleton_test.t .. ok
t/pod.t ............................ skipped: Test::Pod 1.14 required for testing POD
t/pod_coverage.t ................... skipped: Test::Pod::Coverage 1.04 required for testing POD coverage
All tests successful.
Files=3, Tests=25, 0 wallclock secs ( 0.10 usr 0.04 sys + 0.22 cusr 0.09 csys = 0.45 CPU)
Result: PASS
------------------------------
PREREQUISITES
------------------------------
Prerequisite modules loaded:
requires:
Module Need Have
------------------- ---- -------
Test::More 0.47 0.98
build_requires:
Module Need Have
------------------- ---- -------
ExtUtils::MakeMaker 0 6.57_05
------------------------------
ENVIRONMENT AND OTHER CONTEXT
------------------------------
Environment variables:
AUTOMATED_TESTING = 1
PATH = /home/sean/perl5/perlbrew/bin:/home/sean/perl5/perlbrew/perls/perl-5.15.0/bin:/sbin:/bin:/usr/sbin:/usr/bin:/usr/games:/usr/local/sbin:/usr/local/bin:/home/sean/bin
PATH_WITHOUT_PERLBREW = /sbin:/bin:/usr/sbin:/usr/bin:/usr/games:/usr/local/sbin:/usr/local/bin:/home/sean/bin
PERL5LIB = /home/sean/.cpan/build/XML-SAX-0.99-0JcUDf/blib/arch:/home/sean/.cpan/build/XML-SAX-0.99-0JcUDf/blib/lib:/home/sean/.cpan/build/XML-SAX-Base-1.08-xLvhob/blib/arch:/home/sean/.cpan/build/XML-SAX-Base-1.08-xLvhob/blib/lib:/home/sean/.cpan/build/XML-NamespaceSupport-1.11-STssbJ/blib/arch:/home/sean/.cpan/build/XML-NamespaceSupport-1.11-STssbJ/blib/lib:/home/sean/.cpan/build/Class-Throwable-0.11-dx7hLq/blib/arch:/home/sean/.cpan/build/Class-Throwable-0.11-dx7hLq/blib/lib
PERL5OPT =
PERL5_CPANPLUS_IS_RUNNING = 69095
PERL5_CPAN_IS_RUNNING = 69095
PERL5_CPAN_IS_RUNNING_IN_RECURSION = 59198,69095
PERLBREW_HOME = /home/sean/.perlbrew
PERLBREW_PATH = /home/sean/perl5/perlbrew/bin:/home/sean/perl5/perlbrew/perls/perl-5.15.0/bin
PERLBREW_PERL = perl-5.15.0
PERLBREW_ROOT = /home/sean/perl5/perlbrew
PERLBREW_VERSION = 0.25
PERL_CR_SMOKER_CURRENT = MooseX-IOC-0.03
PERL_EXTUTILS_AUTOINSTALL = --defaultdeps
PERL_MM_USE_DEFAULT = 1
SHELL = /usr/local/bin/bash
TERM = screen
Perl special variables (and OS-specific diagnostics, for MSWin32):
$^X = /home/sean/perl5/perlbrew/perls/perl-5.15.0/bin/perl5.15.0
$UID/$EUID = 1001 / 1001
$GID = 1001 1001 0
$EGID = 1001 1001 0
Perl module toolchain versions installed:
Module Have
------------------- --------
CPAN 1.9800
CPAN::Meta 2.110930
Cwd 3.36
ExtUtils::CBuilder 0.280204
ExtUtils::Command 1.17
ExtUtils::Install 1.56
ExtUtils::MakeMaker 6.57_05
ExtUtils::Manifest 1.58
ExtUtils::ParseXS 2.2210
File::Spec 3.33
JSON 2.53
JSON::PP 2.27200
Module::Build 0.3800
Module::Signature n/a
Parse::CPAN::Meta 1.4401
Test::Harness 3.23
Test::More 0.98
YAML 0.73
YAML::Syck n/a
version 0.88
--
Summary of my perl5 (revision 5 version 15 subversion 0) configuration:
Platform:
osname=freebsd, osvers=8.2-release, archname=i386-freebsd
uname='freebsd muso.wowway.com 8.2-release freebsd 8.2-release #0: fri feb 18 02:24:46 utc 2011 root@almeida.cse.buffalo.edu:usrobjusrsrcsysgeneric i386 '
config_args='-de -Dprefix=/home/sean/perl5/perlbrew/perls/perl-5.15.0 -Dusedevel'
hint=recommended, useposix=true, d_sigaction=define
useithreads=undef, usemultiplicity=undef
useperlio=define, d_sfio=undef, uselargefiles=define, usesocks=undef
use64bitint=undef, use64bitall=undef, uselongdouble=undef
usemymalloc=n, bincompat5005=undef
Compiler:
cc='cc', ccflags ='-DHAS_FPSETMASK -DHAS_FLOATINGPOINT_H -fno-strict-aliasing -pipe -fstack-protector -I/usr/local/include',
optimize='-O',
cppflags='-DHAS_FPSETMASK -DHAS_FLOATINGPOINT_H -fno-strict-aliasing -pipe -fstack-protector -I/usr/local/include'
ccversion='', gccversion='4.2.1 20070719 [FreeBSD]', gccosandvers=''
intsize=4, longsize=4, ptrsize=4, doublesize=8, byteorder=1234
d_longlong=define, longlongsize=8, d_longdbl=define, longdblsize=12
ivtype='long', ivsize=4, nvtype='double', nvsize=8, Off_t='off_t', lseeksize=8
alignbytes=4, prototype=define
Linker and Libraries:
ld='cc', ldflags ='-Wl,-E -fstack-protector -L/usr/local/lib'
libpth=/usr/lib /usr/local/lib
libs=-lgdbm -lm -lcrypt -lutil -lc
perllibs=-lm -lcrypt -lutil -lc
libc=, so=so, useshrplib=false, libperl=libperl.a
gnulibc_version=''
Dynamic Linking:
dlsrc=dl_dlopen.xs, dlext=so, d_dlsymun=undef, ccdlflags=' '
cccdlflags='-DPIC -fPIC', lddlflags='-shared -L/usr/local/lib -fstack-protector'
Characteristics of this binary (from libperl):
Compile-time options: PERL_DONT_CREATE_GVSV PERL_MALLOC_WRAP
PERL_PRESERVE_IVUV PERL_USE_DEVEL USE_LARGE_FILES
USE_LOCALE USE_LOCALE_COLLATE USE_LOCALE_CTYPE
USE_LOCALE_NUMERIC USE_PERLIO USE_PERL_ATOF
Built under freebsd
Compiled at Jul 7 2011 21:18:11
%ENV:
PERL5LIB="/home/sean/.cpan/build/XML-SAX-0.99-0JcUDf/blib/arch:/home/sean/.cpan/build/XML-SAX-0.99-0JcUDf/blib/lib:/home/sean/.cpan/build/XML-SAX-Base-1.08-xLvhob/blib/arch:/home/sean/.cpan/build/XML-SAX-Base-1.08-xLvhob/blib/lib:/home/sean/.cpan/build/XML-NamespaceSupport-1.11-STssbJ/blib/arch:/home/sean/.cpan/build/XML-NamespaceSupport-1.11-STssbJ/blib/lib:/home/sean/.cpan/build/Class-Throwable-0.11-dx7hLq/blib/arch:/home/sean/.cpan/build/Class-Throwable-0.11-dx7hLq/blib/lib"
PERL5OPT=""
PERL5_CPANPLUS_IS_RUNNING="69095"
PERL5_CPAN_IS_RUNNING="69095"
PERL5_CPAN_IS_RUNNING_IN_RECURSION="59198,69095"
PERLBREW_HOME="/home/sean/.perlbrew"
PERLBREW_PATH="/home/sean/perl5/perlbrew/bin:/home/sean/perl5/perlbrew/perls/perl-5.15.0/bin"
PERLBREW_PERL="perl-5.15.0"
PERLBREW_ROOT="/home/sean/perl5/perlbrew"
PERLBREW_VERSION="0.25"
PERL_CR_SMOKER_CURRENT="MooseX-IOC-0.03"
PERL_EXTUTILS_AUTOINSTALL="--defaultdeps"
PERL_MM_USE_DEFAULT="1"
@INC:
/home/sean/.cpan/build/XML-SAX-0.99-0JcUDf/blib/arch
/home/sean/.cpan/build/XML-SAX-0.99-0JcUDf/blib/lib
/home/sean/.cpan/build/XML-SAX-Base-1.08-xLvhob/blib/arch
/home/sean/.cpan/build/XML-SAX-Base-1.08-xLvhob/blib/lib
/home/sean/.cpan/build/XML-NamespaceSupport-1.11-STssbJ/blib/arch
/home/sean/.cpan/build/XML-NamespaceSupport-1.11-STssbJ/blib/lib
/home/sean/.cpan/build/Class-Throwable-0.11-dx7hLq/blib/arch
/home/sean/.cpan/build/Class-Throwable-0.11-dx7hLq/blib/lib
/home/sean/perl5/perlbrew/perls/perl-5.15.0/lib/site_perl/5.15.0/i386-freebsd
/home/sean/perl5/perlbrew/perls/perl-5.15.0/lib/site_perl/5.15.0
/home/sean/perl5/perlbrew/perls/perl-5.15.0/lib/5.15.0/i386-freebsd
/home/sean/perl5/perlbrew/perls/perl-5.15.0/lib/5.15.0
.