Catalyst-Model-CacheFunky-Loader v0.06 Perl 5 v5.38.3 x86_64-linux-thread-multi
- Status
- Pass
- From
- Andreas J. König (ANDK)
- Dist
-
Catalyst-Model-CacheFunky-Loader v0.06
- Platform
- Perl 5 v5.38.3 x86_64-linux-thread-multi
- Date
- 2025-01-23 06:10:10
- ID
- b37d705c-d950-11ef-8e46-e7d832e1130e
This distribution has been tested as part of the CPAN Testers
project, supporting the Perl programming language. See
http://wiki.cpantesters.org/ for more information or email
questions to cpan-testers-discuss@perl.org
--
Dear Tomohiro Teranishi,
This is a computer-generated report for Catalyst-Model-CacheFunky-Loader-0.06
on perl 5.38.3, created by CPAN-Reporter-1.2020.
Thank you for uploading your work to CPAN. Congratulations!
All tests were successful.
Sections of this report:
* Tester comments
* Program output
* Prerequisites
* Environment and other context
------------------------------
TESTER COMMENTS
------------------------------
Additional comments from tester:
this report is from an automated smoke testing program
and was not reviewed by a human for accuracy
------------------------------
PROGRAM OUTPUT
------------------------------
Output from '/usr/bin/make test':
"/tmp/basesmoker-reloperl-aFHk/bin/perl" "-Iinc" Makefile.PL --config= --installdeps=Cache::Funky,0,Module::Recursive::Require,0.04
Cannot determine perl version info from lib/Catalyst/Model/CacheFunky/Loader.pm
PERL_DL_NONLAZY=1 "/tmp/basesmoker-reloperl-aFHk/bin/perl" "-MExtUtils::Command::MM" "-MTest::Harness" "-e" "undef *Test::Harness::Switches; test_harness(0, 'inc', 'blib/lib', 'blib/arch')" t/00-load.t t/01_app.t t/boilerplate.t t/pod-coverage.t t/pod.t t/spelling.t
# Testing Catalyst::Model::CacheFunky::Loader 0.06, Perl 5.038003, /tmp/basesmoker-reloperl-aFHk/bin/perl
t/00-load.t ....... ok
[debug] Debug messages enabled
[debug] Statistics enabled
Catalyst::Model::CacheFunky::Loader uses NEXT, which is deprecated. Please see the Class::C3::Adopt::NEXT documentation for details. NEXT used at /tmp/loop_over_bdir-641295-BGeEVH/Catalyst-Model-CacheFunky-Loader-0.06-0/blib/lib/Catalyst/Model/CacheFunky/Loader.pm line 13.
[debug] Loaded plugins:
.----------------------------------------------------------------------------.
| Catalyst::Plugin::ConfigLoader 0.35 |
'----------------------------------------------------------------------------'
[debug] Loaded PSGI Middleware:
.----------------------------------------------------------------------------.
| Catalyst::Middleware::Stash |
| Plack::Middleware::HTTPExceptions |
| Plack::Middleware::RemoveRedundantBody 0.09 |
| Plack::Middleware::FixMissingBodyInRedirect 0.12 |
| Plack::Middleware::ContentLength |
| Plack::Middleware::MethodOverride 0.20 |
| Plack::Middleware::Head |
'----------------------------------------------------------------------------'
[debug] Loaded Request Data Handlers:
.----------------------------------------------------------------------------.
| application/x-www-form-urlencoded |
| application/json |
'----------------------------------------------------------------------------'
[debug] Loaded dispatcher "Catalyst::Dispatcher"
[debug] Loaded engine "Catalyst::Engine"
[debug] Found home "/tmp/loop_over_bdir-641295-BGeEVH/Catalyst-Model-CacheFunky-Loader-0.06-0/t/lib/TestApp"
[debug] Loaded components:
.-----------------------------------------------------------------+----------.
| Class | Type |
+-----------------------------------------------------------------+----------+
| TestApp::Controller::Root | instance |
| TestApp::Model::Funky | instance |
| TestApp::Model::Funky::Context | class |
| TestApp::Model::Funky::Date | class |
'-----------------------------------------------------------------+----------'
[debug] Loaded Private actions:
.----------------------+--------------------------------------+--------------.
| Private | Class | Method |
+----------------------+--------------------------------------+--------------+
| /context | TestApp::Controller::Root | context |
| /default | TestApp::Controller::Root | default |
| /date | TestApp::Controller::Root | date |
'----------------------+--------------------------------------+--------------'
[debug] Loaded Path actions:
.-------------------------------------+--------------------------------------.
| Path | Private |
+-------------------------------------+--------------------------------------+
| /context/... | /context |
| /date/... | /date |
'-------------------------------------+--------------------------------------'
[info] TestApp powered by Catalyst 5.90132
[info] *** Request 1 (1.000/s) [1914045] [Thu Jan 23 06:09:34 2025] ***
[debug] Path is "date"
[debug] "GET" request for "date" from "127.0.0.1"
[debug] Response Code: 200; Content-Type: unknown; Content-Length: unknown
[info] Request took 1.005054s (0.995/s)
.------------------------------------------------------------+-----------.
| Action | Time |
+------------------------------------------------------------+-----------+
| /date | 1.000521s |
'------------------------------------------------------------+-----------'
[info] *** Request 2 (2.000/s) [1914045] [Thu Jan 23 06:09:35 2025] ***
[debug] Path is "context"
[debug] "GET" request for "context" from "127.0.0.1"
[debug] Response Code: 200; Content-Type: unknown; Content-Length: unknown
[info] Request took 0.002147s (465.766/s)
.------------------------------------------------------------+-----------.
| Action | Time |
+------------------------------------------------------------+-----------+
| /context | 0.000158s |
'------------------------------------------------------------+-----------'
t/01_app.t ........ ok
t/boilerplate.t ... ok
t/pod-coverage.t .. ok
t/pod.t ........... ok
t/spelling.t ...... ok
All tests successful.
Files=6, Tests=9, 4 wallclock secs ( 0.04 usr 0.00 sys + 2.00 cusr 0.24 csys = 2.28 CPU)
Result: PASS
------------------------------
PREREQUISITES
------------------------------
Prerequisite modules loaded:
requires:
Module Need Have
------------------------------ ---- --------
Cache::Funky 0 0.06
Catalyst 0 5.90132
Catalyst::Plugin::ConfigLoader 0 0.35
Module::Recursive::Require 0.04 0.04
Test::More 0 1.302207
Test::Spelling 0 0.25
build_requires:
Module Need Have
------------------------------ ---- --------
ExtUtils::MakeMaker 0 7.70
------------------------------
ENVIRONMENT AND OTHER CONTEXT
------------------------------
Environment variables:
AUTOMATED_TESTING = 1
LANG = en_US.UTF-8
PATH = /home/sand/bin:/usr/local/bin:/usr/local/sbin:/usr/sbin:/usr/bin:/sbin:/bin:/usr/games:/usr/local/games:/snap/bin:/usr/local/perl/bin:/usr/X11/bin
PERL = /tmp/basesmoker-reloperl-aFHk/bin/perl
PERL5LIB = /tmp/loop_over_bdir-641295-BGeEVH/Net-OpenVPN-DDNS-0.1-0/blib/arch:/tmp/loop_over_bdir-641295-BGeEVH/Net-OpenVPN-DDNS-0.1-0/blib/lib:/tmp/loop_over_bdir-641295-BGeEVH/RDF-NLP-SPARQLQuery-0.1-0/blib/arch:/tmp/loop_over_bdir-641295-BGeEVH/RDF-NLP-SPARQLQuery-0.1-0/blib/lib
PERL5OPT =
PERL5_CPANPLUS_IS_RUNNING = 641303
PERL5_CPAN_IS_RUNNING = 641303
PERL_CANARY_STABILITY_NOPROMPT = 1
PERL_MM_USE_DEFAULT = 1
PERL_USE_UNSAFE_INC = 1
SHELL = /usr/bin/zsh
TERM = screen
Perl special variables (and OS-specific diagnostics, for MSWin32):
$^X = /tmp/basesmoker-reloperl-aFHk/bin/perl
$UID/$EUID = 1005 / 1005
$GID = 1005 1005
$EGID = 1005 1005
Perl module toolchain versions installed:
Module Have
------------------- --------
CPAN 2.38
CPAN::Meta 2.150010
Cwd 3.89
ExtUtils::CBuilder 0.280238
ExtUtils::Command 7.70
ExtUtils::Install 2.22
ExtUtils::MakeMaker 7.70
ExtUtils::Manifest 1.73
ExtUtils::ParseXS 3.51
File::Spec 3.88
JSON 4.10
JSON::PP 4.16
Module::Build 0.4234
Module::Signature 0.89
Parse::CPAN::Meta 2.150010
Test2 1.302207
Test::Harness 3.50
Test::More 1.302207
YAML 1.31
YAML::Syck 1.34
version 0.9933
--
Summary of my perl5 (revision 5 version 38 subversion 3) configuration:
Commit id: 06697759559c52236e296a256776b1222f228163
Platform:
osname=linux
osvers=5.4.0-204-generic
archname=x86_64-linux-thread-multi
uname='linux k93focal 5.4.0-204-generic #224-ubuntu smp thu dec 5 13:38:28 utc 2024 x86_64 x86_64 x86_64 gnulinux '
config_args='-Dprefix=/home/sand/src/perl/repoperls/installed-perls/host/k93focal/v5.38.3/d119 -Dmyhostname=k93focal -Dinstallusrbinperl=n -Uversiononly -Dusedevel -des -Ui_db -Dlibswanted=cl pthread socket inet nsl gdbm dbm malloc dl ld sun m crypt sec util c cposix posix ucb BSD gdbm_compat -Duseithreads -Uuselongdouble -DEBUGGING=both'
hint=recommended
useposix=true
d_sigaction=define
useithreads=define
usemultiplicity=define
use64bitint=define
use64bitall=define
uselongdouble=undef
usemymalloc=n
default_inc_excludes_dot=define
Compiler:
cc='cc'
ccflags ='-D_REENTRANT -D_GNU_SOURCE -fwrapv -DDEBUGGING -fno-strict-aliasing -pipe -fstack-protector-strong -I/usr/local/include -D_LARGEFILE_SOURCE -D_FILE_OFFSET_BITS=64'
optimize='-O2 -g'
cppflags='-D_REENTRANT -D_GNU_SOURCE -fwrapv -DDEBUGGING -fno-strict-aliasing -pipe -fstack-protector-strong -I/usr/local/include'
ccversion=''
gccversion='9.4.0'
gccosandvers=''
intsize=4
longsize=8
ptrsize=8
doublesize=8
byteorder=12345678
doublekind=3
d_longlong=define
longlongsize=8
d_longdbl=define
longdblsize=16
longdblkind=3
ivtype='long'
ivsize=8
nvtype='double'
nvsize=8
Off_t='off_t'
lseeksize=8
alignbytes=8
prototype=define
Linker and Libraries:
ld='cc'
ldflags =' -fstack-protector-strong -L/usr/local/lib'
libpth=/usr/local/lib /usr/lib/x86_64-linux-gnu /usr/lib /usr/lib64
libs=-lpthread -lnsl -ldl -lm -lcrypt -lutil -lc
perllibs=-lpthread -lnsl -ldl -lm -lcrypt -lutil -lc
libc=libc-2.31.so
so=so
useshrplib=false
libperl=libperl.a
gnulibc_version='2.31'
Dynamic Linking:
dlsrc=dl_dlopen.xs
dlext=so
d_dlsymun=undef
ccdlflags='-Wl,-E'
cccdlflags='-fPIC'
lddlflags='-shared -O2 -g -L/usr/local/lib -fstack-protector-strong'
Characteristics of this binary (from libperl):
Compile-time options:
DEBUGGING
HAS_LONG_DOUBLE
HAS_STRTOLD
HAS_TIMES
MULTIPLICITY
PERLIO_LAYERS
PERL_COPY_ON_WRITE
PERL_DONT_CREATE_GVSV
PERL_HASH_FUNC_SIPHASH13
PERL_HASH_USE_SBOX32
PERL_MALLOC_WRAP
PERL_OP_PARENT
PERL_PRESERVE_IVUV
PERL_TRACK_MEMPOOL
PERL_USE_DEVEL
PERL_USE_SAFE_PUTENV
USE_64_BIT_ALL
USE_64_BIT_INT
USE_ITHREADS
USE_LARGE_FILES
USE_LOCALE
USE_LOCALE_COLLATE
USE_LOCALE_CTYPE
USE_LOCALE_NUMERIC
USE_LOCALE_TIME
USE_PERLIO
USE_PERL_ATOF
USE_REENTRANT_API
USE_THREAD_SAFE_LOCALE
Built under linux
Compiled at Jan 20 2025 16:12:56
%ENV:
PERL="/tmp/basesmoker-reloperl-aFHk/bin/perl"
PERL5LIB="/tmp/loop_over_bdir-641295-BGeEVH/Net-OpenVPN-DDNS-0.1-0/blib/arch:/tmp/loop_over_bdir-641295-BGeEVH/Net-OpenVPN-DDNS-0.1-0/blib/lib:/tmp/loop_over_bdir-641295-BGeEVH/RDF-NLP-SPARQLQuery-0.1-0/blib/arch:/tmp/loop_over_bdir-641295-BGeEVH/RDF-NLP-SPARQLQuery-0.1-0/blib/lib"
PERL5OPT=""
PERL5_CPANPLUS_IS_RUNNING="641303"
PERL5_CPAN_IS_RUNNING="641303"
PERL_CANARY_STABILITY_NOPROMPT="1"
PERL_MM_USE_DEFAULT="1"
PERL_USE_UNSAFE_INC="1"
@INC:
/tmp/loop_over_bdir-641295-BGeEVH/Net-OpenVPN-DDNS-0.1-0/blib/arch
/tmp/loop_over_bdir-641295-BGeEVH/Net-OpenVPN-DDNS-0.1-0/blib/lib
/tmp/loop_over_bdir-641295-BGeEVH/RDF-NLP-SPARQLQuery-0.1-0/blib/arch
/tmp/loop_over_bdir-641295-BGeEVH/RDF-NLP-SPARQLQuery-0.1-0/blib/lib
/home/sand/src/perl/repoperls/installed-perls/host/k93focal/v5.38.3/d119/lib/site_perl/5.38.3/x86_64-linux-thread-multi
/home/sand/src/perl/repoperls/installed-perls/host/k93focal/v5.38.3/d119/lib/site_perl/5.38.3
/home/sand/src/perl/repoperls/installed-perls/host/k93focal/v5.38.3/d119/lib/5.38.3/x86_64-linux-thread-multi
/home/sand/src/perl/repoperls/installed-perls/host/k93focal/v5.38.3/d119/lib/5.38.3
.