Report for Class-Scaffold-1.102280

Back
From: metabase:user:320bfe00-2aae-11df-837a-5e0a49663a4f
Subject: PASS Class-Scaffold-1.102280 v5.20.2 RC1 GNU/Linux
Date: 2015-02-01T12:20:25Z

This distribution has been tested as part of the CPAN Testers
project, supporting the Perl programming language.  See
http://wiki.cpantesters.org/ for more information or email
questions to cpan-testers-discuss@perl.org


--
Dear Marcel Gruenauer,

This is a computer-generated report for Class-Scaffold-1.102280
on perl 5.20.2, created by CPAN-Reporter-1.2011.

Thank you for uploading your work to CPAN.  Congratulations!
All tests were successful.

Sections of this report:

    * Tester comments
    * Program output
    * Prerequisites
    * Environment and other context

------------------------------
TESTER COMMENTS
------------------------------

Additional comments from tester:

this report is from an automated smoke testing program
and was not reviewed by a human for accuracy

------------------------------
PROGRAM OUTPUT
------------------------------

Output from '/usr/bin/make test':

PERL_DL_NONLAZY=1 "/tmp/basesmoker-reloperl-S6j0/bin/perl" "-MExtUtils::Command::MM" "-MTest::Harness" "-e" "undef *Test::Harness::Switches; test_harness(0, 'blib/lib', 'blib/arch')" t/*.t
Possible precedence issue with control flow operator at lib/Class/Scaffold/Log.pm line 44.
t/00-compile.t ............... ok
# Testing with Perl 5.020002, /tmp/basesmoker-reloperl-S6j0/bin/perl
#     Carp version is 1.3301
#     Class::Accessor::Complex version is 1.100880
#     Class::Accessor::Constructor version is 1.111590
#     Class::Accessor::FactoryTyped version is 1.100970
#     Class::Factory::Enhanced version is 1.101420
#     Class::Value version is 1.100840
#     Cwd version is 3.48_01
#     Data::Comparable version is 1.100840
#     Data::Inherited version is 1.100860
#     Data::Miscellany version is 1.100850
#     Data::Storage version is 1.102720
#     Devel::Caller version is 2.06
#     Encode version is 2.60
#     English version is 1.09
#     Error version is 0.17022
#     Error::Hierarchy version is 1.103530
#     Error::Hierarchy::Container version is 1.103530
#     Error::Hierarchy::Internal version is 1.103530
#     Error::Hierarchy::Mixin version is 1.103530
#     Error::Hierarchy::Test version is 1.103530
#     Error::Hierarchy::Util version is 1.103530
#     Exporter version is 5.71
#     ExtUtils::MakeMaker version is 7.04
#     File::Find version is 1.27
#     File::Spec::Functions version is 3.48_01
#     File::Temp version is 0.2304
#     FindBin version is 1.51
#     Getopt::Inherited version is 1.100860
#     Getopt::Long version is 2.42
#     IO::File version is 1.16
#     IO::Handle version is 1.35
#     List::Util version is 1.41
#     Property::Lookup version is 1.101400
#     Scalar::Util version is 1.41
#     String::FlexMatch version is 1.100820
#     Sys::Hostname version is 1.18
#     Test::Builder version is 1.001014
#     Test::Class::GetoptControl version is 1.100860
#     Test::CompanionClasses::Base version is 1.101370
#     Test::CompanionClasses::Engine version is 1.101370
#     Test::More version is 1.001014
#     Time::HiRes version is 1.9726
#     UNIVERSAL::require version is 0.17
#     YAML version is 1.14
#     YAML::Active version is 1.100810
#     YAML::Active::Plugin::Array version is 1.100810
#     YAML::Active::Plugin::Hash version is 1.100810
#     YAML::Marshall version is undefined
#     constant version is 1.31
#     overload version is 1.22
#     parent version is 0.228
t/000-report-versions.t ...... ok
Possible precedence issue with control flow operator at /tmp/loop_over_bdir-20849-GHq3Qy/Class-Scaffold-1.102280-yqFtZH/blib/lib/Class/Scaffold/Log.pm line 44.
20150201.132018.57 Hello
20150201.132018.57 a debug message that should appear
20150201.132018.57 (00006073) a message with pid and timestamp
(00006073) a message with pid but without timestamp
a message without pid or timestamp
t/01_companion_classes.t ..... ok
Possible precedence issue with control flow operator at /tmp/loop_over_bdir-20849-GHq3Qy/Class-Scaffold-1.102280-yqFtZH/blib/lib/Class/Scaffold/Log.pm line 44.
t/02_storage_conf.t .......... ok
t/author-critic.t ............ skipped: these tests are for testing by the author
t/release-check-changes.t .... skipped: these tests are for release candidate testing
t/release-dist-manifest.t .... skipped: these tests are for release candidate testing
t/release-distmeta.t ......... skipped: these tests are for release candidate testing
t/release-has-version.t ...... skipped: these tests are for release candidate testing
t/release-kwalitee.t ......... skipped: these tests are for release candidate testing
t/release-minimum-version.t .. skipped: these tests are for release candidate testing
t/release-no-tabs.t .......... skipped: these tests are for release candidate testing
t/release-pod-coverage.t ..... skipped: these tests are for release candidate testing
t/release-pod-spell.t ........ skipped: these tests are for release candidate testing
t/release-pod-syntax.t ....... skipped: these tests are for release candidate testing
t/release-portability.t ...... skipped: these tests are for release candidate testing
t/release-synopsis.t ......... skipped: these tests are for release candidate testing
t/release-unused-vars.t ...... skipped: these tests are for release candidate testing
All tests successful.
Files=18, Tests=108,  4 wallclock secs ( 0.08 usr  0.01 sys +  3.08 cusr  0.28 csys =  3.45 CPU)
Result: PASS

------------------------------
PREREQUISITES
------------------------------

Prerequisite modules loaded:

requires:

    Module                         Need Have    
    ------------------------------ ---- --------
    Carp                           0    1.3301  
    Class::Accessor::Complex       0    1.100880
    Class::Accessor::Constructor   0    1.111590
    Class::Accessor::FactoryTyped  0    1.100970
    Class::Factory::Enhanced       0    1.101420
    Class::Value                   0    1.100840
    constant                       0    1.31    
    Cwd                            0    3.48_01 
    Data::Comparable               0    1.100840
    Data::Inherited                0    1.100860
    Data::Miscellany               0    1.100850
    Data::Storage                  0    1.102720
    Devel::Caller                  0    2.06    
    Encode                         0    2.60    
    Error                          0    0.17022 
    Error::Hierarchy               0    1.103530
    Error::Hierarchy::Container    0    1.103530
    Error::Hierarchy::Internal     0    1.103530
    Error::Hierarchy::Mixin        0    1.103530
    Error::Hierarchy::Test         0    1.103530
    Error::Hierarchy::Util         0    1.103530
    Exporter                       0    5.71    
    File::Find                     0    1.27    
    File::Spec::Functions          0    3.48_01 
    FindBin                        0    1.51    
    Getopt::Inherited              0    1.100860
    Getopt::Long                   0    2.42    
    IO::File                       0    1.16    
    IO::Handle                     0    1.35    
    List::Util                     0    1.41    
    overload                       0    1.22    
    parent                         0    0.228   
    Property::Lookup               0    1.101400
    String::FlexMatch              0    1.100820
    Sys::Hostname                  0    1.18    
    Test::Builder                  0    1.001014
    Test::Class::GetoptControl     0    1.100860
    Test::CompanionClasses::Base   0    1.101370
    Test::CompanionClasses::Engine 0    1.101370
    Test::More                     0    1.001014
    Time::HiRes                    0    1.9726  
    UNIVERSAL::require             0    0.17    
    YAML                           0    1.14    
    YAML::Active                   0    1.100810
    YAML::Active::Plugin::Array    0    1.100810
    YAML::Active::Plugin::Hash     0    1.100810
    YAML::Marshall                 0    0       

build_requires:

    Module                         Need Have    
    ------------------------------ ---- --------
    English                        0    1.09    
    File::Temp                     0    0.2304  
    Scalar::Util                   0    1.41    
    Test::More                     0.94 1.001014

configure_requires:

    Module                         Need Have    
    ------------------------------ ---- --------
    ExtUtils::MakeMaker            6.31 7.04    


------------------------------
ENVIRONMENT AND OTHER CONTEXT
------------------------------

Environment variables:

    AUTOMATED_TESTING = 1
    LANG = en_US.UTF-8
    LANGUAGE = en_US:en
    PATH = /home/sand/bin:/usr/local/bin:/usr/bin:/bin:/usr/games:/usr/local/perl/bin:/usr/X11/bin:/sbin:/usr/sbin
    PERL = /tmp/basesmoker-reloperl-S6j0/bin/perl
    PERL5LIB = 
    PERL5OPT = 
    PERL5_CPANPLUS_IS_RUNNING = 5833
    PERL5_CPAN_IS_RUNNING = 5833
    PERL_MM_USE_DEFAULT = 1
    SHELL = /usr/bin/zsh
    TERM = screen

Perl special variables (and OS-specific diagnostics, for MSWin32):

    $^X = /tmp/basesmoker-reloperl-S6j0/bin/perl
    $UID/$EUID = 1005 / 1005
    $GID = 1005 1005
    $EGID = 1005 1005

Perl module toolchain versions installed:

    Module              Have    
    ------------------- --------
    CPAN                2.05    
    CPAN::Meta          2.143240
    Cwd                 3.48_01 
    ExtUtils::CBuilder  0.280220
    ExtUtils::Command   1.18    
    ExtUtils::Install   1.67    
    ExtUtils::MakeMaker 7.04    
    ExtUtils::Manifest  1.70    
    ExtUtils::ParseXS   3.24    
    File::Spec          3.48_01 
    JSON                2.90    
    JSON::PP            2.27203 
    Module::Build       0.4211  
    Module::Signature   0.73    
    Parse::CPAN::Meta   1.4414  
    Test::Harness       3.35    
    Test::More          1.001014
    YAML                1.14    
    YAML::Syck          1.29    
    version             0.9912  


--

Summary of my perl5 (revision 5 version 20 subversion 2) configuration:
  Commit id: a920fedcd88708027dc9204b8d8abac1638789d4
  Platform:
    osname=linux, osvers=3.16.0-4-amd64, archname=x86_64-linux
    uname='linux k83 3.16.0-4-amd64 #1 smp debian 3.16.7-ckt2-1 (2014-12-08) x86_64 gnulinux '
    config_args='-Dprefix=/home/sand/src/perl/repoperls/installed-perls/perl/v5.20.2-RC1/165a -Dmyhostname=k83 -Dinstallusrbinperl=n -Uversiononly -Dusedevel -des -Ui_db -Uuseithreads -Uuselongdouble -DDEBUGGING=-g'
    hint=recommended, useposix=true, d_sigaction=define
    useithreads=undef, usemultiplicity=undef
    use64bitint=define, use64bitall=define, uselongdouble=undef
    usemymalloc=n, bincompat5005=undef
  Compiler:
    cc='cc', ccflags ='-fwrapv -fno-strict-aliasing -pipe -fstack-protector -I/usr/local/include -D_LARGEFILE_SOURCE -D_FILE_OFFSET_BITS=64',
    optimize='-O2 -g',
    cppflags='-fwrapv -fno-strict-aliasing -pipe -fstack-protector -I/usr/local/include'
    ccversion='', gccversion='4.9.2', gccosandvers=''
    intsize=4, longsize=8, ptrsize=8, doublesize=8, byteorder=12345678
    d_longlong=define, longlongsize=8, d_longdbl=define, longdblsize=16
    ivtype='long', ivsize=8, nvtype='double', nvsize=8, Off_t='off_t', lseeksize=8
    alignbytes=8, prototype=define
  Linker and Libraries:
    ld='cc', ldflags =' -fstack-protector -L/usr/local/lib'
    libpth=/usr/local/lib /usr/lib/gcc/x86_64-linux-gnu/4.9/include-fixed /usr/include/x86_64-linux-gnu /usr/lib /lib/x86_64-linux-gnu /lib/../lib /usr/lib/x86_64-linux-gnu /usr/lib/../lib /lib
    libs=-lnsl -lgdbm -ldb -ldl -lm -lcrypt -lutil -lc -lgdbm_compat
    perllibs=-lnsl -ldl -lm -lcrypt -lutil -lc
    libc=libc-2.19.so, so=so, useshrplib=false, libperl=libperl.a
    gnulibc_version='2.19'
  Dynamic Linking:
    dlsrc=dl_dlopen.xs, dlext=so, d_dlsymun=undef, ccdlflags='-Wl,-E'
    cccdlflags='-fPIC', lddlflags='-shared -O2 -g -L/usr/local/lib -fstack-protector'


Characteristics of this binary (from libperl): 
  Compile-time options: HAS_TIMES PERLIO_LAYERS PERL_DONT_CREATE_GVSV
                        PERL_HASH_FUNC_ONE_AT_A_TIME_HARD PERL_MALLOC_WRAP
                        PERL_NEW_COPY_ON_WRITE PERL_PRESERVE_IVUV
                        PERL_USE_DEVEL USE_64_BIT_ALL USE_64_BIT_INT
                        USE_LARGE_FILES USE_LOCALE USE_LOCALE_COLLATE
                        USE_LOCALE_CTYPE USE_LOCALE_NUMERIC USE_PERLIO
                        USE_PERL_ATOF
  Locally applied patches:
	RC1
  Built under linux
  Compiled at Feb  1 2015 06:16:35
  %ENV:
    PERL="/tmp/basesmoker-reloperl-S6j0/bin/perl"
    PERL5LIB=""
    PERL5OPT=""
    PERL5_CPANPLUS_IS_RUNNING="5833"
    PERL5_CPAN_IS_RUNNING="5833"
    PERL_MM_USE_DEFAULT="1"
  @INC:
    /home/sand/src/perl/repoperls/installed-perls/perl/v5.20.2-RC1/165a/lib/site_perl/5.20.2/x86_64-linux
    /home/sand/src/perl/repoperls/installed-perls/perl/v5.20.2-RC1/165a/lib/site_perl/5.20.2
    /home/sand/src/perl/repoperls/installed-perls/perl/v5.20.2-RC1/165a/lib/5.20.2/x86_64-linux
    /home/sand/src/perl/repoperls/installed-perls/perl/v5.20.2-RC1/165a/lib/5.20.2
    .