Back
From: metabase:user:314402c4-2aae-11df-837a-5e0a49663a4f
Subject: PASS Web-Components-Role-Email-0.3.1 v5.27.2 GNU/Linux
Date: 2017-07-27T09:12:23Z
This distribution has been tested as part of the CPAN Testers
project, supporting the Perl programming language. See
http://wiki.cpantesters.org/ for more information or email
questions to cpan-testers-discuss@perl.org
--
Dear Peter Flanigan,
This is a computer-generated report for Web-Components-Role-Email-0.3.1
on perl 5.27.2, created by CPAN-Reporter-1.2018.
Thank you for uploading your work to CPAN. Congratulations!
All tests were successful.
Sections of this report:
* Tester comments
* Program output
* Prerequisites
* Environment and other context
------------------------------
TESTER COMMENTS
------------------------------
Additional comments from tester:
none provided
------------------------------
PROGRAM OUTPUT
------------------------------
Output from './Build test':
OS: linux, Host: debian9
=== Environment variables ===
$AUTHOR_TESTING undef
$AUTOMATED_TESTING undef
$EXTENDED_TESTING undef
$NONINTERACTIVE_TESTING undef
$PERL_CPAN_REPORTER_CONFIG /var/tmp/cpansmoker-1023/2017072700/cpanreporter_001_config.ini
$PERL_CR_SMOKER_CURRENT undef
$PERL5_CPAN_IS_RUNNING 17579
$PERL5_CPANPLUS_IS_VERSION undef
$TEST_CRITIC undef
$TEST_SPELLING undef
Versions for all modules listed in MYMETA.json (including optional ones):
=== Configure Requires ===
Module Want Have
------------- ------ ------
Module::Build 0.4004 0.4224
version 0.88 0.9918
=== Build Requires ===
Module Want Have
------------- ------ ------
Module::Build 0.4004 0.4224
version 0.88 0.9918
=== Test Requires ===
Module Want Have
---------------- ------ --------
File::Spec any 3.68
Module::Build 0.4004 0.4224
Module::Metadata any 1.000033
Sys::Hostname any 1.20
Test::Requires 0.06 0.10
version 0.88 0.9918
=== Test Recommends ===
Module Want Have
---------- -------- --------
CPAN::Meta 2.120900 2.150010
=== Runtime Requires ===
Module Want Have
------------------------- -------- --------
Email::MIME 1.934 1.940
Email::Sender 1.300018 1.300031
File::DataClass v0.71.0 0.73.1
MIME::Types 2.11 2.13
Moo 2.000001 2.003002
Try::Tiny 0.22 0.28
Unexpected v0.46.0 0.46.1
Web::Components::Role::TT v0.7.0 0.8.1
namespace::autoclean 0.26 0.28
t/00report-metadata.t .. ok
t/02pod.t .............. skipped: POD test only for developers
t/03podcoverage.t ...... skipped: POD coverage test only for developers
t/05kwalitee.t ......... skipped: Kwalitee test only for developers
t/06yaml.t ............. skipped: YAML test only for developers
t/07podspelling.t ...... skipped: POD spelling test only for developers
replacing non-multipart type (text/plain) with multipart/mixed at /home/cpansand/.cpan/build/2017072709/Web-Components-Role-Email-0.3.1-0/t/../lib/Web/Components/Role/Email.pm line 101.
t/10test_script.t ...... ok
All tests successful.
Files=7, Tests=19, 1 wallclock secs ( 0.02 usr 0.03 sys + 0.84 cusr 0.18 csys = 1.07 CPU)
Result: PASS
------------------------------
PREREQUISITES
------------------------------
Prerequisite modules loaded:
requires:
Module Need Have
------------------------- -------- --------
Email::MIME 1.934 1.940
Email::Sender 1.300018 1.300031
File::DataClass v0.71.0 0.73.1
MIME::Types 2.11 2.13
Moo 2.000001 2.003002
namespace::autoclean 0.26 0.28
perl 5.010001 5.027002
Try::Tiny 0.22 0.28
Unexpected v0.46.0 0.46.1
Web::Components::Role::TT v0.7.0 0.8.1
build_requires:
Module Need Have
------------------------- -------- --------
File::Spec 0 3.68
Module::Build 0.4004 0.4224
Module::Metadata 0 1.000033
Sys::Hostname 0 1.20
Test::Requires 0.06 0.10
version 0.88 0.9918
configure_requires:
Module Need Have
------------------------- -------- --------
Module::Build 0.4004 0.4224
version 0.88 0.9918
------------------------------
ENVIRONMENT AND OTHER CONTEXT
------------------------------
Environment variables:
LANG = C
LC_ALL = de_DE.UTF-8
PATH = /usr/local/bin:/usr/bin:/bin:/usr/local/sbin:/usr/sbin:/sbin:/home/cpansand/bin/linux-gnu:/home/cpansand/bin/sh:/home/cpansand/bin:/usr/games:/home/cpansand/devel:/home/eserte/src/srezic-misc/scripts
PERL5LIB =
PERL5OPT =
PERL5_CPANPLUS_IS_RUNNING = 17579
PERL5_CPAN_IS_RUNNING = 17579
PERL5_CPAN_IS_RUNNING_IN_RECURSION = 19952,17579
PERLDOC = -MPod::Perldoc::ToTextOverstrike
PERL_BATCH = yes
PERL_CANARY_STABILITY_NOPROMPT = 1
PERL_CPAN_REPORTER_CONFIG = /var/tmp/cpansmoker-1023/2017072700/cpanreporter_001_config.ini
PERL_EXTUTILS_AUTOINSTALL = --defaultdeps
PERL_PARALLEL_SMOKER = yes
PERL_USE_UNSAFE_INC = 1
SHELL = /usr/bin/zsh
TERM = screen
TMPDIR = /var/tmp/cpansmoker-1023/2017072700
Perl special variables (and OS-specific diagnostics, for MSWin32):
$^X = /opt/perl-5.27.2t/bin/perl5.27.2
$UID/$EUID = 1023 / 1023
$GID = 1023 1023
$EGID = 1023 1023
Perl module toolchain versions installed:
Module Have
------------------- --------
CPAN 2.16
CPAN::Meta 2.150010
Cwd 3.68
ExtUtils::CBuilder 0.280226
ExtUtils::Command 7.30
ExtUtils::Install 2.14
ExtUtils::MakeMaker 7.30
ExtUtils::Manifest 1.70
ExtUtils::ParseXS 3.34
File::Spec 3.68
JSON 2.94
JSON::PP 2.94
Module::Build 0.4224
Module::Signature 0.81
Parse::CPAN::Meta 2.150010
Test::Harness 3.39
Test::More 1.302086
YAML 1.23
YAML::Syck 1.30
version 0.9918
--
Summary of my perl5 (revision 5 version 27 subversion 2) configuration:
Platform:
osname=linux
osvers=4.9.0-3-amd64
archname=x86_64-linux-thread-multi
uname='linux debian9 4.9.0-3-amd64 #1 smp debian 4.9.30-2+deb9u2 (2017-06-26) x86_64 gnulinux '
config_args='-ds -e -Dprefix=/opt/perl-5.27.2t -Dusedevel -Dusemallocwrap=no -Dusethreads -Dcf_email=srezic@cpan.org'
hint=recommended
useposix=true
d_sigaction=define
useithreads=define
usemultiplicity=define
use64bitint=define
use64bitall=define
uselongdouble=undef
usemymalloc=n
default_inc_excludes_dot=define
bincompat5005=undef
Compiler:
cc='cc'
ccflags ='-D_REENTRANT -D_GNU_SOURCE -fwrapv -fno-strict-aliasing -pipe -fstack-protector-strong -I/usr/local/include -D_LARGEFILE_SOURCE -D_FILE_OFFSET_BITS=64'
optimize='-O2'
cppflags='-D_REENTRANT -D_GNU_SOURCE -fwrapv -fno-strict-aliasing -pipe -fstack-protector-strong -I/usr/local/include'
ccversion=''
gccversion='6.3.0 20170516'
gccosandvers=''
intsize=4
longsize=8
ptrsize=8
doublesize=8
byteorder=12345678
doublekind=3
d_longlong=define
longlongsize=8
d_longdbl=define
longdblsize=16
longdblkind=3
ivtype='long'
ivsize=8
nvtype='double'
nvsize=8
Off_t='off_t'
lseeksize=8
alignbytes=8
prototype=define
Linker and Libraries:
ld='cc'
ldflags =' -fstack-protector-strong -L/usr/local/lib'
libpth=/usr/local/lib /usr/lib/gcc/x86_64-linux-gnu/6/include-fixed /usr/include/x86_64-linux-gnu /usr/lib /lib/x86_64-linux-gnu /lib/../lib /usr/lib/x86_64-linux-gnu /usr/lib/../lib /lib
libs=-lpthread -lnsl -lgdbm -ldb -ldl -lm -lcrypt -lutil -lc -lgdbm_compat
perllibs=-lpthread -lnsl -ldl -lm -lcrypt -lutil -lc
libc=libc-2.24.so
so=so
useshrplib=false
libperl=libperl.a
gnulibc_version='2.24'
Dynamic Linking:
dlsrc=dl_dlopen.xs
dlext=so
d_dlsymun=undef
ccdlflags='-Wl,-E'
cccdlflags='-fPIC'
lddlflags='-shared -O2 -L/usr/local/lib -fstack-protector-strong'
Characteristics of this binary (from libperl):
Compile-time options:
HAS_TIMES
MULTIPLICITY
PERLIO_LAYERS
PERL_COPY_ON_WRITE
PERL_DONT_CREATE_GVSV
PERL_IMPLICIT_CONTEXT
PERL_OP_PARENT
PERL_PRESERVE_IVUV
PERL_USE_DEVEL
USE_64_BIT_ALL
USE_64_BIT_INT
USE_ITHREADS
USE_LARGE_FILES
USE_LOCALE
USE_LOCALE_COLLATE
USE_LOCALE_CTYPE
USE_LOCALE_NUMERIC
USE_LOCALE_TIME
USE_PERLIO
USE_PERL_ATOF
USE_REENTRANT_API
Locally applied patches:
Devel::PatchPerl 1.48
Built under linux
Compiled at Jul 24 2017 18:34:46
%ENV:
PERL5LIB=""
PERL5OPT=""
PERL5_CPANPLUS_IS_RUNNING="17579"
PERL5_CPAN_IS_RUNNING="17579"
PERL5_CPAN_IS_RUNNING_IN_RECURSION="19952,17579"
PERLDOC="-MPod::Perldoc::ToTextOverstrike"
PERL_BATCH="yes"
PERL_CANARY_STABILITY_NOPROMPT="1"
PERL_CPAN_REPORTER_CONFIG="/var/tmp/cpansmoker-1023/2017072700/cpanreporter_001_config.ini"
PERL_EXTUTILS_AUTOINSTALL="--defaultdeps"
PERL_PARALLEL_SMOKER="yes"
PERL_USE_UNSAFE_INC="1"
@INC:
/opt/perl-5.27.2t/lib/site_perl/5.27.2/x86_64-linux-thread-multi
/opt/perl-5.27.2t/lib/site_perl/5.27.2
/opt/perl-5.27.2t/lib/5.27.2/x86_64-linux-thread-multi
/opt/perl-5.27.2t/lib/5.27.2
.