Report for JSON-Pointer-0.07

Back
From: metabase:user:320bfe00-2aae-11df-837a-5e0a49663a4f
Subject: PASS JSON-Pointer-0.07 v5.23.0 GNU/Linux
Date: 2015-10-06T08:03:16Z

This distribution has been tested as part of the CPAN Testers
project, supporting the Perl programming language.  See
http://wiki.cpantesters.org/ for more information or email
questions to cpan-testers-discuss@perl.org


--
Dear Toru Yamaguchi,

This is a computer-generated report for JSON-Pointer-0.07
on perl 5.23.0, created by CPAN-Reporter-1.2015.

Thank you for uploading your work to CPAN.  Congratulations!
All tests were successful.

Sections of this report:

    * Tester comments
    * Program output
    * Prerequisites
    * Environment and other context

------------------------------
TESTER COMMENTS
------------------------------

Additional comments from tester:

this report is from an automated smoke testing program
and was not reviewed by a human for accuracy

------------------------------
PROGRAM OUTPUT
------------------------------

Output from './Build test':

t/000_load.t ............................. ok
t/001_traverse.t ......................... ok
t/002_get.t .............................. ok
t/003_mojo_json_pointer_compat.t ......... ok
t/004_add.t .............................. ok
t/005_remove.t ........................... ok
t/006_replace.t .......................... ok
t/007_copy.t ............................. ok
t/008_move.t ............................. ok
t/009_test.t ............................. ok
t/010_get_relative.t ..................... ok
t/rt/89773.t ............................. ok
t/syntax/001_unescape_reference_token.t .. ok
t/syntax/002_escape_reference_token.t .... ok
t/syntax/003_tokenize.t .................. ok
t/syntax/004_as_pointer.t ................ ok
t/syntax/005_is_array_numeric_index.t .... ok
All tests successful.
Files=17, Tests=63,  5 wallclock secs ( 0.06 usr  0.15 sys +  1.58 cusr  0.32 csys =  2.11 CPU)
Result: PASS

------------------------------
PREREQUISITES
------------------------------

Prerequisite modules loaded:

requires:

    Module                Need     Have        
    --------------------- -------- ------------
    B                     0        1.58        
    Carp                  1.20     1.36        
    Class::Accessor::Lite 0.05     0.08        
    Clone                 0.36     0.38        
    Exporter              0        5.72        
    JSON                  2.53     2.90        
    perl                  5.008001 5.023000    
    URI::Escape           3.31     3.31        

build_requires:

    Module                Need     Have        
    --------------------- -------- ------------
    ExtUtils::CBuilder    0        0.280223    
    Test::Exception       0.31     0.40        
    Test::More            0.98     1.302012_002

configure_requires:

    Module                Need     Have        
    --------------------- -------- ------------
    CPAN::Meta            0        2.150005    
    CPAN::Meta::Prereqs   0        2.150005    
    Module::Build         0.38     0.4214      


------------------------------
ENVIRONMENT AND OTHER CONTEXT
------------------------------

Environment variables:

    AUTOMATED_TESTING = 1
    LANG = en_US.UTF-8
    LANGUAGE = en_US:en
    PATH = /home/sand/bin:/usr/local/bin:/usr/bin:/bin:/usr/games:/usr/local/perl/bin:/usr/X11/bin:/sbin:/usr/sbin
    PERL5LIB = 
    PERL5OPT = 
    PERL5_CPANPLUS_IS_RUNNING = 24581
    PERL5_CPAN_IS_RUNNING = 24581
    PERL_MM_USE_DEFAULT = 1
    SHELL = /usr/bin/zsh
    TERM = screen

Perl special variables (and OS-specific diagnostics, for MSWin32):

    $^X = /home/sand/src/perl/repoperls/installed-perls/perl/v5.23.0/8378/bin/perl
    $UID/$EUID = 1005 / 1005
    $GID = 1005 1005
    $EGID = 1005 1005

Perl module toolchain versions installed:

    Module              Have        
    ------------------- ------------
    CPAN                2.11        
    CPAN::Meta          2.150005    
    Cwd                 3.56        
    ExtUtils::CBuilder  0.280223    
    ExtUtils::Command   7.10        
    ExtUtils::Install   2.04        
    ExtUtils::MakeMaker 7.10        
    ExtUtils::Manifest  1.70        
    ExtUtils::ParseXS   3.28        
    File::Spec          3.56        
    JSON                2.90        
    JSON::PP            2.27300     
    Module::Build       0.4214      
    Module::Signature   0.79        
    Parse::CPAN::Meta   1.4417      
    Test::Harness       3.35        
    Test::More          1.302012_002
    YAML                1.15        
    YAML::Syck          1.29        
    version             0.9909      


--

Summary of my perl5 (revision 5 version 23 subversion 0) configuration:
  Commit id: 7c499b7fd47e7232467f4cb7ffd590dc0edf2168
  Platform:
    osname=linux, osvers=4.1.0-2-amd64, archname=x86_64-linux-ld
    uname='linux k83 4.1.0-2-amd64 #1 smp debian 4.1.6-1 (2015-08-23) x86_64 gnulinux '
    config_args='-Dprefix=/home/sand/src/perl/repoperls/installed-perls/perl/v5.23.0/8378 -Dmyhostname=k83 -Dinstallusrbinperl=n -Uversiononly -Dusedevel -des -Ui_db -Uuseithreads -Duselongdouble'
    hint=recommended, useposix=true, d_sigaction=define
    useithreads=undef, usemultiplicity=undef
    use64bitint=define, use64bitall=define, uselongdouble=define
    usemymalloc=n, bincompat5005=undef
  Compiler:
    cc='cc', ccflags ='-fwrapv -fno-strict-aliasing -pipe -fstack-protector-strong -I/usr/local/include -D_LARGEFILE_SOURCE -D_FILE_OFFSET_BITS=64',
    optimize='-O2',
    cppflags='-fwrapv -fno-strict-aliasing -pipe -fstack-protector-strong -I/usr/local/include'
    ccversion='', gccversion='5.2.1 20150911', gccosandvers=''
    intsize=4, longsize=8, ptrsize=8, doublesize=8, byteorder=12345678, doublekind=3
    d_longlong=define, longlongsize=8, d_longdbl=define, longdblsize=16, longdblkind=3
    ivtype='long', ivsize=8, nvtype='long double', nvsize=16, Off_t='off_t', lseeksize=8
    alignbytes=16, prototype=define
  Linker and Libraries:
    ld='cc', ldflags =' -fstack-protector-strong -L/usr/local/lib'
    libpth=/usr/local/lib /usr/lib/gcc/x86_64-linux-gnu/5/include-fixed /usr/include/x86_64-linux-gnu /usr/lib /lib/x86_64-linux-gnu /lib/../lib /usr/lib/x86_64-linux-gnu /usr/lib/../lib /lib
    libs=-lpthread -lnsl -lgdbm -ldb -ldl -lm -lcrypt -lutil -lc -lgdbm_compat
    perllibs=-lpthread -lnsl -ldl -lm -lcrypt -lutil -lc
    libc=libc-2.19.so, so=so, useshrplib=false, libperl=libperl.a
    gnulibc_version='2.19'
  Dynamic Linking:
    dlsrc=dl_dlopen.xs, dlext=so, d_dlsymun=undef, ccdlflags='-Wl,-E'
    cccdlflags='-fPIC', lddlflags='-shared -O2 -L/usr/local/lib -fstack-protector-strong'


Characteristics of this binary (from libperl): 
  Compile-time options: HAS_TIMES PERLIO_LAYERS PERL_DONT_CREATE_GVSV
                        PERL_HASH_FUNC_ONE_AT_A_TIME_HARD PERL_MALLOC_WRAP
                        PERL_NEW_COPY_ON_WRITE PERL_PRESERVE_IVUV
                        PERL_USE_DEVEL USE_64_BIT_ALL USE_64_BIT_INT
                        USE_LARGE_FILES USE_LOCALE USE_LOCALE_COLLATE
                        USE_LOCALE_CTYPE USE_LOCALE_NUMERIC USE_LOCALE_TIME
                        USE_LONG_DOUBLE USE_PERLIO USE_PERL_ATOF
  Built under linux
  Compiled at Sep 24 2015 07:17:03
  %ENV:
    PERL5LIB=""
    PERL5OPT=""
    PERL5_CPANPLUS_IS_RUNNING="24581"
    PERL5_CPAN_IS_RUNNING="24581"
    PERL_MM_USE_DEFAULT="1"
  @INC:
    /home/sand/src/perl/repoperls/installed-perls/perl/v5.23.0/8378/lib/site_perl/5.23.0/x86_64-linux-ld
    /home/sand/src/perl/repoperls/installed-perls/perl/v5.23.0/8378/lib/site_perl/5.23.0
    /home/sand/src/perl/repoperls/installed-perls/perl/v5.23.0/8378/lib/5.23.0/x86_64-linux-ld
    /home/sand/src/perl/repoperls/installed-perls/perl/v5.23.0/8378/lib/5.23.0
    .