Report for Net-Async-Webservice-Common-1.0.2

Back
From: metabase:user:320bfe00-2aae-11df-837a-5e0a49663a4f
Subject: PASS Net-Async-Webservice-Common-1.0.2 v5.22.2 Windows (Cygwin)
Date: 2016-09-09T21:12:10Z

This distribution has been tested as part of the CPAN Testers
project, supporting the Perl programming language.  See
http://wiki.cpantesters.org/ for more information or email
questions to cpan-testers-discuss@perl.org


--
Dear Gianni Ceccarelli,

This is a computer-generated report for Net-Async-Webservice-Common-1.0.2
on perl 5.22.2, created by CPAN-Reporter-1.2018.

Thank you for uploading your work to CPAN.  Congratulations!
All tests were successful.

Sections of this report:

    * Tester comments
    * Program output
    * Prerequisites
    * Environment and other context

------------------------------
TESTER COMMENTS
------------------------------

Additional comments from tester:

none provided

------------------------------
PROGRAM OUTPUT
------------------------------

Output from '/usr/bin/make test':

PERL_DL_NONLAZY=1 "/usr/bin/perl.exe" "-MExtUtils::Command::MM" "-MTest::Harness" "-e" "undef *Test::Harness::Switches; test_harness(0, 'blib/lib', 'blib/arch')" t/*.t t/tests/Net/Async/Webservice/Common/*.t
t/release-no-tabs.t ....................................... skipped: these tests are for release candidate testing
t/release-pod-coverage.t .................................. skipped: these tests are for release candidate testing
t/release-pod-syntax.t .................................... skipped: these tests are for release candidate testing
t/tests/Net/Async/Webservice/Common/SyncAgentWrapper.t .... ok
t/tests/Net/Async/Webservice/Common/WithConfigFile.t ...... ok
t/tests/Net/Async/Webservice/Common/WithRequestWrapper.t .. ok
t/tests/Net/Async/Webservice/Common/WithUserAgent.t ....... ok
All tests successful.
Files=7, Tests=16,  3 wallclock secs ( 0.05 usr  0.02 sys +  1.31 cusr  0.98 csys =  2.35 CPU)
Result: PASS

------------------------------
PREREQUISITES
------------------------------

Prerequisite modules loaded:

requires:

    Module                Need     Have    
    --------------------- -------- --------
    Carp                  0        1.38    
    Config::Any           0        0.27    
    Encode                0        2.72    
    Future                0.21     0.33    
    HTTP::Request         0        6.11    
    HTTP::Request::Common 0        6.11    
    Moo                   1.001000 2.002004
    Moo::Role             0        2.002004
    namespace::autoclean  0        0.28    
    overload              0        1.26    
    Scalar::Util          0        1.45    
    StackTrace::Auto      0        0.200013
    strict                0        1.09    
    Throwable             0        0.200013
    Try::Tiny             0        0.24    
    Type::Library         0        1.000005
    Type::Params          0        1.000005
    Type::Utils           0        1.000005
    Types::Standard       0        1.000005
    Types::URI            0        0.006   
    warnings              0        1.34    

build_requires:

    Module                Need     Have    
    --------------------- -------- --------
    Data::Printer         0        0.38    
    ExtUtils::MakeMaker   0        7.20    
    HTTP::Response        0        6.11    
    Test::Most            0        0.35    

configure_requires:

    Module                Need     Have    
    --------------------- -------- --------
    ExtUtils::MakeMaker   6.30     7.20    

opt_requires:

    Module                Need     Have    
    --------------------- -------- --------
    IO::Async::Loop       0        0.70    
    LWP::UserAgent        0        6.15    
  ! Net::Async::HTTP      0        n/a     

opt_build_requires:

    Module                Need     Have    
    --------------------- -------- --------
    IO::Async::Loop       0        0.70    
    LWP::UserAgent        0        6.15    
  ! Net::Async::HTTP      0        n/a     


------------------------------
ENVIRONMENT AND OTHER CONTEXT
------------------------------

Environment variables:

    COMSPEC = C:\WINDOWS\system32\cmd.exe
    LANG = en_GB.UTF-8
    NUMBER_OF_PROCESSORS = 4
    PATH = /usr/local/bin:/usr/bin:/cygdrive/c/Program Files (x86)/Intel/iCLS Client:/cygdrive/c/Program Files/Intel/iCLS Client:/cygdrive/c/WINDOWS/system32:/cygdrive/c/WINDOWS:/cygdrive/c/WINDOWS/System32/Wbem:/cygdrive/c/WINDOWS/System32/WindowsPowerShell/v1.0:/cygdrive/c/Program Files/Intel/Intel(R) Management Engine Components/DAL:/cygdrive/c/Program Files/Intel/Intel(R) Management Engine Components/IPT:/cygdrive/c/Program Files (x86)/Intel/Intel(R) Management Engine Components/DAL:/cygdrive/c/Program Files (x86)/Intel/Intel(R) Management Engine Components/IPT:/cygdrive/c/Program Files (x86)/Intel/OpenCL SDK/2.0/bin/x86:/cygdrive/c/Program Files (x86)/Intel/OpenCL SDK/2.0/bin/x64:/cygdrive/c/Program Files (x86)/Git/cmd:/cygdrive/c/Program Files (x86)/Git/bin:/cygdrive/c/Program Files/Intel/WiFi/bin:/cygdrive/c/Program Files/Common Files/Intel/WirelessCommon:/cygdrive/c/Strawberry/c/bin:/cygdrive/c/Strawberry/perl/site/bin:/cygdrive/c/Strawberry/perl/bin
    PERL5LIB = 
    PERL5OPT = 
    PERL5_CPANPLUS_IS_RUNNING = 6372
    PERL5_CPAN_IS_RUNNING = 6372
    PROCESSOR_IDENTIFIER = Intel64 Family 6 Model 58 Stepping 9, GenuineIntel
    SHELL = /bin/bash
    TEMP = /tmp
    TERM = xterm

Perl special variables (and OS-specific diagnostics, for MSWin32):

    $^X = /usr/bin/perl
    $UID/$EUID = 197609 / 197609
    $GID = 197121 197121 545 4 66049 11 15 113 66048 262154 401408
    $EGID = 197121 197121 545 4 66049 11 15 113 66048 262154 401408

Perl module toolchain versions installed:

    Module              Have    
    ------------------- --------
    CPAN                2.14    
    CPAN::Meta          2.150005
    Cwd                 3.56_01 
    ExtUtils::CBuilder  0.280224
    ExtUtils::Command   7.20    
    ExtUtils::Install   2.04    
    ExtUtils::MakeMaker 7.20    
    ExtUtils::Manifest  1.70    
    ExtUtils::ParseXS   3.28    
    File::Spec          3.56_01 
    JSON                2.90    
    JSON::PP            2.27202 
    Module::Build       0.4220  
    Module::Signature   0.80    
    Parse::CPAN::Meta   1.4422  
    Test::Harness       3.36    
    Test::More          1.302049
    YAML                0.84    
    YAML::Syck          1.27    
    version             0.9909  


--

Summary of my perl5 (revision 5 version 22 subversion 2) configuration:
   
  Platform:
    osname=cygwin, osvers=2.5.1(0.29753), archname=cygwin-thread-multi
    uname='cygwin_nt-6.3 cygwin 2.5.1(0.29753) 2016-04-21 22:14 x86_64 cygwin '
    config_args='-des -Dprefix=/usr -Dmksymlinks -Darchname=x86_64-cygwin-threads -Dlibperl=cygperl5_22.dll -Dcc=gcc -Dld=g++ -Accflags=-ggdb -O2 -pipe -Wimplicit-function-declaration -fdebug-prefix-map=/mnt/share/maint/perl.x86_64/build=/usr/src/debug/perl-5.22.2-1 -fdebug-prefix-map=/mnt/share/maint/perl.x86_64/src/perl-5.22.2=/usr/src/debug/perl-5.22.2-1 -fwrapv'
    hint=recommended, useposix=true, d_sigaction=define
    useithreads=define, usemultiplicity=define
    use64bitint=define, use64bitall=define, uselongdouble=undef
    usemymalloc=n, bincompat5005=undef
  Compiler:
    cc='gcc', ccflags ='-DPERL_USE_SAFE_PUTENV -D_GNU_SOURCE -U__STRICT_ANSI__ -ggdb -O2 -pipe -Wimplicit-function-declaration -fdebug-prefix-map=/mnt/share/maint/perl.x86_64/build=/usr/src/debug/perl-5.22.2-1 -fdebug-prefix-map=/mnt/share/maint/perl.x86_64/src/perl-5.22.2=/usr/src/debug/perl-5.22.2-1 -fwrapv -fno-strict-aliasing -fstack-protector-strong -D_FORTIFY_SOURCE=2',
    optimize='-O3',
    cppflags='-DPERL_USE_SAFE_PUTENV -D_GNU_SOURCE -U__STRICT_ANSI__ -ggdb -O2 -pipe -Wimplicit-function-declaration -fdebug-prefix-map=/mnt/share/maint/perl.x86_64/build=/usr/src/debug/perl-5.22.2-1 -fdebug-prefix-map=/mnt/share/maint/perl.x86_64/src/perl-5.22.2=/usr/src/debug/perl-5.22.2-1 -fwrapv -fno-strict-aliasing -fstack-protector-strong'
    ccversion='', gccversion='5.3.0', gccosandvers=''
    intsize=4, longsize=8, ptrsize=8, doublesize=8, byteorder=12345678, doublekind=3
    d_longlong=define, longlongsize=8, d_longdbl=define, longdblsize=16, longdblkind=3
    ivtype='long', ivsize=8, nvtype='double', nvsize=8, Off_t='off_t', lseeksize=8
    alignbytes=8, prototype=define
  Linker and Libraries:
    ld='g++', ldflags =' -Wl,--enable-auto-import -Wl,--export-all-symbols -Wl,--enable-auto-image-base -fstack-protector-strong'
    libpth=/usr/lib
    libs=-lpthread -lgdbm -ldb -ldl -lcrypt -lgdbm_compat
    perllibs=-lpthread -ldl -lcrypt
    libc=/usr/lib/libcygwin.a, so=dll, useshrplib=true, libperl=cygperl5_22.dll
    gnulibc_version=''
  Dynamic Linking:
    dlsrc=dl_dlopen.xs, dlext=dll, d_dlsymun=undef, ccdlflags=' '
    cccdlflags=' ', lddlflags=' --shared  -Wl,--enable-auto-import -Wl,--export-all-symbols -Wl,--enable-auto-image-base -fstack-protector-strong'


Characteristics of this binary (from libperl): 
  Compile-time options: HAS_TIMES MULTIPLICITY PERLIO_LAYERS
                        PERL_DONT_CREATE_GVSV
                        PERL_HASH_FUNC_ONE_AT_A_TIME_HARD
                        PERL_IMPLICIT_CONTEXT PERL_NEW_COPY_ON_WRITE
                        PERL_PRESERVE_IVUV PERL_USE_SAFE_PUTENV
                        USE_64_BIT_ALL USE_64_BIT_INT USE_ITHREADS
                        USE_LARGE_FILES USE_LOCALE USE_LOCALE_COLLATE
                        USE_LOCALE_CTYPE USE_LOCALE_NUMERIC USE_LOCALE_TIME
                        USE_PERLIO USE_PERL_ATOF USE_REENTRANT_API
  Built under cygwin
  Compiled at Apr 30 2016 17:04:50
  %ENV:
    PERL5LIB=""
    PERL5OPT=""
    PERL5_CPANPLUS_IS_RUNNING="6372"
    PERL5_CPAN_IS_RUNNING="6372"
  @INC:
    /usr/lib/perl5/site_perl/5.22/x86_64-cygwin-threads
    /usr/lib/perl5/site_perl/5.22
    /usr/lib/perl5/vendor_perl/5.22/x86_64-cygwin-threads
    /usr/lib/perl5/vendor_perl/5.22
    /usr/lib/perl5/5.22/x86_64-cygwin-threads
    /usr/lib/perl5/5.22
    .