Report for Net-HTTP-API-0.14

Back
From: metabase:user:320bfe00-2aae-11df-837a-5e0a49663a4f
Subject: PASS Net-HTTP-API-0.14 v5.12.5 GNU/Linux
Date: 2017-06-27T21:36:37Z

This distribution has been tested as part of the CPAN Testers
project, supporting the Perl programming language.  See
http://wiki.cpantesters.org/ for more information or email
questions to cpan-testers-discuss@perl.org


--
Dear Franck Cuny,

This is a computer-generated report for Net-HTTP-API-0.14
on perl 5.12.5, created by CPAN-Reporter-1.2018.

Thank you for uploading your work to CPAN.  Congratulations!
All tests were successful.

Sections of this report:

    * Tester comments
    * Program output
    * Prerequisites
    * Environment and other context

------------------------------
TESTER COMMENTS
------------------------------

Additional comments from tester:

this report is from an automated smoke testing program
and was not reviewed by a human for accuracy

------------------------------
PROGRAM OUTPUT
------------------------------

Output from '/usr/bin/make test':

PERL_DL_NONLAZY=1 "/home/sand/src/perl/repoperls/installed-perls/host/k93msid/v5.12.5/89ad/bin/perl" "-MExtUtils::Command::MM" "-MTest::Harness" "-e" "undef *Test::Harness::Switches; test_harness(0, 'blib/lib', 'blib/arch')" t/*.t
Passing a list of values to enum is deprecated. Enum values should be wrapped in an arrayref. at /home/sand/src/perl/repoperls/installed-perls/host/k93msid/v5.12.5/89ad/lib/site_perl/5.12.5/x86_64-linux/Moose/Util/TypeConstraints.pm line 437.
	Moose::Util::TypeConstraints::enum("Method", "HEAD", "GET", "POST", "PUT", "DELETE") called at /tmp/loop_over_bdir-30553-Ef5uCC/Net-HTTP-API-0.14-0/blib/lib/Net/HTTP/API/Meta/Method.pm line 21
	require Net/HTTP/API/Meta/Method.pm called at /tmp/loop_over_bdir-30553-Ef5uCC/Net-HTTP-API-0.14-0/blib/lib/Net/HTTP/API/Meta/Method/APIMethod.pm line 10
	Net::HTTP::API::Meta::Method::APIMethod::BEGIN() called at /tmp/loop_over_bdir-30553-Ef5uCC/Net-HTTP-API-0.14-0/blib/lib/Net/HTTP/API/Meta/Method.pm line 0
	eval {...} called at /tmp/loop_over_bdir-30553-Ef5uCC/Net-HTTP-API-0.14-0/blib/lib/Net/HTTP/API/Meta/Method.pm line 0
	require Net/HTTP/API/Meta/Method/APIMethod.pm called at /home/sand/src/perl/repoperls/installed-perls/host/k93msid/v5.12.5/89ad/lib/site_perl/5.12.5/Module/Runtime.pm line 317
	Module::Runtime::require_module("Net::HTTP::API::Meta::Method::APIMethod") called at /home/sand/src/perl/repoperls/installed-perls/host/k93msid/v5.12.5/89ad/lib/site_perl/5.12.5/Module/Runtime.pm line 381
	eval {...} called at /home/sand/src/perl/repoperls/installed-perls/host/k93msid/v5.12.5/89ad/lib/site_perl/5.12.5/Module/Runtime.pm line 381
	Module::Runtime::use_package_optimistically("Net::HTTP::API::Meta::Method::APIMethod") called at /home/sand/src/perl/repoperls/installed-perls/host/k93msid/v5.12.5/89ad/lib/site_perl/5.12.5/x86_64-linux/Moose/Util.pm line 349
	Moose::Util::_load_user_class("Net::HTTP::API::Meta::Method::APIMethod", undef) called at /home/sand/src/perl/repoperls/installed-perls/host/k93msid/v5.12.5/89ad/lib/site_perl/5.12.5/x86_64-linux/Moose/Util.pm line 147
	Moose::Util::_apply_all_roles(Moose::Meta::Role=HASH(0x55942d344478), undef, "Net::HTTP::API::Meta::Method::APIMethod", "Net::HTTP::API::Meta::Method::APIDeclare") called at /home/sand/src/perl/repoperls/installed-perls/host/k93msid/v5.12.5/89ad/lib/site_perl/5.12.5/x86_64-linux/Moose/Util.pm line 114
	Moose::Util::apply_all_roles(Moose::Meta::Role=HASH(0x55942d344478), "Net::HTTP::API::Meta::Method::APIMethod", "Net::HTTP::API::Meta::Method::APIDeclare") called at /home/sand/src/perl/repoperls/installed-perls/host/k93msid/v5.12.5/89ad/lib/site_perl/5.12.5/x86_64-linux/Moose/Role.pm line 25
	Moose::Role::with(Moose::Meta::Role=HASH(0x55942d344478), "Net::HTTP::API::Meta::Method::APIMethod", "Net::HTTP::API::Meta::Method::APIDeclare") called at /home/sand/src/perl/repoperls/installed-perls/host/k93msid/v5.12.5/89ad/lib/site_perl/5.12.5/x86_64-linux/Moose/Exporter.pm line 419
	Moose::Role::with("Net::HTTP::API::Meta::Method::APIMethod", "Net::HTTP::API::Meta::Method::APIDeclare") called at /tmp/loop_over_bdir-30553-Ef5uCC/Net-HTTP-API-0.14-0/blib/lib/Net/HTTP/API/Meta/Class.pm line 10
	require Net/HTTP/API/Meta/Class.pm called at /home/sand/src/perl/repoperls/installed-perls/host/k93msid/v5.12.5/89ad/lib/site_perl/5.12.5/Module/Runtime.pm line 317
	Module::Runtime::require_module("Net::HTTP::API::Meta::Class") called at /home/sand/src/perl/repoperls/installed-perls/host/k93msid/v5.12.5/89ad/lib/site_perl/5.12.5/Module/Runtime.pm line 381
	eval {...} called at /home/sand/src/perl/repoperls/installed-perls/host/k93msid/v5.12.5/89ad/lib/site_perl/5.12.5/Module/Runtime.pm line 381
	Module::Runtime::use_package_optimistically("Net::HTTP::API::Meta::Class") called at /home/sand/src/perl/repoperls/installed-perls/host/k93msid/v5.12.5/89ad/lib/site_perl/5.12.5/x86_64-linux/Moose/Util.pm line 349
	Moose::Util::_load_user_class("Net::HTTP::API::Meta::Class", undef) called at /home/sand/src/perl/repoperls/installed-perls/host/k93msid/v5.12.5/89ad/lib/site_perl/5.12.5/x86_64-linux/Moose/Util.pm line 147
	Moose::Util::_apply_all_roles(Moose::Meta::Class=HASH(0x55942d323798), undef, "Net::HTTP::API::Meta::Class") called at /home/sand/src/perl/repoperls/installed-perls/host/k93msid/v5.12.5/89ad/lib/site_perl/5.12.5/x86_64-linux/Moose/Util.pm line 114
	Moose::Util::apply_all_roles(Moose::Meta::Class=HASH(0x55942d323798), "Net::HTTP::API::Meta::Class") called at /home/sand/src/perl/repoperls/installed-perls/host/k93msid/v5.12.5/89ad/lib/site_perl/5.12.5/x86_64-linux/Moose/Meta/Class.pm line 88
	Moose::Meta::Class::create("Moose::Meta::Class", "Moose::Meta::Class::__ANON__::SERIAL::1", "roles", ARRAY(0x55942c8cd6a8), "weaken", "", "superclasses", ARRAY(0x55942d2dac08)) called at /home/sand/src/perl/repoperls/installed-perls/host/k93msid/v5.12.5/89ad/lib/site_perl/5.12.5/x86_64-linux/Class/MOP/Package.pm line 120
	Class::MOP::Package::create_anon("Moose::Meta::Class", "superclasses", ARRAY(0x55942d2dac08), "roles", ARRAY(0x55942c8cd6a8), "cache", 1) called at /home/sand/src/perl/repoperls/installed-perls/host/k93msid/v5.12.5/89ad/lib/site_perl/5.12.5/x86_64-linux/Class/MOP/Class.pm line 472
	Class::MOP::Class::create_anon_class("Moose::Meta::Class", "superclasses", ARRAY(0x55942d2dac08), "roles", ARRAY(0x55942c8cd6a8), "cache", 1) called at /home/sand/src/perl/repoperls/installed-perls/host/k93msid/v5.12.5/89ad/lib/site_perl/5.12.5/x86_64-linux/Moose/Util/MetaRole.pm line 108
	Moose::Util::MetaRole::_make_new_class("Moose::Meta::Class", ARRAY(0x55942c8cd6a8)) called at /home/sand/src/perl/repoperls/installed-perls/host/k93msid/v5.12.5/89ad/lib/site_perl/5.12.5/x86_64-linux/Moose/Util/MetaRole.pm line 51
	Moose::Util::MetaRole::_make_new_metaclass(Moose::Meta::Class=HASH(0x55942d1c89f0), HASH(0x55942d3191f0), "class") called at /home/sand/src/perl/repoperls/installed-perls/host/k93msid/v5.12.5/89ad/lib/site_perl/5.12.5/x86_64-linux/Moose/Util/MetaRole.pm line 21
	Moose::Util::MetaRole::apply_metaroles("for", "main", "class_metaroles", HASH(0x55942d3191f0)) called at /tmp/loop_over_bdir-30553-Ef5uCC/Net-HTTP-API-0.14-0/blib/lib/Net/HTTP/API.pm line 34
	Net::HTTP::API::init_meta("Net::HTTP::API", "for_class", "MooseX::Types::Moose", "metaclass", undef, "meta_name", "meta") called at /home/sand/src/perl/repoperls/installed-perls/host/k93msid/v5.12.5/89ad/lib/site_perl/5.12.5/x86_64-linux/Moose/Exporter.pm line 484
	Net::HTTP::API::import("Net::HTTP::API") called at t/00_compile.t line 4
	main::BEGIN() called at /tmp/loop_over_bdir-30553-Ef5uCC/Net-HTTP-API-0.14-0/blib/lib/Net/HTTP/API/Meta/Method.pm line 0
	eval {...} called at /tmp/loop_over_bdir-30553-Ef5uCC/Net-HTTP-API-0.14-0/blib/lib/Net/HTTP/API/Meta/Method.pm line 0
	eval 'package main;
BEGIN { ${^WARNING_BITS} = $args[-1] if defined $args[-1] }
#line 4 t/00_compile.t
use Net::HTTP::API @{$args[0]};
1;

;' called at /home/sand/src/perl/repoperls/installed-perls/host/k93msid/v5.12.5/89ad/lib/site_perl/5.12.5/Test/More.pm line 1032
	Test::More::_eval("package main;\x{a}BEGIN { \${^WARNING_BITS} = \$args[-1] if defined"..., ARRAY(0x55942c897550), "UUUUUUUUUUUUU") called at /home/sand/src/perl/repoperls/installed-perls/host/k93msid/v5.12.5/89ad/lib/site_perl/5.12.5/Test/More.pm line 1007
	Test::More::use_ok("Net::HTTP::API") called at t/00_compile.t line 4
	main::BEGIN() called at /tmp/loop_over_bdir-30553-Ef5uCC/Net-HTTP-API-0.14-0/blib/lib/Net/HTTP/API/Meta/Method.pm line 0
	eval {...} called at /tmp/loop_over_bdir-30553-Ef5uCC/Net-HTTP-API-0.14-0/blib/lib/Net/HTTP/API/Meta/Method.pm line 0
Passing a list of values to enum is deprecated. Enum values should be wrapped in an arrayref. at /home/sand/src/perl/repoperls/installed-perls/host/k93msid/v5.12.5/89ad/lib/site_perl/5.12.5/x86_64-linux/Moose/Util/TypeConstraints.pm line 437.
	Moose::Util::TypeConstraints::enum("FormatMode", "content-type", "append") called at /tmp/loop_over_bdir-30553-Ef5uCC/Net-HTTP-API-0.14-0/blib/lib/Net/HTTP/API/Role/Format.pm line 23
	require Net/HTTP/API/Role/Format.pm called at /home/sand/src/perl/repoperls/installed-perls/host/k93msid/v5.12.5/89ad/lib/site_perl/5.12.5/Module/Runtime.pm line 317
	Module::Runtime::require_module("Net::HTTP::API::Role::Format") called at /home/sand/src/perl/repoperls/installed-perls/host/k93msid/v5.12.5/89ad/lib/site_perl/5.12.5/Module/Runtime.pm line 381
	eval {...} called at /home/sand/src/perl/repoperls/installed-perls/host/k93msid/v5.12.5/89ad/lib/site_perl/5.12.5/Module/Runtime.pm line 381
	Module::Runtime::use_package_optimistically("Net::HTTP::API::Role::Format") called at /home/sand/src/perl/repoperls/installed-perls/host/k93msid/v5.12.5/89ad/lib/site_perl/5.12.5/x86_64-linux/Moose/Util.pm line 349
	Moose::Util::_load_user_class("Net::HTTP::API::Role::Format", undef) called at /home/sand/src/perl/repoperls/installed-perls/host/k93msid/v5.12.5/89ad/lib/site_perl/5.12.5/x86_64-linux/Moose/Util.pm line 147
	Moose::Util::_apply_all_roles(Moose::Meta::Class=HASH(0x55942d647d10), undef, "Net::HTTP::API::Role::UserAgent", "Net::HTTP::API::Role::Format", "Net::HTTP::API::Role::Authentication", "Net::HTTP::API::Role::Serialization", "Net::HTTP::API::Role::Request") called at /home/sand/src/perl/repoperls/installed-perls/host/k93msid/v5.12.5/89ad/lib/site_perl/5.12.5/x86_64-linux/Moose/Util.pm line 114
	Moose::Util::apply_all_roles(Moose::Meta::Class=HASH(0x55942d647d10), "Net::HTTP::API::Role::UserAgent", "Net::HTTP::API::Role::Format", "Net::HTTP::API::Role::Authentication", "Net::HTTP::API::Role::Serialization", "Net::HTTP::API::Role::Request") called at /home/sand/src/perl/repoperls/installed-perls/host/k93msid/v5.12.5/89ad/lib/site_perl/5.12.5/x86_64-linux/Moose/Meta/Class.pm line 88
	Moose::Meta::Class::create("Moose::Meta::Class", "Moose::Meta::Class::__ANON__::SERIAL::10", "roles", ARRAY(0x55942c8cd408), "weaken", "", "superclasses", ARRAY(0x55942d6e3ea8)) called at /home/sand/src/perl/repoperls/installed-perls/host/k93msid/v5.12.5/89ad/lib/site_perl/5.12.5/x86_64-linux/Class/MOP/Package.pm line 120
	Class::MOP::Package::create_anon("Moose::Meta::Class", "superclasses", ARRAY(0x55942d6e3ea8), "roles", ARRAY(0x55942c8cd408), "cache", 1) called at /home/sand/src/perl/repoperls/installed-perls/host/k93msid/v5.12.5/89ad/lib/site_perl/5.12.5/x86_64-linux/Class/MOP/Class.pm line 472
	Class::MOP::Class::create_anon_class("Moose::Meta::Class", "superclasses", ARRAY(0x55942d6e3ea8), "roles", ARRAY(0x55942c8cd408), "cache", 1) called at /home/sand/src/perl/repoperls/installed-perls/host/k93msid/v5.12.5/89ad/lib/site_perl/5.12.5/x86_64-linux/Moose/Util/MetaRole.pm line 108
	Moose::Util::MetaRole::_make_new_class("main", ARRAY(0x55942c8cd408), ARRAY(0x55942d6e3ea8)) called at /home/sand/src/perl/repoperls/installed-perls/host/k93msid/v5.12.5/89ad/lib/site_perl/5.12.5/x86_64-linux/Moose/Util/MetaRole.pm line 85
	Moose::Util::MetaRole::apply_base_class_roles("for", "main", "roles", ARRAY(0x55942c8cd408)) called at /tmp/loop_over_bdir-30553-Ef5uCC/Net-HTTP-API-0.14-0/blib/lib/Net/HTTP/API.pm line 41
	Net::HTTP::API::init_meta("Net::HTTP::API", "for_class", "Net::HTTP::API::Role::Format", "metaclass", undef, "meta_name", "meta") called at /home/sand/src/perl/repoperls/installed-perls/host/k93msid/v5.12.5/89ad/lib/site_perl/5.12.5/x86_64-linux/Moose/Exporter.pm line 484
	Net::HTTP::API::import("Net::HTTP::API") called at t/00_compile.t line 4
	main::BEGIN() called at /tmp/loop_over_bdir-30553-Ef5uCC/Net-HTTP-API-0.14-0/blib/lib/Net/HTTP/API/Role/Format.pm line 0
	eval {...} called at /tmp/loop_over_bdir-30553-Ef5uCC/Net-HTTP-API-0.14-0/blib/lib/Net/HTTP/API/Role/Format.pm line 0
	eval 'package main;
BEGIN { ${^WARNING_BITS} = $args[-1] if defined $args[-1] }
#line 4 t/00_compile.t
use Net::HTTP::API @{$args[0]};
1;

;' called at /home/sand/src/perl/repoperls/installed-perls/host/k93msid/v5.12.5/89ad/lib/site_perl/5.12.5/Test/More.pm line 1032
	Test::More::_eval("package main;\x{a}BEGIN { \${^WARNING_BITS} = \$args[-1] if defined"..., ARRAY(0x55942c897550), "UUUUUUUUUUUUU") called at /home/sand/src/perl/repoperls/installed-perls/host/k93msid/v5.12.5/89ad/lib/site_perl/5.12.5/Test/More.pm line 1007
	Test::More::use_ok("Net::HTTP::API") called at t/00_compile.t line 4
	main::BEGIN() called at /tmp/loop_over_bdir-30553-Ef5uCC/Net-HTTP-API-0.14-0/blib/lib/Net/HTTP/API/Role/Format.pm line 0
	eval {...} called at /tmp/loop_over_bdir-30553-Ef5uCC/Net-HTTP-API-0.14-0/blib/lib/Net/HTTP/API/Role/Format.pm line 0
t/00_compile.t ............ ok
Passing a list of values to enum is deprecated. Enum values should be wrapped in an arrayref. at /home/sand/src/perl/repoperls/installed-perls/host/k93msid/v5.12.5/89ad/lib/site_perl/5.12.5/x86_64-linux/Moose/Util/TypeConstraints.pm line 437.
	Moose::Util::TypeConstraints::enum("Method", "HEAD", "GET", "POST", "PUT", "DELETE") called at /tmp/loop_over_bdir-30553-Ef5uCC/Net-HTTP-API-0.14-0/blib/lib/Net/HTTP/API/Meta/Method.pm line 21
	require Net/HTTP/API/Meta/Method.pm called at /tmp/loop_over_bdir-30553-Ef5uCC/Net-HTTP-API-0.14-0/blib/lib/Net/HTTP/API/Meta/Method/APIMethod.pm line 10
	Net::HTTP::API::Meta::Method::APIMethod::BEGIN() called at /tmp/loop_over_bdir-30553-Ef5uCC/Net-HTTP-API-0.14-0/blib/lib/Net/HTTP/API/Meta/Method.pm line 0
	eval {...} called at /tmp/loop_over_bdir-30553-Ef5uCC/Net-HTTP-API-0.14-0/blib/lib/Net/HTTP/API/Meta/Method.pm line 0
	require Net/HTTP/API/Meta/Method/APIMethod.pm called at /home/sand/src/perl/repoperls/installed-perls/host/k93msid/v5.12.5/89ad/lib/site_perl/5.12.5/Module/Runtime.pm line 317
	Module::Runtime::require_module("Net::HTTP::API::Meta::Method::APIMethod") called at /home/sand/src/perl/repoperls/installed-perls/host/k93msid/v5.12.5/89ad/lib/site_perl/5.12.5/Module/Runtime.pm line 381
	eval {...} called at /home/sand/src/perl/repoperls/installed-perls/host/k93msid/v5.12.5/89ad/lib/site_perl/5.12.5/Module/Runtime.pm line 381
	Module::Runtime::use_package_optimistically("Net::HTTP::API::Meta::Method::APIMethod") called at /home/sand/src/perl/repoperls/installed-perls/host/k93msid/v5.12.5/89ad/lib/site_perl/5.12.5/x86_64-linux/Moose/Util.pm line 349
	Moose::Util::_load_user_class("Net::HTTP::API::Meta::Method::APIMethod", undef) called at /home/sand/src/perl/repoperls/installed-perls/host/k93msid/v5.12.5/89ad/lib/site_perl/5.12.5/x86_64-linux/Moose/Util.pm line 147
	Moose::Util::_apply_all_roles(Moose::Meta::Role=HASH(0x5603b7e042c8), undef, "Net::HTTP::API::Meta::Method::APIMethod", "Net::HTTP::API::Meta::Method::APIDeclare") called at /home/sand/src/perl/repoperls/installed-perls/host/k93msid/v5.12.5/89ad/lib/site_perl/5.12.5/x86_64-linux/Moose/Util.pm line 114
	Moose::Util::apply_all_roles(Moose::Meta::Role=HASH(0x5603b7e042c8), "Net::HTTP::API::Meta::Method::APIMethod", "Net::HTTP::API::Meta::Method::APIDeclare") called at /home/sand/src/perl/repoperls/installed-perls/host/k93msid/v5.12.5/89ad/lib/site_perl/5.12.5/x86_64-linux/Moose/Role.pm line 25
	Moose::Role::with(Moose::Meta::Role=HASH(0x5603b7e042c8), "Net::HTTP::API::Meta::Method::APIMethod", "Net::HTTP::API::Meta::Method::APIDeclare") called at /home/sand/src/perl/repoperls/installed-perls/host/k93msid/v5.12.5/89ad/lib/site_perl/5.12.5/x86_64-linux/Moose/Exporter.pm line 419
	Moose::Role::with("Net::HTTP::API::Meta::Method::APIMethod", "Net::HTTP::API::Meta::Method::APIDeclare") called at /tmp/loop_over_bdir-30553-Ef5uCC/Net-HTTP-API-0.14-0/blib/lib/Net/HTTP/API/Meta/Class.pm line 10
	require Net/HTTP/API/Meta/Class.pm called at /home/sand/src/perl/repoperls/installed-perls/host/k93msid/v5.12.5/89ad/lib/site_perl/5.12.5/Module/Runtime.pm line 317
	Module::Runtime::require_module("Net::HTTP::API::Meta::Class") called at /home/sand/src/perl/repoperls/installed-perls/host/k93msid/v5.12.5/89ad/lib/site_perl/5.12.5/Module/Runtime.pm line 381
	eval {...} called at /home/sand/src/perl/repoperls/installed-perls/host/k93msid/v5.12.5/89ad/lib/site_perl/5.12.5/Module/Runtime.pm line 381
	Module::Runtime::use_package_optimistically("Net::HTTP::API::Meta::Class") called at /home/sand/src/perl/repoperls/installed-perls/host/k93msid/v5.12.5/89ad/lib/site_perl/5.12.5/x86_64-linux/Moose/Util.pm line 349
	Moose::Util::_load_user_class("Net::HTTP::API::Meta::Class", undef) called at /home/sand/src/perl/repoperls/installed-perls/host/k93msid/v5.12.5/89ad/lib/site_perl/5.12.5/x86_64-linux/Moose/Util.pm line 147
	Moose::Util::_apply_all_roles(Moose::Meta::Class=HASH(0x5603b73ccad0), undef, "Net::HTTP::API::Meta::Class") called at /home/sand/src/perl/repoperls/installed-perls/host/k93msid/v5.12.5/89ad/lib/site_perl/5.12.5/x86_64-linux/Moose/Util.pm line 114
	Moose::Util::apply_all_roles(Moose::Meta::Class=HASH(0x5603b73ccad0), "Net::HTTP::API::Meta::Class") called at /home/sand/src/perl/repoperls/installed-perls/host/k93msid/v5.12.5/89ad/lib/site_perl/5.12.5/x86_64-linux/Moose/Meta/Class.pm line 88
	Moose::Meta::Class::create("Moose::Meta::Class", "Moose::Meta::Class::__ANON__::SERIAL::1", "roles", ARRAY(0x5603b73ca568), "weaken", "", "superclasses", ARRAY(0x5603b7df8ab8)) called at /home/sand/src/perl/repoperls/installed-perls/host/k93msid/v5.12.5/89ad/lib/site_perl/5.12.5/x86_64-linux/Class/MOP/Package.pm line 120
	Class::MOP::Package::create_anon("Moose::Meta::Class", "superclasses", ARRAY(0x5603b7df8ab8), "roles", ARRAY(0x5603b73ca568), "cache", 1) called at /home/sand/src/perl/repoperls/installed-perls/host/k93msid/v5.12.5/89ad/lib/site_perl/5.12.5/x86_64-linux/Class/MOP/Class.pm line 472
	Class::MOP::Class::create_anon_class("Moose::Meta::Class", "superclasses", ARRAY(0x5603b7df8ab8), "roles", ARRAY(0x5603b73ca568), "cache", 1) called at /home/sand/src/perl/repoperls/installed-perls/host/k93msid/v5.12.5/89ad/lib/site_perl/5.12.5/x86_64-linux/Moose/Util/MetaRole.pm line 108
	Moose::Util::MetaRole::_make_new_class("Moose::Meta::Class", ARRAY(0x5603b73ca568)) called at /home/sand/src/perl/repoperls/installed-perls/host/k93msid/v5.12.5/89ad/lib/site_perl/5.12.5/x86_64-linux/Moose/Util/MetaRole.pm line 51
	Moose::Util::MetaRole::_make_new_metaclass(Moose::Meta::Class=HASH(0x5603b7df8f80), HASH(0x5603b7de7e88), "class") called at /home/sand/src/perl/repoperls/installed-perls/host/k93msid/v5.12.5/89ad/lib/site_perl/5.12.5/x86_64-linux/Moose/Util/MetaRole.pm line 21
	Moose::Util::MetaRole::apply_metaroles("for", "TestAPI", "class_metaroles", HASH(0x5603b7de7e88)) called at /tmp/loop_over_bdir-30553-Ef5uCC/Net-HTTP-API-0.14-0/blib/lib/Net/HTTP/API.pm line 34
	Net::HTTP::API::init_meta("Net::HTTP::API", "for_class", "MooseX::Types::Moose", "metaclass", undef, "meta_name", "meta") called at /home/sand/src/perl/repoperls/installed-perls/host/k93msid/v5.12.5/89ad/lib/site_perl/5.12.5/x86_64-linux/Moose/Exporter.pm line 484
	Net::HTTP::API::import("Net::HTTP::API") called at t/lib/TestAPI.pm line 2
	TestAPI::BEGIN() called at /tmp/loop_over_bdir-30553-Ef5uCC/Net-HTTP-API-0.14-0/blib/lib/Net/HTTP/API/Meta/Method.pm line 0
	eval {...} called at /tmp/loop_over_bdir-30553-Ef5uCC/Net-HTTP-API-0.14-0/blib/lib/Net/HTTP/API/Meta/Method.pm line 0
	require TestAPI.pm called at t/01_basic.t line 9
	main::BEGIN() called at /tmp/loop_over_bdir-30553-Ef5uCC/Net-HTTP-API-0.14-0/blib/lib/Net/HTTP/API/Meta/Method.pm line 0
	eval {...} called at /tmp/loop_over_bdir-30553-Ef5uCC/Net-HTTP-API-0.14-0/blib/lib/Net/HTTP/API/Meta/Method.pm line 0
Passing a list of values to enum is deprecated. Enum values should be wrapped in an arrayref. at /home/sand/src/perl/repoperls/installed-perls/host/k93msid/v5.12.5/89ad/lib/site_perl/5.12.5/x86_64-linux/Moose/Util/TypeConstraints.pm line 437.
	Moose::Util::TypeConstraints::enum("FormatMode", "content-type", "append") called at /tmp/loop_over_bdir-30553-Ef5uCC/Net-HTTP-API-0.14-0/blib/lib/Net/HTTP/API/Role/Format.pm line 23
	require Net/HTTP/API/Role/Format.pm called at /home/sand/src/perl/repoperls/installed-perls/host/k93msid/v5.12.5/89ad/lib/site_perl/5.12.5/Module/Runtime.pm line 317
	Module::Runtime::require_module("Net::HTTP::API::Role::Format") called at /home/sand/src/perl/repoperls/installed-perls/host/k93msid/v5.12.5/89ad/lib/site_perl/5.12.5/Module/Runtime.pm line 381
	eval {...} called at /home/sand/src/perl/repoperls/installed-perls/host/k93msid/v5.12.5/89ad/lib/site_perl/5.12.5/Module/Runtime.pm line 381
	Module::Runtime::use_package_optimistically("Net::HTTP::API::Role::Format") called at /home/sand/src/perl/repoperls/installed-perls/host/k93msid/v5.12.5/89ad/lib/site_perl/5.12.5/x86_64-linux/Moose/Util.pm line 349
	Moose::Util::_load_user_class("Net::HTTP::API::Role::Format", undef) called at /home/sand/src/perl/repoperls/installed-perls/host/k93msid/v5.12.5/89ad/lib/site_perl/5.12.5/x86_64-linux/Moose/Util.pm line 147
	Moose::Util::_apply_all_roles(Moose::Meta::Class=HASH(0x5603b8100128), undef, "Net::HTTP::API::Role::UserAgent", "Net::HTTP::API::Role::Format", "Net::HTTP::API::Role::Authentication", "Net::HTTP::API::Role::Serialization", "Net::HTTP::API::Role::Request") called at /home/sand/src/perl/repoperls/installed-perls/host/k93msid/v5.12.5/89ad/lib/site_perl/5.12.5/x86_64-linux/Moose/Util.pm line 114
	Moose::Util::apply_all_roles(Moose::Meta::Class=HASH(0x5603b8100128), "Net::HTTP::API::Role::UserAgent", "Net::HTTP::API::Role::Format", "Net::HTTP::API::Role::Authentication", "Net::HTTP::API::Role::Serialization", "Net::HTTP::API::Role::Request") called at /home/sand/src/perl/repoperls/installed-perls/host/k93msid/v5.12.5/89ad/lib/site_perl/5.12.5/x86_64-linux/Moose/Meta/Class.pm line 88
	Moose::Meta::Class::create("Moose::Meta::Class", "Moose::Meta::Class::__ANON__::SERIAL::10", "roles", ARRAY(0x5603b7df0548), "weaken", "", "superclasses", ARRAY(0x5603b819d500)) called at /home/sand/src/perl/repoperls/installed-perls/host/k93msid/v5.12.5/89ad/lib/site_perl/5.12.5/x86_64-linux/Class/MOP/Package.pm line 120
	Class::MOP::Package::create_anon("Moose::Meta::Class", "superclasses", ARRAY(0x5603b819d500), "roles", ARRAY(0x5603b7df0548), "cache", 1) called at /home/sand/src/perl/repoperls/installed-perls/host/k93msid/v5.12.5/89ad/lib/site_perl/5.12.5/x86_64-linux/Class/MOP/Class.pm line 472
	Class::MOP::Class::create_anon_class("Moose::Meta::Class", "superclasses", ARRAY(0x5603b819d500), "roles", ARRAY(0x5603b7df0548), "cache", 1) called at /home/sand/src/perl/repoperls/installed-perls/host/k93msid/v5.12.5/89ad/lib/site_perl/5.12.5/x86_64-linux/Moose/Util/MetaRole.pm line 108
	Moose::Util::MetaRole::_make_new_class("TestAPI", ARRAY(0x5603b7df0548), ARRAY(0x5603b819d500)) called at /home/sand/src/perl/repoperls/installed-perls/host/k93msid/v5.12.5/89ad/lib/site_perl/5.12.5/x86_64-linux/Moose/Util/MetaRole.pm line 85
	Moose::Util::MetaRole::apply_base_class_roles("for", "TestAPI", "roles", ARRAY(0x5603b7df0548)) called at /tmp/loop_over_bdir-30553-Ef5uCC/Net-HTTP-API-0.14-0/blib/lib/Net/HTTP/API.pm line 41
	Net::HTTP::API::init_meta("Net::HTTP::API", "for_class", "Net::HTTP::API::Role::Format", "metaclass", undef, "meta_name", "meta") called at /home/sand/src/perl/repoperls/installed-perls/host/k93msid/v5.12.5/89ad/lib/site_perl/5.12.5/x86_64-linux/Moose/Exporter.pm line 484
	Net::HTTP::API::import("Net::HTTP::API") called at t/lib/TestAPI.pm line 2
	TestAPI::BEGIN() called at /tmp/loop_over_bdir-30553-Ef5uCC/Net-HTTP-API-0.14-0/blib/lib/Net/HTTP/API/Role/Format.pm line 0
	eval {...} called at /tmp/loop_over_bdir-30553-Ef5uCC/Net-HTTP-API-0.14-0/blib/lib/Net/HTTP/API/Role/Format.pm line 0
	require TestAPI.pm called at t/01_basic.t line 9
	main::BEGIN() called at /tmp/loop_over_bdir-30553-Ef5uCC/Net-HTTP-API-0.14-0/blib/lib/Net/HTTP/API/Role/Format.pm line 0
	eval {...} called at /tmp/loop_over_bdir-30553-Ef5uCC/Net-HTTP-API-0.14-0/blib/lib/Net/HTTP/API/Role/Format.pm line 0
Class::MOP::load_class is deprecated at /home/sand/src/perl/repoperls/installed-perls/host/k93msid/v5.12.5/89ad/lib/site_perl/5.12.5/x86_64-linux/Class/MOP.pm line 69.
	Class::MOP::load_class("Net::HTTP::API::Parser::JSON") called at /tmp/loop_over_bdir-30553-Ef5uCC/Net-HTTP-API-0.14-0/blib/lib/Net/HTTP/API/Role/Serialization.pm line 74
	Net::HTTP::API::Role::Serialization::_load_serializer(TestAPI=HASH(0x5603b8969958), "json") called at /tmp/loop_over_bdir-30553-Ef5uCC/Net-HTTP-API-0.14-0/blib/lib/Net/HTTP/API/Role/Serialization.pm line 53
	Net::HTTP::API::Role::Serialization::deserialize(TestAPI=HASH(0x5603b8969958), "[{\"name\":\"eris\"}]", ARRAY(0x5603b83f8630)) called at /tmp/loop_over_bdir-30553-Ef5uCC/Net-HTTP-API-0.14-0/blib/lib/Net/HTTP/API/Role/Serialization.pm line 37
	Net::HTTP::API::Role::Serialization::get_content(TestAPI=HASH(0x5603b8969958), HTTP::Response=HASH(0x5603b8a21de8)) called at /tmp/loop_over_bdir-30553-Ef5uCC/Net-HTTP-API-0.14-0/blib/lib/Net/HTTP/API/Meta/Method.pm line 134
	TestAPI::users(TestAPI=HASH(0x5603b8969958)) called at /home/sand/src/perl/repoperls/installed-perls/host/k93msid/v5.12.5/89ad/lib/site_perl/5.12.5/x86_64-linux/Class/MOP/Method/Wrapped.pm line 44
	TestAPI::_wrapped_users(TestAPI=HASH(0x5603b8969958)) called at /home/sand/src/perl/repoperls/installed-perls/host/k93msid/v5.12.5/89ad/lib/site_perl/5.12.5/x86_64-linux/Class/MOP/Method/Wrapped.pm line 95
	TestAPI::users(TestAPI=HASH(0x5603b8969958)) called at t/01_basic.t line 29
t/01_basic.t .............. ok
Passing a list of values to enum is deprecated. Enum values should be wrapped in an arrayref. at /home/sand/src/perl/repoperls/installed-perls/host/k93msid/v5.12.5/89ad/lib/site_perl/5.12.5/x86_64-linux/Moose/Util/TypeConstraints.pm line 437.
	Moose::Util::TypeConstraints::enum("Method", "HEAD", "GET", "POST", "PUT", "DELETE") called at /tmp/loop_over_bdir-30553-Ef5uCC/Net-HTTP-API-0.14-0/blib/lib/Net/HTTP/API/Meta/Method.pm line 21
	require Net/HTTP/API/Meta/Method.pm called at /tmp/loop_over_bdir-30553-Ef5uCC/Net-HTTP-API-0.14-0/blib/lib/Net/HTTP/API/Meta/Method/APIMethod.pm line 10
	Net::HTTP::API::Meta::Method::APIMethod::BEGIN() called at /tmp/loop_over_bdir-30553-Ef5uCC/Net-HTTP-API-0.14-0/blib/lib/Net/HTTP/API/Meta/Method.pm line 0
	eval {...} called at /tmp/loop_over_bdir-30553-Ef5uCC/Net-HTTP-API-0.14-0/blib/lib/Net/HTTP/API/Meta/Method.pm line 0
	require Net/HTTP/API/Meta/Method/APIMethod.pm called at /home/sand/src/perl/repoperls/installed-perls/host/k93msid/v5.12.5/89ad/lib/site_perl/5.12.5/Module/Runtime.pm line 317
	Module::Runtime::require_module("Net::HTTP::API::Meta::Method::APIMethod") called at /home/sand/src/perl/repoperls/installed-perls/host/k93msid/v5.12.5/89ad/lib/site_perl/5.12.5/Module/Runtime.pm line 381
	eval {...} called at /home/sand/src/perl/repoperls/installed-perls/host/k93msid/v5.12.5/89ad/lib/site_perl/5.12.5/Module/Runtime.pm line 381
	Module::Runtime::use_package_optimistically("Net::HTTP::API::Meta::Method::APIMethod") called at /home/sand/src/perl/repoperls/installed-perls/host/k93msid/v5.12.5/89ad/lib/site_perl/5.12.5/x86_64-linux/Moose/Util.pm line 349
	Moose::Util::_load_user_class("Net::HTTP::API::Meta::Method::APIMethod", undef) called at /home/sand/src/perl/repoperls/installed-perls/host/k93msid/v5.12.5/89ad/lib/site_perl/5.12.5/x86_64-linux/Moose/Util.pm line 147
	Moose::Util::_apply_all_roles(Moose::Meta::Role=HASH(0x561d09252fe0), undef, "Net::HTTP::API::Meta::Method::APIMethod", "Net::HTTP::API::Meta::Method::APIDeclare") called at /home/sand/src/perl/repoperls/installed-perls/host/k93msid/v5.12.5/89ad/lib/site_perl/5.12.5/x86_64-linux/Moose/Util.pm line 114
	Moose::Util::apply_all_roles(Moose::Meta::Role=HASH(0x561d09252fe0), "Net::HTTP::API::Meta::Method::APIMethod", "Net::HTTP::API::Meta::Method::APIDeclare") called at /home/sand/src/perl/repoperls/installed-perls/host/k93msid/v5.12.5/89ad/lib/site_perl/5.12.5/x86_64-linux/Moose/Role.pm line 25
	Moose::Role::with(Moose::Meta::Role=HASH(0x561d09252fe0), "Net::HTTP::API::Meta::Method::APIMethod", "Net::HTTP::API::Meta::Method::APIDeclare") called at /home/sand/src/perl/repoperls/installed-perls/host/k93msid/v5.12.5/89ad/lib/site_perl/5.12.5/x86_64-linux/Moose/Exporter.pm line 419
	Moose::Role::with("Net::HTTP::API::Meta::Method::APIMethod", "Net::HTTP::API::Meta::Method::APIDeclare") called at /tmp/loop_over_bdir-30553-Ef5uCC/Net-HTTP-API-0.14-0/blib/lib/Net/HTTP/API/Meta/Class.pm line 10
	require Net/HTTP/API/Meta/Class.pm called at /home/sand/src/perl/repoperls/installed-perls/host/k93msid/v5.12.5/89ad/lib/site_perl/5.12.5/Module/Runtime.pm line 317
	Module::Runtime::require_module("Net::HTTP::API::Meta::Class") called at /home/sand/src/perl/repoperls/installed-perls/host/k93msid/v5.12.5/89ad/lib/site_perl/5.12.5/Module/Runtime.pm line 381
	eval {...} called at /home/sand/src/perl/repoperls/installed-perls/host/k93msid/v5.12.5/89ad/lib/site_perl/5.12.5/Module/Runtime.pm line 381
	Module::Runtime::use_package_optimistically("Net::HTTP::API::Meta::Class") called at /home/sand/src/perl/repoperls/installed-perls/host/k93msid/v5.12.5/89ad/lib/site_perl/5.12.5/x86_64-linux/Moose/Util.pm line 349
	Moose::Util::_load_user_class("Net::HTTP::API::Meta::Class", undef) called at /home/sand/src/perl/repoperls/installed-perls/host/k93msid/v5.12.5/89ad/lib/site_perl/5.12.5/x86_64-linux/Moose/Util.pm line 147
	Moose::Util::_apply_all_roles(Moose::Meta::Class=HASH(0x561d09232350), undef, "Net::HTTP::API::Meta::Class") called at /home/sand/src/perl/repoperls/installed-perls/host/k93msid/v5.12.5/89ad/lib/site_perl/5.12.5/x86_64-linux/Moose/Util.pm line 114
	Moose::Util::apply_all_roles(Moose::Meta::Class=HASH(0x561d09232350), "Net::HTTP::API::Meta::Class") called at /home/sand/src/perl/repoperls/installed-perls/host/k93msid/v5.12.5/89ad/lib/site_perl/5.12.5/x86_64-linux/Moose/Meta/Class.pm line 88
	Moose::Meta::Class::create("Moose::Meta::Class", "Moose::Meta::Class::__ANON__::SERIAL::1", "roles", ARRAY(0x561d08803328), "weaken", "", "superclasses", ARRAY(0x561d0922ca28)) called at /home/sand/src/perl/repoperls/installed-perls/host/k93msid/v5.12.5/89ad/lib/site_perl/5.12.5/x86_64-linux/Class/MOP/Package.pm line 120
	Class::MOP::Package::create_anon("Moose::Meta::Class", "superclasses", ARRAY(0x561d0922ca28), "roles", ARRAY(0x561d08803328), "cache", 1) called at /home/sand/src/perl/repoperls/installed-perls/host/k93msid/v5.12.5/89ad/lib/site_perl/5.12.5/x86_64-linux/Class/MOP/Class.pm line 472
	Class::MOP::Class::create_anon_class("Moose::Meta::Class", "superclasses", ARRAY(0x561d0922ca28), "roles", ARRAY(0x561d08803328), "cache", 1) called at /home/sand/src/perl/repoperls/installed-perls/host/k93msid/v5.12.5/89ad/lib/site_perl/5.12.5/x86_64-linux/Moose/Util/MetaRole.pm line 108
	Moose::Util::MetaRole::_make_new_class("Moose::Meta::Class", ARRAY(0x561d08803328)) called at /home/sand/src/perl/repoperls/installed-perls/host/k93msid/v5.12.5/89ad/lib/site_perl/5.12.5/x86_64-linux/Moose/Util/MetaRole.pm line 51
	Moose::Util::MetaRole::_make_new_metaclass(Moose::Meta::Class=HASH(0x561d0922ea18), HASH(0x561d0921ee08), "class") called at /home/sand/src/perl/repoperls/installed-perls/host/k93msid/v5.12.5/89ad/lib/site_perl/5.12.5/x86_64-linux/Moose/Util/MetaRole.pm line 21
	Moose::Util::MetaRole::apply_metaroles("for", "test::api::missing_api_base_url", "class_metaroles", HASH(0x561d0921ee08)) called at /tmp/loop_over_bdir-30553-Ef5uCC/Net-HTTP-API-0.14-0/blib/lib/Net/HTTP/API.pm line 34
	Net::HTTP::API::init_meta("Net::HTTP::API", "for_class", "MooseX::Types::Moose", "metaclass", undef, "meta_name", "meta") called at /home/sand/src/perl/repoperls/installed-perls/host/k93msid/v5.12.5/89ad/lib/site_perl/5.12.5/x86_64-linux/Moose/Exporter.pm line 484
	Net::HTTP::API::import("Net::HTTP::API") called at t/02_error.t line 7
	test::api::missing_api_base_url::BEGIN() called at /tmp/loop_over_bdir-30553-Ef5uCC/Net-HTTP-API-0.14-0/blib/lib/Net/HTTP/API/Meta/Method.pm line 0
	eval {...} called at /tmp/loop_over_bdir-30553-Ef5uCC/Net-HTTP-API-0.14-0/blib/lib/Net/HTTP/API/Meta/Method.pm line 0
Passing a list of values to enum is deprecated. Enum values should be wrapped in an arrayref. at /home/sand/src/perl/repoperls/installed-perls/host/k93msid/v5.12.5/89ad/lib/site_perl/5.12.5/x86_64-linux/Moose/Util/TypeConstraints.pm line 437.
	Moose::Util::TypeConstraints::enum("FormatMode", "content-type", "append") called at /tmp/loop_over_bdir-30553-Ef5uCC/Net-HTTP-API-0.14-0/blib/lib/Net/HTTP/API/Role/Format.pm line 23
	require Net/HTTP/API/Role/Format.pm called at /home/sand/src/perl/repoperls/installed-perls/host/k93msid/v5.12.5/89ad/lib/site_perl/5.12.5/Module/Runtime.pm line 317
	Module::Runtime::require_module("Net::HTTP::API::Role::Format") called at /home/sand/src/perl/repoperls/installed-perls/host/k93msid/v5.12.5/89ad/lib/site_perl/5.12.5/Module/Runtime.pm line 381
	eval {...} called at /home/sand/src/perl/repoperls/installed-perls/host/k93msid/v5.12.5/89ad/lib/site_perl/5.12.5/Module/Runtime.pm line 381
	Module::Runtime::use_package_optimistically("Net::HTTP::API::Role::Format") called at /home/sand/src/perl/repoperls/installed-perls/host/k93msid/v5.12.5/89ad/lib/site_perl/5.12.5/x86_64-linux/Moose/Util.pm line 349
	Moose::Util::_load_user_class("Net::HTTP::API::Role::Format", undef) called at /home/sand/src/perl/repoperls/installed-perls/host/k93msid/v5.12.5/89ad/lib/site_perl/5.12.5/x86_64-linux/Moose/Util.pm line 147
	Moose::Util::_apply_all_roles(Moose::Meta::Class=HASH(0x561d09534e00), undef, "Net::HTTP::API::Role::UserAgent", "Net::HTTP::API::Role::Format", "Net::HTTP::API::Role::Authentication", "Net::HTTP::API::Role::Serialization", "Net::HTTP::API::Role::Request") called at /home/sand/src/perl/repoperls/installed-perls/host/k93msid/v5.12.5/89ad/lib/site_perl/5.12.5/x86_64-linux/Moose/Util.pm line 114
	Moose::Util::apply_all_roles(Moose::Meta::Class=HASH(0x561d09534e00), "Net::HTTP::API::Role::UserAgent", "Net::HTTP::API::Role::Format", "Net::HTTP::API::Role::Authentication", "Net::HTTP::API::Role::Serialization", "Net::HTTP::API::Role::Request") called at /home/sand/src/perl/repoperls/installed-perls/host/k93msid/v5.12.5/89ad/lib/site_perl/5.12.5/x86_64-linux/Moose/Meta/Class.pm line 88
	Moose::Meta::Class::create("Moose::Meta::Class", "Moose::Meta::Class::__ANON__::SERIAL::10", "roles", ARRAY(0x561d092258b8), "weaken", "", "superclasses", ARRAY(0x561d095cfa78)) called at /home/sand/src/perl/repoperls/installed-perls/host/k93msid/v5.12.5/89ad/lib/site_perl/5.12.5/x86_64-linux/Class/MOP/Package.pm line 120
	Class::MOP::Package::create_anon("Moose::Meta::Class", "superclasses", ARRAY(0x561d095cfa78), "roles", ARRAY(0x561d092258b8), "cache", 1) called at /home/sand/src/perl/repoperls/installed-perls/host/k93msid/v5.12.5/89ad/lib/site_perl/5.12.5/x86_64-linux/Class/MOP/Class.pm line 472
	Class::MOP::Class::create_anon_class("Moose::Meta::Class", "superclasses", ARRAY(0x561d095cfa78), "roles", ARRAY(0x561d092258b8), "cache", 1) called at /home/sand/src/perl/repoperls/installed-perls/host/k93msid/v5.12.5/89ad/lib/site_perl/5.12.5/x86_64-linux/Moose/Util/MetaRole.pm line 108
	Moose::Util::MetaRole::_make_new_class("test::api::missing_api_base_url", ARRAY(0x561d092258b8), ARRAY(0x561d095cfa78)) called at /home/sand/src/perl/repoperls/installed-perls/host/k93msid/v5.12.5/89ad/lib/site_perl/5.12.5/x86_64-linux/Moose/Util/MetaRole.pm line 85
	Moose::Util::MetaRole::apply_base_class_roles("for", "test::api::missing_api_base_url", "roles", ARRAY(0x561d092258b8)) called at /tmp/loop_over_bdir-30553-Ef5uCC/Net-HTTP-API-0.14-0/blib/lib/Net/HTTP/API.pm line 41
	Net::HTTP::API::init_meta("Net::HTTP::API", "for_class", "Net::HTTP::API::Role::Format", "metaclass", undef, "meta_name", "meta") called at /home/sand/src/perl/repoperls/installed-perls/host/k93msid/v5.12.5/89ad/lib/site_perl/5.12.5/x86_64-linux/Moose/Exporter.pm line 484
	Net::HTTP::API::import("Net::HTTP::API") called at t/02_error.t line 7
	test::api::missing_api_base_url::BEGIN() called at /tmp/loop_over_bdir-30553-Ef5uCC/Net-HTTP-API-0.14-0/blib/lib/Net/HTTP/API/Role/Format.pm line 0
	eval {...} called at /tmp/loop_over_bdir-30553-Ef5uCC/Net-HTTP-API-0.14-0/blib/lib/Net/HTTP/API/Role/Format.pm line 0
t/02_error.t .............. ok
t/03_serialization.t ...... ok
Passing a list of values to enum is deprecated. Enum values should be wrapped in an arrayref. at /home/sand/src/perl/repoperls/installed-perls/host/k93msid/v5.12.5/89ad/lib/site_perl/5.12.5/x86_64-linux/Moose/Util/TypeConstraints.pm line 437.
	Moose::Util::TypeConstraints::enum("Method", "HEAD", "GET", "POST", "PUT", "DELETE") called at /tmp/loop_over_bdir-30553-Ef5uCC/Net-HTTP-API-0.14-0/blib/lib/Net/HTTP/API/Meta/Method.pm line 21
	require Net/HTTP/API/Meta/Method.pm called at t/04_apimethod.t line 5
	main::BEGIN() called at /tmp/loop_over_bdir-30553-Ef5uCC/Net-HTTP-API-0.14-0/blib/lib/Net/HTTP/API/Meta/Method.pm line 0
	eval {...} called at /tmp/loop_over_bdir-30553-Ef5uCC/Net-HTTP-API-0.14-0/blib/lib/Net/HTTP/API/Meta/Method.pm line 0
t/04_apimethod.t .......... ok
Passing a list of values to enum is deprecated. Enum values should be wrapped in an arrayref. at /home/sand/src/perl/repoperls/installed-perls/host/k93msid/v5.12.5/89ad/lib/site_perl/5.12.5/x86_64-linux/Moose/Util/TypeConstraints.pm line 437.
	Moose::Util::TypeConstraints::enum("Method", "HEAD", "GET", "POST", "PUT", "DELETE") called at /tmp/loop_over_bdir-30553-Ef5uCC/Net-HTTP-API-0.14-0/blib/lib/Net/HTTP/API/Meta/Method.pm line 21
	require Net/HTTP/API/Meta/Method.pm called at /tmp/loop_over_bdir-30553-Ef5uCC/Net-HTTP-API-0.14-0/blib/lib/Net/HTTP/API/Meta/Method/APIMethod.pm line 10
	Net::HTTP::API::Meta::Method::APIMethod::BEGIN() called at /tmp/loop_over_bdir-30553-Ef5uCC/Net-HTTP-API-0.14-0/blib/lib/Net/HTTP/API/Meta/Method.pm line 0
	eval {...} called at /tmp/loop_over_bdir-30553-Ef5uCC/Net-HTTP-API-0.14-0/blib/lib/Net/HTTP/API/Meta/Method.pm line 0
	require Net/HTTP/API/Meta/Method/APIMethod.pm called at /home/sand/src/perl/repoperls/installed-perls/host/k93msid/v5.12.5/89ad/lib/site_perl/5.12.5/Module/Runtime.pm line 317
	Module::Runtime::require_module("Net::HTTP::API::Meta::Method::APIMethod") called at /home/sand/src/perl/repoperls/installed-perls/host/k93msid/v5.12.5/89ad/lib/site_perl/5.12.5/Module/Runtime.pm line 381
	eval {...} called at /home/sand/src/perl/repoperls/installed-perls/host/k93msid/v5.12.5/89ad/lib/site_perl/5.12.5/Module/Runtime.pm line 381
	Module::Runtime::use_package_optimistically("Net::HTTP::API::Meta::Method::APIMethod") called at /home/sand/src/perl/repoperls/installed-perls/host/k93msid/v5.12.5/89ad/lib/site_perl/5.12.5/x86_64-linux/Moose/Util.pm line 349
	Moose::Util::_load_user_class("Net::HTTP::API::Meta::Method::APIMethod", undef) called at /home/sand/src/perl/repoperls/installed-perls/host/k93msid/v5.12.5/89ad/lib/site_perl/5.12.5/x86_64-linux/Moose/Util.pm line 147
	Moose::Util::_apply_all_roles(Moose::Meta::Role=HASH(0x556ec8213850), undef, "Net::HTTP::API::Meta::Method::APIMethod", "Net::HTTP::API::Meta::Method::APIDeclare") called at /home/sand/src/perl/repoperls/installed-perls/host/k93msid/v5.12.5/89ad/lib/site_perl/5.12.5/x86_64-linux/Moose/Util.pm line 114
	Moose::Util::apply_all_roles(Moose::Meta::Role=HASH(0x556ec8213850), "Net::HTTP::API::Meta::Method::APIMethod", "Net::HTTP::API::Meta::Method::APIDeclare") called at /home/sand/src/perl/repoperls/installed-perls/host/k93msid/v5.12.5/89ad/lib/site_perl/5.12.5/x86_64-linux/Moose/Role.pm line 25
	Moose::Role::with(Moose::Meta::Role=HASH(0x556ec8213850), "Net::HTTP::API::Meta::Method::APIMethod", "Net::HTTP::API::Meta::Method::APIDeclare") called at /home/sand/src/perl/repoperls/installed-perls/host/k93msid/v5.12.5/89ad/lib/site_perl/5.12.5/x86_64-linux/Moose/Exporter.pm line 419
	Moose::Role::with("Net::HTTP::API::Meta::Method::APIMethod", "Net::HTTP::API::Meta::Method::APIDeclare") called at /tmp/loop_over_bdir-30553-Ef5uCC/Net-HTTP-API-0.14-0/blib/lib/Net/HTTP/API/Meta/Class.pm line 10
	require Net/HTTP/API/Meta/Class.pm called at /home/sand/src/perl/repoperls/installed-perls/host/k93msid/v5.12.5/89ad/lib/site_perl/5.12.5/Module/Runtime.pm line 317
	Module::Runtime::require_module("Net::HTTP::API::Meta::Class") called at /home/sand/src/perl/repoperls/installed-perls/host/k93msid/v5.12.5/89ad/lib/site_perl/5.12.5/Module/Runtime.pm line 381
	eval {...} called at /home/sand/src/perl/repoperls/installed-perls/host/k93msid/v5.12.5/89ad/lib/site_perl/5.12.5/Module/Runtime.pm line 381
	Module::Runtime::use_package_optimistically("Net::HTTP::API::Meta::Class") called at /home/sand/src/perl/repoperls/installed-perls/host/k93msid/v5.12.5/89ad/lib/site_perl/5.12.5/x86_64-linux/Moose/Util.pm line 349
	Moose::Util::_load_user_class("Net::HTTP::API::Meta::Class", undef) called at /home/sand/src/perl/repoperls/installed-perls/host/k93msid/v5.12.5/89ad/lib/site_perl/5.12.5/x86_64-linux/Moose/Util.pm line 147
	Moose::Util::_apply_all_roles(Moose::Meta::Class=HASH(0x556ec820af48), undef, "Net::HTTP::API::Meta::Class") called at /home/sand/src/perl/repoperls/installed-perls/host/k93msid/v5.12.5/89ad/lib/site_perl/5.12.5/x86_64-linux/Moose/Util.pm line 114
	Moose::Util::apply_all_roles(Moose::Meta::Class=HASH(0x556ec820af48), "Net::HTTP::API::Meta::Class") called at /home/sand/src/perl/repoperls/installed-perls/host/k93msid/v5.12.5/89ad/lib/site_perl/5.12.5/x86_64-linux/Moose/Meta/Class.pm line 88
	Moose::Meta::Class::create("Moose::Meta::Class", "Moose::Meta::Class::__ANON__::SERIAL::1", "roles", ARRAY(0x556ec81fc110), "weaken", "", "superclasses", ARRAY(0x556ec8206a50)) called at /home/sand/src/perl/repoperls/installed-perls/host/k93msid/v5.12.5/89ad/lib/site_perl/5.12.5/x86_64-linux/Class/MOP/Package.pm line 120
	Class::MOP::Package::create_anon("Moose::Meta::Class", "superclasses", ARRAY(0x556ec8206a50), "roles", ARRAY(0x556ec81fc110), "cache", 1) called at /home/sand/src/perl/repoperls/installed-perls/host/k93msid/v5.12.5/89ad/lib/site_perl/5.12.5/x86_64-linux/Class/MOP/Class.pm line 472
	Class::MOP::Class::create_anon_class("Moose::Meta::Class", "superclasses", ARRAY(0x556ec8206a50), "roles", ARRAY(0x556ec81fc110), "cache", 1) called at /home/sand/src/perl/repoperls/installed-perls/host/k93msid/v5.12.5/89ad/lib/site_perl/5.12.5/x86_64-linux/Moose/Util/MetaRole.pm line 108
	Moose::Util::MetaRole::_make_new_class("Moose::Meta::Class", ARRAY(0x556ec81fc110)) called at /home/sand/src/perl/repoperls/installed-perls/host/k93msid/v5.12.5/89ad/lib/site_perl/5.12.5/x86_64-linux/Moose/Util/MetaRole.pm line 51
	Moose::Util::MetaRole::_make_new_metaclass(Moose::Meta::Class=HASH(0x556ec8209370), HASH(0x556ec77bd250), "class") called at /home/sand/src/perl/repoperls/installed-perls/host/k93msid/v5.12.5/89ad/lib/site_perl/5.12.5/x86_64-linux/Moose/Util/MetaRole.pm line 21
	Moose::Util::MetaRole::apply_metaroles("for", "test::auth", "class_metaroles", HASH(0x556ec77bd250)) called at /tmp/loop_over_bdir-30553-Ef5uCC/Net-HTTP-API-0.14-0/blib/lib/Net/HTTP/API.pm line 34
	Net::HTTP::API::init_meta("Net::HTTP::API", "for_class", "MooseX::Types::Moose", "metaclass", undef, "meta_name", "meta") called at /home/sand/src/perl/repoperls/installed-perls/host/k93msid/v5.12.5/89ad/lib/site_perl/5.12.5/x86_64-linux/Moose/Exporter.pm line 484
	Net::HTTP::API::import("Net::HTTP::API") called at t/05_authentication.t line 6
	test::auth::BEGIN() called at /tmp/loop_over_bdir-30553-Ef5uCC/Net-HTTP-API-0.14-0/blib/lib/Net/HTTP/API/Meta/Method.pm line 0
	eval {...} called at /tmp/loop_over_bdir-30553-Ef5uCC/Net-HTTP-API-0.14-0/blib/lib/Net/HTTP/API/Meta/Method.pm line 0
Passing a list of values to enum is deprecated. Enum values should be wrapped in an arrayref. at /home/sand/src/perl/repoperls/installed-perls/host/k93msid/v5.12.5/89ad/lib/site_perl/5.12.5/x86_64-linux/Moose/Util/TypeConstraints.pm line 437.
	Moose::Util::TypeConstraints::enum("FormatMode", "content-type", "append") called at /tmp/loop_over_bdir-30553-Ef5uCC/Net-HTTP-API-0.14-0/blib/lib/Net/HTTP/API/Role/Format.pm line 23
	require Net/HTTP/API/Role/Format.pm called at /home/sand/src/perl/repoperls/installed-perls/host/k93msid/v5.12.5/89ad/lib/site_perl/5.12.5/Module/Runtime.pm line 317
	Module::Runtime::require_module("Net::HTTP::API::Role::Format") called at /home/sand/src/perl/repoperls/installed-perls/host/k93msid/v5.12.5/89ad/lib/site_perl/5.12.5/Module/Runtime.pm line 381
	eval {...} called at /home/sand/src/perl/repoperls/installed-perls/host/k93msid/v5.12.5/89ad/lib/site_perl/5.12.5/Module/Runtime.pm line 381
	Module::Runtime::use_package_optimistically("Net::HTTP::API::Role::Format") called at /home/sand/src/perl/repoperls/installed-perls/host/k93msid/v5.12.5/89ad/lib/site_perl/5.12.5/x86_64-linux/Moose/Util.pm line 349
	Moose::Util::_load_user_class("Net::HTTP::API::Role::Format", undef) called at /home/sand/src/perl/repoperls/installed-perls/host/k93msid/v5.12.5/89ad/lib/site_perl/5.12.5/x86_64-linux/Moose/Util.pm line 147
	Moose::Util::_apply_all_roles(Moose::Meta::Class=HASH(0x556ec8529138), undef, "Net::HTTP::API::Role::UserAgent", "Net::HTTP::API::Role::Format", "Net::HTTP::API::Role::Authentication", "Net::HTTP::API::Role::Serialization", "Net::HTTP::API::Role::Request") called at /home/sand/src/perl/repoperls/installed-perls/host/k93msid/v5.12.5/89ad/lib/site_perl/5.12.5/x86_64-linux/Moose/Util.pm line 114
	Moose::Util::apply_all_roles(Moose::Meta::Class=HASH(0x556ec8529138), "Net::HTTP::API::Role::UserAgent", "Net::HTTP::API::Role::Format", "Net::HTTP::API::Role::Authentication", "Net::HTTP::API::Role::Serialization", "Net::HTTP::API::Role::Request") called at /home/sand/src/perl/repoperls/installed-perls/host/k93msid/v5.12.5/89ad/lib/site_perl/5.12.5/x86_64-linux/Moose/Meta/Class.pm line 88
	Moose::Meta::Class::create("Moose::Meta::Class", "Moose::Meta::Class::__ANON__::SERIAL::10", "roles", ARRAY(0x556ec77bbd38), "weaken", "", "superclasses", ARRAY(0x556ec85cb718)) called at /home/sand/src/perl/repoperls/installed-perls/host/k93msid/v5.12.5/89ad/lib/site_perl/5.12.5/x86_64-linux/Class/MOP/Package.pm line 120
	Class::MOP::Package::create_anon("Moose::Meta::Class", "superclasses", ARRAY(0x556ec85cb718), "roles", ARRAY(0x556ec77bbd38), "cache", 1) called at /home/sand/src/perl/repoperls/installed-perls/host/k93msid/v5.12.5/89ad/lib/site_perl/5.12.5/x86_64-linux/Class/MOP/Class.pm line 472
	Class::MOP::Class::create_anon_class("Moose::Meta::Class", "superclasses", ARRAY(0x556ec85cb718), "roles", ARRAY(0x556ec77bbd38), "cache", 1) called at /home/sand/src/perl/repoperls/installed-perls/host/k93msid/v5.12.5/89ad/lib/site_perl/5.12.5/x86_64-linux/Moose/Util/MetaRole.pm line 108
	Moose::Util::MetaRole::_make_new_class("test::auth", ARRAY(0x556ec77bbd38), ARRAY(0x556ec85cb718)) called at /home/sand/src/perl/repoperls/installed-perls/host/k93msid/v5.12.5/89ad/lib/site_perl/5.12.5/x86_64-linux/Moose/Util/MetaRole.pm line 85
	Moose::Util::MetaRole::apply_base_class_roles("for", "test::auth", "roles", ARRAY(0x556ec77bbd38)) called at /tmp/loop_over_bdir-30553-Ef5uCC/Net-HTTP-API-0.14-0/blib/lib/Net/HTTP/API.pm line 41
	Net::HTTP::API::init_meta("Net::HTTP::API", "for_class", "Net::HTTP::API::Role::Format", "metaclass", undef, "meta_name", "meta") called at /home/sand/src/perl/repoperls/installed-perls/host/k93msid/v5.12.5/89ad/lib/site_perl/5.12.5/x86_64-linux/Moose/Exporter.pm line 484
	Net::HTTP::API::import("Net::HTTP::API") called at t/05_authentication.t line 6
	test::auth::BEGIN() called at /tmp/loop_over_bdir-30553-Ef5uCC/Net-HTTP-API-0.14-0/blib/lib/Net/HTTP/API/Role/Format.pm line 0
	eval {...} called at /tmp/loop_over_bdir-30553-Ef5uCC/Net-HTTP-API-0.14-0/blib/lib/Net/HTTP/API/Role/Format.pm line 0
Class::MOP::load_class is deprecated at /home/sand/src/perl/repoperls/installed-perls/host/k93msid/v5.12.5/89ad/lib/site_perl/5.12.5/x86_64-linux/Class/MOP.pm line 69.
	Class::MOP::load_class("Net::HTTP::API::Parser::JSON") called at /tmp/loop_over_bdir-30553-Ef5uCC/Net-HTTP-API-0.14-0/blib/lib/Net/HTTP/API/Role/Serialization.pm line 74
	Net::HTTP::API::Role::Serialization::_load_serializer(test::auth=HASH(0x556ec8d86e58), "json") called at /tmp/loop_over_bdir-30553-Ef5uCC/Net-HTTP-API-0.14-0/blib/lib/Net/HTTP/API/Role/Serialization.pm line 53
	Net::HTTP::API::Role::Serialization::deserialize(test::auth=HASH(0x556ec8d86e58), "[{\"name\":\"eris\"}]", ARRAY(0x556ec883b2c8)) called at /tmp/loop_over_bdir-30553-Ef5uCC/Net-HTTP-API-0.14-0/blib/lib/Net/HTTP/API/Role/Serialization.pm line 37
	Net::HTTP::API::Role::Serialization::get_content(test::auth=HASH(0x556ec8d86e58), HTTP::Response=HASH(0x556ec8e3f4e0)) called at /tmp/loop_over_bdir-30553-Ef5uCC/Net-HTTP-API-0.14-0/blib/lib/Net/HTTP/API/Meta/Method.pm line 134
	test::auth::user(test::auth=HASH(0x556ec8d86e58)) called at /home/sand/src/perl/repoperls/installed-perls/host/k93msid/v5.12.5/89ad/lib/site_perl/5.12.5/x86_64-linux/Class/MOP/Method/Wrapped.pm line 44
	test::auth::_wrapped_user(test::auth=HASH(0x556ec8d86e58)) called at /home/sand/src/perl/repoperls/installed-perls/host/k93msid/v5.12.5/89ad/lib/site_perl/5.12.5/x86_64-linux/Class/MOP/Method/Wrapped.pm line 95
	test::auth::user(test::auth=HASH(0x556ec8d86e58)) called at t/05_authentication.t line 51
t/05_authentication.t ..... ok
t/release-eol.t ........... skipped: these tests are for release candidate testing
t/release-no-tabs.t ....... skipped: these tests are for release candidate testing
t/release-pod-coverage.t .. skipped: these tests are for release candidate testing
t/release-pod-syntax.t .... skipped: these tests are for release candidate testing
All tests successful.
Files=10, Tests=42,  8 wallclock secs ( 0.04 usr  0.04 sys +  2.62 cusr  0.36 csys =  3.06 CPU)
Result: PASS

------------------------------
PREREQUISITES
------------------------------

Prerequisite modules loaded:

requires:

    Module                       Need Have    
    ---------------------------- ---- --------
    HTTP::Request                0    6.11    
    JSON                         0    2.94    
    LWP::UserAgent               0    6.26    
    Moose                        0    2.2004  
    Moose::Exporter              0    2.2004  
    Moose::Meta::Method          0    2.2004  
    Moose::Role                  0    2.2004  
    Moose::Util::MetaRole        0    2.2004  
    Moose::Util::TypeConstraints 0    2.2004  
    MooseX::Types::Moose         0    0.50    
    MooseX::Types::URI           0    0.08    
    overload                     0    1.10    
    Try::Tiny                    0    0.28    
    XML::Simple                  0    2.22    
    YAML::Syck                   0    1.30    

build_requires:

    Module                       Need Have    
    ---------------------------- ---- --------
    HTTP::Response               0    6.11    
    Test::Exception              0    0.43    
    Test::More                   0    1.302087

configure_requires:

    Module                       Need Have    
    ---------------------------- ---- --------
    ExtUtils::MakeMaker          6.31 7.31_02 


------------------------------
ENVIRONMENT AND OTHER CONTEXT
------------------------------

Environment variables:

    AUTOMATED_TESTING = 1
    LANG = en_US.UTF-8
    PATH = /home/sand/bin:/usr/local/bin:/usr/bin:/bin:/usr/games:/usr/local/perl/bin:/usr/X11/bin:/sbin:/usr/sbin
    PERL5LIB = 
    PERL5OPT = 
    PERL5_CPANPLUS_IS_RUNNING = 30565
    PERL5_CPAN_IS_RUNNING = 30565
    PERL_CANARY_STABILITY_NOPROMPT = 1
    PERL_MM_USE_DEFAULT = 1
    PERL_USE_UNSAFE_INC = 1
    SHELL = /usr/bin/zsh
    TERM = screen

Perl special variables (and OS-specific diagnostics, for MSWin32):

    $^X = /home/sand/src/perl/repoperls/installed-perls/host/k93msid/v5.12.5/89ad/bin/perl
    $UID/$EUID = 1005 / 1005
    $GID = 1005 1005
    $EGID = 1005 1005

Perl module toolchain versions installed:

    Module              Have    
    ------------------- --------
    CPAN                2.18    
    CPAN::Meta          2.150010
    Cwd                 3.62    
    ExtUtils::CBuilder  0.280224
    ExtUtils::Command   7.31_02 
    ExtUtils::Install   2.14    
    ExtUtils::MakeMaker 7.31_02 
    ExtUtils::Manifest  1.70    
    ExtUtils::ParseXS   3.30    
    File::Spec          3.62    
    JSON                2.94    
    JSON::PP            2.94    
    Module::Build       0.4224  
    Module::Signature   0.81    
    Parse::CPAN::Meta   1.4422  
    Test::Harness       3.39    
    Test::More          1.302087
    YAML                1.23    
    YAML::Syck          1.30    
    version             0.9917  


--

Summary of my perl5 (revision 5 version 12 subversion 5) configuration:
  Derived from: 9a9cbd715960a905dcbc9166349a73a64a007e4e
  Platform:
    osname=linux, osvers=4.9.0-2-amd64, archname=x86_64-linux
    uname='linux k93msid 4.9.0-2-amd64 #1 smp debian 4.9.18-1 (2017-03-30) x86_64 gnulinux '
    config_args='-Dprefix=/home/sand/src/perl/repoperls/installed-perls/host/k93msid/v5.12.5/89ad -Dmyhostname=k93msid -Dinstallusrbinperl=n -Uversiononly -Dusedevel -des -Ui_db -Dlibswanted=cl pthread socket inet nsl gdbm dbm malloc dl ld sun m crypt sec util c cposix posix ucb BSD gdbm_compat -Uuseithreads -Uuselongdouble -DDEBUGGING=-g'
    hint=recommended, useposix=true, d_sigaction=define
    useithreads=undef, usemultiplicity=undef
    useperlio=define, d_sfio=undef, uselargefiles=define, usesocks=undef
    use64bitint=define, use64bitall=define, uselongdouble=undef
    usemymalloc=n, bincompat5005=undef
  Compiler:
    cc='cc', ccflags ='-fno-strict-aliasing -pipe -fstack-protector -I/usr/local/include -D_LARGEFILE_SOURCE -D_FILE_OFFSET_BITS=64',
    optimize='-O2 -g',
    cppflags='-fno-strict-aliasing -pipe -fstack-protector -I/usr/local/include'
    ccversion='', gccversion='6.3.0 20170406', gccosandvers=''
    intsize=4, longsize=8, ptrsize=8, doublesize=8, byteorder=12345678
    d_longlong=define, longlongsize=8, d_longdbl=define, longdblsize=16
    ivtype='long', ivsize=8, nvtype='double', nvsize=8, Off_t='off_t', lseeksize=8
    alignbytes=8, prototype=define
  Linker and Libraries:
    ld='cc', ldflags =' -fstack-protector -L/usr/local/lib'
    libpth=/usr/local/lib /lib/x86_64-linux-gnu /lib/../lib /usr/lib/x86_64-linux-gnu /usr/lib/../lib /lib /usr/lib
    libs=-lpthread -lnsl -ldl -lm -lcrypt -lutil -lc
    perllibs=-lpthread -lnsl -ldl -lm -lcrypt -lutil -lc
    libc=libc-2.24.so, so=so, useshrplib=false, libperl=libperl.a
    gnulibc_version='2.24'
  Dynamic Linking:
    dlsrc=dl_dlopen.xs, dlext=so, d_dlsymun=undef, ccdlflags='-Wl,-E'
    cccdlflags='-fPIC', lddlflags='-shared -O2 -g -L/usr/local/lib -fstack-protector'


Characteristics of this binary (from libperl): 
  Compile-time options: PERL_DONT_CREATE_GVSV PERL_MALLOC_WRAP PERL_USE_DEVEL
                        USE_64_BIT_ALL USE_64_BIT_INT USE_LARGE_FILES
                        USE_PERLIO USE_PERL_ATOF
  Locally applied patches:
	uncommitted-changes
  Built under linux
  Compiled at Apr 14 2017 07:21:55
  %ENV:
    PERL5LIB=""
    PERL5OPT=""
    PERL5_CPANPLUS_IS_RUNNING="30565"
    PERL5_CPAN_IS_RUNNING="30565"
    PERL_CANARY_STABILITY_NOPROMPT="1"
    PERL_MM_USE_DEFAULT="1"
    PERL_USE_UNSAFE_INC="1"
  @INC:
    /home/sand/src/perl/repoperls/installed-perls/host/k93msid/v5.12.5/89ad/lib/site_perl/5.12.5/x86_64-linux
    /home/sand/src/perl/repoperls/installed-perls/host/k93msid/v5.12.5/89ad/lib/site_perl/5.12.5
    /home/sand/src/perl/repoperls/installed-perls/host/k93msid/v5.12.5/89ad/lib/5.12.5/x86_64-linux
    /home/sand/src/perl/repoperls/installed-perls/host/k93msid/v5.12.5/89ad/lib/5.12.5
    .