Exporter-Tiny v1.006002 Perl 5 v5.26.1 x86_64-linux

Status
Pass
From
Lukas Mai
Dist
Exporter-Tiny v1.006002
Platform
Perl 5 v5.26.1 x86_64-linux
Date
2025-06-03 18:15:16
ID
b30bb17a-40a6-11f0-879e-afcb0e444bdc
This distribution has been tested as part of the CPAN Testers
project, supporting the Perl programming language.  See
http://wiki.cpantesters.org/ for more information or email
questions to cpan-testers-discuss@perl.org


--
Dear Toby Inkster,

This is a computer-generated report for Exporter-Tiny-1.006002
on perl 5.26.1, created by CPAN-Reporter-1.2018.

Thank you for uploading your work to CPAN.  Congratulations!
All tests were successful.

Sections of this report:

    * Tester comments
    * Program output
    * Prerequisites
    * Environment and other context

------------------------------
TESTER COMMENTS
------------------------------

Additional comments from tester:

none provided

------------------------------
PROGRAM OUTPUT
------------------------------

Output from '/usr/bin/make test':

PERL_DL_NONLAZY=1 "/home/mauke/perl5/perlbrew/perls/perl-5.26.1/bin/perl" "-MExtUtils::Command::MM" "-MTest::Harness" "-e" "undef *Test::Harness::Switches; test_harness(0, 'inc', 'blib/lib', 'blib/arch')" t/*.t
# Perl 5.026001
t/01basic.t .............. ok
t/02renaming.t ........... ok
t/03generators.t ......... ok
t/04into.t ............... ok
t/05shiny.t .............. ok
t/06notwant.t ............ ok
t/07regexp.t ............. ok
t/08tags.t ............... ok
t/09warnings.t ........... ok
t/10no.t ................. ok
t/11noncode.t ............ ok
t/12noncodegenerators.t .. ok
t/13doesntexist.t ........ ok
t/14lexical.t ............ skipped: This version of Perl does not support lexical imports
t/15nonhashvalue.t ....... ok
t/gh-8.t ................. ok
t/gh-9.t ................. ok
All tests successful.
Files=17, Tests=79,  1 wallclock secs ( 0.05 usr  0.02 sys +  0.81 cusr  0.15 csys =  1.03 CPU)
Result: PASS

------------------------------
PREREQUISITES
------------------------------

Prerequisite modules loaded:

requires:

    Module              Need     Have    
    ------------------- -------- --------
    perl                5.006001 5.026001

build_requires:

    Module              Need     Have    
    ------------------- -------- --------
    Test::More          0.47     1.302194

configure_requires:

    Module              Need     Have    
    ------------------- -------- --------
    ExtUtils::MakeMaker 6.17     7.24    


------------------------------
ENVIRONMENT AND OTHER CONTEXT
------------------------------

Environment variables:

    LANG = en_US.UTF-8
    LANGUAGE = en_US:en
    LC_ADDRESS = de_DE.UTF-8
    LC_COLLATE = POSIX
    LC_IDENTIFICATION = de_DE.UTF-8
    LC_MEASUREMENT = de_DE.UTF-8
    LC_MONETARY = de_DE.UTF-8
    LC_NAME = de_DE.UTF-8
    LC_NUMERIC = en_US.UTF-8
    LC_PAPER = de_DE.UTF-8
    LC_TELEPHONE = de_DE.UTF-8
    LC_TIME = de_DE.UTF-8
    NONINTERACTIVE_TESTING = 1
    PATH = /home/mauke/perl5/perlbrew/bin:/home/mauke/perl5/perlbrew/perls/perl-5.26.1/bin:/home/mauke/perl5/perlbrew/bin:/home/mauke/perl5/perlbrew/perls/perl-5.40.2/bin:/home/mauke/bin:/home/mauke/.local/bin:/home/mauke/.cargo/bin:/home/mauke/.ghcup/bin:/usr/local/sbin:/usr/local/bin:/usr/sbin:/usr/bin:/sbin:/bin:/usr/games:/usr/local/games:/snap/bin:/snap/bin
    PERL5LIB = 
    PERL5OPT = 
    PERL5_CPANPLUS_IS_RUNNING = 718944
    PERL5_CPAN_IS_RUNNING = 718944
    PERLBREW_BASHRC_VERSION = 0.74
    PERLBREW_HOME = /home/mauke/.perlbrew
    PERLBREW_LIB = 
    PERLBREW_MANPATH = /home/mauke/perl5/perlbrew/perls/perl-5.26.1/man
    PERLBREW_PATH = /home/mauke/perl5/perlbrew/bin:/home/mauke/perl5/perlbrew/perls/perl-5.26.1/bin
    PERLBREW_PERL = perl-5.26.1
    PERLBREW_ROOT = /home/mauke/perl5/perlbrew
    PERLBREW_VERSION = 0.98
    PERLDOC = -oman
    PERL_LOCAL_LIB_ROOT = 
    PERL_MM_USE_DEFAULT = 1
    PERL_UNICODE = SAL
    PERL_USE_UNSAFE_INC = 1
    SHELL = /bin/bash
    TERM = tmux-256color

Perl special variables (and OS-specific diagnostics, for MSWin32):

    $^X = /home/mauke/perl5/perlbrew/perls/perl-5.26.1/bin/perl
    $UID/$EUID = 1000 / 1000
    $GID = 1000 4 24 27 29 30 44 46 113 129 144 1000
    $EGID = 1000 4 24 27 29 30 44 46 113 129 144 1000

Perl module toolchain versions installed:

    Module              Have      
    ------------------- ----------
    CPAN                2.36      
    CPAN::Meta          2.150010  
    Cwd                 3.67      
    ExtUtils::CBuilder  0.280225  
    ExtUtils::Command   7.24      
    ExtUtils::Install   2.04      
    ExtUtils::MakeMaker 7.24      
    ExtUtils::Manifest  1.70      
    ExtUtils::ParseXS   3.34      
    File::Spec          3.67      
    JSON                2.97001   
    JSON::PP            2.27400_02
    Module::Build       0.4234    
    Module::Signature   n/a       
    Parse::CPAN::Meta   2.150010  
    Test::Harness       3.38      
    Test::More          1.302194  
    YAML                1.27      
    YAML::Syck          n/a       
    version             0.9917    


--

Summary of my perl5 (revision 5 version 26 subversion 1) configuration:
   
  Platform:
    osname=linux
    osvers=4.15.0-39-generic
    archname=x86_64-linux
    uname='linux luum 4.15.0-39-generic #42-ubuntu smp tue oct 23 15:48:01 utc 2018 x86_64 x86_64 x86_64 gnulinux '
    config_args='-de -Dprefix=/home/mauke/perl5/perlbrew/perls/perl-5.26.1 -Aeval:scriptdir=/home/mauke/perl5/perlbrew/perls/perl-5.26.1/bin'
    hint=recommended
    useposix=true
    d_sigaction=define
    useithreads=undef
    usemultiplicity=undef
    use64bitint=define
    use64bitall=define
    uselongdouble=undef
    usemymalloc=n
    default_inc_excludes_dot=define
    bincompat5005=undef
  Compiler:
    cc='cc'
    ccflags ='-fwrapv -fno-strict-aliasing -pipe -fstack-protector-strong -I/usr/local/include -D_LARGEFILE_SOURCE -D_FILE_OFFSET_BITS=64'
    optimize='-O2'
    cppflags='-fwrapv -fno-strict-aliasing -pipe -fstack-protector-strong -I/usr/local/include'
    ccversion=''
    gccversion='7.3.0'
    gccosandvers=''
    intsize=4
    longsize=8
    ptrsize=8
    doublesize=8
    byteorder=12345678
    doublekind=3
    d_longlong=define
    longlongsize=8
    d_longdbl=define
    longdblsize=16
    longdblkind=3
    ivtype='long'
    ivsize=8
    nvtype='double'
    nvsize=8
    Off_t='off_t'
    lseeksize=8
    alignbytes=8
    prototype=define
  Linker and Libraries:
    ld='cc'
    ldflags =' -fstack-protector-strong -L/usr/local/lib'
    libpth=/usr/local/lib /usr/lib/gcc/x86_64-linux-gnu/7/include-fixed /usr/include/x86_64-linux-gnu /usr/lib /lib/x86_64-linux-gnu /lib/../lib /usr/lib/x86_64-linux-gnu /usr/lib/../lib /lib
    libs=-lpthread -lnsl -ldl -lm -lcrypt -lutil -lc
    perllibs=-lpthread -lnsl -ldl -lm -lcrypt -lutil -lc
    libc=libc-2.27.so
    so=so
    useshrplib=false
    libperl=libperl.a
    gnulibc_version='2.27'
  Dynamic Linking:
    dlsrc=dl_dlopen.xs
    dlext=so
    d_dlsymun=undef
    ccdlflags='-Wl,-E'
    cccdlflags='-fPIC'
    lddlflags='-shared -O2 -L/usr/local/lib -fstack-protector-strong'


Characteristics of this binary (from libperl): 
  Compile-time options:
    HAS_TIMES
    PERLIO_LAYERS
    PERL_COPY_ON_WRITE
    PERL_DONT_CREATE_GVSV
    PERL_MALLOC_WRAP
    PERL_OP_PARENT
    PERL_PRESERVE_IVUV
    USE_64_BIT_ALL
    USE_64_BIT_INT
    USE_LARGE_FILES
    USE_LOCALE
    USE_LOCALE_COLLATE
    USE_LOCALE_CTYPE
    USE_LOCALE_NUMERIC
    USE_LOCALE_TIME
    USE_PERLIO
    USE_PERL_ATOF
  Locally applied patches:
    Devel::PatchPerl 1.48
  Built under linux
  Compiled at Nov 24 2018 13:22:09
  %ENV:
    PERL5LIB=""
    PERL5OPT=""
    PERL5_CPANPLUS_IS_RUNNING="718944"
    PERL5_CPAN_IS_RUNNING="718944"
    PERLBREW_BASHRC_VERSION="0.74"
    PERLBREW_HOME="/home/mauke/.perlbrew"
    PERLBREW_LIB=""
    PERLBREW_MANPATH="/home/mauke/perl5/perlbrew/perls/perl-5.26.1/man"
    PERLBREW_PATH="/home/mauke/perl5/perlbrew/bin:/home/mauke/perl5/perlbrew/perls/perl-5.26.1/bin"
    PERLBREW_PERL="perl-5.26.1"
    PERLBREW_ROOT="/home/mauke/perl5/perlbrew"
    PERLBREW_VERSION="0.98"
    PERLDOC="-oman"
    PERL_LOCAL_LIB_ROOT=""
    PERL_MM_USE_DEFAULT="1"
    PERL_UNICODE="SAL"
    PERL_USE_UNSAFE_INC="1"
  @INC:
    /home/mauke/perl5/perlbrew/perls/perl-5.26.1/lib/site_perl/5.26.1/x86_64-linux
    /home/mauke/perl5/perlbrew/perls/perl-5.26.1/lib/site_perl/5.26.1
    /home/mauke/perl5/perlbrew/perls/perl-5.26.1/lib/5.26.1/x86_64-linux
    /home/mauke/perl5/perlbrew/perls/perl-5.26.1/lib/5.26.1
    .