Back
From: metabase:user:314402c4-2aae-11df-837a-5e0a49663a4f
Subject: PASS Path-Extended-0.23 v5.21.9 GNU/Linux
Date: 2015-03-11T06:41:51Z
This distribution has been tested as part of the CPAN Testers
project, supporting the Perl programming language. See
http://wiki.cpantesters.org/ for more information or email
questions to cpan-testers-discuss@perl.org
--
Dear Kenichi Ishigaki,
This is a computer-generated report for Path-Extended-0.23
on perl 5.21.9, created by CPAN-Reporter-1.2011.
Thank you for uploading your work to CPAN. Congratulations!
All tests were successful.
Sections of this report:
* Tester comments
* Program output
* Prerequisites
* Environment and other context
------------------------------
TESTER COMMENTS
------------------------------
Additional comments from tester:
none provided
------------------------------
PROGRAM OUTPUT
------------------------------
Output from '/usr/bin/make test':
PERL_DL_NONLAZY=1 "/bbbike/perl-5.21.9/bin/perl5.21.9" "-MExtUtils::Command::MM" "-MTest::Harness" "-e" "undef *Test::Harness::Switches; test_harness(0, 'blib/lib', 'blib/arch')" t/*.t t/*/*.t
t/00_load.t ...................... ok
t/10_entity/basic.t .............. ok
t/15_file_or_dir/basic.t ......... ok
t/15_file_or_dir/for_dir.t ....... ok
t/20_file/copy.t ................. ok
t/20_file/grep.t ................. ok
t/20_file/overload.t ............. ok
t/20_file/path.t ................. ok
t/20_file/read.t ................. ok
t/20_file/slurp.t ................ ok
t/20_file/stat.t ................. ok
t/30_directory/copy.t ............ ok
t/30_directory/exists.t .......... ok
t/30_directory/find.t ............ ok
t/30_directory/mkdir.t ........... ok
t/30_directory/next.t ............ ok
t/30_directory/path.t ............ ok
t/30_directory/prune.t ........... ok
t/30_directory/recurse.t ......... ok
t/30_directory/rmdir.t ........... ok
t/30_directory/seek.t ............ ok
t/30_directory/subsumes.t ........ ok
t/40_compatibility/basic.t ....... ok
t/40_compatibility/filesystem.t .. ok
t/50_subclass/dir.t .............. ok
t/50_subclass/file.t ............. ok
t/50_subclass/file_or_dir.t ...... ok
t/50_subclass/import.t ........... ok
t/99_pod.t ....................... skipped: set TEST_POD to enable this test
t/99_podcoverage.t ............... skipped: set TEST_POD to enable this test
All tests successful.
Files=30, Tests=122, 2 wallclock secs ( 0.11 usr 0.14 sys + 2.02 cusr 0.55 csys = 2.82 CPU)
Result: PASS
------------------------------
PREREQUISITES
------------------------------
Prerequisite modules loaded:
requires:
Module Need Have
----------------------------- ---- ------------
Carp 0 1.35
Encode 0 2.70
Fcntl 0 1.13
File::Basename 0 2.85
File::Copy::Recursive 0 0.38
File::Find::Rule 0 0.33
File::Path 0 2.09
File::Spec 3.23 3.53
File::stat 1 1.07
File::Temp 0 0.2304
IO 1.23 1.35
Log::Dump 0 0.14
Scalar::Util 0 1.41
Sub::Install 0 0.928
build_requires:
Module Need Have
----------------------------- ---- ------------
ExtUtils::MakeMaker 0 7.04
Test::More 0.98 1.301001_098
Test::UseAllModules 0.09 0.17
configure_requires:
Module Need Have
----------------------------- ---- ------------
ExtUtils::MakeMaker::CPANfile 0.06 0.06
------------------------------
ENVIRONMENT AND OTHER CONTEXT
------------------------------
Environment variables:
DBIC_NO_WARN_BAD_PERL = 1
LANG = C
LC_ALL = de_DE.UTF-8
PATH = /usr/local/bin:/usr/bin:/bin:/usr/local/sbin:/usr/sbin:/sbin:/home/eserte/bin/linux-gnu:/home/eserte/bin/sh:/home/eserte/bin:/usr/games:/home/eserte/devel:/home/eserte/src/srezic-misc/scripts
PERL5LIB =
PERL5OPT =
PERL5_CPANPLUS_IS_RUNNING = 28970
PERL5_CPAN_IS_RUNNING = 28970
PERL5_CPAN_IS_RUNNING_IN_RECURSION = 28903,28970
PERLDOC = -MPod::Perldoc::ToTextOverstrike
PERL_BATCH = yes
PERL_CPAN_REPORTER_CONFIG = /var/tmp/cpansmoker-1001/5KIIXjIZPl_config.ini
PERL_EXTUTILS_AUTOINSTALL = --defaultdeps
PERL_HTML_DISPLAY_CLASS = HTML::Display::Mozilla
PERL_PARALLEL_SMOKER = yes
SHELL = /bin/zsh
TERM = screen
TMPDIR = /var/tmp/cpansmoker-1001
Perl special variables (and OS-specific diagnostics, for MSWin32):
$^X = /bbbike/perl-5.21.9/bin/perl5.21.9
$UID/$EUID = 1001 / 1001
$GID = 1001 109 1001
$EGID = 1001 109 1001
Perl module toolchain versions installed:
Module Have
------------------- ------------
CPAN 2.05
CPAN::Meta 2.150001
Cwd 3.54
ExtUtils::CBuilder 0.280221
ExtUtils::Command 1.20
ExtUtils::Install 2.04
ExtUtils::MakeMaker 7.04
ExtUtils::Manifest 1.70
ExtUtils::ParseXS 3.27
File::Spec 3.53
JSON 2.90
JSON::PP 2.27300
Module::Build 0.4211
Module::Signature 0.73
Parse::CPAN::Meta 1.4414
Test::Harness 3.35
Test::More 1.301001_098
YAML 1.14
YAML::Syck 1.29
version 0.9912
--
Summary of my perl5 (revision 5 version 21 subversion 9) configuration:
Platform:
osname=linux, osvers=3.2.0-4-amd64, archname=x86_64-linux
uname='linux eserte 3.2.0-4-amd64 #1 smp debian 3.2.65-1+deb7u1 x86_64 gnulinux '
config_args='-ds -e -Dprefix=/opt/perl-5.21.9 -Dusedevel -Dusemallocwrap=no'
hint=recommended, useposix=true, d_sigaction=define
useithreads=undef, usemultiplicity=undef
use64bitint=define, use64bitall=define, uselongdouble=undef
usemymalloc=n, bincompat5005=undef
Compiler:
cc='cc', ccflags ='-fwrapv -fno-strict-aliasing -pipe -fstack-protector -I/usr/local/include -D_LARGEFILE_SOURCE -D_FILE_OFFSET_BITS=64 -D_FORTIFY_SOURCE=2',
optimize='-O2',
cppflags='-fwrapv -fno-strict-aliasing -pipe -fstack-protector -I/usr/local/include'
ccversion='', gccversion='4.7.2', gccosandvers=''
intsize=4, longsize=8, ptrsize=8, doublesize=8, byteorder=12345678, doublekind=3
d_longlong=define, longlongsize=8, d_longdbl=define, longdblsize=16, longdblkind=3
ivtype='long', ivsize=8, nvtype='double', nvsize=8, Off_t='off_t', lseeksize=8
alignbytes=8, prototype=define
Linker and Libraries:
ld='cc', ldflags =' -fstack-protector -L/usr/local/lib'
libpth=/usr/local/lib /usr/lib/gcc/x86_64-linux-gnu/4.7/include-fixed /usr/include/x86_64-linux-gnu /usr/lib /lib/x86_64-linux-gnu /lib/../lib /usr/lib/x86_64-linux-gnu /usr/lib/../lib /lib
libs=-lpthread -lnsl -ldb -ldl -lm -lcrypt -lutil -lc
perllibs=-lpthread -lnsl -ldl -lm -lcrypt -lutil -lc
libc=libc-2.13.so, so=so, useshrplib=false, libperl=libperl.a
gnulibc_version='2.13'
Dynamic Linking:
dlsrc=dl_dlopen.xs, dlext=so, d_dlsymun=undef, ccdlflags='-Wl,-E'
cccdlflags='-fPIC', lddlflags='-shared -O2 -L/usr/local/lib -fstack-protector'
Characteristics of this binary (from libperl):
Compile-time options: HAS_TIMES PERLIO_LAYERS PERL_DONT_CREATE_GVSV
PERL_HASH_FUNC_ONE_AT_A_TIME_HARD
PERL_NEW_COPY_ON_WRITE PERL_PRESERVE_IVUV
PERL_USE_DEVEL USE_64_BIT_ALL USE_64_BIT_INT
USE_LARGE_FILES USE_LOCALE USE_LOCALE_COLLATE
USE_LOCALE_CTYPE USE_LOCALE_NUMERIC USE_LOCALE_TIME
USE_PERLIO USE_PERL_ATOF
Built under linux
Compiled at Feb 21 2015 07:05:29
%ENV:
PERL5LIB=""
PERL5OPT=""
PERL5_CPANPLUS_IS_RUNNING="28970"
PERL5_CPAN_IS_RUNNING="28970"
PERL5_CPAN_IS_RUNNING_IN_RECURSION="28903,28970"
PERLDOC="-MPod::Perldoc::ToTextOverstrike"
PERL_BATCH="yes"
PERL_CPAN_REPORTER_CONFIG="/var/tmp/cpansmoker-1001/5KIIXjIZPl_config.ini"
PERL_EXTUTILS_AUTOINSTALL="--defaultdeps"
PERL_HTML_DISPLAY_CLASS="HTML::Display::Mozilla"
PERL_PARALLEL_SMOKER="yes"
@INC:
/opt/perl-5.21.9/lib/site_perl/5.21.9/x86_64-linux
/opt/perl-5.21.9/lib/site_perl/5.21.9
/opt/perl-5.21.9/lib/5.21.9/x86_64-linux
/opt/perl-5.21.9/lib/5.21.9
.