Report for Catalyst-View-HTML-Zoom-0.003

Back
From: metabase:user:320bfe00-2aae-11df-837a-5e0a49663a4f
Subject: PASS Catalyst-View-HTML-Zoom-0.003 v5.10.0 GNU/Linux
Date: 2017-05-30T05:27:40Z

This distribution has been tested as part of the CPAN Testers
project, supporting the Perl programming language.  See
http://wiki.cpantesters.org/ for more information or email
questions to cpan-testers-discuss@perl.org


--
Dear Oliver Charles,

This is a computer-generated report for Catalyst-View-HTML-Zoom-0.003
on perl 5.10.0, created by CPAN-Reporter-1.2018.

Thank you for uploading your work to CPAN.  Congratulations!
All tests were successful.

Sections of this report:

    * Tester comments
    * Program output
    * Prerequisites
    * Environment and other context

------------------------------
TESTER COMMENTS
------------------------------

Additional comments from tester:

this report is from an automated smoke testing program
and was not reviewed by a human for accuracy

------------------------------
PROGRAM OUTPUT
------------------------------

Output from '/usr/bin/make test':

PERL_DL_NONLAZY=1 "/home/sand/src/perl/repoperls/installed-perls/host/k93msid/perl-5.10.0/89ad/bin/perl" "-MExtUtils::Command::MM" "-MTest::Harness" "-e" "undef *Test::Harness::Switches; test_harness(0, 'blib/lib', 'blib/arch')" t/*.t
t/00-load.t ............... ok
t/author-pod-coverage.t ... skipped: these tests are for testing by the author
t/author-pod.t ............ skipped: these tests are for testing by the author
Class::MOP::load_class is deprecated at /home/sand/src/perl/repoperls/installed-perls/host/k93msid/perl-5.10.0/89ad/lib/site_perl/5.10.0/x86_64-linux/Class/MOP.pm line 69, <> line 1.
	Class::MOP::load_class("TestAppAltRoot::View::HTML::Root") called at /tmp/loop_over_bdir-4969-ZF6I9f/Catalyst-View-HTML-Zoom-0.003-0/blib/lib/Catalyst/View/HTML/Zoom.pm line 138
	Catalyst::View::HTML::Zoom::_zoomer_class_from_context(TestAppAltRoot::View::HTML=HASH(0x55c62ab86b78), TestAppAltRoot=HASH(0x55c62abdc428)) called at /tmp/loop_over_bdir-4969-ZF6I9f/Catalyst-View-HTML-Zoom-0.003-0/blib/lib/Catalyst/View/HTML/Zoom.pm line 90
	Catalyst::View::HTML::Zoom::_build_renderer_from_zoomer_class(TestAppAltRoot::View::HTML=HASH(0x55c62ab86b78), TestAppAltRoot=HASH(0x55c62abdc428)) called at /tmp/loop_over_bdir-4969-ZF6I9f/Catalyst-View-HTML-Zoom-0.003-0/blib/lib/Catalyst/View/HTML/Zoom.pm line 76
	Catalyst::View::HTML::Zoom::_build_renderer_from(TestAppAltRoot::View::HTML=HASH(0x55c62ab86b78), TestAppAltRoot=HASH(0x55c62abdc428), undef) called at /tmp/loop_over_bdir-4969-ZF6I9f/Catalyst-View-HTML-Zoom-0.003-0/blib/lib/Catalyst/View/HTML/Zoom.pm line 67
	Catalyst::View::HTML::Zoom::render(TestAppAltRoot::View::HTML=HASH(0x55c62ab86b78), TestAppAltRoot=HASH(0x55c62abdc428), "/main") called at /tmp/loop_over_bdir-4969-ZF6I9f/Catalyst-View-HTML-Zoom-0.003-0/blib/lib/Catalyst/View/HTML/Zoom.pm line 41
	Catalyst::View::HTML::Zoom::process(TestAppAltRoot::View::HTML=HASH(0x55c62ab86b78), TestAppAltRoot=HASH(0x55c62abdc428)) called at /home/sand/src/perl/repoperls/installed-perls/host/k93msid/perl-5.10.0/89ad/lib/site_perl/5.10.0/Catalyst/Action.pm line 358
	Catalyst::Action::execute(Catalyst::Action=HASH(0x55c62ad01710), TestAppAltRoot::View::HTML=HASH(0x55c62ab86b78), TestAppAltRoot=HASH(0x55c62abdc428)) called at /home/sand/src/perl/repoperls/installed-perls/host/k93msid/perl-5.10.0/89ad/lib/site_perl/5.10.0/Catalyst.pm line 2052
	eval {...} called at /home/sand/src/perl/repoperls/installed-perls/host/k93msid/perl-5.10.0/89ad/lib/site_perl/5.10.0/Catalyst.pm line 2052
	Catalyst::execute(TestAppAltRoot=HASH(0x55c62abdc428), "TestAppAltRoot::View::HTML", Catalyst::Action=HASH(0x55c62ad01710)) called at /home/sand/src/perl/repoperls/installed-perls/host/k93msid/perl-5.10.0/89ad/lib/site_perl/5.10.0/Catalyst/Action.pm line 353
	Catalyst::Action::dispatch(Catalyst::Action=HASH(0x55c62ad01710), TestAppAltRoot=HASH(0x55c62abdc428)) called at /home/sand/src/perl/repoperls/installed-perls/host/k93msid/perl-5.10.0/89ad/lib/site_perl/5.10.0/Catalyst/Dispatcher.pm line 262
	Catalyst::Dispatcher::_do_forward(Catalyst::Dispatcher=HASH(0x55c629bdff48), "forward", TestAppAltRoot=HASH(0x55c62abdc428), TestAppAltRoot::View::HTML=HASH(0x55c62ab86b78)) called at /home/sand/src/perl/repoperls/installed-perls/host/k93msid/perl-5.10.0/89ad/lib/site_perl/5.10.0/Catalyst/Dispatcher.pm line 242
	Catalyst::Dispatcher::forward(Catalyst::Dispatcher=HASH(0x55c629bdff48), TestAppAltRoot=HASH(0x55c62abdc428), TestAppAltRoot::View::HTML=HASH(0x55c62ab86b78)) called at /home/sand/src/perl/repoperls/installed-perls/host/k93msid/perl-5.10.0/89ad/lib/site_perl/5.10.0/Catalyst.pm line 477
	Catalyst::forward(TestAppAltRoot=HASH(0x55c62abdc428), TestAppAltRoot::View::HTML=HASH(0x55c62ab86b78)) called at /home/sand/src/perl/repoperls/installed-perls/host/k93msid/perl-5.10.0/89ad/lib/site_perl/5.10.0/Catalyst/Action/RenderView.pm line 57
	Catalyst::Action::RenderView::execute(Catalyst::Action::RenderView=HASH(0x55c62abda460), TestAppAltRoot::Controller::Root=HASH(0x55c62ab7d908), TestAppAltRoot=HASH(0x55c62abdc428)) called at /home/sand/src/perl/repoperls/installed-perls/host/k93msid/perl-5.10.0/89ad/lib/site_perl/5.10.0/Catalyst.pm line 2052
	eval {...} called at /home/sand/src/perl/repoperls/installed-perls/host/k93msid/perl-5.10.0/89ad/lib/site_perl/5.10.0/Catalyst.pm line 2052
	Catalyst::execute(TestAppAltRoot=HASH(0x55c62abdc428), "TestAppAltRoot::Controller::Root", Catalyst::Action::RenderView=HASH(0x55c62abda460)) called at /home/sand/src/perl/repoperls/installed-perls/host/k93msid/perl-5.10.0/89ad/lib/site_perl/5.10.0/Catalyst/Action.pm line 353
	Catalyst::Action::dispatch(Catalyst::Action::RenderView=HASH(0x55c62abda460), TestAppAltRoot=HASH(0x55c62abdc428)) called at /home/sand/src/perl/repoperls/installed-perls/host/k93msid/perl-5.10.0/89ad/lib/site_perl/5.10.0/Catalyst/Controller.pm line 189
	Catalyst::Controller::_END(TestAppAltRoot::Controller::Root=HASH(0x55c62ab7d908), TestAppAltRoot=HASH(0x55c62abdc428)) called at /home/sand/src/perl/repoperls/installed-perls/host/k93msid/perl-5.10.0/89ad/lib/site_perl/5.10.0/Catalyst/Action.pm line 358
	Catalyst::Action::execute(Catalyst::Action=HASH(0x55c62abafad8), TestAppAltRoot::Controller::Root=HASH(0x55c62ab7d908), TestAppAltRoot=HASH(0x55c62abdc428)) called at /home/sand/src/perl/repoperls/installed-perls/host/k93msid/perl-5.10.0/89ad/lib/site_perl/5.10.0/Catalyst.pm line 2052
	eval {...} called at /home/sand/src/perl/repoperls/installed-perls/host/k93msid/perl-5.10.0/89ad/lib/site_perl/5.10.0/Catalyst.pm line 2052
	Catalyst::execute(TestAppAltRoot=HASH(0x55c62abdc428), "TestAppAltRoot::Controller::Root", Catalyst::Action=HASH(0x55c62abafad8)) called at /home/sand/src/perl/repoperls/installed-perls/host/k93msid/perl-5.10.0/89ad/lib/site_perl/5.10.0/Catalyst/Action.pm line 353
	Catalyst::Action::dispatch(Catalyst::Action=HASH(0x55c62abafad8), TestAppAltRoot=HASH(0x55c62abdc428)) called at /home/sand/src/perl/repoperls/installed-perls/host/k93msid/perl-5.10.0/89ad/lib/site_perl/5.10.0/Catalyst/Dispatcher.pm line 262
	Catalyst::Dispatcher::_do_forward(Catalyst::Dispatcher=HASH(0x55c629bdff48), "forward", TestAppAltRoot=HASH(0x55c62abdc428), "_END") called at /home/sand/src/perl/repoperls/installed-perls/host/k93msid/perl-5.10.0/89ad/lib/site_perl/5.10.0/Catalyst/Dispatcher.pm line 242
	Catalyst::Dispatcher::forward(Catalyst::Dispatcher=HASH(0x55c629bdff48), TestAppAltRoot=HASH(0x55c62abdc428), "_END") called at /home/sand/src/perl/repoperls/installed-perls/host/k93msid/perl-5.10.0/89ad/lib/site_perl/5.10.0/Catalyst.pm line 477
	Catalyst::forward(TestAppAltRoot=HASH(0x55c62abdc428), "_END") called at /home/sand/src/perl/repoperls/installed-perls/host/k93msid/perl-5.10.0/89ad/lib/site_perl/5.10.0/Catalyst/Controller.pm line 138
	Catalyst::Controller::_DISPATCH(TestAppAltRoot::Controller::Root=HASH(0x55c62ab7d908), TestAppAltRoot=HASH(0x55c62abdc428)) called at /home/sand/src/perl/repoperls/installed-perls/host/k93msid/perl-5.10.0/89ad/lib/site_perl/5.10.0/Catalyst/Action.pm line 358
	Catalyst::Action::execute(Catalyst::Action=HASH(0x55c62abafdf0), TestAppAltRoot::Controller::Root=HASH(0x55c62ab7d908), TestAppAltRoot=HASH(0x55c62abdc428)) called at /home/sand/src/perl/repoperls/installed-perls/host/k93msid/perl-5.10.0/89ad/lib/site_perl/5.10.0/Catalyst.pm line 2052
	eval {...} called at /home/sand/src/perl/repoperls/installed-perls/host/k93msid/perl-5.10.0/89ad/lib/site_perl/5.10.0/Catalyst.pm line 2052
	Catalyst::execute(TestAppAltRoot=HASH(0x55c62abdc428), "TestAppAltRoot::Controller::Root", Catalyst::Action=HASH(0x55c62abafdf0)) called at /home/sand/src/perl/repoperls/installed-perls/host/k93msid/perl-5.10.0/89ad/lib/site_perl/5.10.0/Catalyst/Action.pm line 353
	Catalyst::Action::dispatch(Catalyst::Action=HASH(0x55c62abafdf0), TestAppAltRoot=HASH(0x55c62abdc428)) called at /home/sand/src/perl/repoperls/installed-perls/host/k93msid/perl-5.10.0/89ad/lib/site_perl/5.10.0/Catalyst/Dispatcher.pm line 262
	Catalyst::Dispatcher::_do_forward(Catalyst::Dispatcher=HASH(0x55c629bdff48), "forward", TestAppAltRoot=HASH(0x55c62abdc428), "//_DISPATCH") called at /home/sand/src/perl/repoperls/installed-perls/host/k93msid/perl-5.10.0/89ad/lib/site_perl/5.10.0/Catalyst/Dispatcher.pm line 242
	Catalyst::Dispatcher::forward(Catalyst::Dispatcher=HASH(0x55c629bdff48), TestAppAltRoot=HASH(0x55c62abdc428), "//_DISPATCH") called at /home/sand/src/perl/repoperls/installed-perls/host/k93msid/perl-5.10.0/89ad/lib/site_perl/5.10.0/Catalyst.pm line 477
	Catalyst::forward(TestAppAltRoot=HASH(0x55c62abdc428), "//_DISPATCH") called at /home/sand/src/perl/repoperls/installed-perls/host/k93msid/perl-5.10.0/89ad/lib/site_perl/5.10.0/Catalyst/Dispatcher.pm line 107
	Catalyst::Dispatcher::dispatch(Catalyst::Dispatcher=HASH(0x55c629bdff48), TestAppAltRoot=HASH(0x55c62abdc428)) called at /home/sand/src/perl/repoperls/installed-perls/host/k93msid/perl-5.10.0/89ad/lib/site_perl/5.10.0/Catalyst.pm line 1998
	Catalyst::dispatch(TestAppAltRoot=HASH(0x55c62abdc428)) called at /home/sand/src/perl/repoperls/installed-perls/host/k93msid/perl-5.10.0/89ad/lib/site_perl/5.10.0/x86_64-linux/Class/MOP/Method/Wrapped.pm line 50
	TestAppAltRoot::_wrapped_dispatch(TestAppAltRoot=HASH(0x55c62abdc428)) called at /home/sand/src/perl/repoperls/installed-perls/host/k93msid/perl-5.10.0/89ad/lib/site_perl/5.10.0/x86_64-linux/Class/MOP/Method/Wrapped.pm line 95
	TestAppAltRoot::dispatch(TestAppAltRoot=HASH(0x55c62abdc428)) called at /home/sand/src/perl/repoperls/installed-perls/host/k93msid/perl-5.10.0/89ad/lib/site_perl/5.10.0/Catalyst.pm line 2393
	Catalyst::try {...} () called at /home/sand/src/perl/repoperls/installed-perls/host/k93msid/perl-5.10.0/89ad/lib/site_perl/5.10.0/Try/Tiny.pm line 103
	eval {...} called at /home/sand/src/perl/repoperls/installed-perls/host/k93msid/perl-5.10.0/89ad/lib/site_perl/5.10.0/Try/Tiny.pm line 94
	Try::Tiny::try(CODE(0x55c62acf2518), Try::Tiny::Catch=REF(0x55c62acf23b0)) called at /home/sand/src/perl/repoperls/installed-perls/host/k93msid/perl-5.10.0/89ad/lib/site_perl/5.10.0/Catalyst.pm line 2402
	Catalyst::handle_request("TestAppAltRoot", "env", HASH(0x55c62acede68), "response_cb", CODE(0x55c62acf2410)) called at /home/sand/src/perl/repoperls/installed-perls/host/k93msid/perl-5.10.0/89ad/lib/site_perl/5.10.0/Catalyst/Engine.pm line 800
	Catalyst::Engine::__ANON__(CODE(0x55c62acf2410)) called at /home/sand/src/perl/repoperls/installed-perls/host/k93msid/perl-5.10.0/89ad/lib/site_perl/5.10.0/Plack/Middleware/HTTPExceptions.pm line 32
	Plack::Middleware::HTTPExceptions::try {...} () called at /home/sand/src/perl/repoperls/installed-perls/host/k93msid/perl-5.10.0/89ad/lib/site_perl/5.10.0/Try/Tiny.pm line 103
	eval {...} called at /home/sand/src/perl/repoperls/installed-perls/host/k93msid/perl-5.10.0/89ad/lib/site_perl/5.10.0/Try/Tiny.pm line 94
	Try::Tiny::try(CODE(0x55c62acf21d0), Try::Tiny::Catch=REF(0x55c62acabe68)) called at /home/sand/src/perl/repoperls/installed-perls/host/k93msid/perl-5.10.0/89ad/lib/site_perl/5.10.0/Plack/Middleware/HTTPExceptions.pm line 41
	Plack::Middleware::HTTPExceptions::__ANON__(CODE(0x55c62acf2080)) called at /home/sand/src/perl/repoperls/installed-perls/host/k93msid/perl-5.10.0/89ad/lib/site_perl/5.10.0/Plack/Util.pm line 339
	Plack::Util::__ANON__(CODE(0x55c62acf1f30)) called at /home/sand/src/perl/repoperls/installed-perls/host/k93msid/perl-5.10.0/89ad/lib/site_perl/5.10.0/Plack/Util.pm line 339
	Plack::Util::__ANON__(CODE(0x55c62acac858)) called at /home/sand/src/perl/repoperls/installed-perls/host/k93msid/perl-5.10.0/89ad/lib/site_perl/5.10.0/Plack/Util.pm line 339
	Plack::Util::__ANON__(CODE(0x55c62acac7b0)) called at /home/sand/src/perl/repoperls/installed-perls/host/k93msid/perl-5.10.0/89ad/lib/site_perl/5.10.0/HTTP/Message/PSGI.pm line 100
	HTTP::Message::PSGI::res_from_psgi(CODE(0x55c62acabcb8)) called at /home/sand/src/perl/repoperls/installed-perls/host/k93msid/perl-5.10.0/89ad/lib/site_perl/5.10.0/HTTP/Message/PSGI.pm line 156
	HTTP::Response::from_psgi("HTTP::Response", CODE(0x55c62acabcb8)) called at /home/sand/src/perl/repoperls/installed-perls/host/k93msid/perl-5.10.0/89ad/lib/site_perl/5.10.0/Plack/Test/MockHTTP.pm line 24
	Plack::Test::MockHTTP::try {...} () called at /home/sand/src/perl/repoperls/installed-perls/host/k93msid/perl-5.10.0/89ad/lib/site_perl/5.10.0/Try/Tiny.pm line 98
	eval {...} called at /home/sand/src/perl/repoperls/installed-perls/host/k93msid/perl-5.10.0/89ad/lib/site_perl/5.10.0/Try/Tiny.pm line 94
	Try::Tiny::try(CODE(0x55c62aad3990), Try::Tiny::Catch=REF(0x55c62ac95620)) called at /home/sand/src/perl/repoperls/installed-perls/host/k93msid/perl-5.10.0/89ad/lib/site_perl/5.10.0/Plack/Test/MockHTTP.pm line 27
	Plack::Test::MockHTTP::request(Plack::Test::MockHTTP=HASH(0x55c62aca94e8), HTTP::Request=HASH(0x55c62ac98bb8)) called at /home/sand/src/perl/repoperls/installed-perls/host/k93msid/perl-5.10.0/89ad/lib/site_perl/5.10.0/Plack/Test.pm line 38
	Plack::Test::__ANON__(HTTP::Request=HASH(0x55c62ac98bb8)) called at /home/sand/src/perl/repoperls/installed-perls/host/k93msid/perl-5.10.0/89ad/lib/site_perl/5.10.0/Catalyst/Test.pm line 281
	Catalyst::Test::__ANON__(CODE(0x55c62aca9368)) called at /home/sand/src/perl/repoperls/installed-perls/host/k93msid/perl-5.10.0/89ad/lib/site_perl/5.10.0/Plack/Test.pm line 38
	Plack::Test::test_psgi("app", CODE(0x55c62ac98360), "mangle_response", CODE(0x55c629bc5350), "app", CODE(0x55c62aca9080), "client", CODE(0x55c62aca9158)) called at /home/sand/src/perl/repoperls/installed-perls/host/k93msid/perl-5.10.0/89ad/lib/site_perl/5.10.0/Catalyst/Test.pm line 284
	Catalyst::Test::_request(HASH(0x55c62ac98390), "/") called at /home/sand/src/perl/repoperls/installed-perls/host/k93msid/perl-5.10.0/89ad/lib/site_perl/5.10.0/Catalyst/Test.pm line 327
	Catalyst::Test::_local_request("TestAppAltRoot", "/") called at /home/sand/src/perl/repoperls/installed-perls/host/k93msid/perl-5.10.0/89ad/lib/site_perl/5.10.0/Catalyst/Test.pm line 32
	Catalyst::Test::__ANON__("/") called at /home/sand/src/perl/repoperls/installed-perls/host/k93msid/perl-5.10.0/89ad/lib/site_perl/5.10.0/Catalyst/Test.pm line 72
	Catalyst::Test::__ANON__("/") called at t/live-test-alt-root.t line 14
t/live-test-alt-root.t .... ok
Class::MOP::load_class is deprecated at /home/sand/src/perl/repoperls/installed-perls/host/k93msid/perl-5.10.0/89ad/lib/site_perl/5.10.0/x86_64-linux/Class/MOP.pm line 69, <> line 1.
	Class::MOP::load_class("TestApp::View::HTML::Root") called at /tmp/loop_over_bdir-4969-ZF6I9f/Catalyst-View-HTML-Zoom-0.003-0/blib/lib/Catalyst/View/HTML/Zoom.pm line 138
	Catalyst::View::HTML::Zoom::_zoomer_class_from_context(TestApp::View::HTML=HASH(0x55b7f2c1ec80), TestApp=HASH(0x55b7f0d1b440)) called at /tmp/loop_over_bdir-4969-ZF6I9f/Catalyst-View-HTML-Zoom-0.003-0/blib/lib/Catalyst/View/HTML/Zoom.pm line 90
	Catalyst::View::HTML::Zoom::_build_renderer_from_zoomer_class(TestApp::View::HTML=HASH(0x55b7f2c1ec80), TestApp=HASH(0x55b7f0d1b440)) called at /tmp/loop_over_bdir-4969-ZF6I9f/Catalyst-View-HTML-Zoom-0.003-0/blib/lib/Catalyst/View/HTML/Zoom.pm line 76
	Catalyst::View::HTML::Zoom::_build_renderer_from(TestApp::View::HTML=HASH(0x55b7f2c1ec80), TestApp=HASH(0x55b7f0d1b440), undef) called at /tmp/loop_over_bdir-4969-ZF6I9f/Catalyst-View-HTML-Zoom-0.003-0/blib/lib/Catalyst/View/HTML/Zoom.pm line 67
	Catalyst::View::HTML::Zoom::render(TestApp::View::HTML=HASH(0x55b7f2c1ec80), TestApp=HASH(0x55b7f0d1b440), "/main") called at /tmp/loop_over_bdir-4969-ZF6I9f/Catalyst-View-HTML-Zoom-0.003-0/blib/lib/Catalyst/View/HTML/Zoom.pm line 41
	Catalyst::View::HTML::Zoom::process(TestApp::View::HTML=HASH(0x55b7f2c1ec80), TestApp=HASH(0x55b7f0d1b440)) called at /home/sand/src/perl/repoperls/installed-perls/host/k93msid/perl-5.10.0/89ad/lib/site_perl/5.10.0/Catalyst/Action.pm line 358
	Catalyst::Action::execute(Catalyst::Action=HASH(0x55b7f2d9c598), TestApp::View::HTML=HASH(0x55b7f2c1ec80), TestApp=HASH(0x55b7f0d1b440)) called at /home/sand/src/perl/repoperls/installed-perls/host/k93msid/perl-5.10.0/89ad/lib/site_perl/5.10.0/Catalyst.pm line 2052
	eval {...} called at /home/sand/src/perl/repoperls/installed-perls/host/k93msid/perl-5.10.0/89ad/lib/site_perl/5.10.0/Catalyst.pm line 2052
	Catalyst::execute(TestApp=HASH(0x55b7f0d1b440), "TestApp::View::HTML", Catalyst::Action=HASH(0x55b7f2d9c598)) called at /home/sand/src/perl/repoperls/installed-perls/host/k93msid/perl-5.10.0/89ad/lib/site_perl/5.10.0/Catalyst/Action.pm line 353
	Catalyst::Action::dispatch(Catalyst::Action=HASH(0x55b7f2d9c598), TestApp=HASH(0x55b7f0d1b440)) called at /home/sand/src/perl/repoperls/installed-perls/host/k93msid/perl-5.10.0/89ad/lib/site_perl/5.10.0/Catalyst/Dispatcher.pm line 262
	Catalyst::Dispatcher::_do_forward(Catalyst::Dispatcher=HASH(0x55b7f1c3d668), "forward", TestApp=HASH(0x55b7f0d1b440), TestApp::View::HTML=HASH(0x55b7f2c1ec80)) called at /home/sand/src/perl/repoperls/installed-perls/host/k93msid/perl-5.10.0/89ad/lib/site_perl/5.10.0/Catalyst/Dispatcher.pm line 242
	Catalyst::Dispatcher::forward(Catalyst::Dispatcher=HASH(0x55b7f1c3d668), TestApp=HASH(0x55b7f0d1b440), TestApp::View::HTML=HASH(0x55b7f2c1ec80)) called at /home/sand/src/perl/repoperls/installed-perls/host/k93msid/perl-5.10.0/89ad/lib/site_perl/5.10.0/Catalyst.pm line 477
	Catalyst::forward(TestApp=HASH(0x55b7f0d1b440), TestApp::View::HTML=HASH(0x55b7f2c1ec80)) called at /home/sand/src/perl/repoperls/installed-perls/host/k93msid/perl-5.10.0/89ad/lib/site_perl/5.10.0/Catalyst/Action/RenderView.pm line 57
	Catalyst::Action::RenderView::execute(Catalyst::Action::RenderView=HASH(0x55b7f2c698f0), TestApp::Controller::Root=HASH(0x55b7f1ff17d0), TestApp=HASH(0x55b7f0d1b440)) called at /home/sand/src/perl/repoperls/installed-perls/host/k93msid/perl-5.10.0/89ad/lib/site_perl/5.10.0/Catalyst.pm line 2052
	eval {...} called at /home/sand/src/perl/repoperls/installed-perls/host/k93msid/perl-5.10.0/89ad/lib/site_perl/5.10.0/Catalyst.pm line 2052
	Catalyst::execute(TestApp=HASH(0x55b7f0d1b440), "TestApp::Controller::Root", Catalyst::Action::RenderView=HASH(0x55b7f2c698f0)) called at /home/sand/src/perl/repoperls/installed-perls/host/k93msid/perl-5.10.0/89ad/lib/site_perl/5.10.0/Catalyst/Action.pm line 353
	Catalyst::Action::dispatch(Catalyst::Action::RenderView=HASH(0x55b7f2c698f0), TestApp=HASH(0x55b7f0d1b440)) called at /home/sand/src/perl/repoperls/installed-perls/host/k93msid/perl-5.10.0/89ad/lib/site_perl/5.10.0/Catalyst/Controller.pm line 189
	Catalyst::Controller::_END(TestApp::Controller::Root=HASH(0x55b7f1ff17d0), TestApp=HASH(0x55b7f0d1b440)) called at /home/sand/src/perl/repoperls/installed-perls/host/k93msid/perl-5.10.0/89ad/lib/site_perl/5.10.0/Catalyst/Action.pm line 358
	Catalyst::Action::execute(Catalyst::Action=HASH(0x55b7f2c230d8), TestApp::Controller::Root=HASH(0x55b7f1ff17d0), TestApp=HASH(0x55b7f0d1b440)) called at /home/sand/src/perl/repoperls/installed-perls/host/k93msid/perl-5.10.0/89ad/lib/site_perl/5.10.0/Catalyst.pm line 2052
	eval {...} called at /home/sand/src/perl/repoperls/installed-perls/host/k93msid/perl-5.10.0/89ad/lib/site_perl/5.10.0/Catalyst.pm line 2052
	Catalyst::execute(TestApp=HASH(0x55b7f0d1b440), "TestApp::Controller::Root", Catalyst::Action=HASH(0x55b7f2c230d8)) called at /home/sand/src/perl/repoperls/installed-perls/host/k93msid/perl-5.10.0/89ad/lib/site_perl/5.10.0/Catalyst/Action.pm line 353
	Catalyst::Action::dispatch(Catalyst::Action=HASH(0x55b7f2c230d8), TestApp=HASH(0x55b7f0d1b440)) called at /home/sand/src/perl/repoperls/installed-perls/host/k93msid/perl-5.10.0/89ad/lib/site_perl/5.10.0/Catalyst/Dispatcher.pm line 262
	Catalyst::Dispatcher::_do_forward(Catalyst::Dispatcher=HASH(0x55b7f1c3d668), "forward", TestApp=HASH(0x55b7f0d1b440), "_END") called at /home/sand/src/perl/repoperls/installed-perls/host/k93msid/perl-5.10.0/89ad/lib/site_perl/5.10.0/Catalyst/Dispatcher.pm line 242
	Catalyst::Dispatcher::forward(Catalyst::Dispatcher=HASH(0x55b7f1c3d668), TestApp=HASH(0x55b7f0d1b440), "_END") called at /home/sand/src/perl/repoperls/installed-perls/host/k93msid/perl-5.10.0/89ad/lib/site_perl/5.10.0/Catalyst.pm line 477
	Catalyst::forward(TestApp=HASH(0x55b7f0d1b440), "_END") called at /home/sand/src/perl/repoperls/installed-perls/host/k93msid/perl-5.10.0/89ad/lib/site_perl/5.10.0/Catalyst/Controller.pm line 138
	Catalyst::Controller::_DISPATCH(TestApp::Controller::Root=HASH(0x55b7f1ff17d0), TestApp=HASH(0x55b7f0d1b440)) called at /home/sand/src/perl/repoperls/installed-perls/host/k93msid/perl-5.10.0/89ad/lib/site_perl/5.10.0/Catalyst/Action.pm line 358
	Catalyst::Action::execute(Catalyst::Action=HASH(0x55b7f2c626c0), TestApp::Controller::Root=HASH(0x55b7f1ff17d0), TestApp=HASH(0x55b7f0d1b440)) called at /home/sand/src/perl/repoperls/installed-perls/host/k93msid/perl-5.10.0/89ad/lib/site_perl/5.10.0/Catalyst.pm line 2052
	eval {...} called at /home/sand/src/perl/repoperls/installed-perls/host/k93msid/perl-5.10.0/89ad/lib/site_perl/5.10.0/Catalyst.pm line 2052
	Catalyst::execute(TestApp=HASH(0x55b7f0d1b440), "TestApp::Controller::Root", Catalyst::Action=HASH(0x55b7f2c626c0)) called at /home/sand/src/perl/repoperls/installed-perls/host/k93msid/perl-5.10.0/89ad/lib/site_perl/5.10.0/Catalyst/Action.pm line 353
	Catalyst::Action::dispatch(Catalyst::Action=HASH(0x55b7f2c626c0), TestApp=HASH(0x55b7f0d1b440)) called at /home/sand/src/perl/repoperls/installed-perls/host/k93msid/perl-5.10.0/89ad/lib/site_perl/5.10.0/Catalyst/Dispatcher.pm line 262
	Catalyst::Dispatcher::_do_forward(Catalyst::Dispatcher=HASH(0x55b7f1c3d668), "forward", TestApp=HASH(0x55b7f0d1b440), "//_DISPATCH") called at /home/sand/src/perl/repoperls/installed-perls/host/k93msid/perl-5.10.0/89ad/lib/site_perl/5.10.0/Catalyst/Dispatcher.pm line 242
	Catalyst::Dispatcher::forward(Catalyst::Dispatcher=HASH(0x55b7f1c3d668), TestApp=HASH(0x55b7f0d1b440), "//_DISPATCH") called at /home/sand/src/perl/repoperls/installed-perls/host/k93msid/perl-5.10.0/89ad/lib/site_perl/5.10.0/Catalyst.pm line 477
	Catalyst::forward(TestApp=HASH(0x55b7f0d1b440), "//_DISPATCH") called at /home/sand/src/perl/repoperls/installed-perls/host/k93msid/perl-5.10.0/89ad/lib/site_perl/5.10.0/Catalyst/Dispatcher.pm line 107
	Catalyst::Dispatcher::dispatch(Catalyst::Dispatcher=HASH(0x55b7f1c3d668), TestApp=HASH(0x55b7f0d1b440)) called at /home/sand/src/perl/repoperls/installed-perls/host/k93msid/perl-5.10.0/89ad/lib/site_perl/5.10.0/Catalyst.pm line 1998
	Catalyst::dispatch(TestApp=HASH(0x55b7f0d1b440)) called at /home/sand/src/perl/repoperls/installed-perls/host/k93msid/perl-5.10.0/89ad/lib/site_perl/5.10.0/x86_64-linux/Class/MOP/Method/Wrapped.pm line 50
	TestApp::_wrapped_dispatch(TestApp=HASH(0x55b7f0d1b440)) called at /home/sand/src/perl/repoperls/installed-perls/host/k93msid/perl-5.10.0/89ad/lib/site_perl/5.10.0/x86_64-linux/Class/MOP/Method/Wrapped.pm line 95
	TestApp::dispatch(TestApp=HASH(0x55b7f0d1b440)) called at /home/sand/src/perl/repoperls/installed-perls/host/k93msid/perl-5.10.0/89ad/lib/site_perl/5.10.0/Catalyst.pm line 2393
	Catalyst::try {...} () called at /home/sand/src/perl/repoperls/installed-perls/host/k93msid/perl-5.10.0/89ad/lib/site_perl/5.10.0/Try/Tiny.pm line 103
	eval {...} called at /home/sand/src/perl/repoperls/installed-perls/host/k93msid/perl-5.10.0/89ad/lib/site_perl/5.10.0/Try/Tiny.pm line 94
	Try::Tiny::try(CODE(0x55b7f2d8c688), Try::Tiny::Catch=REF(0x55b7f2d8c520)) called at /home/sand/src/perl/repoperls/installed-perls/host/k93msid/perl-5.10.0/89ad/lib/site_perl/5.10.0/Catalyst.pm line 2402
	Catalyst::handle_request("TestApp", "env", HASH(0x55b7f2d872a8), "response_cb", CODE(0x55b7f2d8c580)) called at /home/sand/src/perl/repoperls/installed-perls/host/k93msid/perl-5.10.0/89ad/lib/site_perl/5.10.0/Catalyst/Engine.pm line 800
	Catalyst::Engine::__ANON__(CODE(0x55b7f2d8c580)) called at /home/sand/src/perl/repoperls/installed-perls/host/k93msid/perl-5.10.0/89ad/lib/site_perl/5.10.0/Plack/Middleware/HTTPExceptions.pm line 32
	Plack::Middleware::HTTPExceptions::try {...} () called at /home/sand/src/perl/repoperls/installed-perls/host/k93msid/perl-5.10.0/89ad/lib/site_perl/5.10.0/Try/Tiny.pm line 103
	eval {...} called at /home/sand/src/perl/repoperls/installed-perls/host/k93msid/perl-5.10.0/89ad/lib/site_perl/5.10.0/Try/Tiny.pm line 94
	Try::Tiny::try(CODE(0x55b7f2d8c340), Try::Tiny::Catch=REF(0x55b7f2d8b088)) called at /home/sand/src/perl/repoperls/installed-perls/host/k93msid/perl-5.10.0/89ad/lib/site_perl/5.10.0/Plack/Middleware/HTTPExceptions.pm line 41
	Plack::Middleware::HTTPExceptions::__ANON__(CODE(0x55b7f2d8c1f0)) called at /home/sand/src/perl/repoperls/installed-perls/host/k93msid/perl-5.10.0/89ad/lib/site_perl/5.10.0/Plack/Util.pm line 339
	Plack::Util::__ANON__(CODE(0x55b7f2d8c0a0)) called at /home/sand/src/perl/repoperls/installed-perls/host/k93msid/perl-5.10.0/89ad/lib/site_perl/5.10.0/Plack/Util.pm line 339
	Plack::Util::__ANON__(CODE(0x55b7f2d8bf50)) called at /home/sand/src/perl/repoperls/installed-perls/host/k93msid/perl-5.10.0/89ad/lib/site_perl/5.10.0/Plack/Util.pm line 339
	Plack::Util::__ANON__(CODE(0x55b7f2d8bea8)) called at /home/sand/src/perl/repoperls/installed-perls/host/k93msid/perl-5.10.0/89ad/lib/site_perl/5.10.0/HTTP/Message/PSGI.pm line 100
	HTTP::Message::PSGI::res_from_psgi(CODE(0x55b7f2d8aed8)) called at /home/sand/src/perl/repoperls/installed-perls/host/k93msid/perl-5.10.0/89ad/lib/site_perl/5.10.0/HTTP/Message/PSGI.pm line 156
	HTTP::Response::from_psgi("HTTP::Response", CODE(0x55b7f2d8aed8)) called at /home/sand/src/perl/repoperls/installed-perls/host/k93msid/perl-5.10.0/89ad/lib/site_perl/5.10.0/Plack/Test/MockHTTP.pm line 24
	Plack::Test::MockHTTP::try {...} () called at /home/sand/src/perl/repoperls/installed-perls/host/k93msid/perl-5.10.0/89ad/lib/site_perl/5.10.0/Try/Tiny.pm line 98
	eval {...} called at /home/sand/src/perl/repoperls/installed-perls/host/k93msid/perl-5.10.0/89ad/lib/site_perl/5.10.0/Try/Tiny.pm line 94
	Try::Tiny::try(CODE(0x55b7f2b3d740), Try::Tiny::Catch=REF(0x55b7f2d2df08)) called at /home/sand/src/perl/repoperls/installed-perls/host/k93msid/perl-5.10.0/89ad/lib/site_perl/5.10.0/Plack/Test/MockHTTP.pm line 27
	Plack::Test::MockHTTP::request(Plack::Test::MockHTTP=HASH(0x55b7f2d42e78), HTTP::Request=HASH(0x55b7f2d428f0)) called at /home/sand/src/perl/repoperls/installed-perls/host/k93msid/perl-5.10.0/89ad/lib/site_perl/5.10.0/Plack/Test.pm line 38
	Plack::Test::__ANON__(HTTP::Request=HASH(0x55b7f2d428f0)) called at /home/sand/src/perl/repoperls/installed-perls/host/k93msid/perl-5.10.0/89ad/lib/site_perl/5.10.0/Catalyst/Test.pm line 281
	Catalyst::Test::__ANON__(CODE(0x55b7f2d42cf8)) called at /home/sand/src/perl/repoperls/installed-perls/host/k93msid/perl-5.10.0/89ad/lib/site_perl/5.10.0/Plack/Test.pm line 38
	Plack::Test::test_psgi("app", CODE(0x55b7f2d389d8), "mangle_response", CODE(0x55b7f1c22940), "app", CODE(0x55b7f2d42a10), "client", CODE(0x55b7f2d42ae8)) called at /home/sand/src/perl/repoperls/installed-perls/host/k93msid/perl-5.10.0/89ad/lib/site_perl/5.10.0/Catalyst/Test.pm line 284
	Catalyst::Test::_request(HASH(0x55b7f2d38c90), "/") called at /home/sand/src/perl/repoperls/installed-perls/host/k93msid/perl-5.10.0/89ad/lib/site_perl/5.10.0/Catalyst/Test.pm line 327
	Catalyst::Test::_local_request("TestApp", "/") called at /home/sand/src/perl/repoperls/installed-perls/host/k93msid/perl-5.10.0/89ad/lib/site_perl/5.10.0/Catalyst/Test.pm line 32
	Catalyst::Test::__ANON__("/") called at /home/sand/src/perl/repoperls/installed-perls/host/k93msid/perl-5.10.0/89ad/lib/site_perl/5.10.0/Catalyst/Test.pm line 72
	Catalyst::Test::__ANON__("/") called at t/live-test.t line 14
t/live-test.t ............. ok
t/release-pod-coverage.t .. skipped: these tests are for release candidate testing
t/release-pod-syntax.t .... skipped: these tests are for release candidate testing
All tests successful.
Files=7, Tests=17,  7 wallclock secs ( 0.02 usr  0.04 sys +  1.74 cusr  0.25 csys =  2.05 CPU)
Result: PASS

------------------------------
PREREQUISITES
------------------------------

Prerequisite modules loaded:

requires:

    Module                       Need  Have    
    ---------------------------- ----- --------
    Class::MOP                   1.12  2.2004  
    HTML::Zoom                   0.009 0.009009
    Moose                        1.21  2.2004  
    namespace::autoclean         0.09  0.28    
    Path::Class                  0.23  0.37    

build_requires:

    Module                       Need  Have    
    ---------------------------- ----- --------
    Catalyst::Action::RenderView 0.14  0.16    
    Catalyst::Runtime            5.8   5.90115 
    Test::More                   0.96  1.302085

configure_requires:

    Module                       Need  Have    
    ---------------------------- ----- --------
    ExtUtils::MakeMaker          6.31  7.24    


------------------------------
ENVIRONMENT AND OTHER CONTEXT
------------------------------

Environment variables:

    AUTOMATED_TESTING = 1
    LANG = en_US.UTF-8
    PATH = /home/sand/bin:/usr/local/bin:/usr/bin:/bin:/usr/games:/usr/local/perl/bin:/usr/X11/bin:/sbin:/usr/sbin
    PERL5LIB = 
    PERL5OPT = 
    PERL5_CPANPLUS_IS_RUNNING = 4974
    PERL5_CPAN_IS_RUNNING = 4974
    PERL_CANARY_STABILITY_NOPROMPT = 1
    PERL_MM_USE_DEFAULT = 1
    PERL_USE_UNSAFE_INC = 1
    SHELL = /usr/bin/zsh
    TERM = screen

Perl special variables (and OS-specific diagnostics, for MSWin32):

    $^X = /home/sand/src/perl/repoperls/installed-perls/host/k93msid/perl-5.10.0/89ad/bin/perl
    $UID/$EUID = 1005 / 1005
    $GID = 1005 1005
    $EGID = 1005 1005

Perl module toolchain versions installed:

    Module              Have    
    ------------------- --------
    CPAN                2.18    
    CPAN::Meta          2.150010
    Cwd                 3.62    
    ExtUtils::CBuilder  0.280224
    ExtUtils::Command   7.24    
    ExtUtils::Install   2.14    
    ExtUtils::MakeMaker 7.24    
    ExtUtils::Manifest  1.70    
    ExtUtils::ParseXS   3.30    
    File::Spec          3.62    
    JSON                2.90    
    JSON::PP            2.94    
    Module::Build       0.4222  
    Module::Signature   0.81    
    Parse::CPAN::Meta   2.150010
    Test::Harness       3.39    
    Test::More          1.302085
    YAML                1.23    
    YAML::Syck          1.30    
    version             0.9917  


--

Summary of my perl5 (revision 5 version 10 subversion 0) configuration:
  Platform:
    osname=linux, osvers=4.9.0-2-amd64, archname=x86_64-linux
    uname='linux k93msid 4.9.0-2-amd64 #1 smp debian 4.9.18-1 (2017-03-30) x86_64 gnulinux '
    config_args='-Dprefix=/home/sand/src/perl/repoperls/installed-perls/host/k93msid/perl-5.10.0/89ad -Dmyhostname=k93msid -Dinstallusrbinperl=n -Uversiononly -Dusedevel -des -Ui_db -Dlibswanted=cl pthread socket inet nsl gdbm dbm malloc dl ld sun m crypt sec util c cposix posix ucb BSD gdbm_compat -Uuseithreads -Uuselongdouble -DDEBUGGING=-g'
    hint=recommended, useposix=true, d_sigaction=define
    useithreads=undef, usemultiplicity=undef
    useperlio=define, d_sfio=undef, uselargefiles=define, usesocks=undef
    use64bitint=define, use64bitall=define, uselongdouble=undef
    usemymalloc=n, bincompat5005=undef
  Compiler:
    cc='cc', ccflags ='-fno-strict-aliasing -pipe -I/usr/local/include -D_LARGEFILE_SOURCE -D_FILE_OFFSET_BITS=64',
    optimize='-O2 -g',
    cppflags='-fno-strict-aliasing -pipe -I/usr/local/include'
    ccversion='', gccversion='6.3.0 20170406', gccosandvers=''
    intsize=4, longsize=8, ptrsize=8, doublesize=8, byteorder=12345678
    d_longlong=define, longlongsize=8, d_longdbl=define, longdblsize=16
    ivtype='long', ivsize=8, nvtype='double', nvsize=8, Off_t='off_t', lseeksize=8
    alignbytes=8, prototype=define
  Linker and Libraries:
    ld='cc', ldflags =' -L/usr/local/lib'
    libpth=/usr/local/lib /lib/x86_64-linux-gnu /lib/../lib /usr/lib/x86_64-linux-gnu /usr/lib/../lib /lib /usr/lib
    libs=-lpthread -lnsl -ldl -lm -lcrypt -lutil -lc
    perllibs=-lpthread -lnsl -ldl -lm -lcrypt -lutil -lc
    libc=libc-2.24.so, so=so, useshrplib=false, libperl=libperl.a
    gnulibc_version='2.24'
  Dynamic Linking:
    dlsrc=dl_dlopen.xs, dlext=so, d_dlsymun=undef, ccdlflags='-Wl,-E'
    cccdlflags='-fPIC', lddlflags='-shared -O2 -g -L/usr/local/lib'


Characteristics of this binary (from libperl): 
  Compile-time options: PERL_DONT_CREATE_GVSV PERL_MALLOC_WRAP USE_64_BIT_ALL
                        USE_64_BIT_INT USE_LARGE_FILES USE_PERLIO
  Built under linux
  Compiled at Apr 17 2017 09:53:10
  %ENV:
    PERL5LIB=""
    PERL5OPT=""
    PERL5_CPANPLUS_IS_RUNNING="4974"
    PERL5_CPAN_IS_RUNNING="4974"
    PERL_CANARY_STABILITY_NOPROMPT="1"
    PERL_MM_USE_DEFAULT="1"
    PERL_USE_UNSAFE_INC="1"
  @INC:
    /home/sand/src/perl/repoperls/installed-perls/host/k93msid/perl-5.10.0/89ad/lib/5.10.0/x86_64-linux
    /home/sand/src/perl/repoperls/installed-perls/host/k93msid/perl-5.10.0/89ad/lib/5.10.0
    /home/sand/src/perl/repoperls/installed-perls/host/k93msid/perl-5.10.0/89ad/lib/site_perl/5.10.0/x86_64-linux
    /home/sand/src/perl/repoperls/installed-perls/host/k93msid/perl-5.10.0/89ad/lib/site_perl/5.10.0
    .