Plack-Middleware-ServerStatus-Lite v0.36 Perl 5 v5.38.2 amd64-freebsd
- Status
- Pass
- From
- Slaven Rezić
- Dist
-
Plack-Middleware-ServerStatus-Lite v0.36
- Platform
- Perl 5 v5.38.2 amd64-freebsd
- Date
- 2023-12-22 20:57:20
- ID
- b2b33d6e-a10c-11ee-adaf-40316e8775ea
This distribution has been tested as part of the CPAN Testers
project, supporting the Perl programming language. See
http://wiki.cpantesters.org/ for more information or email
questions to cpan-testers-discuss@perl.org
--
Dear Masahiro Nagano,
This is a computer-generated report for Plack-Middleware-ServerStatus-Lite-0.36
on perl 5.38.2, created by CPAN-Reporter-1.2019.
Thank you for uploading your work to CPAN. Congratulations!
All tests were successful.
Sections of this report:
* Tester comments
* Program output
* Prerequisites
* Environment and other context
------------------------------
TESTER COMMENTS
------------------------------
Additional comments from tester:
none provided
------------------------------
PROGRAM OUTPUT
------------------------------
Output from './Build test':
t/00_compile.t .............. ok
t/01_builder.t .............. ok
using Starman for test at t/02_server.t line 29.
2023/12/22-17:39:53 Starman::Server (type Net::Server::PreFork) starting! pid(80716)
Resolved [localhost]:33126 to [::1]:33126, IPv6
Resolved [localhost]:33126 to [127.0.0.1]:33126, IPv4
Binding to TCP port 33126 on host ::1 with IPv6
Binding to TCP port 33126 on host 127.0.0.1 with IPv4
Setting gid to "1023 1023 1023"
Passed serialize value of none is incompatible with multiple ports - using default serialize
2023/12/22-17:39:56 Server closing!
using Starlet for test at t/02_server.t line 29.
t/02_server.t ............... ok
using Starman for test at t/03_server_delayed_res.t line 29.
2023/12/22-17:40:00 Starman::Server (type Net::Server::PreFork) starting! pid(80735)
Resolved [localhost]:12253 to [::1]:12253, IPv6
Resolved [localhost]:12253 to [127.0.0.1]:12253, IPv4
Binding to TCP port 12253 on host ::1 with IPv6
Binding to TCP port 12253 on host 127.0.0.1 with IPv4
Setting gid to "1023 1023 1023"
Passed serialize value of none is incompatible with multiple ports - using default serialize
2023/12/22-17:40:03 Server closing!
using Starlet for test at t/03_server_delayed_res.t line 29.
using Starman for test at t/03_server_delayed_res.t line 89.
2023/12/22-17:40:06 Starman::Server (type Net::Server::PreFork) starting! pid(80751)
Resolved [localhost]:59102 to [::1]:59102, IPv6
Resolved [localhost]:59102 to [127.0.0.1]:59102, IPv4
Binding to TCP port 59102 on host ::1 with IPv6
Binding to TCP port 59102 on host 127.0.0.1 with IPv4
Setting gid to "1023 1023 1023"
Passed serialize value of none is incompatible with multiple ports - using default serialize
2023/12/22-17:40:09 Server closing!
using Starlet for test at t/03_server_delayed_res.t line 89.
t/03_server_delayed_res.t ... ok
using Starman for test at t/04_json.t line 31.
2023/12/22-17:40:13 Starman::Server (type Net::Server::PreFork) starting! pid(80768)
Resolved [localhost]:26514 to [::1]:26514, IPv6
Resolved [localhost]:26514 to [127.0.0.1]:26514, IPv4
Binding to TCP port 26514 on host ::1 with IPv6
Binding to TCP port 26514 on host 127.0.0.1 with IPv4
Setting gid to "1023 1023 1023"
Passed serialize value of none is incompatible with multiple ports - using default serialize
2023/12/22-17:40:16 Server closing!
using Starlet for test at t/04_json.t line 31.
t/04_json.t ................. ok
using Starman for test at t/05_counter.t line 31.
2023/12/22-17:40:20 Starman::Server (type Net::Server::PreFork) starting! pid(80785)
Resolved [localhost]:57175 to [::1]:57175, IPv6
Resolved [localhost]:57175 to [127.0.0.1]:57175, IPv4
Binding to TCP port 57175 on host ::1 with IPv6
Binding to TCP port 57175 on host 127.0.0.1 with IPv4
Setting gid to "1023 1023 1023"
Passed serialize value of none is incompatible with multiple ports - using default serialize
2023/12/22-17:40:20 Server closing!
using Starlet for test at t/05_counter.t line 31.
t/05_counter.t .............. ok
using Starman for test at t/06_counter_delayed_res.t line 33.
2023/12/22-17:40:20 Starman::Server (type Net::Server::PreFork) starting! pid(80800)
Resolved [localhost]:63908 to [::1]:63908, IPv6
Resolved [localhost]:63908 to [127.0.0.1]:63908, IPv4
Binding to TCP port 63908 on host ::1 with IPv6
Binding to TCP port 63908 on host 127.0.0.1 with IPv4
Setting gid to "1023 1023 1023"
Passed serialize value of none is incompatible with multiple ports - using default serialize
2023/12/22-17:40:20 Server closing!
using Starlet for test at t/06_counter_delayed_res.t line 33.
using Starman for test at t/06_counter_delayed_res.t line 95.
2023/12/22-17:40:20 Starman::Server (type Net::Server::PreFork) starting! pid(80814)
Resolved [localhost]:50418 to [::1]:50418, IPv6
Resolved [localhost]:50418 to [127.0.0.1]:50418, IPv4
Binding to TCP port 50418 on host ::1 with IPv6
Binding to TCP port 50418 on host 127.0.0.1 with IPv4
Setting gid to "1023 1023 1023"
Passed serialize value of none is incompatible with multiple ports - using default serialize
2023/12/22-17:40:20 Server closing!
using Starlet for test at t/06_counter_delayed_res.t line 95.
t/06_counter_delayed_res.t .. ok
using Starman for test at t/07_skip_ps.t line 29.
2023/12/22-17:40:21 Starman::Server (type Net::Server::PreFork) starting! pid(80829)
Resolved [localhost]:52381 to [::1]:52381, IPv6
Resolved [localhost]:52381 to [127.0.0.1]:52381, IPv4
Binding to TCP port 52381 on host ::1 with IPv6
Binding to TCP port 52381 on host 127.0.0.1 with IPv4
Setting gid to "1023 1023 1023"
Passed serialize value of none is incompatible with multiple ports - using default serialize
2023/12/22-17:40:22 Server closing!
using Starlet for test at t/07_skip_ps.t line 29.
t/07_skip_ps.t .............. ok
2023/12/22-17:40:23 Starman::Server (type Net::Server::PreFork) starting! pid(80842)
Resolved [localhost]:39231 to [::1]:39231, IPv6
Resolved [localhost]:39231 to [127.0.0.1]:39231, IPv4
Binding to TCP port 39231 on host ::1 with IPv6
Binding to TCP port 39231 on host 127.0.0.1 with IPv4
Setting gid to "1023 1023 1023"
Passed serialize value of none is incompatible with multiple ports - using default serialize
2023/12/22-17:40:27 Server closing!
t/08_command.t .............. ok
All tests successful.
Files=9, Tests=146, 34 wallclock secs ( 0.05 usr 0.03 sys + 2.73 cusr 1.90 csys = 4.71 CPU)
Result: PASS
------------------------------
PREREQUISITES
------------------------------
Prerequisite modules loaded:
requires:
Module Need Have
-------------------- ------ --------
Getopt::Long 2.38 2.57
JSON 2.53 4.10
Net::CIDR::Lite 0 0.22
Parallel::Scoreboard 0.03 0.08
parent 0 0.241
Plack::Middleware 0 0
Pod::Usage 0 2.03
Try::Tiny 0.09 0.31
build_requires:
Module Need Have
-------------------- ------ --------
B 0 1.88
Capture::Tiny 0 0.48
LWP::UserAgent 0 6.72
Starman 0.3013 0.4017
Test::More 0 1.302198
Test::SharedFork 0 0.35
Test::TCP 2.00 2.22
configure_requires:
Module Need Have
-------------------- ------ --------
Module::Build 0.38 0.4234
------------------------------
ENVIRONMENT AND OTHER CONTEXT
------------------------------
Environment variables:
LANG = C.UTF-8
PATH = /usr/local/bin:/usr/bin:/bin:/usr/local/sbin:/usr/sbin:/sbin:/home/cpansand/bin/freebsd14.0:/home/cpansand/bin/sh:/home/cpansand/bin:/usr/games:/home/cpansand/devel:/home/eserte/src/srezic-misc/scripts
PERL5LIB =
PERL5OPT =
PERL5_CPANPLUS_IS_RUNNING = 79703
PERL5_CPAN_IS_RUNNING = 79703
PERL5_CPAN_IS_RUNNING_IN_RECURSION = 16267,79703
PERLDOC = -MPod::Perldoc::ToTextOverstrike
PERL_BATCH = yes
PERL_CANARY_STABILITY_NOPROMPT = 1
PERL_CPAN_REPORTER_CONFIG = /var/tmp/cpansmoker-1023/2023122216/cpanreporter_000_config.ini
PERL_EXTUTILS_AUTOINSTALL = --defaultdeps
PERL_USE_UNSAFE_INC = 1
SHELL = /usr/local/bin/zsh
TERM = screen
TMPDIR = /var/tmp/cpansmoker-1023/2023122216
Perl special variables (and OS-specific diagnostics, for MSWin32):
$^X = /usr/perl5.38.2/bin/perl5.38.2
$UID/$EUID = 1023 / 1023
$GID = 1023 1023
$EGID = 1023 1023
Perl module toolchain versions installed:
Module Have
------------------- --------
CPAN 2.36
CPAN::Meta 2.150010
Cwd 3.89
ExtUtils::CBuilder 0.280238
ExtUtils::Command 7.70
ExtUtils::Install 2.22
ExtUtils::MakeMaker 7.70
ExtUtils::Manifest 1.75
ExtUtils::ParseXS 3.51
File::Spec 3.88
JSON 4.10
JSON::PP 4.16
Module::Build 0.4234
Module::Signature 0.88
Parse::CPAN::Meta 2.150010
Test2 1.302198
Test::Harness 3.48
Test::More 1.302198
YAML 1.30
YAML::Syck 1.34
version 0.9930
--
Summary of my perl5 (revision 5 version 38 subversion 2) configuration:
Platform:
osname=freebsd
osvers=14.0-stable
archname=amd64-freebsd
uname='freebsd cloud11.bbbike.org 14.0-stable freebsd 14.0-stable #0 stable14-8d42f85d9: wed dec 13 14:10:27 utc 2023 root@cloud11.bbbike.org:usrobjhomeprojectsfreebsd-srcamd64.amd64sysgeneric amd64 '
config_args='-ds -e -Dprefix=/usr/perl5.38.2 -Dcf_email=srezic@cpan.org -Doptimize=-O2 -pipe'
hint=recommended
useposix=true
d_sigaction=define
useithreads=undef
usemultiplicity=undef
use64bitint=define
use64bitall=define
uselongdouble=undef
usemymalloc=n
default_inc_excludes_dot=define
Compiler:
cc='cc'
ccflags ='-DHAS_FPSETMASK -DHAS_FLOATINGPOINT_H -fno-strict-aliasing -pipe -fstack-protector-strong -I/usr/local/include'
optimize='-O2 -pipe'
cppflags='-DHAS_FPSETMASK -DHAS_FLOATINGPOINT_H -fno-strict-aliasing -pipe -fstack-protector-strong -I/usr/local/include'
ccversion=''
gccversion='FreeBSD Clang 16.0.6 (https://github.com/llvm/llvm-project.git llvmorg-16.0.6-0-g7cbf1a259152)'
gccosandvers=''
intsize=4
longsize=8
ptrsize=8
doublesize=8
byteorder=12345678
doublekind=3
d_longlong=define
longlongsize=8
d_longdbl=define
longdblsize=16
longdblkind=3
ivtype='long'
ivsize=8
nvtype='double'
nvsize=8
Off_t='off_t'
lseeksize=8
alignbytes=8
prototype=define
Linker and Libraries:
ld='cc'
ldflags ='-Wl,-E -fstack-protector-strong -L/usr/local/lib'
libpth=/usr/lib /usr/local/lib /usr/lib/clang/16/lib
libs=-lpthread -lgdbm -ldl -lm -lcrypt -lutil -lc
perllibs=-lpthread -ldl -lm -lcrypt -lutil -lc
libc=
so=so
useshrplib=false
libperl=libperl.a
gnulibc_version=''
Dynamic Linking:
dlsrc=dl_dlopen.xs
dlext=so
d_dlsymun=undef
ccdlflags=' '
cccdlflags='-DPIC -fPIC'
lddlflags='-shared -L/usr/local/lib -fstack-protector-strong'
Characteristics of this binary (from libperl):
Compile-time options:
HAS_LONG_DOUBLE
HAS_STRTOLD
HAS_TIMES
PERLIO_LAYERS
PERL_COPY_ON_WRITE
PERL_DONT_CREATE_GVSV
PERL_HASH_FUNC_SIPHASH13
PERL_HASH_USE_SBOX32
PERL_MALLOC_WRAP
PERL_OP_PARENT
PERL_PRESERVE_IVUV
PERL_USE_SAFE_PUTENV
USE_64_BIT_ALL
USE_64_BIT_INT
USE_LARGE_FILES
USE_LOCALE
USE_LOCALE_COLLATE
USE_LOCALE_CTYPE
USE_LOCALE_NUMERIC
USE_LOCALE_TIME
USE_PERLIO
USE_PERL_ATOF
Built under freebsd
Compiled at Dec 13 2023 17:28:52
%ENV:
PERL5LIB=""
PERL5OPT=""
PERL5_CPANPLUS_IS_RUNNING="79703"
PERL5_CPAN_IS_RUNNING="79703"
PERL5_CPAN_IS_RUNNING_IN_RECURSION="16267,79703"
PERLDOC="-MPod::Perldoc::ToTextOverstrike"
PERL_BATCH="yes"
PERL_CANARY_STABILITY_NOPROMPT="1"
PERL_CPAN_REPORTER_CONFIG="/var/tmp/cpansmoker-1023/2023122216/cpanreporter_000_config.ini"
PERL_EXTUTILS_AUTOINSTALL="--defaultdeps"
PERL_USE_UNSAFE_INC="1"
@INC:
/usr/perl5.38.2/lib/site_perl/5.38.2/amd64-freebsd
/usr/perl5.38.2/lib/site_perl/5.38.2
/usr/perl5.38.2/lib/5.38.2/amd64-freebsd
/usr/perl5.38.2/lib/5.38.2
.