Report for DBIx-Class-Graph-1.05

Back
From: metabase:user:320bfe00-2aae-11df-837a-5e0a49663a4f
Subject: PASS DBIx-Class-Graph-1.05 v5.22.2 RC1 GNU/Linux
Date: 2016-04-11T05:53:21Z

This distribution has been tested as part of the CPAN Testers
project, supporting the Perl programming language.  See
http://wiki.cpantesters.org/ for more information or email
questions to cpan-testers-discuss@perl.org


--
Dear Moritz Onken,

This is a computer-generated report for DBIx-Class-Graph-1.05
on perl 5.22.2, created by CPAN-Reporter-1.2017.

Thank you for uploading your work to CPAN.  Congratulations!
All tests were successful.

Sections of this report:

    * Tester comments
    * Program output
    * Prerequisites
    * Environment and other context

------------------------------
TESTER COMMENTS
------------------------------

Additional comments from tester:

this report is from an automated smoke testing program
and was not reviewed by a human for accuracy

------------------------------
PROGRAM OUTPUT
------------------------------

Output from './Build test':

t/00-compile.t ................ ok
# 
# 
# perl: v5.22.2 (wanted any version) on linux from /tmp/basesmoker-reloperl-Ppis/bin/perl
# 
# Class::C3                                     => 0.30       (want any version)
# DBIx::Class                                   => 0.082821   (want any version)
# DBIx::Class::ResultSet                        => <undef>    (want any version)
# DBIx::Class::Schema                           => <undef>    (want any version)
# File::Find                                    => 1.29       (want any version)
# File::Temp                                    => 0.2304     (want any version)
# Graph                                         => 0.9704     (want 0.94)   
# List::MoreUtils                               => 0.413      (want any version)
# Module::Build                                 => 0.4216     (want 0.3601) 
# Moose                                         => 2.1605     (want any version)
# Moose::Role                                   => 2.1605     (want any version)
# Scalar::Util                                  => 1.45       (want any version)
# Test::Memory::Cycle                           => 1.06       (want any version)
# Test::More                                    => 1.001014   (want 0.88)   
# base                                          => 2.23       (want any version)
# strict                                        => 1.09       (want any version)
# warnings                                      => 1.34       (want any version)
# 
# Thanks for using my code.  I hope it works for you.
# If not, please try and include this output in the bug report.
# That will help me reproduce the issue and solve you problem.
# 
t/000-report-versions-tiny.t .. ok
t/complex.t ................... ok
t/leak.t ...................... ok
t/release-has-version.t ....... skipped: these tests are for release candidate testing
t/release-kwalitee.t .......... skipped: these tests are for release candidate testing
t/release-minimum-version.t ... skipped: these tests are for release candidate testing
t/release-pod-coverage.t ...... skipped: these tests are for release candidate testing
t/release-pod-syntax.t ........ skipped: these tests are for release candidate testing
t/result.t .................... ok
t/resultset.t ................. ok
t/simple01.t .................. ok
t/simple02.t .................. ok
t/simplesucc.t ................ ok
t/wrapper.t ................... ok
All tests successful.
Files=15, Tests=69, 10 wallclock secs ( 0.07 usr  0.10 sys +  8.40 cusr  0.98 csys =  9.55 CPU)
Result: PASS

------------------------------
PREREQUISITES
------------------------------

Prerequisite modules loaded:

requires:

    Module                 Need   Have    
    ---------------------- ------ --------
    base                   0      2.23    
    Class::C3              0      0.30    
    DBIx::Class            0      0.082821
    DBIx::Class::ResultSet 0      0       
    Graph                  0.94   0.9704  
    List::MoreUtils        0      0.413   
    Moose                  0      2.1605  
    Moose::Role            0      2.1605  
    Scalar::Util           0      1.45    
    strict                 0      1.09    
    warnings               0      1.34    

build_requires:

    Module                 Need   Have    
    ---------------------- ------ --------
    DBIx::Class::Schema    0      0       
    File::Find             0      1.29    
    File::Temp             0      0.2304  
    Module::Build          0.3601 0.4216  
    Test::Memory::Cycle    0      1.06    
    Test::More             0.88   1.001014

configure_requires:

    Module                 Need   Have    
    ---------------------- ------ --------
    Module::Build          0.3601 0.4216  


------------------------------
ENVIRONMENT AND OTHER CONTEXT
------------------------------

Environment variables:

    AUTOMATED_TESTING = 1
    LANG = en_US.UTF-8
    LANGUAGE = en_US:en
    PATH = /usr/lib/ccache:/home/sand/bin:/usr/local/bin:/usr/bin:/bin:/usr/games:/usr/local/perl/bin:/usr/X11/bin:/sbin:/usr/sbin
    PERL = /tmp/basesmoker-reloperl-Ppis/bin/perl
    PERL5LIB = 
    PERL5OPT = 
    PERL5_CPANPLUS_IS_RUNNING = 7579
    PERL5_CPAN_IS_RUNNING = 7579
    PERL_CANARY_STABILITY_NOPROMPT = 1
    PERL_MM_USE_DEFAULT = 1
    SHELL = /usr/bin/zsh
    TERM = screen

Perl special variables (and OS-specific diagnostics, for MSWin32):

    $^X = /tmp/basesmoker-reloperl-Ppis/bin/perl
    $UID/$EUID = 1005 / 1005
    $GID = 1005 1005
    $EGID = 1005 1005

Perl module toolchain versions installed:

    Module              Have    
    ------------------- --------
    CPAN                2.12    
    CPAN::Meta          2.150005
    Cwd                 3.62    
    ExtUtils::CBuilder  0.280224
    ExtUtils::Command   7.10    
    ExtUtils::Install   2.04    
    ExtUtils::MakeMaker 7.10    
    ExtUtils::Manifest  1.70    
    ExtUtils::ParseXS   3.28    
    File::Spec          3.62    
    JSON                2.90    
    JSON::PP            2.27300 
    Module::Build       0.4216  
    Module::Signature   0.79    
    Parse::CPAN::Meta   1.4417  
    Test::Harness       3.36    
    Test::More          1.001014
    YAML                1.15    
    YAML::Syck          1.29    
    version             0.9916  


--

Summary of my perl5 (revision 5 version 22 subversion 2) configuration:
  Commit id: 1b027307a936ccbc52a7291729dae1c16f10576a
  Platform:
    osname=linux, osvers=4.3.0-1-amd64, archname=x86_64-linux
    uname='linux k83 4.3.0-1-amd64 #1 smp debian 4.3.3-7 (2016-01-19) x86_64 gnulinux '
    config_args='-Dprefix=/home/sand/src/perl/repoperls/installed-perls/perl/v5.22.2-RC1/79cc -Dmyhostname=k83 -Dinstallusrbinperl=n -Uversiononly -Dusedevel -des -Ui_db -Dlibswanted=cl pthread socket inet nsl gdbm dbm malloc dl ld sun m crypt sec util c cposix posix ucb BSD gdbm_compat -Uuseithreads -Uuselongdouble -DDEBUGGING=-g'
    hint=recommended, useposix=true, d_sigaction=define
    useithreads=undef, usemultiplicity=undef
    use64bitint=define, use64bitall=define, uselongdouble=undef
    usemymalloc=n, bincompat5005=undef
  Compiler:
    cc='cc', ccflags ='-fwrapv -fno-strict-aliasing -pipe -fstack-protector-strong -I/usr/local/include -D_LARGEFILE_SOURCE -D_FILE_OFFSET_BITS=64 -D_FORTIFY_SOURCE=2',
    optimize='-O2 -g',
    cppflags='-fwrapv -fno-strict-aliasing -pipe -fstack-protector-strong -I/usr/local/include'
    ccversion='', gccversion='5.3.1 20160121', gccosandvers=''
    intsize=4, longsize=8, ptrsize=8, doublesize=8, byteorder=12345678, doublekind=3
    d_longlong=define, longlongsize=8, d_longdbl=define, longdblsize=16, longdblkind=3
    ivtype='long', ivsize=8, nvtype='double', nvsize=8, Off_t='off_t', lseeksize=8
    alignbytes=8, prototype=define
  Linker and Libraries:
    ld='cc', ldflags =' -fstack-protector-strong -L/usr/local/lib'
    libpth=/usr/local/lib /usr/lib/gcc/x86_64-linux-gnu/5/include-fixed /usr/include/x86_64-linux-gnu /usr/lib /lib/x86_64-linux-gnu /lib/../lib /usr/lib/x86_64-linux-gnu /usr/lib/../lib /lib
    libs=-lpthread -lnsl -lgdbm -ldl -lm -lcrypt -lutil -lc -lgdbm_compat
    perllibs=-lpthread -lnsl -ldl -lm -lcrypt -lutil -lc
    libc=libc-2.21.so, so=so, useshrplib=false, libperl=libperl.a
    gnulibc_version='2.21'
  Dynamic Linking:
    dlsrc=dl_dlopen.xs, dlext=so, d_dlsymun=undef, ccdlflags='-Wl,-E'
    cccdlflags='-fPIC', lddlflags='-shared -O2 -g -L/usr/local/lib -fstack-protector-strong'


Characteristics of this binary (from libperl): 
  Compile-time options: HAS_TIMES PERLIO_LAYERS PERL_DONT_CREATE_GVSV
                        PERL_HASH_FUNC_ONE_AT_A_TIME_HARD PERL_MALLOC_WRAP
                        PERL_NEW_COPY_ON_WRITE PERL_PRESERVE_IVUV
                        PERL_USE_DEVEL USE_64_BIT_ALL USE_64_BIT_INT
                        USE_LARGE_FILES USE_LOCALE USE_LOCALE_COLLATE
                        USE_LOCALE_CTYPE USE_LOCALE_NUMERIC USE_LOCALE_TIME
                        USE_PERLIO USE_PERL_ATOF
  Locally applied patches:
	RC1
  Built under linux
  Compiled at Apr 10 2016 20:21:20
  %ENV:
    PERL="/tmp/basesmoker-reloperl-Ppis/bin/perl"
    PERL5LIB=""
    PERL5OPT=""
    PERL5_CPANPLUS_IS_RUNNING="7579"
    PERL5_CPAN_IS_RUNNING="7579"
    PERL_CANARY_STABILITY_NOPROMPT="1"
    PERL_MM_USE_DEFAULT="1"
  @INC:
    /home/sand/src/perl/repoperls/installed-perls/perl/v5.22.2-RC1/79cc/lib/site_perl/5.22.2/x86_64-linux
    /home/sand/src/perl/repoperls/installed-perls/perl/v5.22.2-RC1/79cc/lib/site_perl/5.22.2
    /home/sand/src/perl/repoperls/installed-perls/perl/v5.22.2-RC1/79cc/lib/5.22.2/x86_64-linux
    /home/sand/src/perl/repoperls/installed-perls/perl/v5.22.2-RC1/79cc/lib/5.22.2
    .