App-ipchgmon v1.0.7 Perl 5 v5.22.0 amd64-freebsd

Status
Pass
From
Slaven Rezić
Dist
App-ipchgmon v1.0.7
Platform
Perl 5 v5.22.0 amd64-freebsd
Date
2022-11-01 16:46:13
ID
b25e3b84-5a04-11ed-9502-a8ff6d8775ea
This distribution has been tested as part of the CPAN Testers
project, supporting the Perl programming language.  See
http://wiki.cpantesters.org/ for more information or email
questions to cpan-testers-discuss@perl.org


--
Dear John Davies,

This is a computer-generated report for App-ipchgmon-1.0.7
on perl 5.22.0, created by CPAN-Reporter-1.2018.

Thank you for uploading your work to CPAN.  Congratulations!
All tests were successful.

Sections of this report:

    * Tester comments
    * Program output
    * Prerequisites
    * Environment and other context

------------------------------
TESTER COMMENTS
------------------------------

Additional comments from tester:

none provided

------------------------------
PROGRAM OUTPUT
------------------------------

Output from '/usr/bin/make test':

PERL_DL_NONLAZY=1 "/usr/perl5.22.0p/bin/perl" "-MExtUtils::Command::MM" "-MTest::Harness" "-e" "undef *Test::Harness::Switches; test_harness(0, 'blib/lib', 'blib/arch')" t/*.t
Couldn't require Email::Abstract::Courriel : Specification contains unknown keys: [isa] at /usr/perl5.22.0p/lib/site_perl/5.22.0/Courriel/Header.pm line 34.
Compilation failed in require at /usr/perl5.22.0p/lib/site_perl/5.22.0/Courriel/Headers.pm line 9.
BEGIN failed--compilation aborted at /usr/perl5.22.0p/lib/site_perl/5.22.0/Courriel/Headers.pm line 9.
Compilation failed in require at /usr/perl5.22.0p/lib/site_perl/5.22.0/Courriel.pm line 11.
BEGIN failed--compilation aborted at /usr/perl5.22.0p/lib/site_perl/5.22.0/Courriel.pm line 11.
Compilation failed in require at /usr/perl5.22.0p/lib/site_perl/5.22.0/Email/Abstract/Courriel.pm line 8.
BEGIN failed--compilation aborted at /usr/perl5.22.0p/lib/site_perl/5.22.0/Email/Abstract/Courriel.pm line 8.
Compilation failed in require at /usr/perl5.22.0p/lib/site_perl/5.22.0/Module/Runtime.pm line 314.
 at /usr/perl5.22.0p/lib/site_perl/5.22.0/Module/Pluggable.pm line 32.
t/00-modulino.t ........... ok
t/10-options.t ............ ok
t/20-file.t ............... ok
Couldn't require Email::Abstract::Courriel : Specification contains unknown keys: [isa] at /usr/perl5.22.0p/lib/site_perl/5.22.0/Courriel/Header.pm line 34.
Compilation failed in require at /usr/perl5.22.0p/lib/site_perl/5.22.0/Courriel/Headers.pm line 9.
BEGIN failed--compilation aborted at /usr/perl5.22.0p/lib/site_perl/5.22.0/Courriel/Headers.pm line 9.
Compilation failed in require at /usr/perl5.22.0p/lib/site_perl/5.22.0/Courriel.pm line 11.
BEGIN failed--compilation aborted at /usr/perl5.22.0p/lib/site_perl/5.22.0/Courriel.pm line 11.
Compilation failed in require at /usr/perl5.22.0p/lib/site_perl/5.22.0/Email/Abstract/Courriel.pm line 8.
BEGIN failed--compilation aborted at /usr/perl5.22.0p/lib/site_perl/5.22.0/Email/Abstract/Courriel.pm line 8.
Compilation failed in require at /usr/perl5.22.0p/lib/site_perl/5.22.0/Module/Runtime.pm line 314.
 at /usr/perl5.22.0p/lib/site_perl/5.22.0/Module/Pluggable.pm line 32.
t/22-new-ip.t ............. ok
Couldn't require Email::Abstract::Courriel : Specification contains unknown keys: [isa] at /usr/perl5.22.0p/lib/site_perl/5.22.0/Courriel/Header.pm line 34.
Compilation failed in require at /usr/perl5.22.0p/lib/site_perl/5.22.0/Courriel/Headers.pm line 9.
BEGIN failed--compilation aborted at /usr/perl5.22.0p/lib/site_perl/5.22.0/Courriel/Headers.pm line 9.
Compilation failed in require at /usr/perl5.22.0p/lib/site_perl/5.22.0/Courriel.pm line 11.
BEGIN failed--compilation aborted at /usr/perl5.22.0p/lib/site_perl/5.22.0/Courriel.pm line 11.
Compilation failed in require at /usr/perl5.22.0p/lib/site_perl/5.22.0/Email/Abstract/Courriel.pm line 8.
BEGIN failed--compilation aborted at /usr/perl5.22.0p/lib/site_perl/5.22.0/Email/Abstract/Courriel.pm line 8.
Compilation failed in require at /usr/perl5.22.0p/lib/site_perl/5.22.0/Module/Runtime.pm line 314.
 at /usr/perl5.22.0p/lib/site_perl/5.22.0/Module/Pluggable.pm line 32.
t/24-read-file.t .......... ok
Couldn't require Email::Abstract::Courriel : Specification contains unknown keys: [isa] at /usr/perl5.22.0p/lib/site_perl/5.22.0/Courriel/Header.pm line 34.
Compilation failed in require at /usr/perl5.22.0p/lib/site_perl/5.22.0/Courriel/Headers.pm line 9.
BEGIN failed--compilation aborted at /usr/perl5.22.0p/lib/site_perl/5.22.0/Courriel/Headers.pm line 9.
Compilation failed in require at /usr/perl5.22.0p/lib/site_perl/5.22.0/Courriel.pm line 11.
BEGIN failed--compilation aborted at /usr/perl5.22.0p/lib/site_perl/5.22.0/Courriel.pm line 11.
Compilation failed in require at /usr/perl5.22.0p/lib/site_perl/5.22.0/Email/Abstract/Courriel.pm line 8.
BEGIN failed--compilation aborted at /usr/perl5.22.0p/lib/site_perl/5.22.0/Email/Abstract/Courriel.pm line 8.
Compilation failed in require at /usr/perl5.22.0p/lib/site_perl/5.22.0/Module/Runtime.pm line 314.
 at /usr/perl5.22.0p/lib/site_perl/5.22.0/Module/Pluggable.pm line 32.
t/26-check-changes.t ...... ok
Couldn't require Email::Abstract::Courriel : Specification contains unknown keys: [isa] at /usr/perl5.22.0p/lib/site_perl/5.22.0/Courriel/Header.pm line 34.
Compilation failed in require at /usr/perl5.22.0p/lib/site_perl/5.22.0/Courriel/Headers.pm line 9.
BEGIN failed--compilation aborted at /usr/perl5.22.0p/lib/site_perl/5.22.0/Courriel/Headers.pm line 9.
Compilation failed in require at /usr/perl5.22.0p/lib/site_perl/5.22.0/Courriel.pm line 11.
BEGIN failed--compilation aborted at /usr/perl5.22.0p/lib/site_perl/5.22.0/Courriel.pm line 11.
Compilation failed in require at /usr/perl5.22.0p/lib/site_perl/5.22.0/Email/Abstract/Courriel.pm line 8.
BEGIN failed--compilation aborted at /usr/perl5.22.0p/lib/site_perl/5.22.0/Email/Abstract/Courriel.pm line 8.
Compilation failed in require at /usr/perl5.22.0p/lib/site_perl/5.22.0/Module/Runtime.pm line 314.
 at /usr/perl5.22.0p/lib/site_perl/5.22.0/Module/Pluggable.pm line 32.
t/28-nslookup.t ........... ok
Couldn't require Email::Abstract::Courriel : Specification contains unknown keys: [isa] at /usr/perl5.22.0p/lib/site_perl/5.22.0/Courriel/Header.pm line 34.
Compilation failed in require at /usr/perl5.22.0p/lib/site_perl/5.22.0/Courriel/Headers.pm line 9.
BEGIN failed--compilation aborted at /usr/perl5.22.0p/lib/site_perl/5.22.0/Courriel/Headers.pm line 9.
Compilation failed in require at /usr/perl5.22.0p/lib/site_perl/5.22.0/Courriel.pm line 11.
BEGIN failed--compilation aborted at /usr/perl5.22.0p/lib/site_perl/5.22.0/Courriel.pm line 11.
Compilation failed in require at /usr/perl5.22.0p/lib/site_perl/5.22.0/Email/Abstract/Courriel.pm line 8.
BEGIN failed--compilation aborted at /usr/perl5.22.0p/lib/site_perl/5.22.0/Email/Abstract/Courriel.pm line 8.
Compilation failed in require at /usr/perl5.22.0p/lib/site_perl/5.22.0/Module/Runtime.pm line 314.
 at /usr/perl5.22.0p/lib/site_perl/5.22.0/Module/Pluggable.pm line 32.
t/30-last.t ............... ok
Couldn't require Email::Abstract::Courriel : Specification contains unknown keys: [isa] at /usr/perl5.22.0p/lib/site_perl/5.22.0/Courriel/Header.pm line 34.
Compilation failed in require at /usr/perl5.22.0p/lib/site_perl/5.22.0/Courriel/Headers.pm line 9.
BEGIN failed--compilation aborted at /usr/perl5.22.0p/lib/site_perl/5.22.0/Courriel/Headers.pm line 9.
Compilation failed in require at /usr/perl5.22.0p/lib/site_perl/5.22.0/Courriel.pm line 11.
BEGIN failed--compilation aborted at /usr/perl5.22.0p/lib/site_perl/5.22.0/Courriel.pm line 11.
Compilation failed in require at /usr/perl5.22.0p/lib/site_perl/5.22.0/Email/Abstract/Courriel.pm line 8.
BEGIN failed--compilation aborted at /usr/perl5.22.0p/lib/site_perl/5.22.0/Email/Abstract/Courriel.pm line 8.
Compilation failed in require at /usr/perl5.22.0p/lib/site_perl/5.22.0/Module/Runtime.pm line 314.
 at /usr/perl5.22.0p/lib/site_perl/5.22.0/Module/Pluggable.pm line 32.
t/32-check-dns.t .......... ok
Couldn't require Email::Abstract::Courriel : Specification contains unknown keys: [isa] at /usr/perl5.22.0p/lib/site_perl/5.22.0/Courriel/Header.pm line 34.
Compilation failed in require at /usr/perl5.22.0p/lib/site_perl/5.22.0/Courriel/Headers.pm line 9.
BEGIN failed--compilation aborted at /usr/perl5.22.0p/lib/site_perl/5.22.0/Courriel/Headers.pm line 9.
Compilation failed in require at /usr/perl5.22.0p/lib/site_perl/5.22.0/Courriel.pm line 11.
BEGIN failed--compilation aborted at /usr/perl5.22.0p/lib/site_perl/5.22.0/Courriel.pm line 11.
Compilation failed in require at /usr/perl5.22.0p/lib/site_perl/5.22.0/Email/Abstract/Courriel.pm line 8.
BEGIN failed--compilation aborted at /usr/perl5.22.0p/lib/site_perl/5.22.0/Email/Abstract/Courriel.pm line 8.
Compilation failed in require at /usr/perl5.22.0p/lib/site_perl/5.22.0/Module/Runtime.pm line 314.
 at /usr/perl5.22.0p/lib/site_perl/5.22.0/Module/Pluggable.pm line 32.
t/34-single-ip-version.t .. ok
Couldn't require Email::Abstract::Courriel : Specification contains unknown keys: [isa] at /usr/perl5.22.0p/lib/site_perl/5.22.0/Courriel/Header.pm line 34.
Compilation failed in require at /usr/perl5.22.0p/lib/site_perl/5.22.0/Courriel/Headers.pm line 9.
BEGIN failed--compilation aborted at /usr/perl5.22.0p/lib/site_perl/5.22.0/Courriel/Headers.pm line 9.
Compilation failed in require at /usr/perl5.22.0p/lib/site_perl/5.22.0/Courriel.pm line 11.
BEGIN failed--compilation aborted at /usr/perl5.22.0p/lib/site_perl/5.22.0/Courriel.pm line 11.
Compilation failed in require at /usr/perl5.22.0p/lib/site_perl/5.22.0/Email/Abstract/Courriel.pm line 8.
BEGIN failed--compilation aborted at /usr/perl5.22.0p/lib/site_perl/5.22.0/Email/Abstract/Courriel.pm line 8.
Compilation failed in require at /usr/perl5.22.0p/lib/site_perl/5.22.0/Module/Runtime.pm line 314.
 at /usr/perl5.22.0p/lib/site_perl/5.22.0/Module/Pluggable.pm line 32.
No IPv6 address. You may need to run with the --4 option. at t/50-ip-via-web.t line 21.
t/50-ip-via-web.t ......... ok
Couldn't require Email::Abstract::Courriel : Specification contains unknown keys: [isa] at /usr/perl5.22.0p/lib/site_perl/5.22.0/Courriel/Header.pm line 34.
Compilation failed in require at /usr/perl5.22.0p/lib/site_perl/5.22.0/Courriel/Headers.pm line 9.
BEGIN failed--compilation aborted at /usr/perl5.22.0p/lib/site_perl/5.22.0/Courriel/Headers.pm line 9.
Compilation failed in require at /usr/perl5.22.0p/lib/site_perl/5.22.0/Courriel.pm line 11.
BEGIN failed--compilation aborted at /usr/perl5.22.0p/lib/site_perl/5.22.0/Courriel.pm line 11.
Compilation failed in require at /usr/perl5.22.0p/lib/site_perl/5.22.0/Email/Abstract/Courriel.pm line 8.
BEGIN failed--compilation aborted at /usr/perl5.22.0p/lib/site_perl/5.22.0/Email/Abstract/Courriel.pm line 8.
Compilation failed in require at /usr/perl5.22.0p/lib/site_perl/5.22.0/Module/Runtime.pm line 314.
 at /usr/perl5.22.0p/lib/site_perl/5.22.0/Module/Pluggable.pm line 32.
t/51-ip-validation.t ...... ok
t/60-email-address.t ...... ok
Couldn't require Email::Abstract::Courriel : Specification contains unknown keys: [isa] at /usr/perl5.22.0p/lib/site_perl/5.22.0/Courriel/Header.pm line 34.
Compilation failed in require at /usr/perl5.22.0p/lib/site_perl/5.22.0/Courriel/Headers.pm line 9.
BEGIN failed--compilation aborted at /usr/perl5.22.0p/lib/site_perl/5.22.0/Courriel/Headers.pm line 9.
Compilation failed in require at /usr/perl5.22.0p/lib/site_perl/5.22.0/Courriel.pm line 11.
BEGIN failed--compilation aborted at /usr/perl5.22.0p/lib/site_perl/5.22.0/Courriel.pm line 11.
Compilation failed in require at /usr/perl5.22.0p/lib/site_perl/5.22.0/Email/Abstract/Courriel.pm line 8.
BEGIN failed--compilation aborted at /usr/perl5.22.0p/lib/site_perl/5.22.0/Email/Abstract/Courriel.pm line 8.
Compilation failed in require at /usr/perl5.22.0p/lib/site_perl/5.22.0/Module/Runtime.pm line 314.
 at /usr/perl5.22.0p/lib/site_perl/5.22.0/Module/Pluggable.pm line 32.
t/62-email-delivery.t ..... ok
Couldn't require Email::Abstract::Courriel : Specification contains unknown keys: [isa] at /usr/perl5.22.0p/lib/site_perl/5.22.0/Courriel/Header.pm line 34.
Compilation failed in require at /usr/perl5.22.0p/lib/site_perl/5.22.0/Courriel/Headers.pm line 9.
BEGIN failed--compilation aborted at /usr/perl5.22.0p/lib/site_perl/5.22.0/Courriel/Headers.pm line 9.
Compilation failed in require at /usr/perl5.22.0p/lib/site_perl/5.22.0/Courriel.pm line 11.
BEGIN failed--compilation aborted at /usr/perl5.22.0p/lib/site_perl/5.22.0/Courriel.pm line 11.
Compilation failed in require at /usr/perl5.22.0p/lib/site_perl/5.22.0/Email/Abstract/Courriel.pm line 8.
BEGIN failed--compilation aborted at /usr/perl5.22.0p/lib/site_perl/5.22.0/Email/Abstract/Courriel.pm line 8.
Compilation failed in require at /usr/perl5.22.0p/lib/site_perl/5.22.0/Module/Runtime.pm line 314.
 at /usr/perl5.22.0p/lib/site_perl/5.22.0/Module/Pluggable.pm line 32.
t/63-email-transport.t .... ok
All tests successful.
Files=15, Tests=122, 75 wallclock secs ( 0.04 usr  0.11 sys + 19.35 cusr 15.56 csys = 35.06 CPU)
Result: PASS

------------------------------
PREREQUISITES
------------------------------

Prerequisite modules loaded:

requires:

    Module                         Need Have      
    ------------------------------ ---- ----------
    Data::Dumper                   0    2.183     
    Data::Validate::Email          0    0.06      
    Data::Validate::IP             0    0.27      
    DateTime                       0    1.59      
    DateTime::Format::Strptime     0    1.79      
    Email::Sender::Transport::SMTP 0    2.500     
    Email::Stuffer                 0    0.018     
    feature                        0    1.40      
    File::Find                     0    1.29      
    FindBin                        0    1.52      
    Getopt::Long                   0    2.52      
    LWP::Online                    0    1.08      
    LWP::UserAgent                 0    6.67      
    Pod::Usage                     0    2.03      
    Socket                         0    2.032     
    strict                         0    1.09      
    Text::CSV                      0    2.02      
    warnings                       0    1.32      

build_requires:

    Module                         Need Have      
    ------------------------------ ---- ----------
    ExtUtils::MakeMaker            0    7.64      
    lib                            0    0.63      
    Regexp::Common                 0    2017060201
    Test::Exception                0    0.43      
    Test::File                     0    1.992     
    Test::MockModule               0    0.176.0   
    Test::More                     0    1.302191  

configure_requires:

    Module                         Need Have      
    ------------------------------ ---- ----------
    ExtUtils::MakeMaker            0    7.64      


------------------------------
ENVIRONMENT AND OTHER CONTEXT
------------------------------

Environment variables:

    LC_ALL = de_DE.ISO8859-1
    PATH = /usr/local/bin:/usr/bin:/bin:/usr/local/sbin:/usr/sbin:/sbin:/home/cpansand/bin/freebsd10.3:/home/cpansand/bin/sh:/home/cpansand/bin:/usr/games:/home/cpansand/devel:/home/eserte/src/srezic-misc/scripts
    PERL5LIB = 
    PERL5OPT = 
    PERL5_CPANPLUS_IS_RUNNING = 1625
    PERL5_CPAN_IS_RUNNING = 1625
    PERL5_CPAN_IS_RUNNING_IN_RECURSION = 78318,1625
    PERLDOC = -MPod::Perldoc::ToTextOverstrike
    PERL_BATCH = yes
    PERL_CANARY_STABILITY_NOPROMPT = 1
    PERL_CPAN_REPORTER_CONFIG = /var/tmp/cpansmoker-1023/2022110116/cpanreporter_000_config.ini
    PERL_EXTUTILS_AUTOINSTALL = --defaultdeps
    PERL_USE_UNSAFE_INC = 1
    SHELL = /usr/local/bin/zsh
    TERM = screen
    TMPDIR = /var/tmp/cpansmoker-1023/2022110116

Perl special variables (and OS-specific diagnostics, for MSWin32):

    $^X = /usr/perl5.22.0p/bin/perl
    $UID/$EUID = 1023 / 1023
    $GID = 1023 1023
    $EGID = 1023 1023

Perl module toolchain versions installed:

    Module              Have    
    ------------------- --------
    CPAN                2.34    
    CPAN::Meta          2.150010
    Cwd                 3.75    
    ExtUtils::CBuilder  0.280235
    ExtUtils::Command   7.64    
    ExtUtils::Install   2.20    
    ExtUtils::MakeMaker 7.64    
    ExtUtils::Manifest  1.70    
    ExtUtils::ParseXS   3.35    
    File::Spec          3.75    
    JSON                4.09    
    JSON::PP            4.12    
    Module::Build       0.4229  
    Module::Signature   0.87    
    Parse::CPAN::Meta   2.150010
    Test::Harness       3.44    
    Test::More          1.302191
    YAML                1.30    
    YAML::Syck          1.34    
    version             0.9929  


--

Summary of my perl5 (revision 5 version 22 subversion 0) configuration:
   
  Platform:
    osname=freebsd, osvers=10.1-release, archname=amd64-freebsd
    uname='freebsd cvrsnica-freebsd-101.herceg.de 10.1-release freebsd 10.1-release #0 r274401: tue nov 11 21:02:49 utc 2014 root@releng1.nyi.freebsd.org:usrobjusrsrcsysgeneric amd64 '
    config_args='-ds -e -Dprefix=/usr/perl5.22.0p -Dcf_email=srezic@cpan.org'
    hint=recommended, useposix=true, d_sigaction=define
    useithreads=undef, usemultiplicity=undef
    use64bitint=define, use64bitall=define, uselongdouble=undef
    usemymalloc=n, bincompat5005=undef
  Compiler:
    cc='cc', ccflags ='-DHAS_FPSETMASK -DHAS_FLOATINGPOINT_H -fno-strict-aliasing -pipe -fstack-protector -I/usr/local/include -D_FORTIFY_SOURCE=2',
    optimize='-O',
    cppflags='-DHAS_FPSETMASK -DHAS_FLOATINGPOINT_H -fno-strict-aliasing -pipe -fstack-protector -I/usr/local/include'
    ccversion='', gccversion='4.2.1 Compatible FreeBSD Clang 3.4.1 (tags/RELEASE_34/dot1-final 208032)', gccosandvers=''
    intsize=4, longsize=8, ptrsize=8, doublesize=8, byteorder=12345678, doublekind=3
    d_longlong=define, longlongsize=8, d_longdbl=define, longdblsize=16, longdblkind=3
    ivtype='long', ivsize=8, nvtype='double', nvsize=8, Off_t='off_t', lseeksize=8
    alignbytes=8, prototype=define
  Linker and Libraries:
    ld='cc', ldflags ='-pthread -Wl,-E  -fstack-protector -L/usr/local/lib'
    libpth=/usr/lib /usr/local/lib /usr/include/clang/3.4.1 /usr/lib
    libs=-lpthread -lgdbm -lm -lcrypt -lutil -lc
    perllibs=-lpthread -lm -lcrypt -lutil -lc
    libc=, so=so, useshrplib=false, libperl=libperl.a
    gnulibc_version=''
  Dynamic Linking:
    dlsrc=dl_dlopen.xs, dlext=so, d_dlsymun=undef, ccdlflags=' '
    cccdlflags='-DPIC -fPIC', lddlflags='-shared  -L/usr/local/lib -fstack-protector'


Characteristics of this binary (from libperl): 
  Compile-time options: HAS_TIMES PERLIO_LAYERS PERL_DONT_CREATE_GVSV
                        PERL_HASH_FUNC_ONE_AT_A_TIME_HARD PERL_MALLOC_WRAP
                        PERL_NEW_COPY_ON_WRITE PERL_PRESERVE_IVUV
                        USE_64_BIT_ALL USE_64_BIT_INT USE_LARGE_FILES
                        USE_LOCALE USE_LOCALE_COLLATE USE_LOCALE_CTYPE
                        USE_LOCALE_NUMERIC USE_LOCALE_TIME USE_PERLIO
                        USE_PERL_ATOF
  Built under freebsd
  Compiled at Jun  1 2015 20:19:01
  %ENV:
    PERL5LIB=""
    PERL5OPT=""
    PERL5_CPANPLUS_IS_RUNNING="1625"
    PERL5_CPAN_IS_RUNNING="1625"
    PERL5_CPAN_IS_RUNNING_IN_RECURSION="78318,1625"
    PERLDOC="-MPod::Perldoc::ToTextOverstrike"
    PERL_BATCH="yes"
    PERL_CANARY_STABILITY_NOPROMPT="1"
    PERL_CPAN_REPORTER_CONFIG="/var/tmp/cpansmoker-1023/2022110116/cpanreporter_000_config.ini"
    PERL_EXTUTILS_AUTOINSTALL="--defaultdeps"
    PERL_USE_UNSAFE_INC="1"
  @INC:
    /usr/perl5.22.0p/lib/site_perl/5.22.0/amd64-freebsd
    /usr/perl5.22.0p/lib/site_perl/5.22.0
    /usr/perl5.22.0p/lib/5.22.0/amd64-freebsd
    /usr/perl5.22.0p/lib/5.22.0
    .