Back
From: metabase:user:6bef3b2c-d81f-11df-b48f-1f30c15cd99a
Subject: PASS Catalyst-Devel-1.33 v5.12.2 Mac OS X
Date: 2011-05-12T06:40:15Z
This distribution has been tested as part of the CPAN Testers
project, supporting the Perl programming language. See
http://wiki.cpantesters.org/ for more information or email
questions to cpan-testers-discuss@perl.org
--
Dear Florian Ragwitz,
This is a computer-generated report for Catalyst-Devel-1.33
on perl 5.12.2, created by CPAN-Reporter-1.1902.
Thank you for uploading your work to CPAN. Congratulations!
All tests were successful.
Sections of this report:
* Tester comments
* Program output
* Prerequisites
* Environment and other context
------------------------------
TESTER COMMENTS
------------------------------
Additional comments from tester:
none provided
------------------------------
PROGRAM OUTPUT
------------------------------
Output from '/usr/bin/make test':
PERL_DL_NONLAZY=1 /Users/greeneg/Lang/Perl/bin/perl "-MExtUtils::Command::MM" "-e" "test_harness(0, 'inc', 'blib/lib', 'blib/arch')" t/01use.t t/back_compat.t t/generated_app.t t/get_sharedir_file.t t/optional_http-server-restart.t t/render_file_contents.t t/render_share_dir_file.t
t/01use.t ......................... ok
t/back_compat.t ................... ok
# Generated app is in /var/folders/7W/7WuDcRsIEmOP12PZY2D+F+++-+6/-Tmp-/mhORx64xze
# Installed app is in /var/folders/7W/7WuDcRsIEmOP12PZY2D+F+++-+6/-Tmp-/4vRrH2ro2Y
t/generated_app.t ................. ok
t/get_sharedir_file.t ............. ok
t/optional_http-server-restart.t .. skipped: set TEST_HTTP to enable this test
t/render_file_contents.t .......... ok
t/render_share_dir_file.t ......... ok
All tests successful.
Files=7, Tests=89, 11 wallclock secs ( 0.04 usr 0.02 sys + 8.82 cusr 1.55 csys = 10.43 CPU)
Result: PASS
------------------------------
PREREQUISITES
------------------------------
Prerequisite modules loaded:
requires:
Module Need Have
-------------------------------------- ------- -------
Catalyst 5.80015 5.80032
Catalyst::Action::RenderView 0.10 0.16
Catalyst::Plugin::ConfigLoader 0.30 0.30
Catalyst::Plugin::Static::Simple 0.28 0.29
Config::General 2.42 2.50
ExtUtils::MakeMaker 6.42 6.56
File::ChangeNotify 0.07 0.20
File::Copy::Recursive 0 0.38
File::ShareDir 0 1.03
Module::Install 0.91 1.01
Moose 0 2.0002
MooseX::Emulate::Class::Accessor::Fast 0 0.00903
namespace::autoclean 0 0.12
namespace::clean 0 0.20
Path::Class 0.09 0.23
Template 2.14 2.22
Test::Fatal 0.003 0.005
Test::More 0.94 0.98
configure_requires:
Module Need Have
-------------------------------------- ------- -------
ExtUtils::MakeMaker 6.42 6.56
------------------------------
ENVIRONMENT AND OTHER CONTEXT
------------------------------
Environment variables:
LANG = en_US.UTF-8
LC_ALL = en_US.UTF-8
LC_CTYPE = C
MOD_PERL_API_VERSION = 2
PATH = /Users/greeneg/Lang/Perl/bin:/Users/greeneg/Lang/Python25/bin:/Users/greeneg/Lang/Perl/sbin:/Users/greeneg/Lang/Python25/sbin:/Users/greeneg/Lang/Perl/bin:/opt/local/bin:/opt/local/sbin:/usr/bin:/bin:/usr/sbin:/sbin:/usr/local/bin:/opt/X11/bin:/usr/X11/bin
PERL5LIB =
PERL5OPT =
PERL5_CPANPLUS_IS_RUNNING = 31341
PERL5_CPAN_IS_RUNNING = 31341
SHELL = /bin/zsh
TERM = xterm-color
TMPDIR = /var/folders/7W/7WuDcRsIEmOP12PZY2D+F+++-+6/-Tmp-/
Perl special variables (and OS-specific diagnostics, for MSWin32):
$^X = /Users/greeneg/Lang/Perl/bin/perl
$UID/$EUID = 1026 / 1026
$GID = 20 20 404 407 204 100 98 81 80 79 62 12 402 406 401 405 403
$EGID = 20 20 404 407 204 100 98 81 80 79 62 12 402 406 401 405 403
Perl module toolchain versions installed:
Module Have
------------------- --------
CPAN 1.94_56
Cwd 3.33
ExtUtils::CBuilder 0.280202
ExtUtils::Command 1.17
ExtUtils::Install 1.55
ExtUtils::MakeMaker 6.56
ExtUtils::Manifest 1.58
ExtUtils::ParseXS 2.2206
File::Spec 3.33
Module::Build 0.3800
Module::Signature 0.67
Test::Harness 3.23
Test::More 0.98
YAML 0.73
YAML::Syck 1.17
version 0.88
--
Summary of my perl5 (revision 5 version 12 subversion 2) configuration:
Platform:
osname=darwin, osvers=10.4.0, archname=darwin-thread-multi-ld-2level
uname='darwin skuld.tolharadys.net 10.4.0 darwin kernel version 10.4.0: fri apr 23 18:28:53 pdt 2010; root:xnu-1504.7.4~1release_i386 i386 '
config_args=''
hint=recommended, useposix=true, d_sigaction=define
useithreads=define, usemultiplicity=define
useperlio=define, d_sfio=undef, uselargefiles=define, usesocks=undef
use64bitint=define, use64bitall=define, uselongdouble=define
usemymalloc=n, bincompat5005=undef
Compiler:
cc='cc', ccflags ='-fno-common -DPERL_DARWIN -no-cpp-precomp -fno-strict-aliasing -pipe -fstack-protector -I/opt/local/include',
optimize='-O3',
cppflags='-no-cpp-precomp -fno-common -DPERL_DARWIN -no-cpp-precomp -fno-strict-aliasing -pipe -fstack-protector -I/opt/local/include'
ccversion='', gccversion='4.2.1 (Apple Inc. build 5664)', gccosandvers=''
intsize=4, longsize=8, ptrsize=8, doublesize=8, byteorder=12345678
d_longlong=define, longlongsize=8, d_longdbl=define, longdblsize=16
ivtype='long', ivsize=8, nvtype='long double', nvsize=16, Off_t='off_t', lseeksize=8
alignbytes=8, prototype=define
Linker and Libraries:
ld='env MACOSX_DEPLOYMENT_TARGET=10.3 cc', ldflags =' -fstack-protector -L/opt/local/lib'
libpth=/opt/local/lib /usr/lib
libs=-lgdbm -ldbm -ldl -lm -lutil -lc
perllibs=-ldl -lm -lutil -lc
libc=/usr/lib/libc.dylib, so=dylib, useshrplib=true, libperl=libperl.dylib
gnulibc_version=''
Dynamic Linking:
dlsrc=dl_dlopen.xs, dlext=bundle, d_dlsymun=undef, ccdlflags=' '
cccdlflags=' ', lddlflags=' -bundle -undefined dynamic_lookup -L/opt/local/lib -fstack-protector'
Characteristics of this binary (from libperl):
Compile-time options: MULTIPLICITY PERL_DONT_CREATE_GVSV
PERL_IMPLICIT_CONTEXT PERL_MALLOC_WRAP USE_64_BIT_ALL
USE_64_BIT_INT USE_ITHREADS USE_LARGE_FILES
USE_LONG_DOUBLE USE_PERLIO USE_PERL_ATOF
Built under darwin
Compiled at Oct 14 2010 20:50:24
%ENV:
PERL5LIB=""
PERL5OPT=""
PERL5_CPANPLUS_IS_RUNNING="31341"
PERL5_CPAN_IS_RUNNING="31341"
@INC:
/Users/greeneg/Lang/Perl/lib/perl5/site_perl/5.12.2/darwin-thread-multi-ld-2level
/Users/greeneg/Lang/Perl/lib/perl5/site_perl/5.12.2
/Users/greeneg/Lang/Perl/lib/perl5/5.12.2/darwin-thread-multi-ld-2level
/Users/greeneg/Lang/Perl/lib/perl5/5.12.2
/Users/greeneg/Lang/Perl/lib/perl5/site_perl/5.12.1/darwin-thread-multi-ld-2level
/Users/greeneg/Lang/Perl/lib/perl5/site_perl/5.12.1
/Users/greeneg/Lang/Perl/lib/perl5/site_perl
.