Report for Dist-Zilla-Config-Slicer-0.200

Back
From: metabase:user:31d414ea-2aae-11df-837a-5e0a49663a4f
Subject: PASS Dist-Zilla-Config-Slicer-0.200 v5.20.0 GNU/Linux
Date: 2014-06-11T10:39:41Z

This distribution has been tested as part of the CPAN Testers
project, supporting the Perl programming language.  See
http://wiki.cpantesters.org/ for more information or email
questions to cpan-testers-discuss@perl.org


--
Dear Randy Stauner,

This is a computer-generated report for Dist-Zilla-Config-Slicer-0.200
on perl 5.20.0, created by CPAN-Reporter-1.2011.

Thank you for uploading your work to CPAN.  Congratulations!
All tests were successful.

Sections of this report:

    * Tester comments
    * Program output
    * Prerequisites
    * Environment and other context

------------------------------
TESTER COMMENTS
------------------------------

Additional comments from tester:

this report is from an automated smoke testing program
and was not reviewed by a human for accuracy

------------------------------
PROGRAM OUTPUT
------------------------------

Output from '/usr/bin/make test':

PERL_DL_NONLAZY=1 /home/david/cpantesting/perl-5.20.0/bin/perl "-MExtUtils::Command::MM" "-MTest::Harness" "-e" "undef *Test::Harness::Switches; test_harness(0, 'blib/lib', 'blib/arch')" t/*.t
t/00-compile.t ................ ok
# 
# 
# perl: v5.20.0 (wanted 5.006) on linux from /home/david/cpantesting/perl-5.20.0/bin/perl
# 
# Config::MVP::Slicer                           => 0.302      (want any version)
# Dist::Zilla::PluginBundle::Filter             => 5.019      (want any version)
# Dist::Zilla::Role::PluginBundle               => 5.019      (want any version)
# Dist::Zilla::Role::PluginBundle::Easy         => 5.019      (want any version)
# Dist::Zilla::Util                             => 5.019      (want 4)      
# ExtUtils::MakeMaker                           => 6.98       (want 6.30)   
# File::Find                                    => 1.27       (want any version)
# File::Temp                                    => 0.2304     (want any version)
# Moose                                         => 2.1209     (want any version)
# Moose::Role                                   => 2.1209     (want any version)
# Test::More                                    => 1.001002   (want 0.96)   
# strict                                        => 1.08       (want any version)
# warnings                                      => 1.23       (want any version)
# 
# Thanks for using my code.  I hope it works for you.
# If not, please try and include this output in the bug report.
# That will help me reproduce the issue and solve you problem.
# 
t/000-report-versions-tiny.t .. ok
t/bundle-filter.t ............. ok
t/bundle-role.t ............... ok
t/slicer.t .................... ok
All tests successful.
Files=5, Tests=27,  5 wallclock secs ( 0.02 usr  0.02 sys +  1.87 cusr  0.26 csys =  2.17 CPU)
Result: PASS

------------------------------
PREREQUISITES
------------------------------

Prerequisite modules loaded:

requires:

    Module                                Need Have    
    ------------------------------------- ---- --------
    Config::MVP::Slicer                   0    0.302   
    Dist::Zilla::PluginBundle::Filter     0    5.019   
    Dist::Zilla::Util                     4    5.019   
    Moose                                 0    2.1209  
    Moose::Role                           0    2.1209  
    strict                                0    1.08    
    warnings                              0    1.23    

build_requires:

    Module                                Need Have    
    ------------------------------------- ---- --------
    Dist::Zilla::Role::PluginBundle       0    5.019   
    Dist::Zilla::Role::PluginBundle::Easy 0    5.019   
    File::Find                            0    1.27    
    File::Temp                            0    0.2304  
    Test::More                            0.96 1.001002

configure_requires:

    Module                                Need Have    
    ------------------------------------- ---- --------
    ExtUtils::MakeMaker                   6.30 6.98    


------------------------------
ENVIRONMENT AND OTHER CONTEXT
------------------------------

Environment variables:

    AUTOMATED_TESTING = 1
    NONINTERACTIVE_TESTING = 1
    PATH = /usr/local/bin:/usr/bin:/bin:/usr/games
    PERL = 5.20.0
    PERL5LIB = 
    PERL5OPT = 
    PERL5_CPANPLUS_IS_RUNNING = 1950
    PERL5_CPAN_IS_RUNNING = 1950
    PERLVER = 5.20.0
    PERL_INLINE_DIRECTORY = /home/david/.Inline-5.20.0
    PERL_MM_USE_DEFAULT = 1
    SHELL = /bin/bash
    TERM = screen

Perl special variables (and OS-specific diagnostics, for MSWin32):

    $^X = /home/david/cpantesting/perl-5.20.0/bin/perl
    $UID/$EUID = 1000 / 1000
    $GID = 1000 1000
    $EGID = 1000 1000

Perl module toolchain versions installed:

    Module              Have    
    ------------------- --------
    CPAN                2.05    
    CPAN::Meta          2.140640
    Cwd                 3.47    
    ExtUtils::CBuilder  0.280216
    ExtUtils::Command   1.18    
    ExtUtils::Install   1.67    
    ExtUtils::MakeMaker 6.98    
    ExtUtils::Manifest  1.63    
    ExtUtils::ParseXS   3.24    
    File::Spec          3.47    
    JSON                2.90    
    JSON::PP            2.27203 
    Module::Build       0.4205  
    Module::Signature   n/a     
    Parse::CPAN::Meta   1.4414  
    Test::Harness       3.30    
    Test::More          1.001002
    YAML                0.92    
    YAML::Syck          n/a     
    version             0.9908  


--

Summary of my perl5 (revision 5 version 20 subversion 0) configuration:
   
  Platform:
    osname=linux, osvers=3.2.0-4-amd64, archname=x86_64-linux-thread-multi
    uname='linux pigsty.barnyard.co.uk 3.2.0-4-amd64 #1 smp debian 3.2.35-2 x86_64 gnulinux '
    config_args='-de -Dprefix=/home/david/cpantesting/perl-5.20.0 -Dusethreads -Duse64bitall'
    hint=recommended, useposix=true, d_sigaction=define
    useithreads=define, usemultiplicity=define
    use64bitint=define, use64bitall=define, uselongdouble=undef
    usemymalloc=n, bincompat5005=undef
  Compiler:
    cc='cc', ccflags ='-D_REENTRANT -D_GNU_SOURCE -fno-strict-aliasing -pipe -fstack-protector -I/usr/local/include -D_LARGEFILE_SOURCE -D_FILE_OFFSET_BITS=64',
    optimize='-O2',
    cppflags='-D_REENTRANT -D_GNU_SOURCE -fno-strict-aliasing -pipe -fstack-protector -I/usr/local/include'
    ccversion='', gccversion='4.1.2 20061115 (prerelease) (Debian 4.1.1-21)', gccosandvers=''
    intsize=4, longsize=8, ptrsize=8, doublesize=8, byteorder=12345678
    d_longlong=define, longlongsize=8, d_longdbl=define, longdblsize=16
    ivtype='long', ivsize=8, nvtype='double', nvsize=8, Off_t='off_t', lseeksize=8
    alignbytes=8, prototype=define
  Linker and Libraries:
    ld='cc', ldflags =' -fstack-protector -L/usr/local/lib'
    libpth=/usr/local/lib /usr/lib /lib /lib64 /usr/lib64
    libs=-lnsl -lgdbm -ldb -ldl -lm -lcrypt -lutil -lpthread -lc -lgdbm_compat
    perllibs=-lnsl -ldl -lm -lcrypt -lutil -lpthread -lc
    libc=libc-2.3.6.so, so=so, useshrplib=false, libperl=libperl.a
    gnulibc_version='2.3.6'
  Dynamic Linking:
    dlsrc=dl_dlopen.xs, dlext=so, d_dlsymun=undef, ccdlflags='-Wl,-E'
    cccdlflags='-fPIC', lddlflags='-shared -O2 -L/usr/local/lib -fstack-protector'


Characteristics of this binary (from libperl): 
  Compile-time options: HAS_TIMES MULTIPLICITY PERLIO_LAYERS
                        PERL_DONT_CREATE_GVSV
                        PERL_HASH_FUNC_ONE_AT_A_TIME_HARD
                        PERL_IMPLICIT_CONTEXT PERL_MALLOC_WRAP
                        PERL_NEW_COPY_ON_WRITE PERL_PRESERVE_IVUV
                        USE_64_BIT_ALL USE_64_BIT_INT USE_ITHREADS
                        USE_LARGE_FILES USE_LOCALE USE_LOCALE_COLLATE
                        USE_LOCALE_CTYPE USE_LOCALE_NUMERIC USE_PERLIO
                        USE_PERL_ATOF USE_REENTRANT_API
  Built under linux
  Compiled at May 27 2014 16:06:22
  %ENV:
    PERL="5.20.0"
    PERL5LIB=""
    PERL5OPT=""
    PERL5_CPANPLUS_IS_RUNNING="1950"
    PERL5_CPAN_IS_RUNNING="1950"
    PERLVER="5.20.0"
    PERL_INLINE_DIRECTORY="/home/david/.Inline-5.20.0"
    PERL_MM_USE_DEFAULT="1"
  @INC:
    /home/david/cpantesting/perl-5.20.0/lib/site_perl/5.20.0/x86_64-linux-thread-multi
    /home/david/cpantesting/perl-5.20.0/lib/site_perl/5.20.0
    /home/david/cpantesting/perl-5.20.0/lib/5.20.0/x86_64-linux-thread-multi
    /home/david/cpantesting/perl-5.20.0/lib/5.20.0
    .