Net-DNS v1.50 Perl 5 v5.42.0 RC1 darwin-2level

Status
Pass
From
Dist
Net-DNS v1.50
Platform
Perl 5 v5.42.0 RC1 darwin-2level
Date
2025-06-25 02:25:43
ID
b2101a10-516b-11f0-b454-faca8759c0d5
This distribution has been tested as part of the CPAN Testers
project, supporting the Perl programming language.  See
http://wiki.cpantesters.org/ for more information or email
questions to cpan-testers-discuss@perl.org


--
Dear NLNETLABS,

This is a computer-generated report for Net-DNS-1.50
on perl 5.42.0, created by App::cpanminus::reporter 0.22 (1.7048).

Thank you for uploading your work to CPAN.  Congratulations!
All tests were successful.

Sections of this report:

    * Tester comments
    * Program output
    * Prerequisites
    * Environment and other context

------------------------------
TESTER COMMENTS
------------------------------

Additional comments from tester:

none provided

------------------------------
PROGRAM OUTPUT
------------------------------

Output from '':

Building and testing Net-DNS-1.50
PERL_DL_NONLAZY=1 HARNESS_OPTIONS=j1:c "/Volumes/chambord/Users/ether/perl5/perlbrew/perls/42.0-RC1/bin/perl" "-It" "-MExtUtils::Command::MM" "-MTest::Harness" "-e" "undef *Test::Harness::Switches; test_harness(0, 'blib/lib', 'blib/arch')" t/*.t
t/00-install.t ............. ok
# 
# These tests were run using:
# 	Net::DNS                   1.50
# 	Carp                       1.54
# 	Config                     5.042000
# 	Digest::BubbleBabble       0.02
# 	Digest::HMAC               1.05
# 	Digest::MD5                2.59
# 	Digest::SHA                6.04
# 	Encode                     3.21
# 	Exporter                   5.79
# 	ExtUtils::MakeMaker        7.76
# 	File::Find                 1.44
# 	File::Spec                 3.94
# 	Getopt::Long               2.58
# 	IO::File                   1.55
# 	IO::Select                 1.55
# 	IO::Socket                 1.55
# 	IO::Socket::IP             0.43
# 	MIME::Base64               3.16_01
# 	Net::LibIDN2               1.02
# 	PerlIO                     1.12
# 	Scalar::Util               1.6801
# 	Socket                     2.038
# 	Test::Builder              1.302210
# 	Test::More                 1.302210
# 	Time::Local                1.35
# 	base                       2.27
# 	constant                   1.33
# 	integer                    1.01
# 	overload                   1.40
# 	strict                     1.14
# 	warnings                   1.74
t/00-load.t ................ ok
t/00-pod.t ................. ok
t/01-resolver-config.t ..... ok
t/01-resolver-env.t ........ ok
t/01-resolver-file.t ....... ok
t/01-resolver-flags.t ...... ok
t/01-resolver-opt.t ........ ok
t/01-resolver.t ............ ok
t/02-domain.t .............. ok
t/02-domainname.t .......... ok
t/02-IDN.t ................. ok
t/02-mailbox.t ............. ok
t/02-text.t ................ ok
t/03-header.t .............. ok
t/03-parameters.t .......... ok
t/03-question.t ............ ok
t/03-rr.t .................. ok
t/04-packet-truncate.t ..... ok
t/04-packet.t .............. ok
t/05-A.t ................... ok
t/05-AAAA.t ................ ok
t/05-AFSDB.t ............... ok
t/05-AMTRELAY.t ............ ok
t/05-APL.t ................. ok
t/05-CAA.t ................. ok
t/05-CDNSKEY.t ............. ok
t/05-CDS.t ................. ok
t/05-CERT.t ................ ok
t/05-CNAME.t ............... ok
t/05-CSYNC.t ............... ok
t/05-DHCID.t ............... ok
t/05-DNAME.t ............... ok
t/05-DNSKEY.t .............. ok
t/05-DS.t .................. ok
t/05-DSYNC.t ............... ok
t/05-EUI48.t ............... ok
t/05-EUI64.t ............... ok
t/05-HINFO.t ............... ok
t/05-HIP.t ................. ok
t/05-HTTPS.t ............... ok
t/05-IPSECKEY.t ............ ok
t/05-ISDN.t ................ ok
t/05-KEY.t ................. ok
t/05-KX.t .................. ok
t/05-L32.t ................. ok
t/05-L64.t ................. ok
t/05-LOC.t ................. ok
t/05-LP.t .................. ok
t/05-MINFO.t ............... ok
t/05-MX.t .................. ok
t/05-NAPTR.t ............... ok
t/05-NID.t ................. ok
t/05-NS.t .................. ok
t/05-NSEC.t ................ ok
t/05-NSEC3.t ............... ok
t/05-NSEC3PARAM.t .......... ok
t/05-NULL.t ................ ok
t/05-OPENPGPKEY.t .......... ok
t/05-OPT.t ................. ok
t/05-PTR.t ................. ok
t/05-PX.t .................. ok
t/05-RP.t .................. ok
t/05-RRSIG.t ............... ok
t/05-RT.t .................. ok
t/05-SIG.t ................. ok
t/05-SMIMEA.t .............. ok
t/05-SOA.t ................. ok
t/05-SPF.t ................. ok
t/05-SRV.t ................. ok
t/05-SSHFP.t ............... ok
t/05-SVCB.t ................ ok
t/05-TKEY.t ................ ok
t/05-TLSA.t ................ ok
t/05-TSIG.t ................ ok
t/05-TXT.t ................. ok
t/05-URI.t ................. ok
t/05-X25.t ................. ok
t/05-ZONEMD.t .............. ok
t/06-update-unique-push.t .. ok
t/06-update.t .............. ok
t/07-rrsort.t .............. ok
t/07-zonefile.t ............ ok
t/08-IPv4.t ................ skipped: Non-authoritative response from 192.5.5.241
t/08-IPv6.t ................ skipped: Cannot reach global root: No route to host at t/08-IPv6.t line 50.
t/08-recurse.t ............. skipped: Non-authoritative response from 192.33.4.12
t/21-NSEC-typelist.t ....... ok
t/22-NSEC-match.t .......... ok
t/23-NSEC-covered.t ........ ok
t/24-NSEC-encloser.t ....... ok
t/31-NSEC3-base32.t ........ ok
t/32-NSEC3-typelist.t ...... ok
t/33-NSEC3-hash.t .......... ok
t/34-NSEC3-flags.t ......... ok
t/36-NSEC3-covered.t ....... ok
t/37-NSEC3-encloser.t ...... ok
t/41-DNSKEY-keytag.t ....... ok
t/42-DNSKEY-flags.t ........ ok
t/43-DNSKEY-keylength.t .... ok
t/51-DS-SHA1.t ............. ok
t/52-DS-SHA256.t ........... ok
t/54-DS-SHA384.t ........... ok
t/71-TSIG-create.t ......... ok
t/72-TSIG-verify.t ......... ok
# Cleaning
t/99-cleanup.t ............. ok
All tests successful.
Files=105, Tests=3277, 13 wallclock secs ( 0.14 usr  0.10 sys +  4.24 cusr  1.04 csys =  5.52 CPU)
Result: PASS

------------------------------
PREREQUISITES
------------------------------

Prerequisite modules loaded:

runtime:

    Module              Need     Have    
    ------------------- -------- --------
    base                2.13     2.27    
    Carp                1.1      1.54    
    constant            1.17     1.33    
    Digest::HMAC        1.03     1.05    
    Digest::MD5         2.37     2.59    
    Digest::SHA         5.23     6.04    
    Encode              2.26     3.21    
    Exporter            5.63     5.79    
    File::Spec          3.29     3.94    
    integer             1        1.01    
    IO::File            1.14     1.55    
    IO::Select          1.17     1.55    
    IO::Socket          1.3      1.55    
    IO::Socket::IP      0.38     0.43    
    MIME::Base64        3.07     3.16_01 
    overload            1.06     1.40    
    perl                5.008009 5.042000
    PerlIO              1.05     1.12    
    Scalar::Util        1.19     1.68_01 
    Socket              1.81     2.038   
    strict              1.03     1.14    
    Time::Local         1.19     1.35    
    warnings            1.0501   1.74    

build:

    Module              Need     Have    
    ------------------- -------- --------
    ExtUtils::MakeMaker 0        7.76    

configure:

    Module              Need     Have    
    ------------------- -------- --------
    Config              0        5.042000
    ExtUtils::MakeMaker 6.48     7.76    
    Getopt::Long        2.43     2.58    
    IO::File            1.14     1.55    
    IO::Socket::IP      0.38     0.43    


------------------------------
ENVIRONMENT AND OTHER CONTEXT
------------------------------

Environment variables:

    HARNESS_OPTIONS = j6:c
    LANG = en_CA.UTF-8
    LC_ALL = en_CA.UTF-8
    LC_CTYPE = en_CA.UTF-8
    NO_NETWORK_TESTING = 1
    PATH = /Volumes/chambord/Users/ether/.perlbrew/libs/42.0-RC1@std/bin:/Volumes/chambord/Users/ether/perl5/perlbrew/bin:/Volumes/chambord/Users/ether/perl5/perlbrew/perls/42.0-RC1/bin:/Volumes/chambord/Users/ether/bin:/Volumes/chambord/Users/ether/git/misc/install/advocaat/bin:/Volumes/chambord/Users/ether/git/misc/install/generic/bin:/opt/local/bin:/opt/local/sbin:/Volumes/chambord/Users/ether/git/git-hub/lib:/usr/local/bin:/System/Cryptexes/App/usr/bin:/usr/bin:/bin:/usr/sbin:/sbin:/var/run/com.apple.security.cryptexd/codex.system/bootstrap/usr/local/bin:/var/run/com.apple.security.cryptexd/codex.system/bootstrap/usr/bin:/var/run/com.apple.security.cryptexd/codex.system/bootstrap/usr/appleinternal/bin:/Library/Apple/usr/bin:/opt/local/share/git-core/contrib/workdir
    PERL5LIB = /Volumes/chambord/Users/ether/.perlbrew/libs/42.0-RC1@std/lib/perl5
    PERLBREW_HOME = /Volumes/chambord/Users/ether/.perlbrew
    PERLBREW_LIB = std
    PERLBREW_MANPATH = /Volumes/chambord/Users/ether/.perlbrew/libs/42.0-RC1@std/man:/Volumes/chambord/Users/ether/perl5/perlbrew/perls/42.0-RC1/man
    PERLBREW_PATH = /Volumes/chambord/Users/ether/.perlbrew/libs/42.0-RC1@std/bin:/Volumes/chambord/Users/ether/perl5/perlbrew/bin:/Volumes/chambord/Users/ether/perl5/perlbrew/perls/42.0-RC1/bin
    PERLBREW_PERL = 42.0-RC1
    PERLBREW_ROOT = /Volumes/chambord/Users/ether/perl5/perlbrew
    PERLBREW_SHELLRC_VERSION = 1.01
    PERLBREW_VERSION = 1.01
    PERLDOC = -oansi
    PERLDOC_PAGER = less -sicMr
    PERL_AUTOINSTALL_PREFER_CPAN = 1
    PERL_INSTALL_QUIET = 1
    PERL_LOCAL_LIB_ROOT = /Volumes/chambord/Users/ether/.perlbrew/libs/42.0-RC1@std
    PERL_MB_OPT = --install_base /Volumes/chambord/Users/ether/.perlbrew/libs/42.0-RC1@std
    PERL_MM_OPT = INSTALL_BASE=/Volumes/chambord/Users/ether/.perlbrew/libs/42.0-RC1@std
    PERL_TEST_HARNESS_ASAP = 1
    PERL_USE_UNSAFE_INC = 0
    SHELL = /bin/bash
    TERM = xterm-color

Perl special variables (and OS-specific diagnostics, for MSWin32):

    EGID = 20 20 12 61 79 80 81 98 701 704 703 702 705 33 100 204 250
    EUID = 502
    EXECUTABLE_NAME = /Volumes/chambord/Users/ether/perl5/perlbrew/perls/42.0-RC1/bin/perl
    GID = 20 20 12 61 79 80 81 98 701 704 703 702 705 33 100 204 250
    UID = 502

Perl module toolchain versions installed:

    Module              Have    
    ------------------- --------
    CPAN                2.38    
    CPAN::Meta          2.150010
    Cwd                 3.94    
    ExtUtils::CBuilder  0.280241
    ExtUtils::Command   7.76    
    ExtUtils::Install   2.22    
    ExtUtils::MakeMaker 7.76    
    ExtUtils::Manifest  1.75    
    ExtUtils::ParseXS   3.57    
    File::Spec          3.94    
    JSON                4.10    
    JSON::PP            4.17_01 
    Module::Build       0.4234  
    Module::Signature   n/a     
    Parse::CPAN::Meta   2.150010
    Test::Harness       3.50    
    Test::More          1.302210
    YAML                1.31    
    YAML::Syck          1.34    
    version             0.9933  


--

Summary of my perl5 (revision 5 version 42 subversion 0) configuration:
   
  Platform:
    osname=darwin
    osvers=24.5.0
    archname=darwin-2level
    uname='darwin advocaat 24.5.0 darwin kernel version 24.5.0: tue apr 22 19:54:26 pdt 2025; root:xnu-11417.121.6~2release_arm64_t8112 arm64 '
    config_args='-de -Dprefix=/Volumes/chambord/Users/ether/perl5/perlbrew/perls/42.0-RC1 -Ddefault_inc_excludes_do -Dman1dir=none -Dman3dir=none -Aeval:scriptdir=/Volumes/chambord/Users/ether/perl5/perlbrew/perls/42.0-RC1/bin'
    hint=recommended
    useposix=true
    d_sigaction=define
    useithreads=undef
    usemultiplicity=undef
    use64bitint=define
    use64bitall=define
    uselongdouble=undef
    usemymalloc=n
    default_inc_excludes_dot=define
  Compiler:
    cc='cc'
    ccflags ='-fno-common -DPERL_DARWIN -DNO_THREAD_SAFE_QUERYLOCALE -DNO_POSIX_2008_LOCALE -DHAS_BROKEN_LANGINFO_CODESET -DNO_LOCALE_COLLATE -fno-strict-aliasing -pipe -fstack-protector-strong -I/opt/local/include'
    optimize='-O3'
    cppflags='-fno-common -DPERL_DARWIN -DNO_THREAD_SAFE_QUERYLOCALE -DNO_POSIX_2008_LOCALE -DHAS_BROKEN_LANGINFO_CODESET -DNO_LOCALE_COLLATE -fno-strict-aliasing -pipe -fstack-protector-strong -I/opt/local/include'
    ccversion=''
    gccversion='Apple LLVM 17.0.0 (clang-1700.0.13.5)'
    gccosandvers=''
    intsize=4
    longsize=8
    ptrsize=8
    doublesize=8
    byteorder=12345678
    doublekind=3
    d_longlong=define
    longlongsize=8
    d_longdbl=define
    longdblsize=8
    longdblkind=0
    ivtype='long'
    ivsize=8
    nvtype='double'
    nvsize=8
    Off_t='off_t'
    lseeksize=8
    alignbytes=8
    prototype=define
  Linker and Libraries:
    ld='cc'
    ldflags =' -fstack-protector-strong -L/opt/local/lib'
    libpth=/Applications/Xcode.app/Contents/Developer/Toolchains/XcodeDefault.xctoolchain/usr/lib/clang/17/lib /Applications/Xcode.app/Contents/Developer/Platforms/MacOSX.platform/Developer/SDKs/MacOSX.sdk/usr/lib /Applications/Xcode.app/Contents/Developer/Toolchains/XcodeDefault.xctoolchain/usr/lib /opt/local/lib /usr/lib
    libs=-lgdbm
    perllibs=
    libc=
    so=dylib
    useshrplib=false
    libperl=libperl.a
    gnulibc_version=''
  Dynamic Linking:
    dlsrc=dl_dlopen.xs
    dlext=bundle
    d_dlsymun=undef
    ccdlflags=' '
    cccdlflags=' '
    lddlflags='-bundle -undefined dynamic_lookup -L/opt/local/lib -fstack-protector-strong'


Characteristics of this binary (from libperl): 
  Compile-time options:
    HAS_LONG_DOUBLE
    HAS_STRTOLD
    HAS_TIMES
    PERLIO_LAYERS
    PERL_COPY_ON_WRITE
    PERL_DONT_CREATE_GVSV
    PERL_HASH_FUNC_SIPHASH13
    PERL_HASH_USE_SBOX32
    PERL_MALLOC_WRAP
    PERL_OP_PARENT
    PERL_PRESERVE_IVUV
    PERL_USE_SAFE_PUTENV
    USE_64_BIT_ALL
    USE_64_BIT_INT
    USE_LARGE_FILES
    USE_LOCALE
    USE_LOCALE_CTYPE
    USE_LOCALE_NUMERIC
    USE_LOCALE_TIME
    USE_PERLIO
    USE_PERL_ATOF
  Locally applied patches:
    RC1
  Built under darwin
  Compiled at Jun 24 2025 09:32:44
  %ENV:
    PERL5LIB="/Volumes/chambord/Users/ether/.perlbrew/libs/42.0-RC1@std/lib/perl5"
    PERLBREW_HOME="/Volumes/chambord/Users/ether/.perlbrew"
    PERLBREW_LIB="std"
    PERLBREW_MANPATH="/Volumes/chambord/Users/ether/.perlbrew/libs/42.0-RC1@std/man:/Volumes/chambord/Users/ether/perl5/perlbrew/perls/42.0-RC1/man"
    PERLBREW_PATH="/Volumes/chambord/Users/ether/.perlbrew/libs/42.0-RC1@std/bin:/Volumes/chambord/Users/ether/perl5/perlbrew/bin:/Volumes/chambord/Users/ether/perl5/perlbrew/perls/42.0-RC1/bin"
    PERLBREW_PERL="42.0-RC1"
    PERLBREW_ROOT="/Volumes/chambord/Users/ether/perl5/perlbrew"
    PERLBREW_SHELLRC_VERSION="1.01"
    PERLBREW_VERSION="1.01"
    PERLDOC="-oansi"
    PERLDOC_PAGER="less -sicMr"
    PERL_AUTOINSTALL_PREFER_CPAN="1"
    PERL_INSTALL_QUIET="1"
    PERL_LOCAL_LIB_ROOT="/Volumes/chambord/Users/ether/.perlbrew/libs/42.0-RC1@std"
    PERL_MB_OPT="--install_base /Volumes/chambord/Users/ether/.perlbrew/libs/42.0-RC1@std"
    PERL_MM_OPT="INSTALL_BASE=/Volumes/chambord/Users/ether/.perlbrew/libs/42.0-RC1@std"
    PERL_TEST_HARNESS_ASAP="1"
    PERL_USE_UNSAFE_INC="0"
  @INC:
    /Volumes/chambord/Users/ether/.perlbrew/libs/42.0-RC1@std/lib/perl5/darwin-2level
    /Volumes/chambord/Users/ether/.perlbrew/libs/42.0-RC1@std/lib/perl5
    /Volumes/chambord/Users/ether/perl5/perlbrew/perls/42.0-RC1/lib/site_perl/5.42.0/darwin-2level
    /Volumes/chambord/Users/ether/perl5/perlbrew/perls/42.0-RC1/lib/site_perl/5.42.0
    /Volumes/chambord/Users/ether/perl5/perlbrew/perls/42.0-RC1/lib/5.42.0/darwin-2level
    /Volumes/chambord/Users/ether/perl5/perlbrew/perls/42.0-RC1/lib/5.42.0