CGI-Cache v1.4211 Perl 5 v5.14.3 x86_64-linux
- Status
- Pass
- From
- Nigel Horne
- Dist
-
CGI-Cache v1.4211
- Platform
- Perl 5 v5.14.3 x86_64-linux
- Date
- 2018-07-09 00:11:58
- ID
- b1f48320-830c-11e8-8c47-815697936435
This distribution has been tested as part of the CPAN Testers
project, supporting the Perl programming language. See
http://wiki.cpantesters.org/ for more information or email
questions to cpan-testers-discuss@perl.org
--
Dear David Coppit,
This is a computer-generated report for CGI-Cache-1.4211
on perl 5.14.3, created by CPAN-Reporter-1.2018.
Thank you for uploading your work to CPAN. Congratulations!
All tests were successful.
Sections of this report:
* Tester comments
* Program output
* Prerequisites
* Environment and other context
------------------------------
TESTER COMMENTS
------------------------------
Additional comments from tester:
this report is from an automated smoke testing program
and was not reviewed by a human for accuracy
------------------------------
PROGRAM OUTPUT
------------------------------
Output from '/usr/bin/make test':
PERL_DL_NONLAZY=1 "/home/njh/perl5/perlbrew/perls/perl-5.14.3/bin/perl" "-MExtUtils::Command::MM" "-MTest::Harness" "-e" "undef *Test::Harness::Switches; test_harness(1, 'blib/lib', 'blib/arch')" t/*.t
t/000_standard__perl_critic.t ... skipped: Author test. Set $ENV{TEST_AUTHOR} to a true value to run.
t/000_standard__compile.t .......
1..1
ok 1 - Compile test for blib/lib/CGI/Cache.pm
ok
t/000_standard__pod.t ........... skipped: Test::Pod required for testing POD
t/000_standard__pod_coverage.t .. skipped: Test::Pod::Coverage required for testing POD coverage
t/basic.t .......................
1..11
ok 1 - use CGI::Cache;
ok 2 - No errors initializing with default values
ok 3 - Return value after initializing with default values
ok 4 - No errors initializing with non-default values
ok 5 - Return value after initializing with non-default values
ok 6 - No errors setting a simple key
ok 7 - Return value after setting a simple key
ok 8 - No errors setting a complex key
ok 9 - Return value after setting a complex key
ok 10 - Empty cache directory until something cached
Cached output
ok 11 - Cache directory after something cached
ok
t/buffer.t ......................
1..6
ok 1 - read buffer(): Computing the right output
ok 2 - read buffer(): Computing the right errors
ok 3 - read buffer(): Correct cached data
ok 4 - write buffer(): Computing the right output
ok 5 - write buffer(): Computing the right errors
ok 6 - write buffer(): Correct cached data
ok
t/cgi_carp.t ....................
1..7
ok 1 - CGI::Carp not caching with default attributes: Computing the right output
ok 2 - CGI::Carp not caching with default attributes: Computing the right errors
ok 3 - CGI::Carp not caching with default attributes: Undefined cached data
ok 4 - Empty cache directory until something cached
ok 5 - CGI::Carp caching with default attributes: Computing the right output
ok 6 - CGI::Carp caching with default attributes: Computing the right errors
ok 7 - CGI::Carp caching with default attributes: Correct cached data
ok
t/disabled_ouput.t ..............
1..3
ok 1 - Disabled output: Computing the right output
ok 2 - Disabled output: Computing the right errors
ok 3 - Disabled output: Correct cached data
ok
t/invalidate_cache_entry.t ......
1..6
ok 1 - invalidate_cache_entry() setup: Computing the right output
ok 2 - invalidate_cache_entry() setup: Computing the right errors
ok 3 - invalidate_cache_entry() setup: Correct cached data
ok 4 - invalidate_cache_entry() operation: Computing the right output
ok 5 - invalidate_cache_entry() operation: Computing the right errors
ok 6 - invalidate_cache_entry() operation: Correct cached data
ok
t/non-caching.t .................
1..15
ok 1 - die() prevents caching: Computing the right output
ok 2 - die() prevents caching: Computing the right errors
ok 3 - die() prevents caching: Undefined cached data
ok 4 - Empty cache directory until something cached
ok 5 - Print to STDERR prevents caching: Computing the right output
ok 6 - Print to STDERR prevents caching: Computing the right errors
ok 7 - Print to STDERR prevents caching: Undefined cached data
ok 8 - Empty cache directory until something cached
ok 9 - redirected die() prevents caching: Computing the right output
ok 10 - redirected die() prevents caching: Computing the right errors
ok 11 - redirected die() prevents caching: Undefined cached data
ok 12 - Empty cache directory until something cached
ok 13 - die() (with filehandles) prevents caching: Computing the right output
ok 14 - die() (with filehandles) prevents caching: Computing the right errors
ok 15 - die() (with filehandles) prevents caching: Undefined cached data
ok
t/pause_continue.t ..............
1..6
ok 1 - pause() and continue(): Computing the right output
ok 2 - pause() and continue(): Computing the right errors
ok 3 - pause() and continue(): Correct cached data
ok 4 - pause() and continue() with filehandles: Computing the right output
ok 5 - pause() and continue() with filehandles: Computing the right errors
ok 6 - pause() and continue() with filehandles: Correct cached data
ok
t/stop.t ........................
1..6
ok 1 - stop(): Computing the right output
ok 2 - stop(): Computing the right errors
ok 3 - stop(): Correct cached data
ok 4 - stop() with filehandles: Computing the right output
ok 5 - stop() with filehandles: Computing the right errors
ok 6 - stop() with filehandles: Correct cached data
ok
t/user_specified_filehandle.t ...
1..6
ok 1 - Output to non-STDOUT filehandle: Computing the right output
ok 2 - Output to non-STDOUT filehandle: Computing the right errors
ok 3 - Output to non-STDOUT filehandle: Correct cached data
ok 4 - Monitor non-STDOUT filehandle: Computing the right output
ok 5 - Monitor non-STDOUT filehandle: Computing the right errors
ok 6 - Monitor non-STDOUT filehandle: Correct cached data
ok
All tests successful.
Files=13, Tests=67, 4 wallclock secs ( 0.06 usr 0.03 sys + 2.24 cusr 0.44 csys = 2.77 CPU)
Result: PASS
------------------------------
PREREQUISITES
------------------------------
Prerequisite modules loaded:
requires:
Module Need Have
------------------- ----- --------
Cache::Cache 0 1.08
File::Path 0 2.08_01
File::Spec 0 3.33
perl 5.005 5.014003
Storable 0 2.27
Tie::Restore 0 0.11
build_requires:
Module Need Have
------------------- ----- --------
Error 0 0.17026
ExtUtils::MakeMaker 6.36 7.32
File::Slurper 0 0.012
Test::Compile 0 v1.3.0
Test::More 0 1.302122
UNIVERSAL::require 0 0.18
URI::Escape 0 3.31
configure_requires:
Module Need Have
------------------- ----- --------
ExtUtils::MakeMaker 6.36 7.32
URI::Escape 0 3.31
------------------------------
ENVIRONMENT AND OTHER CONTEXT
------------------------------
Environment variables:
AUTOMATED_TESTING = 1
HARNESS_OPTIONS = j2
LANG = en_US.UTF-8
PATH = /home/njh/perl5/perlbrew/bin:/home/njh/perl5/perlbrew/perls/perl-5.14.3/bin:src/njh/smoker/bin:/usr/bin:/bin
PERL5LIB = /home/njh/.cpan/build/Tie-Restore-0.11-0/blib/arch:/home/njh/.cpan/build/Tie-Restore-0.11-0/blib/lib:/home/njh/.cpan/build/Test-Compile-v1.3.0-0/blib/arch:/home/njh/.cpan/build/Test-Compile-v1.3.0-0/blib/lib:/home/njh/.cpan/build/UNIVERSAL-require-0.18-0/blib/arch:/home/njh/.cpan/build/UNIVERSAL-require-0.18-0/blib/lib:/home/njh/.cpan/build/File-Slurper-0.012-0/blib/arch:/home/njh/.cpan/build/File-Slurper-0.012-0/blib/lib:/home/njh/.cpan/build/Test-Warnings-0.026-0/blib/arch:/home/njh/.cpan/build/Test-Warnings-0.026-0/blib/lib:/home/njh/.cpan/build/Cache-Cache-1.08-0/blib/arch:/home/njh/.cpan/build/Cache-Cache-1.08-0/blib/lib:/home/njh/.cpan/build/Error-0.17026-0/blib/arch:/home/njh/.cpan/build/Error-0.17026-0/blib/lib:/home/njh/.cpan/build/Digest-SHA1-2.13-0/blib/arch:/home/njh/.cpan/build/Digest-SHA1-2.13-0/blib/lib
PERL5OPT =
PERL5_CPANPLUS_IS_RUNNING = 30708
PERL5_CPAN_IS_RUNNING = 30708
PERLBREW_HOME = /home/njh/.perlbrew
PERLBREW_MANPATH = /home/njh/perl5/perlbrew/perls/perl-5.14.3/man
PERLBREW_PATH = /home/njh/perl5/perlbrew/bin:/home/njh/perl5/perlbrew/perls/perl-5.14.3/bin
PERLBREW_PERL = perl-5.14.3
PERLBREW_ROOT = /home/njh/perl5/perlbrew
PERLBREW_SHELLRC_VERSION = 0.82
PERLBREW_VERSION = 0.82
SHELL = /bin/sh
TMPDIR = /tmp/testwrapper.30696
Perl special variables (and OS-specific diagnostics, for MSWin32):
$^X = /home/njh/perl5/perlbrew/perls/perl-5.14.3/bin/perl
$UID/$EUID = 1000 / 1000
$GID = 1000 1000
$EGID = 1000 1000
Perl module toolchain versions installed:
Module Have
------------------- --------
CPAN 2.16
CPAN::Meta 2.143240
Cwd 3.36
ExtUtils::CBuilder 0.280230
ExtUtils::Command 7.32
ExtUtils::Install 2.06
ExtUtils::MakeMaker 7.32
ExtUtils::Manifest 1.70
ExtUtils::ParseXS 2.2210
File::Spec 3.33
JSON 2.97001
JSON::PP 2.97001
Module::Build 0.3800
Module::Signature n/a
Parse::CPAN::Meta 1.4414
Test::Harness 3.41
Test::More 1.302122
YAML 1.26
YAML::Syck 1.30
version 0.88
--
Summary of my perl5 (revision 5 version 14 subversion 3) configuration:
Platform:
osname=linux, osvers=4.9.0-5-amd64, archname=x86_64-linux
uname='linux dev0.teada.net 4.9.0-5-amd64 #1 smp debian 4.9.65-3+deb9u2 (2018-01-04) x86_64 gnulinux '
config_args='-de -Dprefix=/home/njh/perl5/perlbrew/perls/perl-5.14.3 -Aeval:scriptdir=/home/njh/perl5/perlbrew/perls/perl-5.14.3/bin'
hint=recommended, useposix=true, d_sigaction=define
useithreads=undef, usemultiplicity=undef
useperlio=define, d_sfio=undef, uselargefiles=define, usesocks=undef
use64bitint=define, use64bitall=define, uselongdouble=undef
usemymalloc=n, bincompat5005=undef
Compiler:
cc='cc', ccflags ='-fno-strict-aliasing -pipe -fstack-protector -I/usr/local/include -D_LARGEFILE_SOURCE -D_FILE_OFFSET_BITS=64',
optimize='-O2',
cppflags='-fno-strict-aliasing -pipe -fstack-protector -I/usr/local/include'
ccversion='', gccversion='6.3.0 20170516', gccosandvers=''
intsize=4, longsize=8, ptrsize=8, doublesize=8, byteorder=12345678
d_longlong=define, longlongsize=8, d_longdbl=define, longdblsize=16
ivtype='long', ivsize=8, nvtype='double', nvsize=8, Off_t='off_t', lseeksize=8
alignbytes=8, prototype=define
Linker and Libraries:
ld='cc', ldflags =' -fstack-protector -L/usr/local/lib'
libpth=/usr/local/lib /lib/x86_64-linux-gnu /lib/../lib /usr/lib/x86_64-linux-gnu /usr/lib/../lib /lib /usr/lib
libs=-lnsl -ldl -lm -lcrypt -lutil -lc
perllibs=-lnsl -ldl -lm -lcrypt -lutil -lc
libc=libc-2.24.so, so=so, useshrplib=false, libperl=libperl.a
gnulibc_version='2.24'
Dynamic Linking:
dlsrc=dl_dlopen.xs, dlext=so, d_dlsymun=undef, ccdlflags='-Wl,-E'
cccdlflags='-fPIC', lddlflags='-shared -O2 -L/usr/local/lib -fstack-protector'
Characteristics of this binary (from libperl):
Compile-time options: PERL_DONT_CREATE_GVSV PERL_MALLOC_WRAP
PERL_PRESERVE_IVUV USE_64_BIT_ALL USE_64_BIT_INT
USE_LARGE_FILES USE_PERLIO USE_PERL_ATOF
Locally applied patches:
Devel::PatchPerl 1.48
Built under linux
Compiled at Feb 18 2018 00:37:23
%ENV:
PERL5LIB="/home/njh/.cpan/build/Tie-Restore-0.11-0/blib/arch:/home/njh/.cpan/build/Tie-Restore-0.11-0/blib/lib:/home/njh/.cpan/build/Test-Compile-v1.3.0-0/blib/arch:/home/njh/.cpan/build/Test-Compile-v1.3.0-0/blib/lib:/home/njh/.cpan/build/UNIVERSAL-require-0.18-0/blib/arch:/home/njh/.cpan/build/UNIVERSAL-require-0.18-0/blib/lib:/home/njh/.cpan/build/File-Slurper-0.012-0/blib/arch:/home/njh/.cpan/build/File-Slurper-0.012-0/blib/lib:/home/njh/.cpan/build/Test-Warnings-0.026-0/blib/arch:/home/njh/.cpan/build/Test-Warnings-0.026-0/blib/lib:/home/njh/.cpan/build/Cache-Cache-1.08-0/blib/arch:/home/njh/.cpan/build/Cache-Cache-1.08-0/blib/lib:/home/njh/.cpan/build/Error-0.17026-0/blib/arch:/home/njh/.cpan/build/Error-0.17026-0/blib/lib:/home/njh/.cpan/build/Digest-SHA1-2.13-0/blib/arch:/home/njh/.cpan/build/Digest-SHA1-2.13-0/blib/lib"
PERL5OPT=""
PERL5_CPANPLUS_IS_RUNNING="30708"
PERL5_CPAN_IS_RUNNING="30708"
PERLBREW_HOME="/home/njh/.perlbrew"
PERLBREW_MANPATH="/home/njh/perl5/perlbrew/perls/perl-5.14.3/man"
PERLBREW_PATH="/home/njh/perl5/perlbrew/bin:/home/njh/perl5/perlbrew/perls/perl-5.14.3/bin"
PERLBREW_PERL="perl-5.14.3"
PERLBREW_ROOT="/home/njh/perl5/perlbrew"
PERLBREW_SHELLRC_VERSION="0.82"
PERLBREW_VERSION="0.82"
@INC:
/home/njh/.cpan/build/Tie-Restore-0.11-0/blib/arch
/home/njh/.cpan/build/Tie-Restore-0.11-0/blib/lib
/home/njh/.cpan/build/Test-Compile-v1.3.0-0/blib/arch
/home/njh/.cpan/build/Test-Compile-v1.3.0-0/blib/lib
/home/njh/.cpan/build/UNIVERSAL-require-0.18-0/blib/arch
/home/njh/.cpan/build/UNIVERSAL-require-0.18-0/blib/lib
/home/njh/.cpan/build/File-Slurper-0.012-0/blib/arch
/home/njh/.cpan/build/File-Slurper-0.012-0/blib/lib
/home/njh/.cpan/build/Test-Warnings-0.026-0/blib/arch
/home/njh/.cpan/build/Test-Warnings-0.026-0/blib/lib
/home/njh/.cpan/build/Cache-Cache-1.08-0/blib/arch
/home/njh/.cpan/build/Cache-Cache-1.08-0/blib/lib
/home/njh/.cpan/build/Error-0.17026-0/blib/arch
/home/njh/.cpan/build/Error-0.17026-0/blib/lib
/home/njh/.cpan/build/Digest-SHA1-2.13-0/blib/arch
/home/njh/.cpan/build/Digest-SHA1-2.13-0/blib/lib
/home/njh/perl5/perlbrew/perls/perl-5.14.3/lib/site_perl/5.14.3/x86_64-linux
/home/njh/perl5/perlbrew/perls/perl-5.14.3/lib/site_perl/5.14.3
/home/njh/perl5/perlbrew/perls/perl-5.14.3/lib/5.14.3/x86_64-linux
/home/njh/perl5/perlbrew/perls/perl-5.14.3/lib/5.14.3
.