Back
From: metabase:user:20a45eae-6c1a-1014-abaf-4bc2b30e56df
Subject: PASS Math-Complex-1.59 v5.16.3 Windows (Cygwin)
Date: 2014-01-31T16:09:00Z
This distribution has been tested as part of the CPAN Testers
project, supporting the Perl programming language. See
http://wiki.cpantesters.org/ for more information or email
questions to cpan-testers-discuss@perl.org
--
Dear Andrew Main (Zefram),
This is a computer-generated report for Math-Complex-1.59
on perl 5.16.3, created by CPAN-Reporter-1.2010.
Thank you for uploading your work to CPAN. Congratulations!
All tests were successful.
Sections of this report:
* Tester comments
* Program output
* Prerequisites
* Environment and other context
------------------------------
TESTER COMMENTS
------------------------------
Additional comments from tester:
this report is from an automated smoke testing program
and was not reviewed by a human for accuracy
------------------------------
PROGRAM OUTPUT
------------------------------
Output from '/usr/bin/make test':
PERL_DL_NONLAZY=1 /opt/perl5/cygwin_nt-6.1/1.7.27/x86_64/perl/5.16.3/cygwin-thread/bin/perl.exe "-MExtUtils::Command::MM" "-e" "test_harness(0, 'blib/lib', 'blib/arch')" t/*.t
t/Complex.t ....... ok
t/pod-coverage.t .. ok
t/pod.t ........... ok
t/Trig.t .......... ok
t/underbar.t ...... ok
All tests successful.
Files=5, Tests=1235, 4 wallclock secs ( 0.56 usr 0.19 sys + 1.78 cusr 1.52 csys = 4.05 CPU)
Result: PASS
------------------------------
PREREQUISITES
------------------------------
Prerequisite modules loaded:
requires:
Module Need Have
------------------- ---- -------
Config 0 0
Exporter 0 5.66
ExtUtils::MakeMaker 0 6.63_02
overload 0 1.18
Scalar::Util 1.11 1.25
strict 0 1.07
Test::More 0 0.98
warnings 0 1.13
build_requires:
Module Need Have
------------------- ---- -------
ExtUtils::MakeMaker 0 6.63_02
configure_requires:
Module Need Have
------------------- ---- -------
ExtUtils::MakeMaker 0 6.63_02
------------------------------
ENVIRONMENT AND OTHER CONTEXT
------------------------------
Environment variables:
AUTOMATED_TESTING = 1
COMSPEC = C:\Windows\system32\cmd.exe
NUMBER_OF_PROCESSORS = 4
PATH = /opt/perl5/cygwin_nt-6.1/1.7.27/x86_64/bin/5.16.3/cygwin-thread:/opt/perl5/cygwin_nt-6.1/1.7.27/x86_64/perl/5.16.3/cygwin-thread/local/bin:/opt/perl5/cygwin_nt-6.1/1.7.27/x86_64/perl/5.16.3/cygwin-thread/bin:/usr/local/bin:/usr/bin
PERL5LIB = /opt/perl5/cygwin_nt-6.1/1.7.27/x86_64/cpan/5.16.3/cygwin-thread/build/Math-Complex-1.58-7KNlTa/blib/arch:/opt/perl5/cygwin_nt-6.1/1.7.27/x86_64/cpan/5.16.3/cygwin-thread/build/Math-Complex-1.58-7KNlTa/blib/lib:/opt/perl5/cygwin_nt-6.1/1.7.27/x86_64/cpan/5.16.3/cygwin-thread/build/Math-Complex-1.57-UI1G3O/blib/arch:/opt/perl5/cygwin_nt-6.1/1.7.27/x86_64/cpan/5.16.3/cygwin-thread/build/Math-Complex-1.57-UI1G3O/blib/lib:/opt/perl5/cygwin_nt-6.1/1.7.27/x86_64/cpan/5.16.3/cygwin-thread/build/Math-Complex-1.56-jvq9Di/blib/arch:/opt/perl5/cygwin_nt-6.1/1.7.27/x86_64/cpan/5.16.3/cygwin-thread/build/Math-Complex-1.56-jvq9Di/blib/lib:/opt/perl5/cygwin_nt-6.1/1.7.27/x86_64/perl/5.16.3/cygwin-thread/local/lib/site_perl/5.16.3:/opt/perl5/cygwin_nt-6.1/1.7.27/x86_64/perl/5.16.3/cygwin-thread/local/lib/5.16.3:/opt/perl5/cygwin_nt-6.1/1.7.27/x86_64/perl/5.16.3/cygwin-thread/local/lib/perl5
PERL5OPT =
PERL5_CPANPLUS_IS_RUNNING = 8444
PERL5_CPAN_IS_RUNNING = 8444
PERL_CPAN_REPORTER_CONFIG = /cygdrive/c/peter/.cpanreporter/config-cygdrive-c-peter.ini
PERL_EXTUTILS_AUTOINSTALL = 1
PERL_MM_USE_DEFAULT = 1
PERL_MY_PREFIX = /opt/perl5
PERL_MY_SOURCE_DIR = /cygdrive/c/src/perl
PERL_TEST_CRITIC = 1
PROCESSOR_IDENTIFIER = Intel64 Family 6 Model 37 Stepping 5, GenuineIntel
SHELL = /usr/bin/bash
TEMP = /tmp
TERM = xterm
Perl special variables (and OS-specific diagnostics, for MSWin32):
$^X = /opt/perl5/cygwin_nt-6.1/1.7.27/x86_64/perl/5.16.3/cygwin-thread/bin/perl
$UID/$EUID = 22755 / 22755
$GID = 10513 545 1001 10571 44776 45205 10513 51781 18818 59435 72481 43044 30568 43061 18761 56667 12652 12669 12778 42734 20077 51528 11073 51645 61702 17963 51289 43366 55368 57206 20667 20955 49381 74690 50556 23333 65644 65646 51916 51926 51837 45099 56531 30321 49625 31369 67201
$EGID = 10513 545 1001 10571 44776 45205 10513 51781 18818 59435 72481 43044 30568 43061 18761 56667 12652 12669 12778 42734 20077 51528 11073 51645 61702 17963 51289 43366 55368 57206 20667 20955 49381 74690 50556 23333 65644 65646 51916 51926 51837 45099 56531 30321 49625 31369 67201
Perl module toolchain versions installed:
Module Have
------------------- --------
CPAN 1.9800
CPAN::Meta 2.120630
Cwd 3.39_02
ExtUtils::CBuilder 0.280212
ExtUtils::Command 1.17
ExtUtils::Install 1.58
ExtUtils::MakeMaker 6.63_02
ExtUtils::Manifest 1.61
ExtUtils::ParseXS 3.16
File::Spec 3.39_02
JSON n/a
JSON::PP 2.27200
Module::Build 0.39_01
Module::Signature n/a
Parse::CPAN::Meta 1.4402
Test::Harness 3.23
Test::More 0.98
YAML 0.88
YAML::Syck n/a
version 0.99
--
Summary of my perl5 (revision 5 version 16 subversion 3) configuration:
Platform:
osname=cygwin, osvers=1.7.27(0.27153), archname=cygwin-thread
uname='cygwin_nt-6.1 osl069 1.7.27(0.27153) 2013-12-09 11:54 x86_64 cygwin '
config_args='-de -Dmksymlinks -Dcc=gcc -Dld=g++ -Uinc_version_list -Uinstallusrbinperl -Dusethreads -Uusemultiplicity -Duse64bitint -Uuselongdouble -Dprefix=/opt/perl5/cygwin_nt-6.1/1.7.27/x86_64/perl/5.16.3/cygwin-thread'
hint=recommended, useposix=true, d_sigaction=define
useithreads=define, usemultiplicity=undef
useperlio=define, d_sfio=undef, uselargefiles=define, usesocks=undef
use64bitint=define, use64bitall=define, uselongdouble=undef
usemymalloc=n, bincompat5005=undef
Compiler:
cc='gcc', ccflags ='-DPERL_USE_SAFE_PUTENV -U__STRICT_ANSI__ -fno-strict-aliasing -pipe -fstack-protector',
optimize='-O3',
cppflags='-DPERL_USE_SAFE_PUTENV -U__STRICT_ANSI__ -fno-strict-aliasing -pipe -fstack-protector'
ccversion='', gccversion='4.8.2', gccosandvers=''
intsize=4, longsize=8, ptrsize=8, doublesize=8, byteorder=12345678
d_longlong=define, longlongsize=8, d_longdbl=define, longdblsize=16
ivtype='long', ivsize=8, nvtype='double', nvsize=8, Off_t='off_t', lseeksize=8
alignbytes=8, prototype=define
Linker and Libraries:
ld='g++', ldflags =' -Wl,--enable-auto-import -Wl,--export-all-symbols -Wl,--enable-auto-image-base -fstack-protector -L/usr/local/lib'
libpth=/usr/local/lib /usr/lib /lib
libs=-ldb -ldl -lcrypt
perllibs=-ldl -lcrypt
libc=/usr/lib/libc.a, so=dll, useshrplib=true, libperl=cygperl5_16_3.dll
gnulibc_version=''
Dynamic Linking:
dlsrc=dl_dlopen.xs, dlext=dll, d_dlsymun=undef, ccdlflags=' '
cccdlflags=' ', lddlflags=' --shared -Wl,--enable-auto-import -Wl,--export-all-symbols -Wl,--enable-auto-image-base -L/usr/local/lib -fstack-protector'
Characteristics of this binary (from libperl):
Compile-time options: HAS_TIMES MULTIPLICITY PERLIO_LAYERS
PERL_DONT_CREATE_GVSV PERL_IMPLICIT_CONTEXT
PERL_PRESERVE_IVUV PERL_USE_SAFE_PUTENV
USE_64_BIT_ALL USE_64_BIT_INT USE_ITHREADS
USE_LARGE_FILES USE_LOCALE USE_LOCALE_COLLATE
USE_LOCALE_CTYPE USE_LOCALE_NUMERIC USE_PERLIO
USE_PERL_ATOF USE_REENTRANT_API
Built under cygwin
Compiled at Jan 16 2014 17:25:12
%ENV:
PERL5LIB="/opt/perl5/cygwin_nt-6.1/1.7.27/x86_64/cpan/5.16.3/cygwin-thread/build/Math-Complex-1.58-7KNlTa/blib/arch:/opt/perl5/cygwin_nt-6.1/1.7.27/x86_64/cpan/5.16.3/cygwin-thread/build/Math-Complex-1.58-7KNlTa/blib/lib:/opt/perl5/cygwin_nt-6.1/1.7.27/x86_64/cpan/5.16.3/cygwin-thread/build/Math-Complex-1.57-UI1G3O/blib/arch:/opt/perl5/cygwin_nt-6.1/1.7.27/x86_64/cpan/5.16.3/cygwin-thread/build/Math-Complex-1.57-UI1G3O/blib/lib:/opt/perl5/cygwin_nt-6.1/1.7.27/x86_64/cpan/5.16.3/cygwin-thread/build/Math-Complex-1.56-jvq9Di/blib/arch:/opt/perl5/cygwin_nt-6.1/1.7.27/x86_64/cpan/5.16.3/cygwin-thread/build/Math-Complex-1.56-jvq9Di/blib/lib:/opt/perl5/cygwin_nt-6.1/1.7.27/x86_64/perl/5.16.3/cygwin-thread/local/lib/site_perl/5.16.3:/opt/perl5/cygwin_nt-6.1/1.7.27/x86_64/perl/5.16.3/cygwin-thread/local/lib/5.16.3:/opt/perl5/cygwin_nt-6.1/1.7.27/x86_64/perl/5.16.3/cygwin-thread/local/lib/perl5"
PERL5OPT=""
PERL5_CPANPLUS_IS_RUNNING="8444"
PERL5_CPAN_IS_RUNNING="8444"
PERL_CPAN_REPORTER_CONFIG="/cygdrive/c/peter/.cpanreporter/config-cygdrive-c-peter.ini"
PERL_EXTUTILS_AUTOINSTALL="1"
PERL_MM_USE_DEFAULT="1"
PERL_MY_PREFIX="/opt/perl5"
PERL_MY_SOURCE_DIR="/cygdrive/c/src/perl"
PERL_TEST_CRITIC="1"
CYGWIN="codepage:utf8 nodosfilewarning"
@INC:
/opt/perl5/cygwin_nt-6.1/1.7.27/x86_64/cpan/5.16.3/cygwin-thread/build/Math-Complex-1.58-7KNlTa/blib/arch
/opt/perl5/cygwin_nt-6.1/1.7.27/x86_64/cpan/5.16.3/cygwin-thread/build/Math-Complex-1.58-7KNlTa/blib/lib
/opt/perl5/cygwin_nt-6.1/1.7.27/x86_64/cpan/5.16.3/cygwin-thread/build/Math-Complex-1.57-UI1G3O/blib/arch
/opt/perl5/cygwin_nt-6.1/1.7.27/x86_64/cpan/5.16.3/cygwin-thread/build/Math-Complex-1.57-UI1G3O/blib/lib
/opt/perl5/cygwin_nt-6.1/1.7.27/x86_64/cpan/5.16.3/cygwin-thread/build/Math-Complex-1.56-jvq9Di/blib/arch
/opt/perl5/cygwin_nt-6.1/1.7.27/x86_64/cpan/5.16.3/cygwin-thread/build/Math-Complex-1.56-jvq9Di/blib/lib
/opt/perl5/cygwin_nt-6.1/1.7.27/x86_64/perl/5.16.3/cygwin-thread/local/lib/site_perl/5.16.3/cygwin-thread
/opt/perl5/cygwin_nt-6.1/1.7.27/x86_64/perl/5.16.3/cygwin-thread/local/lib/site_perl/5.16.3
/opt/perl5/cygwin_nt-6.1/1.7.27/x86_64/perl/5.16.3/cygwin-thread/local/lib/5.16.3/cygwin-thread
/opt/perl5/cygwin_nt-6.1/1.7.27/x86_64/perl/5.16.3/cygwin-thread/local/lib/5.16.3
/opt/perl5/cygwin_nt-6.1/1.7.27/x86_64/perl/5.16.3/cygwin-thread/local/lib/perl5/cygwin-thread
/opt/perl5/cygwin_nt-6.1/1.7.27/x86_64/perl/5.16.3/cygwin-thread/local/lib/perl5
/opt/perl5/cygwin_nt-6.1/1.7.27/x86_64/perl/5.16.3/cygwin-thread/lib/site_perl/5.16.3/cygwin-thread
/opt/perl5/cygwin_nt-6.1/1.7.27/x86_64/perl/5.16.3/cygwin-thread/lib/site_perl/5.16.3
/opt/perl5/cygwin_nt-6.1/1.7.27/x86_64/perl/5.16.3/cygwin-thread/lib/5.16.3/cygwin-thread
/opt/perl5/cygwin_nt-6.1/1.7.27/x86_64/perl/5.16.3/cygwin-thread/lib/5.16.3
.