Mojolicious-Plugin-Vparam v3.06 Perl 5 v5.29.3 x86_64-linux-ld
- Status
- Pass
- From
- Andreas J. König (ANDK)
- Dist
-
Mojolicious-Plugin-Vparam v3.06
- Platform
- Perl 5 v5.29.3 x86_64-linux-ld
- Date
- 2018-08-23 13:16:06
- ID
- b1b9e650-a6d6-11e8-97c9-5c08071acdfd
This distribution has been tested as part of the CPAN Testers
project, supporting the Perl programming language. See
http://wiki.cpantesters.org/ for more information or email
questions to cpan-testers-discuss@perl.org
--
Dear Roman V. Nikolaev,
This is a computer-generated report for Mojolicious-Plugin-Vparam-3.06
on perl 5.29.3, created by CPAN-Reporter-1.2018.
Thank you for uploading your work to CPAN. Congratulations!
All tests were successful.
Sections of this report:
* Tester comments
* Program output
* Prerequisites
* Environment and other context
------------------------------
TESTER COMMENTS
------------------------------
Additional comments from tester:
this report is from an automated smoke testing program
and was not reviewed by a human for accuracy
------------------------------
PROGRAM OUTPUT
------------------------------
Output from '/usr/bin/make test':
PERL_DL_NONLAZY=1 "/tmp/basesmoker-reloperl-1fyy/bin/perl" "-MExtUtils::Command::MM" "-MTest::Harness" "-e" "undef *Test::Harness::Switches; test_harness(0, 'blib/lib', 'blib/arch')" t/*.t
t/001_use_ok.t .............. ok
t/005_compile.t ............. ok
t/007_vtype.t ............... ok
t/008_vconf.t ............... ok
t/009_vfilter.t ............. ok
t/010_vparam.t .............. ok
t/011_vparam_attr.t ......... ok
t/020_simple.t .............. ok
t/022_vparams.t ............. ok
t/023_vsort.t ............... ok
t/024_vsort_disable.t ....... ok
t/030_optional.t ............ ok
t/031_as.t .................. ok
t/032_skip.t ................ ok
t/033_isa.t ................. ok
t/034_skipundef.t ........... ok
t/035_blessed.t ............. ok
t/036_unknown.t ............. ok
t/040_array.t ............... ok
t/041_multiline.t ........... ok
t/042_multijoin.t ........... ok
t/043_objects.t ............. ok
t/045_load.t ................ ok
t/046_load-array.t .......... ok
t/047_load-code.t ........... ok
t/049_hash.t ................ ok
t/050_vclass.t .............. ok
t/060_vvalue.t .............. ok
t/080_mojo_validator.t ...... ok
t/090_errors.t .............. ok
t/091_verror_manual.t ....... ok
t/100_int.t ................. ok
t/110_numeric.t ............. ok
t/120_money.t ............... ok
t/130_percent.t ............. ok
t/140_lon_lat.t ............. ok
t/200_str.t ................. ok
t/210_text.t ................ ok
t/220_password.t ............ ok
t/230_uuid.t ................ ok
t/300_datetime.t ............ ok
t/303_datetime_timestamp.t .. ok
t/306_datetime_relative.t ... ok
t/310_time.t ................ ok
t/320_date.t ................ ok
t/325_date_dt.t ............. ok
t/400_bool.t ................ ok
t/410_logic.t ............... ok
t/500_email.t ............... ok
t/510_url.t ................. ok
t/600_phone.t ............... ok
t/605_phone_defaults.t ...... ok
t/607_phone_fix.t ........... ok
t/700_json.t ................ ok
t/710_address.t ............. ok
t/714_address_signing.t ..... ok
t/715_address-optional.t .... ok
t/716_address_json.t ........ ok
t/720_jpath.t ............... ok
t/721_jpath_array.t ......... ok
t/722_jpath_maybe.t ......... ok
t/730_cpath.t ............... ok
t/740_xpath.t ............... ok
t/750_opath.t ............... ok
t/800_inn.t ................. ok
t/805_kpp.t ................. ok
t/840_isin.t ................ ok
t/841_maestro.t ............. ok
t/842_creditcard.t .......... ok
t/850_barcode.t ............. ok
t/900_regexp.t .............. ok
t/905_in.t .................. ok
t/910_numbers.t ............. ok
t/915_strings.t ............. ok
t/920_range.t ............... ok
t/925_size.t ................ ok
t/990_manifest.t ............ ok
t/995_pod.t ................. ok
All tests successful.
Files=78, Tests=1552, 26 wallclock secs ( 0.25 usr 0.38 sys + 21.80 cusr 4.14 csys = 26.57 CPU)
Result: PASS
------------------------------
PREREQUISITES
------------------------------
Prerequisite modules loaded:
requires:
Module Need Have
--------------------------- -------- --------
DateTime 0 1.50
DateTime::Format::DateParse 0 0.05
List::MoreUtils 0 0.428
Mail::RFC822::Address 0 0.3
Mojolicious 0 7.93
perl 5.010000 5.029003
Test::Compile 0 v1.3.0
Test::More 0 1.302140
XML::LibXML 0 2.0132
build_requires:
Module Need Have
--------------------------- -------- --------
ExtUtils::MakeMaker 0 7.34
configure_requires:
Module Need Have
--------------------------- -------- --------
ExtUtils::MakeMaker 0 7.34
------------------------------
ENVIRONMENT AND OTHER CONTEXT
------------------------------
Environment variables:
AUTOMATED_TESTING = 1
LANG = en_US.UTF-8
PATH = /home/sand/bin:/usr/local/bin:/usr/bin:/bin:/usr/games:/usr/local/perl/bin:/usr/X11/bin:/sbin:/usr/sbin
PERL5LIB =
PERL5OPT =
PERL5_CPANPLUS_IS_RUNNING = 30988
PERL5_CPAN_IS_RUNNING = 30988
PERL_CANARY_STABILITY_NOPROMPT = 1
PERL_MM_USE_DEFAULT = 1
PERL_USE_UNSAFE_INC = 1
SHELL = /usr/bin/zsh
TERM = screen
Perl special variables (and OS-specific diagnostics, for MSWin32):
$^X = /tmp/basesmoker-reloperl-1fyy/bin/perl
$UID/$EUID = 1005 / 1005
$GID = 1005 1005
$EGID = 1005 1005
Perl module toolchain versions installed:
Module Have
------------------- --------
CPAN 2.20
CPAN::Meta 2.150010
Cwd 3.75
ExtUtils::CBuilder 0.280230
ExtUtils::Command 7.34
ExtUtils::Install 2.14
ExtUtils::MakeMaker 7.34
ExtUtils::Manifest 1.71
ExtUtils::ParseXS 3.39
File::Spec 3.74
JSON 2.97001
JSON::PP 2.97001
Module::Build 0.4224
Module::Signature 0.81
Parse::CPAN::Meta 2.150010
Test::Harness 3.42
Test::More 1.302140
YAML 1.26
YAML::Syck 1.30
version 0.9924
--
Summary of my perl5 (revision 5 version 29 subversion 3) configuration:
Commit id: cad2641b4ae69e4ca5dfea157cfdc3ae0095f7bf
Platform:
osname=linux
osvers=4.14.0-3-amd64
archname=x86_64-linux-ld
uname='linux k93msid 4.14.0-3-amd64 #1 smp debian 4.14.12-2 (2018-01-06) x86_64 gnulinux '
config_args='-Dprefix=/home/sand/src/perl/repoperls/installed-perls/host/k93msid/v5.29.2-7-gcad2641b4a/ea6b -Dmyhostname=k93msid -Dinstallusrbinperl=n -Uversiononly -Dusedevel -des -Ui_db -Dlibswanted=cl pthread socket inet nsl gdbm dbm malloc dl ld sun m crypt sec util c cposix posix ucb BSD gdbm_compat -Uuseithreads -Duselongdouble -DEBUGGING=none'
hint=recommended
useposix=true
d_sigaction=define
useithreads=undef
usemultiplicity=undef
use64bitint=define
use64bitall=define
uselongdouble=define
usemymalloc=n
default_inc_excludes_dot=define
bincompat5005=undef
Compiler:
cc='cc'
ccflags ='-fwrapv -fno-strict-aliasing -pipe -fstack-protector-strong -I/usr/local/include -D_LARGEFILE_SOURCE -D_FILE_OFFSET_BITS=64 -D_FORTIFY_SOURCE=2'
optimize='-O2'
cppflags='-fwrapv -fno-strict-aliasing -pipe -fstack-protector-strong -I/usr/local/include'
ccversion=''
gccversion='7.2.0'
gccosandvers=''
intsize=4
longsize=8
ptrsize=8
doublesize=8
byteorder=12345678
doublekind=3
d_longlong=define
longlongsize=8
d_longdbl=define
longdblsize=16
longdblkind=3
ivtype='long'
ivsize=8
nvtype='long double'
nvsize=16
Off_t='off_t'
lseeksize=8
alignbytes=16
prototype=define
Linker and Libraries:
ld='cc'
ldflags =' -fstack-protector-strong -L/usr/local/lib'
libpth=/usr/local/lib /usr/lib/gcc/x86_64-linux-gnu/7/include-fixed /usr/include/x86_64-linux-gnu /usr/lib /lib/x86_64-linux-gnu /lib/../lib /usr/lib/x86_64-linux-gnu /usr/lib/../lib /lib
libs=-lpthread -lnsl -ldl -lm -lcrypt -lutil -lc
perllibs=-lpthread -lnsl -ldl -lm -lcrypt -lutil -lc
libc=libc-2.26.so
so=so
useshrplib=false
libperl=libperl.a
gnulibc_version='2.26'
Dynamic Linking:
dlsrc=dl_dlopen.xs
dlext=so
d_dlsymun=undef
ccdlflags='-Wl,-E'
cccdlflags='-fPIC'
lddlflags='-shared -O2 -L/usr/local/lib -fstack-protector-strong'
Characteristics of this binary (from libperl):
Compile-time options:
HAS_TIMES
PERLIO_LAYERS
PERL_COPY_ON_WRITE
PERL_DONT_CREATE_GVSV
PERL_MALLOC_WRAP
PERL_OP_PARENT
PERL_PRESERVE_IVUV
PERL_USE_DEVEL
USE_64_BIT_ALL
USE_64_BIT_INT
USE_LARGE_FILES
USE_LOCALE
USE_LOCALE_COLLATE
USE_LOCALE_CTYPE
USE_LOCALE_NUMERIC
USE_LOCALE_TIME
USE_LONG_DOUBLE
USE_PERLIO
USE_PERL_ATOF
Built under linux
Compiled at Aug 21 2018 07:38:25
%ENV:
PERL5LIB=""
PERL5OPT=""
PERL5_CPANPLUS_IS_RUNNING="30988"
PERL5_CPAN_IS_RUNNING="30988"
PERL_CANARY_STABILITY_NOPROMPT="1"
PERL_MM_USE_DEFAULT="1"
PERL_USE_UNSAFE_INC="1"
@INC:
/home/sand/src/perl/repoperls/installed-perls/host/k93msid/v5.29.2-7-gcad2641b4a/ea6b/lib/site_perl/5.29.3/x86_64-linux-ld
/home/sand/src/perl/repoperls/installed-perls/host/k93msid/v5.29.2-7-gcad2641b4a/ea6b/lib/site_perl/5.29.3
/home/sand/src/perl/repoperls/installed-perls/host/k93msid/v5.29.2-7-gcad2641b4a/ea6b/lib/5.29.3/x86_64-linux-ld
/home/sand/src/perl/repoperls/installed-perls/host/k93msid/v5.29.2-7-gcad2641b4a/ea6b/lib/5.29.3
.