Report for Acme-TLDR-0.004
Back
From: metabase:user:917c2b6a-77f3-11e5-af78-c9d573d1e3cf
Subject: PASS Acme-TLDR-0.004 v5.18.1 GNU/Linux
Date: 2015-11-15T19:54:34Z
This distribution has been tested as part of the CPAN Testers
project, supporting the Perl programming language. See
http://wiki.cpantesters.org/ for more information or email
questions to cpan-testers-discuss@perl.org
--
Dear Stanislaw Pusep,
This is a computer-generated report for Acme-TLDR-0.004
on perl 5.18.1, created by CPAN-Reporter-1.2015.
Thank you for uploading your work to CPAN. Congratulations!
All tests were successful.
Sections of this report:
* Tester comments
* Program output
* Prerequisites
* Environment and other context
------------------------------
TESTER COMMENTS
------------------------------
Additional comments from tester:
this report is from an automated smoke testing program
and was not reviewed by a human for accuracy
------------------------------
PROGRAM OUTPUT
------------------------------
Output from '/usr/bin/make test':
PERL_DL_NONLAZY=1 "/usr/bin/perl5.18.1" "-MExtUtils::Command::MM" "-MTest::Harness" "-e" "undef *Test::Harness::Switches; test_harness(0, 'blib/lib', 'blib/arch')" t/*.t
t/00-compile.t ............... ok
# Acme::TLDR v0.004, Perl 5.018001, /usr/bin/perl5.18.1
t/00-load.t .................. ok
ExtUtils::Installed cache: /home/petr/.local/share/.Acme-TLDR-635f618dbab3a847b5ea8c3a4baebede.cache
no cache found; generating
Algorithm::Diff => A::D
AnyDBM_File => AnyDBM_F
App::Cpan => App::C
App::Prove => App::P
App::Prove::State => App::P::S
App::Prove::State::Result => App::P::S::R
App::Prove::State::Result::Test => App::P::S::R::T
App::cpanminus => App::c
Archive::Extract => A::E
Archive::Tar => A::Tar
Archive::Tar::Constant => A::Tar::C
Archive::Tar::File => A::Tar::F
Attribute::Handlers => A::H
AutoLoader => AL
AutoSplit => AS
B::Concise => B::C
B::Debug => B::D
B::Deparse => *undef*
B::Lint => B::L
B::Lint::Debug => B::L::D
B::Showlex => B::S
B::Terse => B::T
B::Xref => B::X
Bundle::NetSNMP => B::NetSNMP
CGI::Apache => CGI::A
CGI::Carp => CGI::C
CGI::Cookie => *undef*
CGI::Fast => CGI::F
CGI::Pretty => CGI::P
CGI::Push => *undef*
CGI::Switch => CGI::S
CGI::Util => CGI::U
CPAN::Author => CPAN::A
CPAN::Bundle => CPAN::B
CPAN::CacheMgr => CPAN::CMgr
CPAN::Checksums => CPAN::C
CPAN::Complete => *undef*
CPAN::Debug => CPAN::D
CPAN::DeferredCode => CPAN::DC
CPAN::DistnameInfo => CPAN::DI
CPAN::Distribution => *undef*
CPAN::Distroprefs => *undef*
CPAN::Distrostatus => *undef*
CPAN::Exception::RecursiveDependency => CPAN::E::RD
CPAN::Exception::blocked_urllist => CPAN::E::b
CPAN::Exception::yaml_not_installed => CPAN::E::y
CPAN::Exception::yaml_process_error => *undef*
CPAN::FTP::netrc => CPAN::FTP::n
CPAN::FirstTime => CPAN::FT
CPAN::HTTP::Client => CPAN::HTTP::C
CPAN::HTTP::Credentials => *undef*
CPAN::HandleConfig => CPAN::HC
CPAN::Index => CPAN::I
CPAN::InfoObj => CPAN::IObj
CPAN::Kwalify => CPAN::K
CPAN::LWP::UserAgent => CPAN::LWP::UA
CPAN::Meta => CPAN::M
CPAN::Meta::Check => CPAN::M::C
CPAN::Meta::Converter => *undef*
CPAN::Meta::Feature => CPAN::M::F
CPAN::Meta::History => CPAN::M::H
CPAN::Meta::Prereqs => CPAN::M::P
CPAN::Meta::Requirements => CPAN::M::R
CPAN::Meta::Spec => CPAN::M::S
CPAN::Meta::Validator => CPAN::M::V
CPAN::Meta::YAML => CPAN::M::YAML
CPAN::Mirrors => *undef*
CPAN::Module => *undef*
CPAN::Prompt => CPAN::P
CPAN::Queue => CPAN::Q
CPAN::Reporter => CPAN::R
CPAN::Reporter::Smoker => CPAN::R::S
CPAN::Shell => CPAN::S
CPAN::Tarzip => CPAN::T
CPAN::Testers::Report => CPAN::T::R
CPAN::Version => CPAN::V
CPANPLUS::Backend => CPANPLUS::B
CPANPLUS::Backend::RV => CPANPLUS::B::RV
CPANPLUS::Config => CPANPLUS::C
CPANPLUS::Config::HomeEnv => CPANPLUS::C::HEnv
CPANPLUS::Configure => *undef*
CPANPLUS::Configure::Setup => CPANPLUS::C::S
CPANPLUS::Dist => CPANPLUS::D
CPANPLUS::Dist::Autobundle => CPANPLUS::D::A
CPANPLUS::Dist::Base => CPANPLUS::D::B
CPANPLUS::Dist::Build => *undef*
CPANPLUS::Dist::Build::Constants => CPANPLUS::D::B::C
CPANPLUS::Dist::MM => CPANPLUS::D::MM
CPANPLUS::Dist::Sample => CPANPLUS::D::S
CPANPLUS::Error => CPANPLUS::E
CPANPLUS::Internals => CPANPLUS::I
CPANPLUS::Internals::Constants => CPANPLUS::I::C
CPANPLUS::Internals::Constants::Report => CPANPLUS::I::C::R
CPANPLUS::Internals::Extract => CPANPLUS::I::E
CPANPLUS::Internals::Fetch => CPANPLUS::I::F
CPANPLUS::Internals::Report => CPANPLUS::I::R
CPANPLUS::Internals::Search => CPANPLUS::I::S
CPANPLUS::Internals::Source => *undef*
CPANPLUS::Internals::Source::Memory => CPANPLUS::I::S::M
CPANPLUS::Internals::Source::SQLite => CPANPLUS::I::S::SQL
CPANPLUS::Internals::Source::SQLite::Tie => CPANPLUS::I::S::SQL::Tie
CPANPLUS::Internals::Utils => CPANPLUS::I::U
CPANPLUS::Internals::Utils::Autoflush => CPANPLUS::I::U::A
CPANPLUS::Module => CPANPLUS::M
CPANPLUS::Module::Author => CPANPLUS::M::A
CPANPLUS::Module::Author::Fake => CPANPLUS::M::A::F
CPANPLUS::Module::Checksums => CPANPLUS::M::C
CPANPLUS::Module::Fake => CPANPLUS::M::F
CPANPLUS::Module::Signature => CPANPLUS::M::S
CPANPLUS::Selfupdate => CPANPLUS::S
CPANPLUS::Shell => *undef*
CPANPLUS::Shell::Classic => CPANPLUS::S::C
CPANPLUS::Shell::Default => CPANPLUS::S::D
CPANPLUS::Shell::Default::Plugins::CustomSource => CPANPLUS::S::D::P::CS
CPANPLUS::Shell::Default::Plugins::Remote => CPANPLUS::S::D::P::R
CPANPLUS::Shell::Default::Plugins::Source => CPANPLUS::S::D::P::S
Capture::Tiny => C::T
Carp::Heavy => C::H
Class::Accessor => C::A
Class::Data::Inheritable => C::D::I
Class::ErrorHandler => C::EH
Class::Exporter => C::E
Class::Singleton => C::S
Class::Struct => *undef*
Compress::Bzip2 => C::B2
Compress::Raw::Bzip2 => C::Raw::B2
Compress::Raw::Zlib => C::Raw::Z
Compress::Zlib => C::Z
Config::Extensions => *undef*
Config::Perl::V => C::P::V
Config::Tiny => *undef*
Convert::ASN1 => C::ASN1
Convert::PEM => C::PEM
Crypt::CBC => C::CBC
Crypt::DES => C::DES
Crypt::DES_EDE3 => C::DES_EDE3
Crypt::SSLeay => C::SSL
DBD::mysql => DBD::m
DBM_Filter => DBM_F
DBM_Filter::compress => DBM_F::c
DBM_Filter::encode => DBM_F::e
DBM_Filter::int32 => DBM_F::int32
DBM_Filter::null => DBM_F::n
DBM_Filter::utf8 => DBM_F::utf8
DB_File => DB_F
Data::Buffer => D::B
Data::Compare => D::C
Data::Dumper => D::D
Data::GUID => D::GUID
Data::OptList => D::OptL
Data::UUID => D::UUID
Date::Parse => D::P
DateTime => DT
DateTime::Format::Mail => DT::F::M
DateTime::Format::W3CDTF => DT::F::W3CDTF
DateTime::Locale => DT::L
DateTime::TimeZone => DT::TZ
Devel::Autoflush => D::A
Devel::InnerPackage => D::IP
Devel::PPPort => D::PPP
Devel::Peek => *undef*
Devel::SelfStubber => D::SS
Devel::StackTrace => D::ST
Devel::Symdump => D::S
Digest::MD5 => D::MD5
Digest::SHA => D::SHA
Digest::base => D::b
Digest::file => D::f
DirHandle => DirH
Dist::CheckConflicts => D::CC
DynaLoader => DL
Encode::Alias => E::A
Encode::Byte => E::B
Encode::CJKConstants => E::CJKC
Encode::CN => E::CN
Encode::CN::HZ => E::CN::HZ
Encode::Config => E::C
Encode::EBCDIC => E::EBCDIC
Encode::Encoder => E::E
Encode::Encoding => *undef*
Encode::GSM0338 => E::GSM0338
Encode::Guess => E::G
Encode::JP => E::JP
Encode::JP::H2Z => E::JP::H2Z
Encode::JP::JIS7 => E::JP::JIS7
Encode::KR => E::KR
Encode::KR::2022_KR => E::KR::2022_KR
Encode::Locale => E::L
Encode::MIME::Header => E::MIME::H
Encode::MIME::Header::ISO_2022_JP => E::MIME::H::ISO_2022_JP
Encode::MIME::Name => E::MIME::N
Encode::Symbol => E::S
Encode::TW => E::TW
Encode::Unicode => E::U
Encode::Unicode::UTF7 => E::U::UTF7
Exception::Class => *undef*
Exporter::Heavy => E::H
Exporter::Tiny => E::T
ExtUtils::CBuilder => ExtU::CB
ExtUtils::CBuilder::Base => ExtU::CB::B
ExtUtils::CBuilder::Platform::Unix => ExtU::CB::P::U
ExtUtils::CBuilder::Platform::VMS => ExtU::CB::P::VMS
ExtUtils::CBuilder::Platform::Windows => ExtU::CB::P::W
ExtUtils::CBuilder::Platform::Windows::BCC => ExtU::CB::P::W::BCC
ExtUtils::CBuilder::Platform::Windows::GCC => ExtU::CB::P::W::GCC
ExtUtils::CBuilder::Platform::Windows::MSVC => ExtU::CB::P::W::MSVC
ExtUtils::CBuilder::Platform::aix => ExtU::CB::P::aix
ExtUtils::CBuilder::Platform::cygwin => ExtU::CB::P::c
ExtUtils::CBuilder::Platform::darwin => ExtU::CB::P::d
ExtUtils::CBuilder::Platform::dec_osf => *undef*
ExtUtils::CBuilder::Platform::os2 => ExtU::CB::P::os2
ExtUtils::Command => ExtU::C
ExtUtils::Command::MM => ExtU::C::MM
ExtUtils::Constant => *undef*
ExtUtils::Constant::Base => ExtU::C::B
ExtUtils::Constant::ProxySubs => ExtU::C::PS
ExtUtils::Constant::Utils => ExtU::C::U
ExtUtils::Constant::XS => ExtU::C::XS
ExtUtils::Embed => ExtU::E
ExtUtils::Install => ExtU::I
ExtUtils::Installed => *undef*
ExtUtils::Liblist => ExtU::L
ExtUtils::Liblist::Kid => ExtU::L::Kid
ExtUtils::MM => ExtU::MM
ExtUtils::MM_AIX => ExtU::MM_AIX
ExtUtils::MM_Any => ExtU::MM_Any
ExtUtils::MM_BeOS => ExtU::MM_BeOS
ExtUtils::MM_Cygwin => ExtU::MM_C
ExtUtils::MM_DOS => ExtU::MM_DOS
ExtUtils::MM_Darwin => ExtU::MM_D
ExtUtils::MM_MacOS => ExtU::MM_MacOS
ExtUtils::MM_NW5 => ExtU::MM_NW5
ExtUtils::MM_OS2 => ExtU::MM_OS2
ExtUtils::MM_QNX => ExtU::MM_QNX
ExtUtils::MM_UWIN => ExtU::MM_UWIN
ExtUtils::MM_Unix => ExtU::MM_U
ExtUtils::MM_VMS => ExtU::MM_VMS
ExtUtils::MM_VOS => ExtU::MM_VOS
ExtUtils::MM_Win32 => ExtU::MM_Win32
ExtUtils::MM_Win95 => ExtU::MM_Win95
ExtUtils::MY => ExtU::MY
ExtUtils::MakeMaker => *undef*
ExtUtils::MakeMaker::Config => ExtU::MM::C
ExtUtils::Manifest => ExtU::M
ExtUtils::Miniperl => *undef*
ExtUtils::Mkbootstrap => *undef*
ExtUtils::Mksymlists => *undef*
ExtUtils::Packlist => ExtU::P
ExtUtils::ParseXS => ExtU::PXS
ExtUtils::ParseXS::Constants => ExtU::PXS::C
ExtUtils::ParseXS::CountLines => ExtU::PXS::CL
ExtUtils::ParseXS::Utilities => ExtU::PXS::U
ExtUtils::Typemaps => ExtU::T
ExtUtils::Typemaps::Cmd => ExtU::T::Cmd
ExtUtils::Typemaps::InputMap => ExtU::T::IMap
ExtUtils::Typemaps::OutputMap => ExtU::T::OMap
ExtUtils::Typemaps::Type => ExtU::T::T
ExtUtils::XSSymSet => ExtU::XSSymSet
ExtUtils::testlib => ExtU::t
File::Basename => F::B
File::CheckTree => F::CT
File::Compare => F::C
File::Copy => *undef*
File::Copy::Recursive => F::C::R
File::DosGlob => F::DosG
File::Fetch => F::F
File::Find => *undef*
File::Find::Rule => F::F::R
File::Glob => F::G
File::GlobMapper => F::GM
File::HomeDir => F::HDir
File::Listing => F::L
File::Path => F::P
File::Slurp => F::S
File::Spec => *undef*
File::Spec::Cygwin => F::S::C
File::Spec::Epoc => F::S::E
File::Spec::Functions => F::S::F
File::Spec::Mac => F::S::Mac
File::Spec::OS2 => F::S::OS2
File::Spec::Unix => F::S::U
File::Spec::VMS => F::S::VMS
File::Spec::Win32 => F::S::Win32
File::Temp => F::T
File::Which => F::W
File::pushd => F::p
File::stat => F::s
FileCache => FC
FileHandle => FH
Filter::Simple => *undef*
Filter::Util::Call => F::U::C
FindBin => FBin
GDBM_File => GDBM_F
Getopt::Long => G::L
Getopt::Std => G::Std
HTML::Parser => HTML::P
HTML::Tagset => HTML::T
HTTP::Cookies => HTTP::C
HTTP::Daemon => HTTP::D
HTTP::Date => *undef*
HTTP::Message => HTTP::M
HTTP::Negotiate => HTTP::N
HTTP::Tiny => HTTP::T
Hash::Util => H::U
Hash::Util::FieldHash => H::U::FH
I18N::Collate => I18N::C
I18N::LangTags => I18N::LT
I18N::LangTags::Detect => I18N::LT::D
I18N::LangTags::List => I18N::LT::L
I18N::Langinfo => I18N::L
IO::CaptureOutput => IO::CO
IO::Compress::Adapter::Bzip2 => IO::C::A::B2
IO::Compress::Adapter::Deflate => IO::C::A::D
IO::Compress::Adapter::Identity => IO::C::A::I
IO::Compress::Base => IO::C::B
IO::Compress::Base::Common => IO::C::B::C
IO::Compress::Bzip2 => IO::C::B2
IO::Compress::Deflate => IO::C::D
IO::Compress::Gzip => IO::C::G
IO::Compress::Gzip::Constants => IO::C::G::C
IO::Compress::RawDeflate => IO::C::RawD
IO::Compress::Zip => IO::C::Zip
IO::Compress::Zip::Constants => IO::C::Zip::C
IO::Compress::Zlib::Constants => IO::C::Z::C
IO::Compress::Zlib::Extra => IO::C::Z::E
IO::File => IO::F
IO::Handle => IO::H
IO::Pipe => IO::P
IO::Poll => *undef*
IO::Prompt::Tiny => IO::P::T
IO::Seekable => IO::S
IO::Select => *undef*
IO::Socket => *undef*
IO::Socket::INET => IO::S::INET
IO::Socket::SSL => IO::S::SSL
IO::Socket::UNIX => IO::S::UNIX
IO::Uncompress::Adapter::Bunzip2 => IO::U::A::B2
IO::Uncompress::Adapter::Identity => IO::U::A::I
IO::Uncompress::Adapter::Inflate => *undef*
IO::Uncompress::AnyInflate => IO::U::AnyI
IO::Uncompress::AnyUncompress => IO::U::AnyU
IO::Uncompress::Base => IO::U::B
IO::Uncompress::Bunzip2 => IO::U::B2
IO::Uncompress::Gunzip => IO::U::G
IO::Uncompress::Inflate => IO::U::I
IO::Uncompress::RawInflate => IO::U::RawI
IO::Uncompress::Unzip => IO::U::U
IO::Zlib => IO::Z
IPC::Open2 => IPC::O2
IPC::Open3 => IPC::O3
IPC::Semaphore => IPC::S
IPC::SharedMem => IPC::SMem
Image::Magick => I::M
Irssi::Irc => I::Irc
Irssi::TextUI => I::TUI
Irssi::UI => I::UI
JSON::PP::Boolean => JSON::PP::B
LWP::MediaTypes => LWP::MT
LWP::Protocol::https => LWP::P::h
Lingua::PT::Stemmer => L::PT::S
Lingua::Stem => L::S
Lingua::Stem::Fr => L::S::Fr
Lingua::Stem::It => L::S::It
Lingua::Stem::Ru => L::S::Ru
Lingua::Stem::Snowball::Da => L::S::S::Da
Lingua::Stem::Snowball::No => L::S::S::No
Lingua::Stem::Snowball::Se => L::S::S::Se
List::MoreUtils => L::MU
List::Util => L::U
List::Util::XS => L::U::XS
Locale::Codes => L::C
Locale::Codes::Constants => L::C::C
Locale::Codes::Country => *undef*
Locale::Codes::Country_Codes => L::C::CC
Locale::Codes::Country_Retired => L::C::CR
Locale::Codes::Currency => *undef*
Locale::Codes::Currency_Codes => *undef*
Locale::Codes::Currency_Retired => *undef*
Locale::Codes::LangExt => L::C::LExt
Locale::Codes::LangExt_Codes => L::C::LEC
Locale::Codes::LangExt_Retired => L::C::LER
Locale::Codes::LangFam => L::C::LFam
Locale::Codes::LangFam_Codes => L::C::LFC
Locale::Codes::LangFam_Retired => L::C::LFR
Locale::Codes::LangVar => L::C::LVar
Locale::Codes::LangVar_Codes => L::C::LVC
Locale::Codes::LangVar_Retired => L::C::LVR
Locale::Codes::Language => L::C::L
Locale::Codes::Language_Codes => L::C::LC
Locale::Codes::Language_Retired => L::C::LR
Locale::Codes::Script => L::C::S
Locale::Codes::Script_Codes => L::C::SC
Locale::Codes::Script_Retired => L::C::SR
Locale::Country => *undef*
Locale::Currency => *undef*
Locale::Language => L::L
Locale::Maketext => L::M
Locale::Maketext::Guts => L::M::G
Locale::Maketext::GutsLoader => L::M::GL
Locale::Maketext::Simple => L::M::S
Locale::Script => *undef*
Locale::gettext => L::g
Log::Message => Log::M
Log::Message::Config => Log::M::C
Log::Message::Handlers => Log::M::H
Log::Message::Item => Log::M::I
Log::Message::Simple => Log::M::S
MIME::Base64 => MIME::B64
MIME::QuotedPrint => MIME::QP
Math::BigFloat => M::BigF
Math::BigFloat::Trace => M::BigF::T
Math::BigInt => M::BigInt
Math::BigInt::Calc => M::BigInt::C
Math::BigInt::CalcEmu => M::BigInt::CEmu
Math::BigInt::FastCalc => M::BigInt::FC
Math::BigInt::Trace => M::BigInt::T
Math::BigRat => M::BigRat
Math::Complex => M::C
Math::HashSum => M::HSum
Math::Pari => M::P
Math::Trig => M::T
Math::VecStat => M::VecS
Math::Vector::SortIndexes => M::V::SI
Memoize::AnyDBM_File => M::AnyDBM_F
Memoize::Expire => M::E
Memoize::ExpireFile => M::EF
Memoize::ExpireTest => M::ET
Memoize::NDBM_File => M::NDBM_F
Memoize::SDBM_File => M::SDBM_F
Memoize::Storable => M::S
Metabase::Client::Simple => M::C::S
Metabase::Fact => M::F
Module::Build => M::B
Module::Build::Base => M::B::B
Module::Build::Compat => M::B::C
Module::Build::Config => *undef*
Module::Build::ConfigData => M::B::CD
Module::Build::Cookbook => *undef*
Module::Build::Dumper => M::B::D
Module::Build::ModuleInfo => M::B::MI
Module::Build::Notes => M::B::N
Module::Build::PPMMaker => M::B::PPMM
Module::Build::Platform::Amiga => M::B::P::A
Module::Build::Platform::Default => M::B::P::D
Module::Build::Platform::EBCDIC => M::B::P::EBCDIC
Module::Build::Platform::MPEiX => M::B::P::MPEiX
Module::Build::Platform::MacOS => M::B::P::MacOS
Module::Build::Platform::RiscOS => M::B::P::ROS
Module::Build::Platform::Unix => M::B::P::U
Module::Build::Platform::VMS => M::B::P::VMS
Module::Build::Platform::VOS => M::B::P::VOS
Module::Build::Platform::Windows => M::B::P::W
Module::Build::Platform::aix => M::B::P::aix
Module::Build::Platform::cygwin => M::B::P::c
Module::Build::Platform::darwin => M::B::P::d
Module::Build::Platform::os2 => M::B::P::os2
Module::Build::PodParser => M::B::PodP
Module::Build::Version => M::B::V
Module::Build::YAML => M::B::YAML
Module::CoreList => M::CL
Module::CoreList::TieHashDelta => M::CL::TieHD
Module::CoreList::Utils => M::CL::U
Module::Implementation => M::I
Module::Load => M::L
Module::Load::Conditional => M::L::C
Module::Loaded => *undef*
Module::Metadata => M::M
Module::Pluggable => *undef*
Module::Pluggable::Fast => M::P::F
Module::Pluggable::Object => M::P::O
Module::Runtime => M::R
Moped::Msg => M::Msg
Mozilla::CA => M::CA
NDBM_File => NDBM_F
Net::Config => Net::C
Net::Domain => Net::D
Net::FTP::dataconn => Net::FTP::d
Net::Netrc => Net::N
Net::Ping => Net::P
Net::SSLeay => Net::SSL
Net::Time => Net::T
Net::hostent => Net::h
Net::netent => Net::n
Net::protoent => Net::p
Net::servent => Net::s
Number::Compare => N::C
ODBM_File => ODBM_F
Object::Accessor => O::A
PDA::Pilot => PDA::P
Package::Constants => P::C
Params::Check => *undef*
Params::Util => P::U
Params::Validate => P::V
Parse::CPAN::Meta => P::CPAN::M
Path::Class => *undef*
Perl::OSType => P::OST
PerlIO => PIO
PerlIO::encoding => PIO::e
PerlIO::mmap => PIO::m
PerlIO::scalar => PIO::s
PerlIO::via => PIO::via
PerlIO::via::QuotedPrint => PIO::via::QP
Pod::Checker => Pod::C
Pod::Coverage => *undef*
Pod::Escapes => Pod::E
Pod::Find => Pod::F
Pod::Functions => *undef*
Pod::Functions::Functions => Pod::F::F
Pod::Html => Pod::H
Pod::InputObjects => Pod::IO
Pod::ParseLink => Pod::PL
Pod::ParseUtils => Pod::PU
Pod::Parser => Pod::P
Pod::Perldoc => *undef*
Pod::Perldoc::BaseTo => Pod::P::BTo
Pod::Perldoc::GetOptsOO => Pod::P::GetOOO
Pod::Perldoc::ToANSI => Pod::P::ToANSI
Pod::Perldoc::ToChecker => Pod::P::ToC
Pod::Perldoc::ToMan => Pod::P::ToMan
Pod::Perldoc::ToNroff => Pod::P::ToN
Pod::Perldoc::ToPod => Pod::P::ToPod
Pod::Perldoc::ToRtf => Pod::P::ToRtf
Pod::Perldoc::ToTerm => Pod::P::ToT
Pod::Perldoc::ToText => *undef*
Pod::Perldoc::ToTk => Pod::P::ToTk
Pod::Perldoc::ToXml => Pod::P::ToXml
Pod::PlainText => Pod::PT
Pod::Select => Pod::S
Pod::Simple => *undef*
Pod::Simple::BlackBox => Pod::S::BBox
Pod::Simple::Checker => Pod::S::C
Pod::Simple::Debug => Pod::S::D
Pod::Simple::DumpAsText => Pod::S::DAsT
Pod::Simple::DumpAsXML => Pod::S::DAsXML
Pod::Simple::HTML => Pod::S::HTML
Pod::Simple::HTMLBatch => Pod::S::HTMLB
Pod::Simple::HTMLLegacy => Pod::S::HTMLL
Pod::Simple::LinkSection => Pod::S::LS
Pod::Simple::Methody => Pod::S::M
Pod::Simple::Progress => Pod::S::P
Pod::Simple::PullParser => Pod::S::PP
Pod::Simple::PullParserEndToken => Pod::S::PPEndT
Pod::Simple::PullParserStartToken => Pod::S::PPST
Pod::Simple::PullParserTextToken => Pod::S::PPTT
Pod::Simple::PullParserToken => Pod::S::PPT
Pod::Simple::RTF => Pod::S::RTF
Pod::Simple::Search => Pod::S::S
Pod::Simple::SimpleTree => Pod::S::ST
Pod::Simple::Text => Pod::S::T
Pod::Simple::TextContent => Pod::S::TC
Pod::Simple::TiedOutFH => Pod::S::TOutFH
Pod::Simple::Transcode => *undef*
Pod::Simple::TranscodeDumb => Pod::S::TD
Pod::Simple::TranscodeSmart => Pod::S::TS
Pod::Simple::XHTML => Pod::S::XHTML
Pod::Simple::XMLOutStream => Pod::S::XMLOutS
Pod::Text => Pod::T
Pod::Text::Color => Pod::T::C
Pod::Text::Overstrike => Pod::T::O
Pod::Text::Termcap => Pod::T::T
Pod::Usage => Pod::U
Probe::Perl => P::P
SDBM_File => SDBM_F
SVN::_Core => SVN::_C
Scalar::Util => S::U
Search::Dict => S::D
SelectSaver => SS
SelfLoader => SL
Sub::Exporter => Sub::E
Sub::Install => Sub::I
Sub::Name => Sub::N
Sys::CpuAffinity => Sys::CpuA
Sys::CpuLoadX => Sys::CpuLX
Sys::Hostname => Sys::H
Sys::Syslog => Sys::S
Sys::Syslog::Win32 => Sys::S::Win32
TAP::Base => TAP::B
TAP::Formatter::Base => TAP::F::B
TAP::Formatter::Color => TAP::F::C
TAP::Formatter::Console => *undef*
TAP::Formatter::Console::ParallelSession => TAP::F::C::PS
TAP::Formatter::Console::Session => TAP::F::C::S
TAP::Formatter::File => TAP::F::F
TAP::Formatter::File::Session => TAP::F::F::S
TAP::Formatter::Session => TAP::F::S
TAP::Harness => TAP::H
TAP::Object => TAP::O
TAP::Parser => TAP::P
TAP::Parser::Aggregator => TAP::P::A
TAP::Parser::Grammar => TAP::P::G
TAP::Parser::Iterator => TAP::P::I
TAP::Parser::Iterator::Array => TAP::P::I::A
TAP::Parser::Iterator::Process => TAP::P::I::P
TAP::Parser::Iterator::Stream => TAP::P::I::S
TAP::Parser::IteratorFactory => TAP::P::IF
TAP::Parser::Multiplexer => TAP::P::M
TAP::Parser::Result => TAP::P::R
TAP::Parser::Result::Bailout => TAP::P::R::B
TAP::Parser::Result::Comment => TAP::P::R::C
TAP::Parser::Result::Plan => TAP::P::R::P
TAP::Parser::Result::Pragma => *undef*
TAP::Parser::Result::Test => TAP::P::R::T
TAP::Parser::Result::Unknown => TAP::P::R::U
TAP::Parser::Result::Version => TAP::P::R::V
TAP::Parser::Result::YAML => TAP::P::R::YAML
TAP::Parser::ResultFactory => TAP::P::RF
TAP::Parser::Scheduler => TAP::P::S
TAP::Parser::Scheduler::Job => TAP::P::S::Job
TAP::Parser::Scheduler::Spinner => TAP::P::S::S
TAP::Parser::Source => *undef*
TAP::Parser::SourceHandler => TAP::P::SH
TAP::Parser::SourceHandler::Executable => TAP::P::SH::E
TAP::Parser::SourceHandler::File => TAP::P::SH::F
TAP::Parser::SourceHandler::Handle => TAP::P::SH::H
TAP::Parser::SourceHandler::Perl => TAP::P::SH::P
TAP::Parser::SourceHandler::RawTAP => TAP::P::SH::RawTAP
TAP::Parser::Utils => TAP::P::U
TAP::Parser::YAMLish::Reader => TAP::P::YAML::R
TAP::Parser::YAMLish::Writer => TAP::P::YAML::W
Term::ANSIColor => T::ANSIC
Term::Cap => T::Cap
Term::Complete => T::C
Term::ReadLine => T::RL
Term::Title => T::T
Term::UI => T::UI
Term::UI::History => T::UI::H
Test::Base => T::B
Test::Builder => *undef*
Test::Builder::Module => T::B::M
Test::Builder::Tester => T::B::T
Test::Builder::Tester::Color => T::B::T::C
Test::Deep => T::D
Test::Fatal => T::F
Test::Harness => T::H
Test::More => T::M
Test::Pod::Coverage => T::Pod::C
Test::Reporter => T::R
Test::Reporter::Transport::Metabase => T::R::T::M
Test::Requires => *undef*
Test::Simple => T::S
Test::Warnings => T::W
Test::YAML => T::YAML
Text::Abbrev => T::A
Text::Balanced => *undef*
Text::Diff => *undef*
Text::German => T::G
Text::Glob => *undef*
Text::ParseWords => T::PW
Text::Soundex => *undef*
Text::Tabs => *undef*
Text::Wrap => *undef*
Thread::Queue => T::Q
Thread::Semaphore => *undef*
Tie::Array => Tie::A
Tie::File => Tie::F
Tie::Handle => Tie::H
Tie::Hash => *undef*
Tie::Hash::NamedCapture => Tie::H::NC
Tie::Memoize => Tie::M
Tie::RefHash => Tie::RefH
Tie::Scalar => Tie::S
Tie::StdHandle => Tie::StdH
Tie::SubstrHash => Tie::SH
Time::HiRes => T::HiRes
Time::Local => T::L
Time::Piece => T::P
Time::Seconds => *undef*
Time::gmtime => T::g
Time::localtime => T::l
Time::tm => T::tm
Try::Tiny => Try::T
Types::Serialiser => *undef*
UNIVERSAL::require => UNIVERSAL::r
Unicode::Collate => U::C
Unicode::Collate::CJK::Big5 => U::C::CJK::Big5
Unicode::Collate::CJK::GB2312 => U::C::CJK::GB2312
Unicode::Collate::CJK::JISX0208 => U::C::CJK::JISX0208
Unicode::Collate::CJK::Korean => U::C::CJK::K
Unicode::Collate::CJK::Pinyin => U::C::CJK::P
Unicode::Collate::CJK::Stroke => U::C::CJK::S
Unicode::Collate::CJK::Zhuyin => U::C::CJK::Z
Unicode::Collate::Locale => U::C::L
Unicode::Normalize => U::N
Unicode::UCD => U::UCD
User::grent => U::g
User::pwent => U::p
VMS::DCLsym => VMS::DCL
VMS::Stdio => VMS::S
Voting::VoteFairRanking => V::VFR
WWW::RobotRules => WWW::RR
WebService::Bloglines => WebS::B
Win32API::File => Win32API::F
Win32API::File::ExtUtils::Myconst2perl => Win32API::F::ExtU::M2
XML::Liberal => XML::L
XML::NamespaceSupport => XML::NS
XML::Parser => XML::P
XML::SAX::Base => XML::SAX::B
XML::Simple => XML::S
XS::APItest => XS::API
XS::Typemap => XS::T
XSLoader => XSL
YAML::Syck => YAML::S
autodie::exception => a::e
autodie::exception::system => a::e::s
autodie::hints => a::h
common::sense => c::s
encoding::warnings => e::w
inc::latest => inc::l
local::lib => l::lib
overload::numbers => o::n
threads::shared => t::s
unicore::Name => u::N
warnings::register => w::r
t/10-check.t ................. ok
t/author-critic.t ............ skipped: these tests are for testing by the author
t/author-test-eol.t .......... skipped: these tests are for testing by the author
t/release-cpan-changes.t ..... skipped: these tests are for release candidate testing
t/release-dist-manifest.t .... skipped: these tests are for release candidate testing
t/release-distmeta.t ......... skipped: these tests are for release candidate testing
t/release-kwalitee.t ......... skipped: these tests are for release candidate testing
t/release-minimum-version.t .. skipped: these tests are for release candidate testing
t/release-mojibake.t ......... skipped: these tests are for release candidate testing
t/release-no-tabs.t .......... skipped: these tests are for release candidate testing
t/release-pod-coverage.t ..... skipped: these tests are for release candidate testing
t/release-pod-linkcheck.t .... skipped: these tests are for release candidate testing
t/release-pod-syntax.t ....... skipped: these tests are for release candidate testing
t/release-portability.t ...... skipped: these tests are for release candidate testing
t/release-test-version.t ..... skipped: these tests are for release candidate testing
t/release-unused-vars.t ...... skipped: these tests are for release candidate testing
All tests successful.
Files=18, Tests=4, 3 wallclock secs ( 0.04 usr 0.02 sys + 0.96 cusr 0.30 csys = 1.32 CPU)
Result: PASS
------------------------------
PREREQUISITES
------------------------------
Prerequisite modules loaded:
requires:
Module Need Have
------------------- ---- -----
File::HomeDir 0 1.00
List::MoreUtils 0 0.413
Module::CoreList 0 2.96
build_requires:
Module Need Have
------------------- ---- -----
ExtUtils::MakeMaker 0 7.10
configure_requires:
Module Need Have
------------------- ---- -----
ExtUtils::MakeMaker 6.30 7.10
------------------------------
ENVIRONMENT AND OTHER CONTEXT
------------------------------
Environment variables:
AUTOMATED_TESTING = 1
LANG = cs_CZ.UTF-8
LC_ALL = cs_CZ.UTF-8
LC_COLLATE = C
LC_CTYPES = cs_CZ.UTF-8
PATH = /home/petr/perl5/bin:/usr/local/bin:/usr/bin:/bin:/usr/games:/usr/lib64/qt/bin:/home/petr/bin
PERL5LIB = /home/petr/perl5/lib/perl5
PERL5OPT =
PERL5_CPANPLUS_IS_RUNNING = 23037
PERL5_CPAN_IS_RUNNING = 23037
PERL5_CPAN_IS_RUNNING_IN_RECURSION = 999,23037
PERL_CR_SMOKER_CURRENT = Acme-TLDR-0.004
PERL_EXTUTILS_AUTOINSTALL = --defaultdeps
PERL_LOCAL_LIB_ROOT = /home/petr/perl5
PERL_LWP_SSL_CA_PATH = /etc/ssl/certs
PERL_MB_OPT = --install_base "/home/petr/perl5"
PERL_MM_OPT = INSTALL_BASE=/home/petr/perl5
PERL_MM_USE_DEFAULT = 1
SHELL = /bin/bash
TERM = screen
Perl special variables (and OS-specific diagnostics, for MSWin32):
$^X = /usr/bin/perl5.18.1
$UID/$EUID = 1000 / 1000
$GID = 100 7 10 11 17 18 19 93 100
$EGID = 100 7 10 11 17 18 19 93 100
Perl module toolchain versions installed:
Module Have
------------------- --------
CPAN 2.10
CPAN::Meta 2.150005
Cwd 3.40
ExtUtils::CBuilder 0.280210
ExtUtils::Command 7.10
ExtUtils::Install 1.59
ExtUtils::MakeMaker 7.10
ExtUtils::Manifest 1.65
ExtUtils::ParseXS 3.18
File::Spec 3.40
JSON 2.90
JSON::PP 2.27203
Module::Build 0.4003
Module::Signature n/a
Parse::CPAN::Meta 1.4417
Test::Harness 3.26
Test::More 1.001014
YAML 1.15
YAML::Syck 1.29
version 0.9902
--
Summary of my perl5 (revision 5 version 18 subversion 1) configuration:
Platform:
osname=linux, osvers=3.10.9, archname=x86_64-linux-thread-multi
uname='linux hive64 3.10.9 #1 smp wed aug 21 14:50:51 cdt 2013 x86_64 amd phenom(tm) ii x6 1100t processor authenticamd gnulinux '
config_args='-de -Dprefix=/usr -Dsiteprefix=/usr/local -Dsitelib=/usr/local/share/perl5 -Dsitearch=/usr/local/lib64/perl5 -Darchlib=/usr/lib64/perl5 -Dvendorprefix=/usr -Dprivlib=/usr/share/perl5 -Dvendorlib=/usr/share/perl5/vendor_perl -Dvendorarch=/usr/lib64/perl5/vendor_perl -Dscriptdir=/usr/bin -Dcccdlflags=-fPIC -Dinstallprefix=/usr -Dlibpth=/usr/local/lib64 /usr/lib64 /lib64 -Doptimize=-O2 -fPIC -Dusethreads -Duseithreads -Duseshrplib -Ubincompat5005 -Uversiononly -Dpager=/usr/bin/less -isr -Darchname=x86_64-linux'
hint=recommended, useposix=true, d_sigaction=define
useithreads=define, usemultiplicity=define
useperlio=define, d_sfio=undef, uselargefiles=define, usesocks=undef
use64bitint=define, use64bitall=define, uselongdouble=undef
usemymalloc=n, bincompat5005=undef
Compiler:
cc='cc', ccflags ='-D_REENTRANT -D_GNU_SOURCE -fno-strict-aliasing -pipe -fstack-protector -I/usr/local/include -D_LARGEFILE_SOURCE -D_FILE_OFFSET_BITS=64',
optimize='-O2 -fPIC',
cppflags='-D_REENTRANT -D_GNU_SOURCE -fno-strict-aliasing -pipe -fstack-protector -I/usr/local/include'
ccversion='', gccversion='4.8.1', gccosandvers=''
intsize=4, longsize=8, ptrsize=8, doublesize=8, byteorder=12345678
d_longlong=define, longlongsize=8, d_longdbl=define, longdblsize=16
ivtype='long', ivsize=8, nvtype='double', nvsize=8, Off_t='off_t', lseeksize=8
alignbytes=8, prototype=define
Linker and Libraries:
ld='cc', ldflags =' -fstack-protector'
libpth=/usr/local/lib64 /usr/lib64 /lib64
libs=-lnsl -lgdbm -ldb -ldl -lm -lcrypt -lutil -lpthread -lc
perllibs=-lnsl -ldl -lm -lcrypt -lutil -lpthread -lc
libc=/lib64/libc-2.17.so, so=so, useshrplib=true, libperl=libperl.so
gnulibc_version='2.17'
Dynamic Linking:
dlsrc=dl_dlopen.xs, dlext=so, d_dlsymun=undef, ccdlflags='-Wl,-E -Wl,-rpath,/usr/lib64/perl5/CORE'
cccdlflags='-fPIC', lddlflags='-shared -O2 -fPIC -fstack-protector'
Characteristics of this binary (from libperl):
Compile-time options: HAS_TIMES MULTIPLICITY PERLIO_LAYERS
PERL_DONT_CREATE_GVSV
PERL_HASH_FUNC_ONE_AT_A_TIME_HARD
PERL_IMPLICIT_CONTEXT PERL_MALLOC_WRAP
PERL_PRESERVE_IVUV PERL_SAWAMPERSAND USE_64_BIT_ALL
USE_64_BIT_INT USE_ITHREADS USE_LARGE_FILES
USE_LOCALE USE_LOCALE_COLLATE USE_LOCALE_CTYPE
USE_LOCALE_NUMERIC USE_PERLIO USE_PERL_ATOF
USE_REENTRANT_API
Built under linux
Compiled at Sep 2 2013 18:11:30
%ENV:
PERL5LIB="/home/petr/perl5/lib/perl5"
PERL5OPT=""
PERL5_CPANPLUS_IS_RUNNING="23037"
PERL5_CPAN_IS_RUNNING="23037"
PERL5_CPAN_IS_RUNNING_IN_RECURSION="999,23037"
PERL_CR_SMOKER_CURRENT="Acme-TLDR-0.004"
PERL_EXTUTILS_AUTOINSTALL="--defaultdeps"
PERL_LOCAL_LIB_ROOT="/home/petr/perl5"
PERL_LWP_SSL_CA_PATH="/etc/ssl/certs"
PERL_MB_OPT="--install_base "/home/petr/perl5""
PERL_MM_OPT="INSTALL_BASE=/home/petr/perl5"
PERL_MM_USE_DEFAULT="1"
@INC:
/home/petr/perl5/lib/perl5/5.18.1/x86_64-linux-thread-multi
/home/petr/perl5/lib/perl5/5.18.1
/home/petr/perl5/lib/perl5/x86_64-linux-thread-multi
/home/petr/perl5/lib/perl5
/usr/local/lib64/perl5
/usr/local/share/perl5
/usr/lib64/perl5/vendor_perl
/usr/share/perl5/vendor_perl
/usr/lib64/perl5
/usr/share/perl5
.