Report for Form-Processor-0.22

Back
From: metabase:user:322078bc-2aae-11df-837a-5e0a49663a4f
Subject: PASS Form-Processor-0.22 v5.12.4 Dragonfly BSD
Date: 2011-09-20T16:36:30Z

This distribution has been tested as part of the CPAN Testers
project, supporting the Perl programming language.  See
http://wiki.cpantesters.org/ for more information or email
questions to cpan-testers-discuss@perl.org


--

Dear HANK,

This is a computer-generated error report created automatically by
CPANPLUS, version 0.9111. Testers personal comments may appear
at the end of this report.

MAKE TEST passed: /usr/home/cpan/pit/bare/perl-5.12.4/bin/perl "-Iinc" /usr/home/cpan/pit/bare/conf/perl-5.12.4/.cpanplus/5.12.4/build/Form-Processor-0.22/Makefile.PL --config= --installdeps=Rose::Object,0.015,UNIVERSAL::require,0,Module::Find,0.05
Cannot determine perl version info from lib/Form/Processor.pm
PERL_DL_NONLAZY=1 /usr/home/cpan/pit/bare/perl-5.12.4/bin/perl "-MExtUtils::Command::MM" "-e" "test_harness(0, 'inc', 'blib/lib', 'blib/arch')" t/01use.t t/10-Field-Boolean.t t/10-Field-Checkbox.t t/10-Field-CIDR_List.t t/10-Field-Date_yyyy_mm_dd.t t/10-Field-DateTime.t t/10-Field-DateTimeDMYHM.t t/10-Field-DateTimeDMYHM2.t t/10-Field-DateTimeManip.t t/10-Field-Email.t t/10-Field-FutureDate.t t/10-Field-Hidden.t t/10-Field-Hour.t t/10-Field-HtmlArea.t t/10-Field-Integer.t t/10-Field-IntRange.t t/10-Field-MD5_Password.t t/10-Field-Minute.t t/10-Field-Money.t t/10-Field-Month.t t/10-Field-MonthDay.t t/10-Field-MonthName.t t/10-Field-Multiple.t t/10-Field-OneToTen.t t/10-Field-Password.t t/10-Field-Phone.t t/10-Field-PosInteger.t t/10-Field-Readonly.t t/10-Field-Second.t t/10-Field-Select.t t/10-Field-Template.t t/10-Field-Text.t t/10-Field-TextArea.t t/10-Field-Upload.t t/10-Field-URL.t t/10-Field-Username.t t/10-Field-USPhone.t t/10-Field-USZipcode.t t/10-Field-Weekday.t t/10-Field-WeekdayStr.t t/10-Field-Year.t t/20form.t
t/01use.t ..................... skipped: Can't test all without all modules
t/10-Field-Boolean.t .......... ok
t/10-Field-Checkbox.t ......... ok
t/10-Field-CIDR_List.t ........ skipped: Missing recommended module [Net::CIDR]
t/10-Field-Date_yyyy_mm_dd.t .. ok
t/10-Field-DateTime.t ......... skipped: Missing recommended module [DateTime]
t/10-Field-DateTimeDMYHM.t .... skipped: Missing recommended module [DateTime]
t/10-Field-DateTimeDMYHM2.t ... skipped: Missing recommended module [DateTime]
t/10-Field-DateTimeManip.t .... skipped: Missing recommended module [DateTime]
t/10-Field-Email.t ............ skipped: Missing recommended module [Email::Valid]
t/10-Field-FutureDate.t ....... skipped: t/10-Field-FutureDate.t: This Field test not implemented yet
t/10-Field-Hidden.t ........... ok
t/10-Field-Hour.t ............. ok
t/10-Field-HtmlArea.t ......... skipped: Missing recommended module [HTML::Tidy]
t/10-Field-Integer.t .......... ok
t/10-Field-IntRange.t ......... ok
t/10-Field-MD5_Password.t ..... ok
t/10-Field-Minute.t ........... ok
t/10-Field-Money.t ............ ok
t/10-Field-Month.t ............ ok
t/10-Field-MonthDay.t ......... ok
t/10-Field-MonthName.t ........ ok
t/10-Field-Multiple.t ......... ok
t/10-Field-OneToTen.t ......... ok
t/10-Field-Password.t ......... ok
t/10-Field-Phone.t ............ ok
t/10-Field-PosInteger.t ....... ok
t/10-Field-Readonly.t ......... ok
t/10-Field-Second.t ........... ok
t/10-Field-Select.t ........... ok
t/10-Field-Template.t ......... skipped: Missing recommended module [Template::Parser]
t/10-Field-Text.t ............. ok
t/10-Field-TextArea.t ......... ok
t/10-Field-Upload.t ........... ok
t/10-Field-URL.t .............. ok
t/10-Field-Username.t ......... ok
t/10-Field-USPhone.t .......... ok
t/10-Field-USZipcode.t ........ ok
t/10-Field-Weekday.t .......... ok
t/10-Field-WeekdayStr.t ....... ok
t/10-Field-Year.t ............. ok
t/20form.t .................... ok
All tests successful.
Files=42, Tests=253,  7 wallclock secs ( 0.05 usr  1.05 sys +  1.52 cusr  3.95 csys =  6.56 CPU)
Result: PASS

[MSG] [Tue Sep 20 17:36:24 2011] Sending test report for 'Form-Processor-0.22'

This report was machine-generated by CPANPLUS::Dist::YACSmoke 0.64.
Powered by minismokebox version 0.54

------------------------------
ENVIRONMENT AND OTHER CONTEXT
------------------------------

Environment variables:

    AUTOMATED_TESTING = 1
    PATH = /sbin:/bin:/usr/sbin:/usr/bin:/usr/games:/usr/pkg/sbin:/usr/pkg/bin:/usr/pkg/xorg/bin:/usr/local/sbin:/usr/local/bin:/home/cpan/bin
    PERL5LIB = :/usr/home/cpan/pit/bare/conf/perl-5.12.4/.cpanplus/5.12.4/build/Module-Find-0.10/blib/lib:/usr/home/cpan/pit/bare/conf/perl-5.12.4/.cpanplus/5.12.4/build/Module-Find-0.10/blib/arch:/usr/home/cpan/pit/bare/conf/perl-5.12.4/.cpanplus/5.12.4/build/Rose-Object-0.859/blib/lib:/usr/home/cpan/pit/bare/conf/perl-5.12.4/.cpanplus/5.12.4/build/Rose-Object-0.859/blib/arch:/usr/home/cpan/pit/bare/conf/perl-5.12.4/.cpanplus/5.12.4/build/UNIVERSAL-require-0.13/blib/lib:/usr/home/cpan/pit/bare/conf/perl-5.12.4/.cpanplus/5.12.4/build/UNIVERSAL-require-0.13/blib/arch:/usr/home/cpan/pit/bare/conf/perl-5.12.4/.cpanplus/5.12.4/build/Form-Processor-0.22/blib/lib:/usr/home/cpan/pit/bare/conf/perl-5.12.4/.cpanplus/5.12.4/build/Form-Processor-0.22/blib/arch
    PERL5_CPANPLUS_IS_RUNNING = 61933
    PERL5_CPANPLUS_IS_VERSION = 0.9111
    PERL5_MINISMOKEBOX = 0.54
    PERL5_YACSMOKE_BASE = /usr/home/cpan/pit/bare/conf/perl-5.12.4
    PERL_EXTUTILS_AUTOINSTALL = --defaultdeps
    PERL_MM_USE_DEFAULT = 1
    SHELL = /usr/pkg/bin/bash
    TERM = screen

Perl special variables (and OS-specific diagnostics, for MSWin32):

    Perl: $^X = /usr/home/cpan/pit/bare/perl-5.12.4/bin/perl
    UID:  $<  = 1002
    EUID: $>  = 1002
    GID:  $(  = 1003 1003
    EGID: $)  = 1003 1003


-------------------------------


--

Summary of my perl5 (revision 5 version 12 subversion 4) configuration:
   
  Platform:
    osname=dragonfly, osvers=2.10-release, archname=x86_64-dragonfly
    uname='dragonfly demise.bingosnet.co.uk 2.10-release dragonfly v2.10.1.1.gf7ba0-release #3: mon apr 25 12:49:45 pdt 2011 root@pkgbox64.dragonflybsd.org:usrobjusrsrcsysx86_64_generic x86_64 '
    config_args='-des -Dprefix=/usr/home/cpan/pit/bare/perl-5.12.4'
    hint=recommended, useposix=true, d_sigaction=define
    useithreads=undef, usemultiplicity=undef
    useperlio=define, d_sfio=undef, uselargefiles=define, usesocks=undef
    use64bitint=define, use64bitall=define, uselongdouble=undef
    usemymalloc=n, bincompat5005=undef
  Compiler:
    cc='cc', ccflags ='-DHAS_FPSETMASK -DHAS_FLOATINGPOINT_H -fno-strict-aliasing -pipe -fstack-protector -I/usr/local/include',
    optimize='-O',
    cppflags='-DHAS_FPSETMASK -DHAS_FLOATINGPOINT_H -fno-strict-aliasing -pipe -fstack-protector -I/usr/local/include'
    ccversion='', gccversion='4.4.5', gccosandvers=''
    intsize=4, longsize=8, ptrsize=8, doublesize=8, byteorder=12345678
    d_longlong=define, longlongsize=8, d_longdbl=define, longdblsize=16
    ivtype='long', ivsize=8, nvtype='double', nvsize=8, Off_t='off_t', lseeksize=8
    alignbytes=8, prototype=define
  Linker and Libraries:
    ld='cc', ldflags ='-Wl,-E  -fstack-protector -L/usr/local/lib'
    libpth=/usr/lib /usr/local/lib
    libs=-lgdbm -lm -lcrypt -lutil -lc
    perllibs=-lm -lcrypt -lutil -lc
    libc=, so=so, useshrplib=false, libperl=libperl.a
    gnulibc_version=''
  Dynamic Linking:
    dlsrc=dl_dlopen.xs, dlext=so, d_dlsymun=undef, ccdlflags=' '
    cccdlflags='-DPIC -fPIC', lddlflags='-shared  -L/usr/local/lib -fstack-protector'


Characteristics of this binary (from libperl): 
  Compile-time options: PERL_DONT_CREATE_GVSV PERL_MALLOC_WRAP USE_64_BIT_ALL
                        USE_64_BIT_INT USE_LARGE_FILES USE_PERLIO
                        USE_PERL_ATOF
  Built under dragonfly
  Compiled at Aug  4 2011 13:53:13
  %ENV:
    PERL5LIB=":/usr/home/cpan/pit/bare/conf/perl-5.12.4/.cpanplus/5.12.4/build/Module-Find-0.10/blib/lib:/usr/home/cpan/pit/bare/conf/perl-5.12.4/.cpanplus/5.12.4/build/Module-Find-0.10/blib/arch:/usr/home/cpan/pit/bare/conf/perl-5.12.4/.cpanplus/5.12.4/build/Rose-Object-0.859/blib/lib:/usr/home/cpan/pit/bare/conf/perl-5.12.4/.cpanplus/5.12.4/build/Rose-Object-0.859/blib/arch:/usr/home/cpan/pit/bare/conf/perl-5.12.4/.cpanplus/5.12.4/build/UNIVERSAL-require-0.13/blib/lib:/usr/home/cpan/pit/bare/conf/perl-5.12.4/.cpanplus/5.12.4/build/UNIVERSAL-require-0.13/blib/arch:/usr/home/cpan/pit/bare/conf/perl-5.12.4/.cpanplus/5.12.4/build/Form-Processor-0.22/blib/lib:/usr/home/cpan/pit/bare/conf/perl-5.12.4/.cpanplus/5.12.4/build/Form-Processor-0.22/blib/arch"
    PERL5_CPANPLUS_IS_RUNNING="61933"
    PERL5_CPANPLUS_IS_VERSION="0.9111"
    PERL5_MINISMOKEBOX="0.54"
    PERL5_YACSMOKE_BASE="/usr/home/cpan/pit/bare/conf/perl-5.12.4"
    PERL_EXTUTILS_AUTOINSTALL="--defaultdeps"
    PERL_MM_USE_DEFAULT="1"
  @INC:
    /usr/home/cpan/pit/bare/conf/perl-5.12.4/.cpanplus/5.12.4/build/Module-Find-0.10/blib/lib
    /usr/home/cpan/pit/bare/conf/perl-5.12.4/.cpanplus/5.12.4/build/Module-Find-0.10/blib/arch
    /usr/home/cpan/pit/bare/conf/perl-5.12.4/.cpanplus/5.12.4/build/Rose-Object-0.859/blib/lib
    /usr/home/cpan/pit/bare/conf/perl-5.12.4/.cpanplus/5.12.4/build/Rose-Object-0.859/blib/arch
    /usr/home/cpan/pit/bare/conf/perl-5.12.4/.cpanplus/5.12.4/build/UNIVERSAL-require-0.13/blib/lib
    /usr/home/cpan/pit/bare/conf/perl-5.12.4/.cpanplus/5.12.4/build/UNIVERSAL-require-0.13/blib/arch
    /usr/home/cpan/pit/bare/conf/perl-5.12.4/.cpanplus/5.12.4/build/Form-Processor-0.22/blib/lib
    /usr/home/cpan/pit/bare/conf/perl-5.12.4/.cpanplus/5.12.4/build/Form-Processor-0.22/blib/arch
    /usr/home/cpan/pit/bare/perl-5.12.4/lib/site_perl/5.12.4/x86_64-dragonfly
    /usr/home/cpan/pit/bare/perl-5.12.4/lib/site_perl/5.12.4
    /usr/home/cpan/pit/bare/perl-5.12.4/lib/5.12.4/x86_64-dragonfly
    /usr/home/cpan/pit/bare/perl-5.12.4/lib/5.12.4
    .