Back
From: metabase:user:31dd1d2e-2aae-11df-837a-5e0a49663a4f
Subject: PASS NSMS-API-0.006 v5.16.3
Date: 2013-10-25T01:48:02Z
This distribution has been tested as part of the CPAN Testers
project, supporting the Perl programming language. See
http://wiki.cpantesters.org/ for more information or email
questions to cpan-testers-discuss@perl.org
--
Dear Thiago Berlitz Rondon,
This is a computer-generated report for NSMS-API-0.006
on perl 5.16.3, created by CPAN-Reporter-1.2010.
Thank you for uploading your work to CPAN. Congratulations!
All tests were successful.
Sections of this report:
* Tester comments
* Program output
* Prerequisites
* Environment and other context
------------------------------
TESTER COMMENTS
------------------------------
Additional comments from tester:
this report is from an automated smoke testing program
and was not reviewed by a human for accuracy
------------------------------
PROGRAM OUTPUT
------------------------------
Output from 'c:\Perl1664\site\bin\dmake.exe test':
C:\Perl1664\bin\perl.exe "-MExtUtils::Command::MM" "-e" "test_harness(0, 'blib\lib', 'blib\arch')" t/*.t
t/00-compile.t ................ ok
#
#
# perl: v5.16.3 (wanted any version) on MSWin32 from C:\Perl1664\bin\perl.exe
#
# Carp => 1.26 (want any version)
# Data::Dumper => 2.139 (want any version)
# English => 1.05 (want any version)
# ExtUtils::MakeMaker => 6.6302 (want 6.30)
# File::Find => 1.20 (want any version)
# File::Temp => 0.2304 (want any version)
# HTTP::Request::Common => 6.03 (want any version)
# HTTP::Response => 6.03 (want any version)
# JSON => 2.53 (want any version)
# LWP::UserAgent => 6.04 (want any version)
# Moose => 2.0604 (want any version)
# Moose::Util::TypeConstraints => 2.0604 (want any version)
# Test::Mock::LWP::Dispatch => 0.06 (want any version)
# Test::More => 0.98 (want 0.88)
# URI::Escape => 3.31 (want any version)
# utf8 => 1.09 (want any version)
#
# Thanks for using my code. I hope it works for you.
# If not, please try and include this output in the bug report.
# That will help me reproduce the issue and solve you problem.
#
t/000-report-versions-tiny.t .. ok
t/author-critic.t ............. skipped: these tests are for testing by the author
t/basic.t ..................... ok
t/pod.t ....................... skipped: Test::Pod 1.00 required for testing POD
t/release-distmeta.t .......... skipped: these tests are for release candidate testing
t/release-eol.t ............... skipped: these tests are for release candidate testing
t/release-has-version.t ....... skipped: these tests are for release candidate testing
t/release-kwalitee.t .......... skipped: these tests are for release candidate testing
t/release-pod-coverage.t ...... skipped: these tests are for release candidate testing
t/release-pod-syntax.t ........ skipped: these tests are for release candidate testing
t/release-unused-vars.t ....... skipped: these tests are for release candidate testing
All tests successful.
Files=12, Tests=9, 4 wallclock secs ( 0.05 usr + 0.05 sys = 0.09 CPU)
Result: PASS
------------------------------
PREREQUISITES
------------------------------
Prerequisite modules loaded:
requires:
Module Need Have
---------------------------- ---- -------
Carp 0 1.26
Data::Dumper 0 2.139
HTTP::Request::Common 0 6.03
HTTP::Response 0 6.03
JSON 0 2.53
LWP::UserAgent 0 6.04
Moose 0 2.0604
Moose::Util::TypeConstraints 0 2.0604
URI::Escape 0 3.31
utf8 0 1.09
build_requires:
Module Need Have
---------------------------- ---- -------
English 0 1.05
File::Find 0 1.20
File::Temp 0 0.2304
Test::Mock::LWP::Dispatch 0 0.06
Test::More 0.88 0.98
configure_requires:
Module Need Have
---------------------------- ---- -------
ExtUtils::MakeMaker 6.30 6.63_02
------------------------------
ENVIRONMENT AND OTHER CONTEXT
------------------------------
Environment variables:
ACTIVEPERL_CONFIG_SILENT = 1
AUTOMATED_TESTING = 1
COMSPEC = C:\Windows\system32\cmd.exe
NUMBER_OF_PROCESSORS = 2
PATH = c:\Perl1664\site\bin;c:\Perl1664\bin;C:\Program Files (x86)\NVIDIA Corporation\PhysX\Common;%CommonProgramFiles%\Microsoft Shared\Windows Live;C:\Program Files (x86)\ActiveState Komodo IDE 6\;C:\Program Files (x86)\PC Connectivity Solution\;C:\Windows\system32;C:\Windows;C:\Windows\System32\Wbem;C:\Windows\System32\WindowsPowerShell\v1.0\;C:\Program Files\TortoiseSVN\bin;C:\Program Files (x86)\Git\cmd;C:\Program Files\TortoiseGit\bin;C:\Program Files (x86)\OpenVPN\bin
PERL5LIB = C:\perl1664\cpan\build\Test-Mock-LWP-Dispatch-0.06-g8ZslO/blib/arch;C:\perl1664\cpan\build\Test-Mock-LWP-Dispatch-0.06-g8ZslO/blib/lib;C:\perl1664\cpan\build\Test-MockObject-1.20120301-3LlPqW/blib/arch;C:\perl1664\cpan\build\Test-MockObject-1.20120301-3LlPqW/blib/lib;C:\perl1664\cpan\build\UNIVERSAL-can-1.20120726-Zka4wn/blib/arch;C:\perl1664\cpan\build\UNIVERSAL-can-1.20120726-Zka4wn/blib/lib;C:\perl1664\cpan\build\UNIVERSAL-isa-1.20120726-dRdHul/blib/arch;C:\perl1664\cpan\build\UNIVERSAL-isa-1.20120726-dRdHul/blib/lib;C:\perl1664\cpan\build\Test-Warn-0.24-M4IFin/blib/arch;C:\perl1664\cpan\build\Test-Warn-0.24-M4IFin/blib/lib;C:\perl1664\cpan\build\Tree-DAG_Node-1.18-vUFoik/blib/arch;C:\perl1664\cpan\build\Tree-DAG_Node-1.18-vUFoik/blib/lib;C:\perl1664\cpan\build\File-Temp-0.2304-pn2Jvt/blib/arch;C:\perl1664\cpan\build\File-Temp-0.2304-pn2Jvt/blib/lib
PERL5OPT =
PERL5_CPANPLUS_IS_RUNNING = 29372
PERL5_CPAN_IS_RUNNING = 29372
PERL5_CPAN_IS_RUNNING_IN_RECURSION = 20744,29372
PERL_CR_SMOKER_CURRENT = NSMS-API-0.006
PERL_EXTUTILS_AUTOINSTALL = --defaultdeps
PERL_JSON_BACKEND = JSON::XS
PERL_MM_USE_DEFAULT = 1
PERL_YAML_BACKEND = YAML::XS
PROCESSOR_IDENTIFIER = AMD64 Family 16 Model 4 Stepping 2, AuthenticAMD
TEMP = C:\Users\Mithaldu\AppData\Local\Temp
TERM = dumb
Perl special variables (and OS-specific diagnostics, for MSWin32):
$^X = c:\Perl1664\bin\perl.exe
$UID/$EUID = 0 / 0
$GID = 0
$EGID = 0
Win32::GetOSName = Win7
Win32::GetOSVersion = Service Pack 1, 6, 1, 7601, 2, 1, 0, 256, 1
Win32::FsType = NTFS
Win32::IsAdminUser = 0
Perl module toolchain versions installed:
Module Have
------------------- --------
CPAN 1.9800
CPAN::Meta 2.132140
Cwd 3.40
ExtUtils::CBuilder 0.280206
ExtUtils::Command 1.17
ExtUtils::Install 1.54
ExtUtils::MakeMaker 6.63_02
ExtUtils::Manifest 1.61
ExtUtils::ParseXS 3.18
File::Spec 3.40
JSON 2.53
JSON::PP 2.27200
Module::Build 0.4003
Module::Signature n/a
Parse::CPAN::Meta 1.4405
Test::Harness 3.26
Test::More 0.98
YAML 0.84
YAML::Syck n/a
version 0.9902
--
Summary of my perl5 (revision 5 version 16 subversion 3) configuration:
Platform:
osname=MSWin32, osvers=5.2, archname=MSWin32-x64-multi-thread
uname=''
config_args='undef'
hint=recommended, useposix=true, d_sigaction=undef
useithreads=define, usemultiplicity=define
useperlio=define, d_sfio=undef, uselargefiles=define, usesocks=undef
use64bitint=define, use64bitall=undef, uselongdouble=undef
usemymalloc=n, bincompat5005=undef
Compiler:
cc='c:\Perl1664\site\bin\gcc.exe', ccflags ='-DNDEBUG -DWIN32 -D_CONSOLE -DNO_STRICT -DWIN64 -DCONSERVATIVE -DPERL_TEXTMODE_SCRIPTS -DUSE_SITECUSTOMIZE -DPERL_IMPLICIT_CONTEXT -DPERL_IMPLICIT_SYS -DUSE_PERLIO -DHASATTRIBUTE -fno-strict-aliasing -mms-bitfields',
optimize='-O2',
cppflags='-DWIN32'
ccversion='', gccversion='gcc.exe (rubenvb-4.5.4) 4.5.4', gccosandvers=''
intsize=4, longsize=4, ptrsize=8, doublesize=8, byteorder=12345678
d_longlong=undef, longlongsize=8, d_longdbl=define, longdblsize=8
ivtype='__int64', ivsize=8, nvtype='double', nvsize=8, Off_t='__int64', lseeksize=8
alignbytes=8, prototype=define
Linker and Libraries:
ld='c:\Perl1664\site\bin\g++.exe', ldflags ='-L"c:\perl1664\lib\CORE"'
libpth=\lib
libs=-lkernel32 -luser32 -lgdi32 -lwinspool -lcomdlg32 -ladvapi32 -lshell32 -lole32 -loleaut32 -lnetapi32 -luuid -lws2_32 -lmpr -lwinmm -lversion -lodbc32 -lodbccp32 -lcomctl32 -lmsvcrt
perllibs=-lkernel32 -luser32 -lgdi32 -lwinspool -lcomdlg32 -ladvapi32 -lshell32 -lole32 -loleaut32 -lnetapi32 -luuid -lws2_32 -lmpr -lwinmm -lversion -lodbc32 -lodbccp32 -lcomctl32 -lmsvcrt
libc=msvcrt.lib, so=dll, useshrplib=true, libperl=perl516.lib
gnulibc_version=''
Dynamic Linking:
dlsrc=dl_win32.xs, dlext=dll, d_dlsymun=undef, ccdlflags=' '
cccdlflags=' ', lddlflags='-mdll -L"c:\perl1664\lib\CORE"'
Characteristics of this binary (from libperl):
Compile-time options: HAS_TIMES HAVE_INTERP_INTERN MULTIPLICITY
PERLIO_LAYERS PERL_DONT_CREATE_GVSV
PERL_IMPLICIT_CONTEXT PERL_IMPLICIT_SYS
PERL_MALLOC_WRAP PERL_PRESERVE_IVUV PL_OP_SLAB_ALLOC
USE_64_BIT_INT USE_ITHREADS USE_LARGE_FILES
USE_LOCALE USE_LOCALE_COLLATE USE_LOCALE_CTYPE
USE_LOCALE_NUMERIC USE_PERLIO USE_PERL_ATOF
USE_SITECUSTOMIZE
Locally applied patches:
ActivePerl Build 1603 [296746]
Built under MSWin32
Compiled at Mar 13 2013 13:31:10
%ENV:
PERL5LIB="C:\perl1664\cpan\build\Test-Mock-LWP-Dispatch-0.06-g8ZslO/blib/arch;C:\perl1664\cpan\build\Test-Mock-LWP-Dispatch-0.06-g8ZslO/blib/lib;C:\perl1664\cpan\build\Test-MockObject-1.20120301-3LlPqW/blib/arch;C:\perl1664\cpan\build\Test-MockObject-1.20120301-3LlPqW/blib/lib;C:\perl1664\cpan\build\UNIVERSAL-can-1.20120726-Zka4wn/blib/arch;C:\perl1664\cpan\build\UNIVERSAL-can-1.20120726-Zka4wn/blib/lib;C:\perl1664\cpan\build\UNIVERSAL-isa-1.20120726-dRdHul/blib/arch;C:\perl1664\cpan\build\UNIVERSAL-isa-1.20120726-dRdHul/blib/lib;C:\perl1664\cpan\build\Test-Warn-0.24-M4IFin/blib/arch;C:\perl1664\cpan\build\Test-Warn-0.24-M4IFin/blib/lib;C:\perl1664\cpan\build\Tree-DAG_Node-1.18-vUFoik/blib/arch;C:\perl1664\cpan\build\Tree-DAG_Node-1.18-vUFoik/blib/lib;C:\perl1664\cpan\build\File-Temp-0.2304-pn2Jvt/blib/arch;C:\perl1664\cpan\build\File-Temp-0.2304-pn2Jvt/blib/lib"
PERL5_CPANPLUS_IS_RUNNING="29372"
PERL5_CPAN_IS_RUNNING="29372"
PERL5_CPAN_IS_RUNNING_IN_RECURSION="20744,29372"
PERL_CR_SMOKER_CURRENT="NSMS-API-0.006"
PERL_EXTUTILS_AUTOINSTALL="--defaultdeps"
PERL_JSON_BACKEND="JSON::XS"
PERL_MM_USE_DEFAULT="1"
PERL_YAML_BACKEND="YAML::XS"
@INC:
C:\perl1664\cpan\build\Test-Mock-LWP-Dispatch-0.06-g8ZslO/blib/arch
C:\perl1664\cpan\build\Test-Mock-LWP-Dispatch-0.06-g8ZslO/blib/lib
C:\perl1664\cpan\build\Test-MockObject-1.20120301-3LlPqW/blib/arch
C:\perl1664\cpan\build\Test-MockObject-1.20120301-3LlPqW/blib/lib
C:\perl1664\cpan\build\UNIVERSAL-can-1.20120726-Zka4wn/blib/arch
C:\perl1664\cpan\build\UNIVERSAL-can-1.20120726-Zka4wn/blib/lib
C:\perl1664\cpan\build\UNIVERSAL-isa-1.20120726-dRdHul/blib/arch
C:\perl1664\cpan\build\UNIVERSAL-isa-1.20120726-dRdHul/blib/lib
C:\perl1664\cpan\build\Test-Warn-0.24-M4IFin/blib/arch
C:\perl1664\cpan\build\Test-Warn-0.24-M4IFin/blib/lib
C:\perl1664\cpan\build\Tree-DAG_Node-1.18-vUFoik/blib/arch
C:\perl1664\cpan\build\Tree-DAG_Node-1.18-vUFoik/blib/lib
C:\perl1664\cpan\build\File-Temp-0.2304-pn2Jvt/blib/arch
C:\perl1664\cpan\build\File-Temp-0.2304-pn2Jvt/blib/lib
c:/Perl1664/site/lib
c:/Perl1664/lib
.