Reaction v0.002005 Perl 5 v5.39.8 x86_64-linux

Status
Pass
From
Andreas J. König (ANDK)
Dist
Reaction v0.002005
Platform
Perl 5 v5.39.8 x86_64-linux
Date
2024-03-05 11:51:24
ID
b168345a-dae6-11ee-b046-e410b6de2683
This distribution has been tested as part of the CPAN Testers
project, supporting the Perl programming language.  See
http://wiki.cpantesters.org/ for more information or email
questions to cpan-testers-discuss@perl.org


--
Dear Justin Hunter,

This is a computer-generated report for Reaction-0.002005
on perl 5.39.8, created by CPAN-Reporter-1.2019.

Thank you for uploading your work to CPAN.  Congratulations!
All tests were successful.

Sections of this report:

    * Tester comments
    * Program output
    * Prerequisites
    * Environment and other context

------------------------------
TESTER COMMENTS
------------------------------

Additional comments from tester:

this report is from an automated smoke testing program
and was not reviewed by a human for accuracy

------------------------------
PROGRAM OUTPUT
------------------------------

Output from '/usr/bin/make test':

PERL_DL_NONLAZY=1 "/tmp/basesmoker-reloperl-57lK/bin/perl" "-MExtUtils::Command::MM" "-MTest::Harness" "-e" "undef *Test::Harness::Switches; test_harness(0, 'inc', 'blib/lib', 'blib/arch')" t/00componentui_compiles.t t/01app.t t/04load_all.t t/05reflect_attr_from.t t/im_dbic.t t/ui_focus_stack.t t/ui_view.t t/ui_viewport.t t/uncheck_bool_field.t
Attempt to call undefined import method with arguments ("5.80") via package "Catalyst::Runtime" (Perhaps you forgot to load the package?) at /tmp/loop_over_bdir-2354-ukUQqH/Reaction-0.002005-0/blib/lib/ComponentUI.pm line 6.
Class::MOP::load_class is deprecated at /home/sand/src/perl/repoperls/installed-perls/host/k93focal/v5.39.8/b254/lib/site_perl/5.39.8/x86_64-linux/Class/MOP.pm line 69.
	Class::MOP::load_class("ComponentUI::TestModel") called at /tmp/loop_over_bdir-2354-ukUQqH/Reaction-0.002005-0/blib/lib/Catalyst/Model/Reaction/InterfaceModel/DBIC.pm line 24
	Catalyst::Model::Reaction::InterfaceModel::DBIC::COMPONENT("ComponentUI::Model::TestModel", "ComponentUI", HASH(0x557477e9cc08)) called at /home/sand/src/perl/repoperls/installed-perls/host/k93focal/v5.39.8/b254/lib/site_perl/5.39.8/Catalyst.pm line 3240
	eval {...} called at /home/sand/src/perl/repoperls/installed-perls/host/k93focal/v5.39.8/b254/lib/site_perl/5.39.8/Catalyst.pm line 3241
	Catalyst::setup_component("ComponentUI", "ComponentUI::Model::TestModel") called at /home/sand/src/perl/repoperls/installed-perls/host/k93focal/v5.39.8/b254/lib/site_perl/5.39.8/Catalyst.pm line 3218
	Catalyst::__ANON__() called at /home/sand/src/perl/repoperls/installed-perls/host/k93focal/v5.39.8/b254/lib/site_perl/5.39.8/Catalyst.pm line 3065
	Catalyst::setup_components("ComponentUI") called at /home/sand/src/perl/repoperls/installed-perls/host/k93focal/v5.39.8/b254/lib/site_perl/5.39.8/Catalyst.pm line 1438
	Catalyst::setup("ComponentUI") called at /tmp/loop_over_bdir-2354-ukUQqH/Reaction-0.002005-0/blib/lib/ComponentUI.pm line 32
	require ComponentUI.pm called at t/00componentui_compiles.t line 7
	main::BEGIN() called at t/00componentui_compiles.t line 7
	eval {...} called at t/00componentui_compiles.t line 7
	eval 'package main;
BEGIN { ${^WARNING_BITS} = $args[-1] if defined $args[-1] }
#line 7 t/00componentui_compiles.t
use ComponentUI @{$args[0]};
1;
' called at /home/sand/src/perl/repoperls/installed-perls/host/k93focal/v5.39.8/b254/lib/5.39.8/Test/More.pm line 1056
	Test::More::_eval("package main;\x{a}BEGIN { \${^WARNING_BITS} = \$args[-1] if defined"..., ARRAY(0x5574741d7f48), "UUUUUUUUUUUUUUUUUUUUU") called at /home/sand/src/perl/repoperls/installed-perls/host/k93focal/v5.39.8/b254/lib/5.39.8/Test/More.pm line 1031
	Test::More::use_ok("ComponentUI") called at t/00componentui_compiles.t line 7
Class::MOP::load_class is deprecated at /home/sand/src/perl/repoperls/installed-perls/host/k93focal/v5.39.8/b254/lib/site_perl/5.39.8/x86_64-linux/Class/MOP.pm line 69.
	Class::MOP::load_class("Reaction::InterfaceModel::Object") called at /tmp/loop_over_bdir-2354-ukUQqH/Reaction-0.002005-0/blib/lib/Reaction/InterfaceModel/Reflector/DBIC.pm line 149
	Reaction::InterfaceModel::Reflector::DBIC::reflect_schema(Reaction::InterfaceModel::Reflector::DBIC=HASH(0x55747ae78ef8), "model_class", "ComponentUI::TestModel", "schema_class", "RTest::TestDB", "sources", ARRAY(0x55747ae79660)) called at /tmp/loop_over_bdir-2354-ukUQqH/Reaction-0.002005-0/blib/lib/ComponentUI/TestModel.pm line 10
	require ComponentUI/TestModel.pm called at /home/sand/src/perl/repoperls/installed-perls/host/k93focal/v5.39.8/b254/lib/site_perl/5.39.8/Module/Runtime.pm line 314
	Module::Runtime::require_module("ComponentUI::TestModel") called at /home/sand/src/perl/repoperls/installed-perls/host/k93focal/v5.39.8/b254/lib/site_perl/5.39.8/Class/Load.pm line 174
	Class::Load::try {...} () called at /home/sand/src/perl/repoperls/installed-perls/host/k93focal/v5.39.8/b254/lib/site_perl/5.39.8/Try/Tiny.pm line 98
	eval {...} called at /home/sand/src/perl/repoperls/installed-perls/host/k93focal/v5.39.8/b254/lib/site_perl/5.39.8/Try/Tiny.pm line 93
	Try::Tiny::try(CODE(0x557477408fd0), Try::Tiny::Catch=REF(0x55747aa2ecb8)) called at /home/sand/src/perl/repoperls/installed-perls/host/k93focal/v5.39.8/b254/lib/site_perl/5.39.8/Class/Load.pm line 180
	Class::Load::try_load_class("ComponentUI::TestModel", undef) called at /home/sand/src/perl/repoperls/installed-perls/host/k93focal/v5.39.8/b254/lib/site_perl/5.39.8/Class/Load.pm line 35
	Class::Load::load_class("ComponentUI::TestModel") called at /tmp/loop_over_bdir-2354-ukUQqH/Reaction-0.002005-0/blib/lib/Catalyst/Model/Reaction/InterfaceModel/DBIC.pm line 24
	Catalyst::Model::Reaction::InterfaceModel::DBIC::COMPONENT("ComponentUI::Model::TestModel", "ComponentUI", HASH(0x557477e9cc08)) called at /home/sand/src/perl/repoperls/installed-perls/host/k93focal/v5.39.8/b254/lib/site_perl/5.39.8/Catalyst.pm line 3240
	eval {...} called at /home/sand/src/perl/repoperls/installed-perls/host/k93focal/v5.39.8/b254/lib/site_perl/5.39.8/Catalyst.pm line 3241
	Catalyst::setup_component("ComponentUI", "ComponentUI::Model::TestModel") called at /home/sand/src/perl/repoperls/installed-perls/host/k93focal/v5.39.8/b254/lib/site_perl/5.39.8/Catalyst.pm line 3218
	Catalyst::__ANON__() called at /home/sand/src/perl/repoperls/installed-perls/host/k93focal/v5.39.8/b254/lib/site_perl/5.39.8/Catalyst.pm line 3065
	Catalyst::setup_components("ComponentUI") called at /home/sand/src/perl/repoperls/installed-perls/host/k93focal/v5.39.8/b254/lib/site_perl/5.39.8/Catalyst.pm line 1438
	Catalyst::setup("ComponentUI") called at /tmp/loop_over_bdir-2354-ukUQqH/Reaction-0.002005-0/blib/lib/ComponentUI.pm line 32
	require ComponentUI.pm called at t/00componentui_compiles.t line 7
	main::BEGIN() called at t/00componentui_compiles.t line 7
	eval {...} called at t/00componentui_compiles.t line 7
	eval 'package main;
BEGIN { ${^WARNING_BITS} = $args[-1] if defined $args[-1] }
#line 7 t/00componentui_compiles.t
use ComponentUI @{$args[0]};
1;
' called at /home/sand/src/perl/repoperls/installed-perls/host/k93focal/v5.39.8/b254/lib/5.39.8/Test/More.pm line 1056
	Test::More::_eval("package main;\x{a}BEGIN { \${^WARNING_BITS} = \$args[-1] if defined"..., ARRAY(0x5574741d7f48), "UUUUUUUUUUUUUUUUUUUUU") called at /home/sand/src/perl/repoperls/installed-perls/host/k93focal/v5.39.8/b254/lib/5.39.8/Test/More.pm line 1031
	Test::More::use_ok("ComponentUI") called at t/00componentui_compiles.t line 7
Class::MOP::load_class is deprecated at /home/sand/src/perl/repoperls/installed-perls/host/k93focal/v5.39.8/b254/lib/site_perl/5.39.8/x86_64-linux/Class/MOP.pm line 69.
	Class::MOP::load_class("Reaction::InterfaceModel::Object") called at /tmp/loop_over_bdir-2354-ukUQqH/Reaction-0.002005-0/blib/lib/Reaction/Class.pm line 123
	Reaction::Class::do_class_sub("Reaction::Class", "ComponentUI::TestModel::Foo", "ComponentUI::TestModel::Foo", "is", "Reaction::InterfaceModel::Object", "which", CODE(0x55747b1b1e18)) called at /tmp/loop_over_bdir-2354-ukUQqH/Reaction-0.002005-0/blib/lib/Reaction/Class.pm line 86
	Reaction::Class::("ComponentUI::TestModel::Foo", "is", "Reaction::InterfaceModel::Object", "which", CODE(0x55747b1b1e18)) called at /tmp/loop_over_bdir-2354-ukUQqH/Reaction-0.002005-0/blib/lib/ComponentUI/TestModel/Foo.pm line 8
	require ComponentUI/TestModel/Foo.pm called at /home/sand/src/perl/repoperls/installed-perls/host/k93focal/v5.39.8/b254/lib/site_perl/5.39.8/Module/Runtime.pm line 314
	Module::Runtime::require_module("ComponentUI::TestModel::Foo") called at /home/sand/src/perl/repoperls/installed-perls/host/k93focal/v5.39.8/b254/lib/site_perl/5.39.8/Class/Load.pm line 174
	Class::Load::try {...} () called at /home/sand/src/perl/repoperls/installed-perls/host/k93focal/v5.39.8/b254/lib/site_perl/5.39.8/Try/Tiny.pm line 98
	eval {...} called at /home/sand/src/perl/repoperls/installed-perls/host/k93focal/v5.39.8/b254/lib/site_perl/5.39.8/Try/Tiny.pm line 93
	Try::Tiny::try(CODE(0x55747b1091e0), Try::Tiny::Catch=REF(0x55747b1a3cf0)) called at /home/sand/src/perl/repoperls/installed-perls/host/k93focal/v5.39.8/b254/lib/site_perl/5.39.8/Class/Load.pm line 180
	Class::Load::try_load_class("ComponentUI::TestModel::Foo", undef) called at /home/sand/src/perl/repoperls/installed-perls/host/k93focal/v5.39.8/b254/lib/site_perl/5.39.8/Class/Load.pm line 35
	Class::Load::load_class("ComponentUI::TestModel::Foo") called at /tmp/loop_over_bdir-2354-ukUQqH/Reaction-0.002005-0/blib/lib/Reaction/InterfaceModel/Reflector/DBIC.pm line 892
	eval {...} called at /tmp/loop_over_bdir-2354-ukUQqH/Reaction-0.002005-0/blib/lib/Reaction/InterfaceModel/Reflector/DBIC.pm line 892
	Reaction::InterfaceModel::Reflector::DBIC::_maybe_load_class(Reaction::InterfaceModel::Reflector::DBIC=HASH(0x55747ae78ef8), "ComponentUI::TestModel::Foo") called at /tmp/loop_over_bdir-2354-ukUQqH/Reaction-0.002005-0/blib/lib/Reaction/InterfaceModel/Reflector/DBIC.pm line 876
	Reaction::InterfaceModel::Reflector::DBIC::_load_or_create(Reaction::InterfaceModel::Reflector::DBIC=HASH(0x55747ae78ef8), "ComponentUI::TestModel::Foo", "superclasses", ARRAY(0x55747b0d4f90)) called at /tmp/loop_over_bdir-2354-ukUQqH/Reaction-0.002005-0/blib/lib/Reaction/InterfaceModel/Reflector/DBIC.pm line 448
	Reaction::InterfaceModel::Reflector::DBIC::reflect_source_object(Reaction::InterfaceModel::Reflector::DBIC=HASH(0x55747ae78ef8), "source_name", "Foo", "parent_class", "ComponentUI::TestModel", "parent_domain_model_name", "_rtest_test_db_store", "schema_class", ...) called at /tmp/loop_over_bdir-2354-ukUQqH/Reaction-0.002005-0/blib/lib/Reaction/InterfaceModel/Reflector/DBIC.pm line 323
	Reaction::InterfaceModel::Reflector::DBIC::reflect_source(Reaction::InterfaceModel::Reflector::DBIC=HASH(0x55747ae78ef8), "source_name", "Foo", "parent_class", "ComponentUI::TestModel", "schema_class", "RTest::TestDB", "source_class", ...) called at /tmp/loop_over_bdir-2354-ukUQqH/Reaction-0.002005-0/blib/lib/Reaction/InterfaceModel/Reflector/DBIC.pm line 185
	Reaction::InterfaceModel::Reflector::DBIC::reflect_schema(Reaction::InterfaceModel::Reflector::DBIC=HASH(0x55747ae78ef8), "model_class", "ComponentUI::TestModel", "schema_class", "RTest::TestDB", "sources", ARRAY(0x55747ae79660)) called at /tmp/loop_over_bdir-2354-ukUQqH/Reaction-0.002005-0/blib/lib/ComponentUI/TestModel.pm line 10
	require ComponentUI/TestModel.pm called at /home/sand/src/perl/repoperls/installed-perls/host/k93focal/v5.39.8/b254/lib/site_perl/5.39.8/Module/Runtime.pm line 314
	Module::Runtime::require_module("ComponentUI::TestModel") called at /home/sand/src/perl/repoperls/installed-perls/host/k93focal/v5.39.8/b254/lib/site_perl/5.39.8/Class/Load.pm line 174
	Class::Load::try {...} () called at /home/sand/src/perl/repoperls/installed-perls/host/k93focal/v5.39.8/b254/lib/site_perl/5.39.8/Try/Tiny.pm line 98
	eval {...} called at /home/sand/src/perl/repoperls/installed-perls/host/k93focal/v5.39.8/b254/lib/site_perl/5.39.8/Try/Tiny.pm line 93
	Try::Tiny::try(CODE(0x557477408fd0), Try::Tiny::Catch=REF(0x55747aa2ecb8)) called at /home/sand/src/perl/repoperls/installed-perls/host/k93focal/v5.39.8/b254/lib/site_perl/5.39.8/Class/Load.pm line 180
	Class::Load::try_load_class("ComponentUI::TestModel", undef) called at /home/sand/src/perl/repoperls/installed-perls/host/k93focal/v5.39.8/b254/lib/site_perl/5.39.8/Class/Load.pm line 35
	Class::Load::load_class("ComponentUI::TestModel") called at /tmp/loop_over_bdir-2354-ukUQqH/Reaction-0.002005-0/blib/lib/Catalyst/Model/Reaction/InterfaceModel/DBIC.pm line 24
	Catalyst::Model::Reaction::InterfaceModel::DBIC::COMPONENT("ComponentUI::Model::TestModel", "ComponentUI", HASH(0x557477e9cc08)) called at /home/sand/src/perl/repoperls/installed-perls/host/k93focal/v5.39.8/b254/lib/site_perl/5.39.8/Catalyst.pm line 3240
	eval {...} called at /home/sand/src/perl/repoperls/installed-perls/host/k93focal/v5.39.8/b254/lib/site_perl/5.39.8/Catalyst.pm line 3241
	Catalyst::setup_component("ComponentUI", "ComponentUI::Model::TestModel") called at /home/sand/src/perl/repoperls/installed-perls/host/k93focal/v5.39.8/b254/lib/site_perl/5.39.8/Catalyst.pm line 3218
	Catalyst::__ANON__() called at /home/sand/src/perl/repoperls/installed-perls/host/k93focal/v5.39.8/b254/lib/site_perl/5.39.8/Catalyst.pm line 3065
	Catalyst::setup_components("ComponentUI") called at /home/sand/src/perl/repoperls/installed-perls/host/k93focal/v5.39.8/b254/lib/site_perl/5.39.8/Catalyst.pm line 1438
	Catalyst::setup("ComponentUI") called at /tmp/loop_over_bdir-2354-ukUQqH/Reaction-0.002005-0/blib/lib/ComponentUI.pm line 32
	require ComponentUI.pm called at t/00componentui_compiles.t line 7
	main::BEGIN() called at t/00componentui_compiles.t line 7
	eval {...} called at t/00componentui_compiles.t line 7
	eval 'package main;
BEGIN { ${^WARNING_BITS} = $args[-1] if defined $args[-1] }
#line 7 t/00componentui_compiles.t
use ComponentUI @{$args[0]};
1;
' called at /home/sand/src/perl/repoperls/installed-perls/host/k93focal/v5.39.8/b254/lib/5.39.8/Test/More.pm line 1056
	Test::More::_eval("package main;\x{a}BEGIN { \${^WARNING_BITS} = \$args[-1] if defined"..., ARRAY(0x5574741d7f48), "UUUUUUUUUUUUUUUUUUUUU") called at /home/sand/src/perl/repoperls/installed-perls/host/k93focal/v5.39.8/b254/lib/5.39.8/Test/More.pm line 1031
	Test::More::use_ok("ComponentUI") called at t/00componentui_compiles.t line 7
t/00componentui_compiles.t .. ok
Attempt to call undefined import method with arguments ("5.80") via package "Catalyst::Runtime" (Perhaps you forgot to load the package?) at /tmp/loop_over_bdir-2354-ukUQqH/Reaction-0.002005-0/blib/lib/ComponentUI.pm line 6.
Class::MOP::load_class is deprecated at /home/sand/src/perl/repoperls/installed-perls/host/k93focal/v5.39.8/b254/lib/site_perl/5.39.8/x86_64-linux/Class/MOP.pm line 69.
	Class::MOP::load_class("ComponentUI::TestModel") called at /tmp/loop_over_bdir-2354-ukUQqH/Reaction-0.002005-0/blib/lib/Catalyst/Model/Reaction/InterfaceModel/DBIC.pm line 24
	Catalyst::Model::Reaction::InterfaceModel::DBIC::COMPONENT("ComponentUI::Model::TestModel", "ComponentUI", HASH(0x55d0b7c0dc78)) called at /home/sand/src/perl/repoperls/installed-perls/host/k93focal/v5.39.8/b254/lib/site_perl/5.39.8/Catalyst.pm line 3240
	eval {...} called at /home/sand/src/perl/repoperls/installed-perls/host/k93focal/v5.39.8/b254/lib/site_perl/5.39.8/Catalyst.pm line 3241
	Catalyst::setup_component("ComponentUI", "ComponentUI::Model::TestModel") called at /home/sand/src/perl/repoperls/installed-perls/host/k93focal/v5.39.8/b254/lib/site_perl/5.39.8/Catalyst.pm line 3218
	Catalyst::__ANON__() called at /home/sand/src/perl/repoperls/installed-perls/host/k93focal/v5.39.8/b254/lib/site_perl/5.39.8/Catalyst.pm line 3065
	Catalyst::setup_components("ComponentUI") called at /home/sand/src/perl/repoperls/installed-perls/host/k93focal/v5.39.8/b254/lib/site_perl/5.39.8/Catalyst.pm line 1438
	Catalyst::setup("ComponentUI") called at /tmp/loop_over_bdir-2354-ukUQqH/Reaction-0.002005-0/blib/lib/ComponentUI.pm line 32
	require ComponentUI.pm called at /home/sand/src/perl/repoperls/installed-perls/host/k93focal/v5.39.8/b254/lib/site_perl/5.39.8/Module/Runtime.pm line 314
	Module::Runtime::require_module("ComponentUI") called at /home/sand/src/perl/repoperls/installed-perls/host/k93focal/v5.39.8/b254/lib/site_perl/5.39.8/Class/Load.pm line 174
	Class::Load::try {...} () called at /home/sand/src/perl/repoperls/installed-perls/host/k93focal/v5.39.8/b254/lib/site_perl/5.39.8/Try/Tiny.pm line 98
	eval {...} called at /home/sand/src/perl/repoperls/installed-perls/host/k93focal/v5.39.8/b254/lib/site_perl/5.39.8/Try/Tiny.pm line 93
	Try::Tiny::try(CODE(0x55d0b1920528), Try::Tiny::Catch=REF(0x55d0b2d0cd50)) called at /home/sand/src/perl/repoperls/installed-perls/host/k93focal/v5.39.8/b254/lib/site_perl/5.39.8/Class/Load.pm line 180
	Class::Load::try_load_class("ComponentUI", undef) called at /home/sand/src/perl/repoperls/installed-perls/host/k93focal/v5.39.8/b254/lib/site_perl/5.39.8/Class/Load.pm line 35
	Class::Load::load_class("ComponentUI") called at /home/sand/src/perl/repoperls/installed-perls/host/k93focal/v5.39.8/b254/lib/site_perl/5.39.8/Catalyst/Test.pm line 29
	Catalyst::Test::_build_request_export("Catalyst::Test", HASH(0x55d0b1e478e0)) called at /home/sand/src/perl/repoperls/installed-perls/host/k93focal/v5.39.8/b254/lib/site_perl/5.39.8/Catalyst/Test.pm line 95
	Catalyst::Test::__ANON__("Catalyst::Test", "all", HASH(0x55d0b1e472e0), HASH(0x55d0b1e37cd0)) called at /home/sand/src/perl/repoperls/installed-perls/host/k93focal/v5.39.8/b254/lib/site_perl/5.39.8/Sub/Exporter.pm line 491
	Sub::Exporter::_expand_group("Catalyst::Test", HASH(0x55d0b319bdd8), ARRAY(0x55d0b1e37d18), HASH(0x55d0b1e37cd0), HASH(0x55d0b1e47928), HASH(0x55d0b19204b0)) called at /home/sand/src/perl/repoperls/installed-perls/host/k93focal/v5.39.8/b254/lib/site_perl/5.39.8/Sub/Exporter.pm line 422
	Sub::Exporter::_expand_groups("Catalyst::Test", HASH(0x55d0b319bdd8), ARRAY(0x55d0b319c258), HASH(0x55d0b1e37cd0)) called at /home/sand/src/perl/repoperls/installed-perls/host/k93focal/v5.39.8/b254/lib/site_perl/5.39.8/Sub/Exporter.pm line 740
	Sub::Exporter::__ANON__("Catalyst::Test", "-all", HASH(0x55d0b1e2fa70)) called at /home/sand/src/perl/repoperls/installed-perls/host/k93focal/v5.39.8/b254/lib/site_perl/5.39.8/Catalyst/Test.pm line 155
	Catalyst::Test::import("Catalyst::Test", "ComponentUI") called at t/01app.t line 7
	main::BEGIN() called at t/01app.t line 7
	eval {...} called at t/01app.t line 7
	eval 'package main;
BEGIN { ${^WARNING_BITS} = $args[-1] if defined $args[-1] }
#line 7 t/01app.t
use Catalyst::Test @{$args[0]};
1;
' called at /home/sand/src/perl/repoperls/installed-perls/host/k93focal/v5.39.8/b254/lib/5.39.8/Test/More.pm line 1056
	Test::More::_eval("package main;\x{a}BEGIN { \${^WARNING_BITS} = \$args[-1] if defined"..., ARRAY(0x55d0b18d42a8), "UUUUUUUUUUUUUUUUUUUUU") called at /home/sand/src/perl/repoperls/installed-perls/host/k93focal/v5.39.8/b254/lib/5.39.8/Test/More.pm line 1031
	Test::More::use_ok("Catalyst::Test", "ComponentUI") called at t/01app.t line 7
	main::BEGIN() called at t/01app.t line 8
	eval {...} called at t/01app.t line 8
Class::MOP::load_class is deprecated at /home/sand/src/perl/repoperls/installed-perls/host/k93focal/v5.39.8/b254/lib/site_perl/5.39.8/x86_64-linux/Class/MOP.pm line 69.
	Class::MOP::load_class("Reaction::InterfaceModel::Object") called at /tmp/loop_over_bdir-2354-ukUQqH/Reaction-0.002005-0/blib/lib/Reaction/InterfaceModel/Reflector/DBIC.pm line 149
	Reaction::InterfaceModel::Reflector::DBIC::reflect_schema(Reaction::InterfaceModel::Reflector::DBIC=HASH(0x55d0b86a2b10), "model_class", "ComponentUI::TestModel", "schema_class", "RTest::TestDB", "sources", ARRAY(0x55d0b86b96a8)) called at /tmp/loop_over_bdir-2354-ukUQqH/Reaction-0.002005-0/blib/lib/ComponentUI/TestModel.pm line 10
	require ComponentUI/TestModel.pm called at /home/sand/src/perl/repoperls/installed-perls/host/k93focal/v5.39.8/b254/lib/site_perl/5.39.8/Module/Runtime.pm line 314
	Module::Runtime::require_module("ComponentUI::TestModel") called at /home/sand/src/perl/repoperls/installed-perls/host/k93focal/v5.39.8/b254/lib/site_perl/5.39.8/Class/Load.pm line 174
	Class::Load::try {...} () called at /home/sand/src/perl/repoperls/installed-perls/host/k93focal/v5.39.8/b254/lib/site_perl/5.39.8/Try/Tiny.pm line 98
	eval {...} called at /home/sand/src/perl/repoperls/installed-perls/host/k93focal/v5.39.8/b254/lib/site_perl/5.39.8/Try/Tiny.pm line 93
	Try::Tiny::try(CODE(0x55d0b497bf28), Try::Tiny::Catch=REF(0x55d0b818c188)) called at /home/sand/src/perl/repoperls/installed-perls/host/k93focal/v5.39.8/b254/lib/site_perl/5.39.8/Class/Load.pm line 180
	Class::Load::try_load_class("ComponentUI::TestModel", undef) called at /home/sand/src/perl/repoperls/installed-perls/host/k93focal/v5.39.8/b254/lib/site_perl/5.39.8/Class/Load.pm line 35
	Class::Load::load_class("ComponentUI::TestModel") called at /tmp/loop_over_bdir-2354-ukUQqH/Reaction-0.002005-0/blib/lib/Catalyst/Model/Reaction/InterfaceModel/DBIC.pm line 24
	Catalyst::Model::Reaction::InterfaceModel::DBIC::COMPONENT("ComponentUI::Model::TestModel", "ComponentUI", HASH(0x55d0b7c0dc78)) called at /home/sand/src/perl/repoperls/installed-perls/host/k93focal/v5.39.8/b254/lib/site_perl/5.39.8/Catalyst.pm line 3240
	eval {...} called at /home/sand/src/perl/repoperls/installed-perls/host/k93focal/v5.39.8/b254/lib/site_perl/5.39.8/Catalyst.pm line 3241
	Catalyst::setup_component("ComponentUI", "ComponentUI::Model::TestModel") called at /home/sand/src/perl/repoperls/installed-perls/host/k93focal/v5.39.8/b254/lib/site_perl/5.39.8/Catalyst.pm line 3218
	Catalyst::__ANON__() called at /home/sand/src/perl/repoperls/installed-perls/host/k93focal/v5.39.8/b254/lib/site_perl/5.39.8/Catalyst.pm line 3065
	Catalyst::setup_components("ComponentUI") called at /home/sand/src/perl/repoperls/installed-perls/host/k93focal/v5.39.8/b254/lib/site_perl/5.39.8/Catalyst.pm line 1438
	Catalyst::setup("ComponentUI") called at /tmp/loop_over_bdir-2354-ukUQqH/Reaction-0.002005-0/blib/lib/ComponentUI.pm line 32
	require ComponentUI.pm called at /home/sand/src/perl/repoperls/installed-perls/host/k93focal/v5.39.8/b254/lib/site_perl/5.39.8/Module/Runtime.pm line 314
	Module::Runtime::require_module("ComponentUI") called at /home/sand/src/perl/repoperls/installed-perls/host/k93focal/v5.39.8/b254/lib/site_perl/5.39.8/Class/Load.pm line 174
	Class::Load::try {...} () called at /home/sand/src/perl/repoperls/installed-perls/host/k93focal/v5.39.8/b254/lib/site_perl/5.39.8/Try/Tiny.pm line 98
	eval {...} called at /home/sand/src/perl/repoperls/installed-perls/host/k93focal/v5.39.8/b254/lib/site_perl/5.39.8/Try/Tiny.pm line 93
	Try::Tiny::try(CODE(0x55d0b1920528), Try::Tiny::Catch=REF(0x55d0b2d0cd50)) called at /home/sand/src/perl/repoperls/installed-perls/host/k93focal/v5.39.8/b254/lib/site_perl/5.39.8/Class/Load.pm line 180
	Class::Load::try_load_class("ComponentUI", undef) called at /home/sand/src/perl/repoperls/installed-perls/host/k93focal/v5.39.8/b254/lib/site_perl/5.39.8/Class/Load.pm line 35
	Class::Load::load_class("ComponentUI") called at /home/sand/src/perl/repoperls/installed-perls/host/k93focal/v5.39.8/b254/lib/site_perl/5.39.8/Catalyst/Test.pm line 29
	Catalyst::Test::_build_request_export("Catalyst::Test", HASH(0x55d0b1e478e0)) called at /home/sand/src/perl/repoperls/installed-perls/host/k93focal/v5.39.8/b254/lib/site_perl/5.39.8/Catalyst/Test.pm line 95
	Catalyst::Test::__ANON__("Catalyst::Test", "all", HASH(0x55d0b1e472e0), HASH(0x55d0b1e37cd0)) called at /home/sand/src/perl/repoperls/installed-perls/host/k93focal/v5.39.8/b254/lib/site_perl/5.39.8/Sub/Exporter.pm line 491
	Sub::Exporter::_expand_group("Catalyst::Test", HASH(0x55d0b319bdd8), ARRAY(0x55d0b1e37d18), HASH(0x55d0b1e37cd0), HASH(0x55d0b1e47928), HASH(0x55d0b19204b0)) called at /home/sand/src/perl/repoperls/installed-perls/host/k93focal/v5.39.8/b254/lib/site_perl/5.39.8/Sub/Exporter.pm line 422
	Sub::Exporter::_expand_groups("Catalyst::Test", HASH(0x55d0b319bdd8), ARRAY(0x55d0b319c258), HASH(0x55d0b1e37cd0)) called at /home/sand/src/perl/repoperls/installed-perls/host/k93focal/v5.39.8/b254/lib/site_perl/5.39.8/Sub/Exporter.pm line 740
	Sub::Exporter::__ANON__("Catalyst::Test", "-all", HASH(0x55d0b1e2fa70)) called at /home/sand/src/perl/repoperls/installed-perls/host/k93focal/v5.39.8/b254/lib/site_perl/5.39.8/Catalyst/Test.pm line 155
	Catalyst::Test::import("Catalyst::Test", "ComponentUI") called at t/01app.t line 7
	main::BEGIN() called at t/01app.t line 7
	eval {...} called at t/01app.t line 7
	eval 'package main;
BEGIN { ${^WARNING_BITS} = $args[-1] if defined $args[-1] }
#line 7 t/01app.t
use Catalyst::Test @{$args[0]};
1;
' called at /home/sand/src/perl/repoperls/installed-perls/host/k93focal/v5.39.8/b254/lib/5.39.8/Test/More.pm line 1056
	Test::More::_eval("package main;\x{a}BEGIN { \${^WARNING_BITS} = \$args[-1] if defined"..., ARRAY(0x55d0b18d42a8), "UUUUUUUUUUUUUUUUUUUUU") called at /home/sand/src/perl/repoperls/installed-perls/host/k93focal/v5.39.8/b254/lib/5.39.8/Test/More.pm line 1031
	Test::More::use_ok("Catalyst::Test", "ComponentUI") called at t/01app.t line 7
	main::BEGIN() called at t/01app.t line 8
	eval {...} called at t/01app.t line 8
Class::MOP::load_class is deprecated at /home/sand/src/perl/repoperls/installed-perls/host/k93focal/v5.39.8/b254/lib/site_perl/5.39.8/x86_64-linux/Class/MOP.pm line 69.
	Class::MOP::load_class("Reaction::InterfaceModel::Object") called at /tmp/loop_over_bdir-2354-ukUQqH/Reaction-0.002005-0/blib/lib/Reaction/Class.pm line 123
	Reaction::Class::do_class_sub("Reaction::Class", "ComponentUI::TestModel::Foo", "ComponentUI::TestModel::Foo", "is", "Reaction::InterfaceModel::Object", "which", CODE(0x55d0b8576208)) called at /tmp/loop_over_bdir-2354-ukUQqH/Reaction-0.002005-0/blib/lib/Reaction/Class.pm line 86
	Reaction::Class::("ComponentUI::TestModel::Foo", "is", "Reaction::InterfaceModel::Object", "which", CODE(0x55d0b8576208)) called at /tmp/loop_over_bdir-2354-ukUQqH/Reaction-0.002005-0/blib/lib/ComponentUI/TestModel/Foo.pm line 8
	require ComponentUI/TestModel/Foo.pm called at /home/sand/src/perl/repoperls/installed-perls/host/k93focal/v5.39.8/b254/lib/site_perl/5.39.8/Module/Runtime.pm line 314
	Module::Runtime::require_module("ComponentUI::TestModel::Foo") called at /home/sand/src/perl/repoperls/installed-perls/host/k93focal/v5.39.8/b254/lib/site_perl/5.39.8/Class/Load.pm line 174
	Class::Load::try {...} () called at /home/sand/src/perl/repoperls/installed-perls/host/k93focal/v5.39.8/b254/lib/site_perl/5.39.8/Try/Tiny.pm line 98
	eval {...} called at /home/sand/src/perl/repoperls/installed-perls/host/k93focal/v5.39.8/b254/lib/site_perl/5.39.8/Try/Tiny.pm line 93
	Try::Tiny::try(CODE(0x55d0b87b0038), Try::Tiny::Catch=REF(0x55d0b856cca8)) called at /home/sand/src/perl/repoperls/installed-perls/host/k93focal/v5.39.8/b254/lib/site_perl/5.39.8/Class/Load.pm line 180
	Class::Load::try_load_class("ComponentUI::TestModel::Foo", undef) called at /home/sand/src/perl/repoperls/installed-perls/host/k93focal/v5.39.8/b254/lib/site_perl/5.39.8/Class/Load.pm line 35
	Class::Load::load_class("ComponentUI::TestModel::Foo") called at /tmp/loop_over_bdir-2354-ukUQqH/Reaction-0.002005-0/blib/lib/Reaction/InterfaceModel/Reflector/DBIC.pm line 892
	eval {...} called at /tmp/loop_over_bdir-2354-ukUQqH/Reaction-0.002005-0/blib/lib/Reaction/InterfaceModel/Reflector/DBIC.pm line 892
	Reaction::InterfaceModel::Reflector::DBIC::_maybe_load_class(Reaction::InterfaceModel::Reflector::DBIC=HASH(0x55d0b86a2b10), "ComponentUI::TestModel::Foo") called at /tmp/loop_over_bdir-2354-ukUQqH/Reaction-0.002005-0/blib/lib/Reaction/InterfaceModel/Reflector/DBIC.pm line 876
	Reaction::InterfaceModel::Reflector::DBIC::_load_or_create(Reaction::InterfaceModel::Reflector::DBIC=HASH(0x55d0b86a2b10), "ComponentUI::TestModel::Foo", "superclasses", ARRAY(0x55d0b856cb40)) called at /tmp/loop_over_bdir-2354-ukUQqH/Reaction-0.002005-0/blib/lib/Reaction/InterfaceModel/Reflector/DBIC.pm line 448
	Reaction::InterfaceModel::Reflector::DBIC::reflect_source_object(Reaction::InterfaceModel::Reflector::DBIC=HASH(0x55d0b86a2b10), "source_class", "RTest::TestDB::Foo", "parent_class", "ComponentUI::TestModel", "schema_class", "RTest::TestDB", "source_name", ...) called at /tmp/loop_over_bdir-2354-ukUQqH/Reaction-0.002005-0/blib/lib/Reaction/InterfaceModel/Reflector/DBIC.pm line 323
	Reaction::InterfaceModel::Reflector::DBIC::reflect_source(Reaction::InterfaceModel::Reflector::DBIC=HASH(0x55d0b86a2b10), "source_name", "Foo", "parent_class", "ComponentUI::TestModel", "schema_class", "RTest::TestDB", "source_class", ...) called at /tmp/loop_over_bdir-2354-ukUQqH/Reaction-0.002005-0/blib/lib/Reaction/InterfaceModel/Reflector/DBIC.pm line 185
	Reaction::InterfaceModel::Reflector::DBIC::reflect_schema(Reaction::InterfaceModel::Reflector::DBIC=HASH(0x55d0b86a2b10), "model_class", "ComponentUI::TestModel", "schema_class", "RTest::TestDB", "sources", ARRAY(0x55d0b86b96a8)) called at /tmp/loop_over_bdir-2354-ukUQqH/Reaction-0.002005-0/blib/lib/ComponentUI/TestModel.pm line 10
	require ComponentUI/TestModel.pm called at /home/sand/src/perl/repoperls/installed-perls/host/k93focal/v5.39.8/b254/lib/site_perl/5.39.8/Module/Runtime.pm line 314
	Module::Runtime::require_module("ComponentUI::TestModel") called at /home/sand/src/perl/repoperls/installed-perls/host/k93focal/v5.39.8/b254/lib/site_perl/5.39.8/Class/Load.pm line 174
	Class::Load::try {...} () called at /home/sand/src/perl/repoperls/installed-perls/host/k93focal/v5.39.8/b254/lib/site_perl/5.39.8/Try/Tiny.pm line 98
	eval {...} called at /home/sand/src/perl/repoperls/installed-perls/host/k93focal/v5.39.8/b254/lib/site_perl/5.39.8/Try/Tiny.pm line 93
	Try::Tiny::try(CODE(0x55d0b497bf28), Try::Tiny::Catch=REF(0x55d0b818c188)) called at /home/sand/src/perl/repoperls/installed-perls/host/k93focal/v5.39.8/b254/lib/site_perl/5.39.8/Class/Load.pm line 180
	Class::Load::try_load_class("ComponentUI::TestModel", undef) called at /home/sand/src/perl/repoperls/installed-perls/host/k93focal/v5.39.8/b254/lib/site_perl/5.39.8/Class/Load.pm line 35
	Class::Load::load_class("ComponentUI::TestModel") called at /tmp/loop_over_bdir-2354-ukUQqH/Reaction-0.002005-0/blib/lib/Catalyst/Model/Reaction/InterfaceModel/DBIC.pm line 24
	Catalyst::Model::Reaction::InterfaceModel::DBIC::COMPONENT("ComponentUI::Model::TestModel", "ComponentUI", HASH(0x55d0b7c0dc78)) called at /home/sand/src/perl/repoperls/installed-perls/host/k93focal/v5.39.8/b254/lib/site_perl/5.39.8/Catalyst.pm line 3240
	eval {...} called at /home/sand/src/perl/repoperls/installed-perls/host/k93focal/v5.39.8/b254/lib/site_perl/5.39.8/Catalyst.pm line 3241
	Catalyst::setup_component("ComponentUI", "ComponentUI::Model::TestModel") called at /home/sand/src/perl/repoperls/installed-perls/host/k93focal/v5.39.8/b254/lib/site_perl/5.39.8/Catalyst.pm line 3218
	Catalyst::__ANON__() called at /home/sand/src/perl/repoperls/installed-perls/host/k93focal/v5.39.8/b254/lib/site_perl/5.39.8/Catalyst.pm line 3065
	Catalyst::setup_components("ComponentUI") called at /home/sand/src/perl/repoperls/installed-perls/host/k93focal/v5.39.8/b254/lib/site_perl/5.39.8/Catalyst.pm line 1438
	Catalyst::setup("ComponentUI") called at /tmp/loop_over_bdir-2354-ukUQqH/Reaction-0.002005-0/blib/lib/ComponentUI.pm line 32
	require ComponentUI.pm called at /home/sand/src/perl/repoperls/installed-perls/host/k93focal/v5.39.8/b254/lib/site_perl/5.39.8/Module/Runtime.pm line 314
	Module::Runtime::require_module("ComponentUI") called at /home/sand/src/perl/repoperls/installed-perls/host/k93focal/v5.39.8/b254/lib/site_perl/5.39.8/Class/Load.pm line 174
	Class::Load::try {...} () called at /home/sand/src/perl/repoperls/installed-perls/host/k93focal/v5.39.8/b254/lib/site_perl/5.39.8/Try/Tiny.pm line 98
	eval {...} called at /home/sand/src/perl/repoperls/installed-perls/host/k93focal/v5.39.8/b254/lib/site_perl/5.39.8/Try/Tiny.pm line 93
	Try::Tiny::try(CODE(0x55d0b1920528), Try::Tiny::Catch=REF(0x55d0b2d0cd50)) called at /home/sand/src/perl/repoperls/installed-perls/host/k93focal/v5.39.8/b254/lib/site_perl/5.39.8/Class/Load.pm line 180
	Class::Load::try_load_class("ComponentUI", undef) called at /home/sand/src/perl/repoperls/installed-perls/host/k93focal/v5.39.8/b254/lib/site_perl/5.39.8/Class/Load.pm line 35
	Class::Load::load_class("ComponentUI") called at /home/sand/src/perl/repoperls/installed-perls/host/k93focal/v5.39.8/b254/lib/site_perl/5.39.8/Catalyst/Test.pm line 29
	Catalyst::Test::_build_request_export("Catalyst::Test", HASH(0x55d0b1e478e0)) called at /home/sand/src/perl/repoperls/installed-perls/host/k93focal/v5.39.8/b254/lib/site_perl/5.39.8/Catalyst/Test.pm line 95
	Catalyst::Test::__ANON__("Catalyst::Test", "all", HASH(0x55d0b1e472e0), HASH(0x55d0b1e37cd0)) called at /home/sand/src/perl/repoperls/installed-perls/host/k93focal/v5.39.8/b254/lib/site_perl/5.39.8/Sub/Exporter.pm line 491
	Sub::Exporter::_expand_group("Catalyst::Test", HASH(0x55d0b319bdd8), ARRAY(0x55d0b1e37d18), HASH(0x55d0b1e37cd0), HASH(0x55d0b1e47928), HASH(0x55d0b19204b0)) called at /home/sand/src/perl/repoperls/installed-perls/host/k93focal/v5.39.8/b254/lib/site_perl/5.39.8/Sub/Exporter.pm line 422
	Sub::Exporter::_expand_groups("Catalyst::Test", HASH(0x55d0b319bdd8), ARRAY(0x55d0b319c258), HASH(0x55d0b1e37cd0)) called at /home/sand/src/perl/repoperls/installed-perls/host/k93focal/v5.39.8/b254/lib/site_perl/5.39.8/Sub/Exporter.pm line 740
	Sub::Exporter::__ANON__("Catalyst::Test", "-all", HASH(0x55d0b1e2fa70)) called at /home/sand/src/perl/repoperls/installed-perls/host/k93focal/v5.39.8/b254/lib/site_perl/5.39.8/Catalyst/Test.pm line 155
	Catalyst::Test::import("Catalyst::Test", "ComponentUI") called at t/01app.t line 7
	main::BEGIN() called at t/01app.t line 7
	eval {...} called at t/01app.t line 7
	eval 'package main;
BEGIN { ${^WARNING_BITS} = $args[-1] if defined $args[-1] }
#line 7 t/01app.t
use Catalyst::Test @{$args[0]};
1;
' called at /home/sand/src/perl/repoperls/installed-perls/host/k93focal/v5.39.8/b254/lib/5.39.8/Test/More.pm line 1056
	Test::More::_eval("package main;\x{a}BEGIN { \${^WARNING_BITS} = \$args[-1] if defined"..., ARRAY(0x55d0b18d42a8), "UUUUUUUUUUUUUUUUUUUUU") called at /home/sand/src/perl/repoperls/installed-perls/host/k93focal/v5.39.8/b254/lib/5.39.8/Test/More.pm line 1031
	Test::More::use_ok("Catalyst::Test", "ComponentUI") called at t/01app.t line 7
	main::BEGIN() called at t/01app.t line 8
	eval {...} called at t/01app.t line 8
Class::MOP::load_class is deprecated at /home/sand/src/perl/repoperls/installed-perls/host/k93focal/v5.39.8/b254/lib/site_perl/5.39.8/x86_64-linux/Class/MOP.pm line 69.
	Class::MOP::load_class("ComponentUI::RenderingContext::Site") called at /tmp/loop_over_bdir-2354-ukUQqH/Reaction-0.002005-0/blib/lib/Reaction/UI/View.pm line 125
	eval {...} called at /tmp/loop_over_bdir-2354-ukUQqH/Reaction-0.002005-0/blib/lib/Reaction/UI/View.pm line 125
	Reaction::UI::View::find_related_class(ComponentUI::View::Site=HASH(0x55d0b50b9f78), "RenderingContext") called at /tmp/loop_over_bdir-2354-ukUQqH/Reaction-0.002005-0/blib/lib/Reaction/UI/View.pm line 43
	Reaction::UI::View::_build_rendering_context_class(ComponentUI::View::Site=HASH(0x55d0b50b9f78)) called at reader Reaction::UI::View::rendering_context_class (defined at /tmp/loop_over_bdir-2354-ukUQqH/Reaction-0.002005-0/blib/lib/Reaction/UI/View.pm line 29) line 8
	Reaction::UI::View::rendering_context_class(ComponentUI::View::Site=HASH(0x55d0b50b9f78)) called at /tmp/loop_over_bdir-2354-ukUQqH/Reaction-0.002005-0/blib/lib/Reaction/UI/View.pm line 134
	Reaction::UI::View::create_rendering_context(ComponentUI::View::Site=HASH(0x55d0b50b9f78)) called at /tmp/loop_over_bdir-2354-ukUQqH/Reaction-0.002005-0/blib/lib/Reaction/UI/View.pm line 60
	Reaction::UI::View::render_window(ComponentUI::View::Site=HASH(0x55d0b50b9f78), Reaction::UI::Window=HASH(0x55d0b8efc890)) called at /tmp/loop_over_bdir-2354-ukUQqH/Reaction-0.002005-0/blib/lib/Reaction/UI/Window.pm line 74
	Reaction::UI::Window::flush_view(Reaction::UI::Window=HASH(0x55d0b8efc890)) called at /tmp/loop_over_bdir-2354-ukUQqH/Reaction-0.002005-0/blib/lib/Reaction/UI/Window.pm line 36
	Reaction::UI::Window::flush(Reaction::UI::Window=HASH(0x55d0b8efc890)) called at /tmp/loop_over_bdir-2354-ukUQqH/Reaction-0.002005-0/blib/lib/Reaction/UI/Controller/Root.pm line 38
	Reaction::UI::Controller::Root::end(ComponentUI::Controller::Root=HASH(0x55d0b8e9c7b8), ComponentUI=HASH(0x55d0b8ea99b0)) called at /home/sand/src/perl/repoperls/installed-perls/host/k93focal/v5.39.8/b254/lib/site_perl/5.39.8/Catalyst/Action.pm line 374
	Catalyst::Action::execute(Catalyst::Action=HASH(0x55d0b8c3ad50), ComponentUI::Controller::Root=HASH(0x55d0b8e9c7b8), ComponentUI=HASH(0x55d0b8ea99b0)) called at /home/sand/src/perl/repoperls/installed-perls/host/k93focal/v5.39.8/b254/lib/site_perl/5.39.8/Catalyst.pm line 2067
	eval {...} called at /home/sand/src/perl/repoperls/installed-perls/host/k93focal/v5.39.8/b254/lib/site_perl/5.39.8/Catalyst.pm line 2067
	Catalyst::execute(ComponentUI=HASH(0x55d0b8ea99b0), "ComponentUI::Controller::Root", Catalyst::Action=HASH(0x55d0b8c3ad50)) called at /home/sand/src/perl/repoperls/installed-perls/host/k93focal/v5.39.8/b254/lib/site_perl/5.39.8/Catalyst/Action.pm line 368
	Catalyst::Action::dispatch(Catalyst::Action=HASH(0x55d0b8c3ad50), ComponentUI=HASH(0x55d0b8ea99b0)) called at /home/sand/src/perl/repoperls/installed-perls/host/k93focal/v5.39.8/b254/lib/site_perl/5.39.8/Catalyst/Controller.pm line 188
	Catalyst::Controller::_END(ComponentUI::Controller::Root=HASH(0x55d0b8e9c7b8), ComponentUI=HASH(0x55d0b8ea99b0)) called at /home/sand/src/perl/repoperls/installed-perls/host/k93focal/v5.39.8/b254/lib/site_perl/5.39.8/Catalyst/Action.pm line 374
	Catalyst::Action::execute(Catalyst::Action=HASH(0x55d0b8c3aac8), ComponentUI::Controller::Root=HASH(0x55d0b8e9c7b8), ComponentUI=HASH(0x55d0b8ea99b0)) called at /home/sand/src/perl/repoperls/installed-perls/host/k93focal/v5.39.8/b254/lib/site_perl/5.39.8/Catalyst.pm line 2067
	eval {...} called at /home/sand/src/perl/repoperls/installed-perls/host/k93focal/v5.39.8/b254/lib/site_perl/5.39.8/Catalyst.pm line 2067
	Catalyst::execute(ComponentUI=HASH(0x55d0b8ea99b0), "ComponentUI::Controller::Root", Catalyst::Action=HASH(0x55d0b8c3aac8)) called at /home/sand/src/perl/repoperls/installed-perls/host/k93focal/v5.39.8/b254/lib/site_perl/5.39.8/Catalyst/Action.pm line 368
	Catalyst::Action::dispatch(Catalyst::Action=HASH(0x55d0b8c3aac8), ComponentUI=HASH(0x55d0b8ea99b0)) called at /home/sand/src/perl/repoperls/installed-perls/host/k93focal/v5.39.8/b254/lib/site_perl/5.39.8/Catalyst/Dispatcher.pm line 261
	Catalyst::Dispatcher::_do_forward(Catalyst::Dispatcher=HASH(0x55d0b31bc8a0), "forward", ComponentUI=HASH(0x55d0b8ea99b0), "_END") called at /home/sand/src/perl/repoperls/installed-perls/host/k93focal/v5.39.8/b254/lib/site_perl/5.39.8/Catalyst/Dispatcher.pm line 241
	Catalyst::Dispatcher::forward(Catalyst::Dispatcher=HASH(0x55d0b31bc8a0), ComponentUI=HASH(0x55d0b8ea99b0), "_END") called at /home/sand/src/perl/repoperls/installed-perls/host/k93focal/v5.39.8/b254/lib/site_perl/5.39.8/Catalyst.pm line 489
	Catalyst::forward(ComponentUI=HASH(0x55d0b8ea99b0), "_END") called at /home/sand/src/perl/repoperls/installed-perls/host/k93focal/v5.39.8/b254/lib/site_perl/5.39.8/Catalyst/Controller.pm line 137
	Catalyst::Controller::_DISPATCH(ComponentUI::Controller::Root=HASH(0x55d0b8e9c7b8), ComponentUI=HASH(0x55d0b8ea99b0)) called at /home/sand/src/perl/repoperls/installed-perls/host/k93focal/v5.39.8/b254/lib/site_perl/5.39.8/Catalyst/Action.pm line 374
	Catalyst::Action::execute(Catalyst::Action=HASH(0x55d0b8c3acc0), ComponentUI::Controller::Root=HASH(0x55d0b8e9c7b8), ComponentUI=HASH(0x55d0b8ea99b0)) called at /home/sand/src/perl/repoperls/installed-perls/host/k93focal/v5.39.8/b254/lib/site_perl/5.39.8/Catalyst.pm line 2067
	eval {...} called at /home/sand/src/perl/repoperls/installed-perls/host/k93focal/v5.39.8/b254/lib/site_perl/5.39.8/Catalyst.pm line 2067
	Catalyst::execute(ComponentUI=HASH(0x55d0b8ea99b0), "ComponentUI::Controller::Root", Catalyst::Action=HASH(0x55d0b8c3acc0)) called at /home/sand/src/perl/repoperls/installed-perls/host/k93focal/v5.39.8/b254/lib/site_perl/5.39.8/Catalyst/Action.pm line 368
	Catalyst::Action::dispatch(Catalyst::Action=HASH(0x55d0b8c3acc0), ComponentUI=HASH(0x55d0b8ea99b0)) called at /home/sand/src/perl/repoperls/installed-perls/host/k93focal/v5.39.8/b254/lib/site_perl/5.39.8/Catalyst/Dispatcher.pm line 261
	Catalyst::Dispatcher::_do_forward(Catalyst::Dispatcher=HASH(0x55d0b31bc8a0), "forward", ComponentUI=HASH(0x55d0b8ea99b0), "//_DISPATCH") called at /home/sand/src/perl/repoperls/installed-perls/host/k93focal/v5.39.8/b254/lib/site_perl/5.39.8/Catalyst/Dispatcher.pm line 241
	Catalyst::Dispatcher::forward(Catalyst::Dispatcher=HASH(0x55d0b31bc8a0), ComponentUI=HASH(0x55d0b8ea99b0), "//_DISPATCH") called at /home/sand/src/perl/repoperls/installed-perls/host/k93focal/v5.39.8/b254/lib/site_perl/5.39.8/Catalyst.pm line 489
	Catalyst::forward(ComponentUI=HASH(0x55d0b8ea99b0), "//_DISPATCH") called at /home/sand/src/perl/repoperls/installed-perls/host/k93focal/v5.39.8/b254/lib/site_perl/5.39.8/Catalyst/Dispatcher.pm line 107
	Catalyst::Dispatcher::dispatch(Catalyst::Dispatcher=HASH(0x55d0b31bc8a0), ComponentUI=HASH(0x55d0b8ea99b0)) called at /home/sand/src/perl/repoperls/installed-perls/host/k93focal/v5.39.8/b254/lib/site_perl/5.39.8/Catalyst.pm line 2013
	Catalyst::dispatch(ComponentUI=HASH(0x55d0b8ea99b0)) called at /home/sand/src/perl/repoperls/installed-perls/host/k93focal/v5.39.8/b254/lib/site_perl/5.39.8/Catalyst/Plugin/Static/Simple.pm line 85
	Class::MOP::Class:::around(CODE(0x55d0b3e2c070), ComponentUI=HASH(0x55d0b8ea99b0)) called at /home/sand/src/perl/repoperls/installed-perls/host/k93focal/v5.39.8/b254/lib/site_perl/5.39.8/x86_64-linux/Class/MOP/Method/Wrapped.pm line 166
	ComponentUI::_wrapped_dispatch(ComponentUI=HASH(0x55d0b8ea99b0)) called at /home/sand/src/perl/repoperls/installed-perls/host/k93focal/v5.39.8/b254/lib/site_perl/5.39.8/x86_64-linux/Class/MOP/Method/Wrapped.pm line 97
	ComponentUI::dispatch(ComponentUI=HASH(0x55d0b8ea99b0)) called at /home/sand/src/perl/repoperls/installed-perls/host/k93focal/v5.39.8/b254/lib/site_perl/5.39.8/Catalyst.pm line 2419
	Catalyst::try {...} () called at /home/sand/src/perl/repoperls/installed-perls/host/k93focal/v5.39.8/b254/lib/site_perl/5.39.8/Try/Tiny.pm line 102
	eval {...} called at /home/sand/src/perl/repoperls/installed-perls/host/k93focal/v5.39.8/b254/lib/site_perl/5.39.8/Try/Tiny.pm line 93
	Try::Tiny::try(CODE(0x55d0b8ea9308), Try::Tiny::Catch=REF(0x55d0b8ea9110)) called at /home/sand/src/perl/repoperls/installed-perls/host/k93focal/v5.39.8/b254/lib/site_perl/5.39.8/Catalyst.pm line 2428
	Catalyst::handle_request("ComponentUI", "env", HASH(0x55d0b18ffee0), "response_cb", CODE(0x55d0b8ea9170)) called at /home/sand/src/perl/repoperls/installed-perls/host/k93focal/v5.39.8/b254/lib/site_perl/5.39.8/Catalyst/Engine.pm line 807
	Catalyst::Engine::__ANON__(CODE(0x55d0b8ea9170)) called at /home/sand/src/perl/repoperls/installed-perls/host/k93focal/v5.39.8/b254/lib/site_perl/5.39.8/Plack/Middleware/HTTPExceptions.pm line 32
	Plack::Middleware::HTTPExceptions::try {...} () called at /home/sand/src/perl/repoperls/installed-perls/host/k93focal/v5.39.8/b254/lib/site_perl/5.39.8/Try/Tiny.pm line 102
	eval {...} called at /home/sand/src/perl/repoperls/installed-perls/host/k93focal/v5.39.8/b254/lib/site_perl/5.39.8/Try/Tiny.pm line 93
	Try::Tiny::try(CODE(0x55d0b8ea8fa8), Try::Tiny::Catch=REF(0x55d0b8ef81f0)) called at /home/sand/src/perl/repoperls/installed-perls/host/k93focal/v5.39.8/b254/lib/site_perl/5.39.8/Plack/Middleware/HTTPExceptions.pm line 41
	Plack::Middleware::HTTPExceptions::__ANON__(CODE(0x55d0b8ef7fb0)) called at /home/sand/src/perl/repoperls/installed-perls/host/k93focal/v5.39.8/b254/lib/site_perl/5.39.8/Plack/Util.pm line 339
	Plack::Util::__ANON__(CODE(0x55d0b18ffe68)) called at /home/sand/src/perl/repoperls/installed-perls/host/k93focal/v5.39.8/b254/lib/site_perl/5.39.8/Plack/Util.pm line 339
	Plack::Util::__ANON__(CODE(0x55d0b18ffd78)) called at /home/sand/src/perl/repoperls/installed-perls/host/k93focal/v5.39.8/b254/lib/site_perl/5.39.8/Plack/Util.pm line 339
	Plack::Util::__ANON__(CODE(0x55d0b18ffd00)) called at /home/sand/src/perl/repoperls/installed-perls/host/k93focal/v5.39.8/b254/lib/site_perl/5.39.8/HTTP/Message/PSGI.pm line 100
	HTTP::Message::PSGI::res_from_psgi(CODE(0x55d0b8ef8748)) called at /home/sand/src/perl/repoperls/installed-perls/host/k93focal/v5.39.8/b254/lib/site_perl/5.39.8/HTTP/Message/PSGI.pm line 157
	HTTP::Response::from_psgi("HTTP::Response", CODE(0x55d0b8ef8748)) called at /home/sand/src/perl/repoperls/installed-perls/host/k93focal/v5.39.8/b254/lib/site_perl/5.39.8/Plack/Test/MockHTTP.pm line 24
	Plack::Test::MockHTTP::try {...} () called at /home/sand/src/perl/repoperls/installed-perls/host/k93focal/v5.39.8/b254/lib/site_perl/5.39.8/Try/Tiny.pm line 100
	eval {...} called at /home/sand/src/perl/repoperls/installed-perls/host/k93focal/v5.39.8/b254/lib/site_perl/5.39.8/Try/Tiny.pm line 93
	Try::Tiny::try(CODE(0x55d0b8ea3de8), Try::Tiny::Catch=REF(0x55d0b8db0050)) called at /home/sand/src/perl/repoperls/installed-perls/host/k93focal/v5.39.8/b254/lib/site_perl/5.39.8/Plack/Test/MockHTTP.pm line 27
	Plack::Test::MockHTTP::request(Plack::Test::MockHTTP=HASH(0x55d0b18ff7d8), HTTP::Request=HASH(0x55d0b8dbc620)) called at /home/sand/src/perl/repoperls/installed-perls/host/k93focal/v5.39.8/b254/lib/site_perl/5.39.8/Plack/Test.pm line 38
	Plack::Test::__ANON__(HTTP::Request=HASH(0x55d0b8dbc620)) called at /home/sand/src/perl/repoperls/installed-perls/host/k93focal/v5.39.8/b254/lib/site_perl/5.39.8/Catalyst/Test.pm line 290
	Catalyst::Test::__ANON__(CODE(0x55d0b18ff760)) called at /home/sand/src/perl/repoperls/installed-perls/host/k93focal/v5.39.8/b254/lib/site_perl/5.39.8/Plack/Test.pm line 38
	Plack::Test::test_psgi("app", CODE(0x55d0b8dbc230), "mangle_response", CODE(0x55d0b317d380), "app", CODE(0x55d0b8dc2478), "client", CODE(0x55d0b18ff5f8)) called at /home/sand/src/perl/repoperls/installed-perls/host/k93focal/v5.39.8/b254/lib/site_perl/5.39.8/Catalyst/Test.pm line 293
	Catalyst::Test::_request(HASH(0x55d0b18e4ef8), "/") called at /home/sand/src/perl/repoperls/installed-perls/host/k93focal/v5.39.8/b254/lib/site_perl/5.39.8/Catalyst/Test.pm line 336
	Catalyst::Test::_local_request("ComponentUI", "/") called at /home/sand/src/perl/repoperls/installed-perls/host/k93focal/v5.39.8/b254/lib/site_perl/5.39.8/Catalyst/Test.pm line 32
	Catalyst::Test::__ANON__("/") called at t/01app.t line 10
Class::MOP::is_class_loaded is deprecated at /home/sand/src/perl/repoperls/installed-perls/host/k93focal/v5.39.8/b254/lib/site_perl/5.39.8/x86_64-linux/Class/MOP.pm line 87.
	Class::MOP::is_class_loaded("ComponentUI::UI::Widget::SiteLayout") called at /tmp/loop_over_bdir-2354-ukUQqH/Reaction-0.002005-0/blib/lib/Reaction/UI/Skin.pm line 178
	Reaction::UI::Skin::widget_class_for(Reaction::UI::Skin=HASH(0x55d0b8f16a80), Reaction::UI::LayoutSet::TT=HASH(0x55d0b8f8dfe0)) called at /tmp/loop_over_bdir-2354-ukUQqH/Reaction-0.002005-0/blib/lib/Reaction/UI/LayoutSet.pm line 29
	Reaction::UI::LayoutSet::BUILD(Reaction::UI::LayoutSet::TT=HASH(0x55d0b8f8dfe0), HASH(0x55d0b8f8dfc8)) called at constructor Reaction::UI::LayoutSet::TT::new (defined at /tmp/loop_over_bdir-2354-ukUQqH/Reaction-0.002005-0/blib/lib/Reaction/UI/LayoutSet/TT.pm line 43) line 80
	Reaction::UI::LayoutSet::TT::new("Reaction::UI::LayoutSet::TT", "name", "site_layout", "skin", Reaction::UI::Skin=HASH(0x55d0b8f16a80), "tt_object", Template=HASH(0x55d0b8009c70), "source_file", ...) called at /tmp/loop_over_bdir-2354-ukUQqH/Reaction-0.002005-0/blib/lib/Reaction/UI/Skin.pm line 115
	Reaction::UI::Skin::_create_layout_set(Reaction::UI::Skin=HASH(0x55d0b8f16a80), "site_layout", ARRAY(0x55d0b8f7a9a8), Reaction::UI::Skin=HASH(0x55d0b8f16a80)) called at /tmp/loop_over_bdir-2354-ukUQqH/Reaction-0.002005-0/blib/lib/Reaction/UI/Skin.pm line 110
	Reaction::UI::Skin::create_layout_set(Reaction::UI::Skin=HASH(0x55d0b8f16a80), "site_layout") called at /tmp/loop_over_bdir-2354-ukUQqH/Reaction-0.002005-0/blib/lib/Reaction/UI/LayoutSet.pm line 83
	Reaction::UI::LayoutSet::_load_file(Reaction::UI::LayoutSet::TT=HASH(0x55d0b8f10300), Path::Class::File=HASH(0x55d0b8f16e40), HASH(0x55d0b8f16cd8)) called at /tmp/loop_over_bdir-2354-ukUQqH/Reaction-0.002005-0/blib/lib/Reaction/UI/LayoutSet.pm line 27
	Reaction::UI::LayoutSet::BUILD(Reaction::UI::LayoutSet::TT=HASH(0x55d0b8f10300), HASH(0x55d0b8f16cd8)) called at constructor Reaction::UI::LayoutSet::TT::new (defined at /tmp/loop_over_bdir-2354-ukUQqH/Reaction-0.002005-0/blib/lib/Reaction/UI/LayoutSet/TT.pm line 43) line 80
	Reaction::UI::LayoutSet::TT::new("Reaction::UI::LayoutSet::TT", "name", "site_layout", "skin", Reaction::UI::Skin=HASH(0x55d0b8f5cec0), "next_skin", Reaction::UI::Skin=HASH(0x55d0b8f16a80), "tt_object", ...) called at /tmp/loop_over_bdir-2354-ukUQqH/Reaction-0.002005-0/blib/lib/Reaction/UI/Skin.pm line 115
	Reaction::UI::Skin::_create_layout_set(Reaction::UI::Skin=HASH(0x55d0b8f5cec0), "site_layout", ARRAY(0x55d0b8ba9180), Reaction::UI::Skin=HASH(0x55d0b8f5cec0)) called at /tmp/loop_over_bdir-2354-ukUQqH/Reaction-0.002005-0/blib/lib/Reaction/UI/Skin.pm line 110
	Reaction::UI::Skin::create_layout_set(Reaction::UI::Skin=HASH(0x55d0b8f5cec0), "site_layout") called at /tmp/loop_over_bdir-2354-ukUQqH/Reaction-0.002005-0/blib/lib/Reaction/UI/LayoutSet.pm line 83
	Reaction::UI::LayoutSet::_load_file(Reaction::UI::LayoutSet::TT=HASH(0x55d0b8f16ff0), Path::Class::File=HASH(0x55d0b856ceb8), HASH(0x55d0b18c9368)) called at /tmp/loop_over_bdir-2354-ukUQqH/Reaction-0.002005-0/blib/lib/Reaction/UI/LayoutSet.pm line 27
	Reaction::UI::LayoutSet::BUILD(Reaction::UI::LayoutSet::TT=HASH(0x55d0b8f16ff0), HASH(0x55d0b18c9368)) called at constructor Reaction::UI::LayoutSet::TT::new (defined at /tmp/loop_over_bdir-2354-ukUQqH/Reaction-0.002005-0/blib/lib/Reaction/UI/LayoutSet/TT.pm line 43) line 80
	Reaction::UI::LayoutSet::TT::new("Reaction::UI::LayoutSet::TT", "name", "site_layout", "skin", Reaction::UI::Skin=HASH(0x55d0b18c93f8), "next_skin", Reaction::UI::Skin=HASH(0x55d0b8f5cec0), "tt_object", ...) called at /tmp/loop_over_bdir-2354-ukUQqH/Reaction-0.002005-0/blib/lib/Reaction/UI/Skin.pm line 115
	Reaction::UI::Skin::_create_layout_set(Reaction::UI::Skin=HASH(0x55d0b18c93f8), "site_layout", ARRAY(0x55d0b8f5cc68), Reaction::UI::Skin=HASH(0x55d0b18c93f8)) called at /tmp/loop_over_bdir-2354-ukUQqH/Reaction-0.002005-0/blib/lib/Reaction/UI/Skin.pm line 110
	Reaction::UI::Skin::create_layout_set(Reaction::UI::Skin=HASH(0x55d0b18c93f8), "site_layout") called at inline delegation in Reaction::UI::View for skin->create_layout_set (attribute declared in /tmp/loop_over_bdir-2354-ukUQqH/Reaction-0.002005-0/blib/lib/Reaction/UI/View.pm at line 22) line 18
	Reaction::UI::View::create_layout_set(ComponentUI::View::Site=HASH(0x55d0b50b9f78), "site_layout") called at /tmp/loop_over_bdir-2354-ukUQqH/Reaction-0.002005-0/blib/lib/Reaction/UI/View.pm line 99
	Reaction::UI::View::layout_set_for(ComponentUI::View::Site=HASH(0x55d0b50b9f78), Reaction::UI::ViewPort::SiteLayout=HASH(0x55d0b8efcf20)) called at /tmp/loop_over_bdir-2354-ukUQqH/Reaction-0.002005-0/blib/lib/Reaction/UI/View.pm line 78
	Reaction::UI::View::render_viewport_args(ComponentUI::View::Site=HASH(0x55d0b50b9f78), Reaction::UI::ViewPort::SiteLayout=HASH(0x55d0b8efcf20)) called at /tmp/loop_over_bdir-2354-ukUQqH/Reaction-0.002005-0/blib/lib/Reaction/UI/View.pm line 61
	Reaction::UI::View::render_window(ComponentUI::View::Site=HASH(0x55d0b50b9f78), Reaction::UI::Window=HASH(0x55d0b8efc890)) called at /tmp/loop_over_bdir-2354-ukUQqH/Reaction-0.002005-0/blib/lib/Reaction/UI/Window.pm line 74
	Reaction::UI::Window::flush_view(Reaction::UI::Window=HASH(0x55d0b8efc890)) called at /tmp/loop_over_bdir-2354-ukUQqH/Reaction-0.002005-0/blib/lib/Reaction/UI/Window.pm line 36
	Reaction::UI::Window::flush(Reaction::UI::Window=HASH(0x55d0b8efc890)) called at /tmp/loop_over_bdir-2354-ukUQqH/Reaction-0.002005-0/blib/lib/Reaction/UI/Controller/Root.pm line 38
	Reaction::UI::Controller::Root::end(ComponentUI::Controller::Root=HASH(0x55d0b8e9c7b8), ComponentUI=HASH(0x55d0b8ea99b0)) called at /home/sand/src/perl/repoperls/installed-perls/host/k93focal/v5.39.8/b254/lib/site_perl/5.39.8/Catalyst/Action.pm line 374
	Catalyst::Action::execute(Catalyst::Action=HASH(0x55d0b8c3ad50), ComponentUI::Controller::Root=HASH(0x55d0b8e9c7b8), ComponentUI=HASH(0x55d0b8ea99b0)) called at /home/sand/src/perl/repoperls/installed-perls/host/k93focal/v5.39.8/b254/lib/site_perl/5.39.8/Catalyst.pm line 2067
	eval {...} called at /home/sand/src/perl/repoperls/installed-perls/host/k93focal/v5.39.8/b254/lib/site_perl/5.39.8/Catalyst.pm line 2067
	Catalyst::execute(ComponentUI=HASH(0x55d0b8ea99b0), "ComponentUI::Controller::Root", Catalyst::Action=HASH(0x55d0b8c3ad50)) called at /home/sand/src/perl/repoperls/installed-perls/host/k93focal/v5.39.8/b254/lib/site_perl/5.39.8/Catalyst/Action.pm line 368
	Catalyst::Action::dispatch(Catalyst::Action=HASH(0x55d0b8c3ad50), ComponentUI=HASH(0x55d0b8ea99b0)) called at /home/sand/src/perl/repoperls/installed-perls/host/k93focal/v5.39.8/b254/lib/site_perl/5.39.8/Catalyst/Controller.pm line 188
	Catalyst::Controller::_END(ComponentUI::Controller::Root=HASH(0x55d0b8e9c7b8), ComponentUI=HASH(0x55d0b8ea99b0)) called at /home/sand/src/perl/repoperls/installed-perls/host/k93focal/v5.39.8/b254/lib/site_perl/5.39.8/Catalyst/Action.pm line 374
	Catalyst::Action::execute(Catalyst::Action=HASH(0x55d0b8c3aac8), ComponentUI::Controller::Root=HASH(0x55d0b8e9c7b8), ComponentUI=HASH(0x55d0b8ea99b0)) called at /home/sand/src/perl/repoperls/installed-perls/host/k93focal/v5.39.8/b254/lib/site_perl/5.39.8/Catalyst.pm line 2067
	eval {...} called at /home/sand/src/perl/repoperls/installed-perls/host/k93focal/v5.39.8/b254/lib/site_perl/5.39.8/Catalyst.pm line 2067
	Catalyst::execute(ComponentUI=HASH(0x55d0b8ea99b0), "ComponentUI::Controller::Root", Catalyst::Action=HASH(0x55d0b8c3aac8)) called at /home/sand/src/perl/repoperls/installed-perls/host/k93focal/v5.39.8/b254/lib/site_perl/5.39.8/Catalyst/Action.pm line 368
	Catalyst::Action::dispatch(Catalyst::Action=HASH(0x55d0b8c3aac8), ComponentUI=HASH(0x55d0b8ea99b0)) called at /home/sand/src/perl/repoperls/installed-perls/host/k93focal/v5.39.8/b254/lib/site_perl/5.39.8/Catalyst/Dispatcher.pm line 261
	Catalyst::Dispatcher::_do_forward(Catalyst::Dispatcher=HASH(0x55d0b31bc8a0), "forward", ComponentUI=HASH(0x55d0b8ea99b0), "_END") called at /home/sand/src/perl/repoperls/installed-perls/host/k93focal/v5.39.8/b254/lib/site_perl/5.39.8/Catalyst/Dispatcher.pm line 241
	Catalyst::Dispatcher::forward(Catalyst::Dispatcher=HASH(0x55d0b31bc8a0), ComponentUI=HASH(0x55d0b8ea99b0), "_END") called at /home/sand/src/perl/repoperls/installed-perls/host/k93focal/v5.39.8/b254/lib/site_perl/5.39.8/Catalyst.pm line 489
	Catalyst::forward(ComponentUI=HASH(0x55d0b8ea99b0), "_END") called at /home/sand/src/perl/repoperls/installed-perls/host/k93focal/v5.39.8/b254/lib/site_perl/5.39.8/Catalyst/Controller.pm line 137
	Catalyst::Controller::_DISPATCH(ComponentUI::Controller::Root=HASH(0x55d0b8e9c7b8), ComponentUI=HASH(0x55d0b8ea99b0)) called at /home/sand/src/perl/repoperls/installed-perls/host/k93focal/v5.39.8/b254/lib/site_perl/5.39.8/Catalyst/Action.pm line 374
	Catalyst::Action::execute(Catalyst::Action=HASH(0x55d0b8c3acc0), ComponentUI::Controller::Root=HASH(0x55d0b8e9c7b8), ComponentUI=HASH(0x55d0b8ea99b0)) called at /home/sand/src/perl/repoperls/installed-perls/host/k93focal/v5.39.8/b254/lib/site_perl/5.39.8/Catalyst.pm line 2067
	eval {...} called at /home/sand/src/perl/repoperls/installed-perls/host/k93focal/v5.39.8/b254/lib/site_perl/5.39.8/Catalyst.pm line 2067
	Catalyst::execute(ComponentUI=HASH(0x55d0b8ea99b0), "ComponentUI::Controller::Root", Catalyst::Action=HASH(0x55d0b8c3acc0)) called at /home/sand/src/perl/repoperls/installed-perls/host/k93focal/v5.39.8/b254/lib/site_perl/5.39.8/Catalyst/Action.pm line 368
	Catalyst::Action::dispatch(Catalyst::Action=HASH(0x55d0b8c3acc0), ComponentUI=HASH(0x55d0b8ea99b0)) called at /home/sand/src/perl/repoperls/installed-perls/host/k93focal/v5.39.8/b254/lib/site_perl/5.39.8/Catalyst/Dispatcher.pm line 261
	Catalyst::Dispatcher::_do_forward(Catalyst::Dispatcher=HASH(0x55d0b31bc8a0), "forward", ComponentUI=HASH(0x55d0b8ea99b0), "//_DISPATCH") called at /home/sand/src/perl/repoperls/installed-perls/host/k93focal/v5.39.8/b254/lib/site_perl/5.39.8/Catalyst/Dispatcher.pm line 241
	Catalyst::Dispatcher::forward(Catalyst::Dispatcher=HASH(0x55d0b31bc8a0), ComponentUI=HASH(0x55d0b8ea99b0), "//_DISPATCH") called at /home/sand/src/perl/repoperls/installed-perls/host/k93focal/v5.39.8/b254/lib/site_perl/5.39.8/Catalyst.pm line 489
	Catalyst::forward(ComponentUI=HASH(0x55d0b8ea99b0), "//_DISPATCH") called at /home/sand/src/perl/repoperls/installed-perls/host/k93focal/v5.39.8/b254/lib/site_perl/5.39.8/Catalyst/Dispatcher.pm line 107
	Catalyst::Dispatcher::dispatch(Catalyst::Dispatcher=HASH(0x55d0b31bc8a0), ComponentUI=HASH(0x55d0b8ea99b0)) called at /home/sand/src/perl/repoperls/installed-perls/host/k93focal/v5.39.8/b254/lib/site_perl/5.39.8/Catalyst.pm line 2013
	Catalyst::dispatch(ComponentUI=HASH(0x55d0b8ea99b0)) called at /home/sand/src/perl/repoperls/installed-perls/host/k93focal/v5.39.8/b254/lib/site_perl/5.39.8/Catalyst/Plugin/Static/Simple.pm line 85
	Class::MOP::Class:::around(CODE(0x55d0b3e2c070), ComponentUI=HASH(0x55d0b8ea99b0)) called at /home/sand/src/perl/repoperls/installed-perls/host/k93focal/v5.39.8/b254/lib/site_perl/5.39.8/x86_64-linux/Class/MOP/Method/Wrapped.pm line 166
	ComponentUI::_wrapped_dispatch(ComponentUI=HASH(0x55d0b8ea99b0)) called at /home/sand/src/perl/repoperls/installed-perls/host/k93focal/v5.39.8/b254/lib/site_perl/5.39.8/x86_64-linux/Class/MOP/Method/Wrapped.pm line 97
	ComponentUI::dispatch(ComponentUI=HASH(0x55d0b8ea99b0)) called at /home/sand/src/perl/repoperls/installed-perls/host/k93focal/v5.39.8/b254/lib/site_perl/5.39.8/Catalyst.pm line 2419
	Catalyst::try {...} () called at /home/sand/src/perl/repoperls/installed-perls/host/k93focal/v5.39.8/b254/lib/site_perl/5.39.8/Try/Tiny.pm line 102
	eval {...} called at /home/sand/src/perl/repoperls/installed-perls/host/k93focal/v5.39.8/b254/lib/site_perl/5.39.8/Try/Tiny.pm line 93
	Try::Tiny::try(CODE(0x55d0b8ea9308), Try::Tiny::Catch=REF(0x55d0b8ea9110)) called at /home/sand/src/perl/repoperls/installed-perls/host/k93focal/v5.39.8/b254/lib/site_perl/5.39.8/Catalyst.pm line 2428
	Catalyst::handle_request("ComponentUI", "env", HASH(0x55d0b18ffee0), "response_cb", CODE(0x55d0b8ea9170)) called at /home/sand/src/perl/repoperls/installed-perls/host/k93focal/v5.39.8/b254/lib/site_perl/5.39.8/Catalyst/Engine.pm line 807
	Catalyst::Engine::__ANON__(CODE(0x55d0b8ea9170)) called at /home/sand/src/perl/repoperls/installed-perls/host/k93focal/v5.39.8/b254/lib/site_perl/5.39.8/Plack/Middleware/HTTPExceptions.pm line 32
	Plack::Middleware::HTTPExceptions::try {...} () called at /home/sand/src/perl/repoperls/installed-perls/host/k93focal/v5.39.8/b254/lib/site_perl/5.39.8/Try/Tiny.pm line 102
	eval {...} called at /home/sand/src/perl/repoperls/installed-perls/host/k93focal/v5.39.8/b254/lib/site_perl/5.39.8/Try/Tiny.pm line 93
	Try::Tiny::try(CODE(0x55d0b8ea8fa8), Try::Tiny::Catch=REF(0x55d0b8ef81f0)) called at /home/sand/src/perl/repoperls/installed-perls/host/k93focal/v5.39.8/b254/lib/site_perl/5.39.8/Plack/Middleware/HTTPExceptions.pm line 41
	Plack::Middleware::HTTPExceptions::__ANON__(CODE(0x55d0b8ef7fb0)) called at /home/sand/src/perl/repoperls/installed-perls/host/k93focal/v5.39.8/b254/lib/site_perl/5.39.8/Plack/Util.pm line 339
	Plack::Util::__ANON__(CODE(0x55d0b18ffe68)) called at /home/sand/src/perl/repoperls/installed-perls/host/k93focal/v5.39.8/b254/lib/site_perl/5.39.8/Plack/Util.pm line 339
	Plack::Util::__ANON__(CODE(0x55d0b18ffd78)) called at /home/sand/src/perl/repoperls/installed-perls/host/k93focal/v5.39.8/b254/lib/site_perl/5.39.8/Plack/Util.pm line 339
	Plack::Util::__ANON__(CODE(0x55d0b18ffd00)) called at /home/sand/src/perl/repoperls/installed-perls/host/k93focal/v5.39.8/b254/lib/site_perl/5.39.8/HTTP/Message/PSGI.pm line 100
	HTTP::Message::PSGI::res_from_psgi(CODE(0x55d0b8ef8748)) called at /home/sand/src/perl/repoperls/installed-perls/host/k93focal/v5.39.8/b254/lib/site_perl/5.39.8/HTTP/Message/PSGI.pm line 157
	HTTP::Response::from_psgi("HTTP::Response", CODE(0x55d0b8ef8748)) called at /home/sand/src/perl/repoperls/installed-perls/host/k93focal/v5.39.8/b254/lib/site_perl/5.39.8/Plack/Test/MockHTTP.pm line 24
	Plack::Test::MockHTTP::try {...} () called at /home/sand/src/perl/repoperls/installed-perls/host/k93focal/v5.39.8/b254/lib/site_perl/5.39.8/Try/Tiny.pm line 100
	eval {...} called at /home/sand/src/perl/repoperls/installed-perls/host/k93focal/v5.39.8/b254/lib/site_perl/5.39.8/Try/Tiny.pm line 93
	Try::Tiny::try(CODE(0x55d0b8ea3de8), Try::Tiny::Catch=REF(0x55d0b8db0050)) called at /home/sand/src/perl/repoperls/installed-perls/host/k93focal/v5.39.8/b254/lib/site_perl/5.39.8/Plack/Test/MockHTTP.pm line 27
	Plack::Test::MockHTTP::request(Plack::Test::MockHTTP=HASH(0x55d0b18ff7d8), HTTP::Request=HASH(0x55d0b8dbc620)) called at /home/sand/src/perl/repoperls/installed-perls/host/k93focal/v5.39.8/b254/lib/site_perl/5.39.8/Plack/Test.pm line 38
	Plack::Test::__ANON__(HTTP::Request=HASH(0x55d0b8dbc620)) called at /home/sand/src/perl/repoperls/installed-perls/host/k93focal/v5.39.8/b254/lib/site_perl/5.39.8/Catalyst/Test.pm line 290
	Catalyst::Test::__ANON__(CODE(0x55d0b18ff760)) called at /home/sand/src/perl/repoperls/installed-perls/host/k93focal/v5.39.8/b254/lib/site_perl/5.39.8/Plack/Test.pm line 38
	Plack::Test::test_psgi("app", CODE(0x55d0b8dbc230), "mangle_response", CODE(0x55d0b317d380), "app", CODE(0x55d0b8dc2478), "client", CODE(0x55d0b18ff5f8)) called at /home/sand/src/perl/repoperls/installed-perls/host/k93focal/v5.39.8/b254/lib/site_perl/5.39.8/Catalyst/Test.pm line 293
	Catalyst::Test::_request(HASH(0x55d0b18e4ef8), "/") called at /home/sand/src/perl/repoperls/installed-perls/host/k93focal/v5.39.8/b254/lib/site_perl/5.39.8/Catalyst/Test.pm line 336
	Catalyst::Test::_local_request("ComponentUI", "/") called at /home/sand/src/perl/repoperls/installed-perls/host/k93focal/v5.39.8/b254/lib/site_perl/5.39.8/Catalyst/Test.pm line 32
	Catalyst::Test::__ANON__("/") called at t/01app.t line 10
Class::MOP::load_class is deprecated at /home/sand/src/perl/repoperls/installed-perls/host/k93focal/v5.39.8/b254/lib/site_perl/5.39.8/x86_64-linux/Class/MOP.pm line 69.
	Class::MOP::load_class("Reaction::UI::Widget::SiteLayout") called at /tmp/loop_over_bdir-2354-ukUQqH/Reaction-0.002005-0/blib/lib/Reaction/UI/Skin.pm line 181
	eval {...} called at /tmp/loop_over_bdir-2354-ukUQqH/Reaction-0.002005-0/blib/lib/Reaction/UI/Skin.pm line 181
	Reaction::UI::Skin::widget_class_for(Reaction::UI::Skin=HASH(0x55d0b8f16a80), Reaction::UI::LayoutSet::TT=HASH(0x55d0b8f8dfe0)) called at /tmp/loop_over_bdir-2354-ukUQqH/Reaction-0.002005-0/blib/lib/Reaction/UI/LayoutSet.pm line 29
	Reaction::UI::LayoutSet::BUILD(Reaction::UI::LayoutSet::TT=HASH(0x55d0b8f8dfe0), HASH(0x55d0b8f8dfc8)) called at constructor Reaction::UI::LayoutSet::TT::new (defined at /tmp/loop_over_bdir-2354-ukUQqH/Reaction-0.002005-0/blib/lib/Reaction/UI/LayoutSet/TT.pm line 43) line 80
	Reaction::UI::LayoutSet::TT::new("Reaction::UI::LayoutSet::TT", "name", "site_layout", "skin", Reaction::UI::Skin=HASH(0x55d0b8f16a80), "tt_object", Template=HASH(0x55d0b8009c70), "source_file", ...) called at /tmp/loop_over_bdir-2354-ukUQqH/Reaction-0.002005-0/blib/lib/Reaction/UI/Skin.pm line 115
	Reaction::UI::Skin::_create_layout_set(Reaction::UI::Skin=HASH(0x55d0b8f16a80), "site_layout", ARRAY(0x55d0b8f7a9a8), Reaction::UI::Skin=HASH(0x55d0b8f16a80)) called at /tmp/loop_over_bdir-2354-ukUQqH/Reaction-0.002005-0/blib/lib/Reaction/UI/Skin.pm line 110
	Reaction::UI::Skin::create_layout_set(Reaction::UI::Skin=HASH(0x55d0b8f16a80), "site_layout") called at /tmp/loop_over_bdir-2354-ukUQqH/Reaction-0.002005-0/blib/lib/Reaction/UI/LayoutSet.pm line 83
	Reaction::UI::LayoutSet::_load_file(Reaction::UI::LayoutSet::TT=HASH(0x55d0b8f10300), Path::Class::File=HASH(0x55d0b8f16e40), HASH(0x55d0b8f16cd8)) called at /tmp/loop_over_bdir-2354-ukUQqH/Reaction-0.002005-0/blib/lib/Reaction/UI/LayoutSet.pm line 27
	Reaction::UI::LayoutSet::BUILD(Reaction::UI::LayoutSet::TT=HASH(0x55d0b8f10300), HASH(0x55d0b8f16cd8)) called at constructor Reaction::UI::LayoutSet::TT::new (defined at /tmp/loop_over_bdir-2354-ukUQqH/Reaction-0.002005-0/blib/lib/Reaction/UI/LayoutSet/TT.pm line 43) line 80
	Reaction::UI::LayoutSet::TT::new("Reaction::UI::LayoutSet::TT", "name", "site_layout", "skin", Reaction::UI::Skin=HASH(0x55d0b8f5cec0), "next_skin", Reaction::UI::Skin=HASH(0x55d0b8f16a80), "tt_object", ...) called at /tmp/loop_over_bdir-2354-ukUQqH/Reaction-0.002005-0/blib/lib/Reaction/UI/Skin.pm line 115
	Reaction::UI::Skin::_create_layout_set(Reaction::UI::Skin=HASH(0x55d0b8f5cec0), "site_layout", ARRAY(0x55d0b8ba9180), Reaction::UI::Skin=HASH(0x55d0b8f5cec0)) called at /tmp/loop_over_bdir-2354-ukUQqH/Reaction-0.002005-0/blib/lib/Reaction/UI/Skin.pm line 110
	Reaction::UI::Skin::create_layout_set(Reaction::UI::Skin=HASH(0x55d0b8f5cec0), "site_layout") called at /tmp/loop_over_bdir-2354-ukUQqH/Reaction-0.002005-0/blib/lib/Reaction/UI/LayoutSet.pm line 83
	Reaction::UI::LayoutSet::_load_file(Reaction::UI::LayoutSet::TT=HASH(0x55d0b8f16ff0), Path::Class::File=HASH(0x55d0b856ceb8), HASH(0x55d0b18c9368)) called at /tmp/loop_over_bdir-2354-ukUQqH/Reaction-0.002005-0/blib/lib/Reaction/UI/LayoutSet.pm line 27
	Reaction::UI::LayoutSet::BUILD(Reaction::UI::LayoutSet::TT=HASH(0x55d0b8f16ff0), HASH(0x55d0b18c9368)) called at constructor Reaction::UI::LayoutSet::TT::new (defined at /tmp/loop_over_bdir-2354-ukUQqH/Reaction-0.002005-0/blib/lib/Reaction/UI/LayoutSet/TT.pm line 43) line 80
	Reaction::UI::LayoutSet::TT::new("Reaction::UI::LayoutSet::TT", "name", "site_layout", "skin", Reaction::UI::Skin=HASH(0x55d0b18c93f8), "next_skin", Reaction::UI::Skin=HASH(0x55d0b8f5cec0), "tt_object", ...) called at /tmp/loop_over_bdir-2354-ukUQqH/Reaction-0.002005-0/blib/lib/Reaction/UI/Skin.pm line 115
	Reaction::UI::Skin::_create_layout_set(Reaction::UI::Skin=HASH(0x55d0b18c93f8), "site_layout", ARRAY(0x55d0b8f5cc68), Reaction::UI::Skin=HASH(0x55d0b18c93f8)) called at /tmp/loop_over_bdir-2354-ukUQqH/Reaction-0.002005-0/blib/lib/Reaction/UI/Skin.pm line 110
	Reaction::UI::Skin::create_layout_set(Reaction::UI::Skin=HASH(0x55d0b18c93f8), "site_layout") called at inline delegation in Reaction::UI::View for skin->create_layout_set (attribute declared in /tmp/loop_over_bdir-2354-ukUQqH/Reaction-0.002005-0/blib/lib/Reaction/UI/View.pm at line 22) line 18
	Reaction::UI::View::create_layout_set(ComponentUI::View::Site=HASH(0x55d0b50b9f78), "site_layout") called at /tmp/loop_over_bdir-2354-ukUQqH/Reaction-0.002005-0/blib/lib/Reaction/UI/View.pm line 99
	Reaction::UI::View::layout_set_for(ComponentUI::View::Site=HASH(0x55d0b50b9f78), Reaction::UI::ViewPort::SiteLayout=HASH(0x55d0b8efcf20)) called at /tmp/loop_over_bdir-2354-ukUQqH/Reaction-0.002005-0/blib/lib/Reaction/UI/View.pm line 78
	Reaction::UI::View::render_viewport_args(ComponentUI::View::Site=HASH(0x55d0b50b9f78), Reaction::UI::ViewPort::SiteLayout=HASH(0x55d0b8efcf20)) called at /tmp/loop_over_bdir-2354-ukUQqH/Reaction-0.002005-0/blib/lib/Reaction/UI/View.pm line 61
	Reaction::UI::View::render_window(ComponentUI::View::Site=HASH(0x55d0b50b9f78), Reaction::UI::Window=HASH(0x55d0b8efc890)) called at /tmp/loop_over_bdir-2354-ukUQqH/Reaction-0.002005-0/blib/lib/Reaction/UI/Window.pm line 74
	Reaction::UI::Window::flush_view(Reaction::UI::Window=HASH(0x55d0b8efc890)) called at /tmp/loop_over_bdir-2354-ukUQqH/Reaction-0.002005-0/blib/lib/Reaction/UI/Window.pm line 36
	Reaction::UI::Window::flush(Reaction::UI::Window=HASH(0x55d0b8efc890)) called at /tmp/loop_over_bdir-2354-ukUQqH/Reaction-0.002005-0/blib/lib/Reaction/UI/Controller/Root.pm line 38
	Reaction::UI::Controller::Root::end(ComponentUI::Controller::Root=HASH(0x55d0b8e9c7b8), ComponentUI=HASH(0x55d0b8ea99b0)) called at /home/sand/src/perl/repoperls/installed-perls/host/k93focal/v5.39.8/b254/lib/site_perl/5.39.8/Catalyst/Action.pm line 374
	Catalyst::Action::execute(Catalyst::Action=HASH(0x55d0b8c3ad50), ComponentUI::Controller::Root=HASH(0x55d0b8e9c7b8), ComponentUI=HASH(0x55d0b8ea99b0)) called at /home/sand/src/perl/repoperls/installed-perls/host/k93focal/v5.39.8/b254/lib/site_perl/5.39.8/Catalyst.pm line 2067
	eval {...} called at /home/sand/src/perl/repoperls/installed-perls/host/k93focal/v5.39.8/b254/lib/site_perl/5.39.8/Catalyst.pm line 2067
	Catalyst::execute(ComponentUI=HASH(0x55d0b8ea99b0), "ComponentUI::Controller::Root", Catalyst::Action=HASH(0x55d0b8c3ad50)) called at /home/sand/src/perl/repoperls/installed-perls/host/k93focal/v5.39.8/b254/lib/site_perl/5.39.8/Catalyst/Action.pm line 368
	Catalyst::Action::dispatch(Catalyst::Action=HASH(0x55d0b8c3ad50), ComponentUI=HASH(0x55d0b8ea99b0)) called at /home/sand/src/perl/repoperls/installed-perls/host/k93focal/v5.39.8/b254/lib/site_perl/5.39.8/Catalyst/Controller.pm line 188
	Catalyst::Controller::_END(ComponentUI::Controller::Root=HASH(0x55d0b8e9c7b8), ComponentUI=HASH(0x55d0b8ea99b0)) called at /home/sand/src/perl/repoperls/installed-perls/host/k93focal/v5.39.8/b254/lib/site_perl/5.39.8/Catalyst/Action.pm line 374
	Catalyst::Action::execute(Catalyst::Action=HASH(0x55d0b8c3aac8), ComponentUI::Controller::Root=HASH(0x55d0b8e9c7b8), ComponentUI=HASH(0x55d0b8ea99b0)) called at /home/sand/src/perl/repoperls/installed-perls/host/k93focal/v5.39.8/b254/lib/site_perl/5.39.8/Catalyst.pm line 2067
	eval {...} called at /home/sand/src/perl/repoperls/installed-perls/host/k93focal/v5.39.8/b254/lib/site_perl/5.39.8/Catalyst.pm line 2067
	Catalyst::execute(ComponentUI=HASH(0x55d0b8ea99b0), "ComponentUI::Controller::Root", Catalyst::Action=HASH(0x55d0b8c3aac8)) called at /home/sand/src/perl/repoperls/installed-perls/host/k93focal/v5.39.8/b254/lib/site_perl/5.39.8/Catalyst/Action.pm line 368
	Catalyst::Action::dispatch(Catalyst::Action=HASH(0x55d0b8c3aac8), ComponentUI=HASH(0x55d0b8ea99b0)) called at /home/sand/src/perl/repoperls/installed-perls/host/k93focal/v5.39.8/b254/lib/site_perl/5.39.8/Catalyst/Dispatcher.pm line 261
	Catalyst::Dispatcher::_do_forward(Catalyst::Dispatcher=HASH(0x55d0b31bc8a0), "forward", ComponentUI=HASH(0x55d0b8ea99b0), "_END") called at /home/sand/src/perl/repoperls/installed-perls/host/k93focal/v5.39.8/b254/lib/site_perl/5.39.8/Catalyst/Dispatcher.pm line 241
	Catalyst::Dispatcher::forward(Catalyst::Dispatcher=HASH(0x55d0b31bc8a0), ComponentUI=HASH(0x55d0b8ea99b0), "_END") called at /home/sand/src/perl/repoperls/installed-perls/host/k93focal/v5.39.8/b254/lib/site_perl/5.39.8/Catalyst.pm line 489
	Catalyst::forward(ComponentUI=HASH(0x55d0b8ea99b0), "_END") called at /home/sand/src/perl/repoperls/installed-perls/host/k93focal/v5.39.8/b254/lib/site_perl/5.39.8/Catalyst/Controller.pm line 137
	Catalyst::Controller::_DISPATCH(ComponentUI::Controller::Root=HASH(0x55d0b8e9c7b8), ComponentUI=HASH(0x55d0b8ea99b0)) called at /home/sand/src/perl/repoperls/installed-perls/host/k93focal/v5.39.8/b254/lib/site_perl/5.39.8/Catalyst/Action.pm line 374
	Catalyst::Action::execute(Catalyst::Action=HASH(0x55d0b8c3acc0), ComponentUI::Controller::Root=HASH(0x55d0b8e9c7b8), ComponentUI=HASH(0x55d0b8ea99b0)) called at /home/sand/src/perl/repoperls/installed-perls/host/k93focal/v5.39.8/b254/lib/site_perl/5.39.8/Catalyst.pm line 2067
	eval {...} called at /home/sand/src/perl/repoperls/installed-perls/host/k93focal/v5.39.8/b254/lib/site_perl/5.39.8/Catalyst.pm line 2067
	Catalyst::execute(ComponentUI=HASH(0x55d0b8ea99b0), "ComponentUI::Controller::Root", Catalyst::Action=HASH(0x55d0b8c3acc0)) called at /home/sand/src/perl/repoperls/installed-perls/host/k93focal/v5.39.8/b254/lib/site_perl/5.39.8/Catalyst/Action.pm line 368
	Catalyst::Action::dispatch(Catalyst::Action=HASH(0x55d0b8c3acc0), ComponentUI=HASH(0x55d0b8ea99b0)) called at /home/sand/src/perl/repoperls/installed-perls/host/k93focal/v5.39.8/b254/lib/site_perl/5.39.8/Catalyst/Dispatcher.pm line 261
	Catalyst::Dispatcher::_do_forward(Catalyst::Dispatcher=HASH(0x55d0b31bc8a0), "forward", ComponentUI=HASH(0x55d0b8ea99b0), "//_DISPATCH") called at /home/sand/src/perl/repoperls/installed-perls/host/k93focal/v5.39.8/b254/lib/site_perl/5.39.8/Catalyst/Dispatcher.pm line 241
	Catalyst::Dispatcher::forward(Catalyst::Dispatcher=HASH(0x55d0b31bc8a0), ComponentUI=HASH(0x55d0b8ea99b0), "//_DISPATCH") called at /home/sand/src/perl/repoperls/installed-perls/host/k93focal/v5.39.8/b254/lib/site_perl/5.39.8/Catalyst.pm line 489
	Catalyst::forward(ComponentUI=HASH(0x55d0b8ea99b0), "//_DISPATCH") called at /home/sand/src/perl/repoperls/installed-perls/host/k93focal/v5.39.8/b254/lib/site_perl/5.39.8/Catalyst/Dispatcher.pm line 107
	Catalyst::Dispatcher::dispatch(Catalyst::Dispatcher=HASH(0x55d0b31bc8a0), ComponentUI=HASH(0x55d0b8ea99b0)) called at /home/sand/src/perl/repoperls/installed-perls/host/k93focal/v5.39.8/b254/lib/site_perl/5.39.8/Catalyst.pm line 2013
	Catalyst::dispatch(ComponentUI=HASH(0x55d0b8ea99b0)) called at /home/sand/src/perl/repoperls/installed-perls/host/k93focal/v5.39.8/b254/lib/site_perl/5.39.8/Catalyst/Plugin/Static/Simple.pm line 85
	Class::MOP::Class:::around(CODE(0x55d0b3e2c070), ComponentUI=HASH(0x55d0b8ea99b0)) called at /home/sand/src/perl/repoperls/installed-perls/host/k93focal/v5.39.8/b254/lib/site_perl/5.39.8/x86_64-linux/Class/MOP/Method/Wrapped.pm line 166
	ComponentUI::_wrapped_dispatch(ComponentUI=HASH(0x55d0b8ea99b0)) called at /home/sand/src/perl/repoperls/installed-perls/host/k93focal/v5.39.8/b254/lib/site_perl/5.39.8/x86_64-linux/Class/MOP/Method/Wrapped.pm line 97
	ComponentUI::dispatch(ComponentUI=HASH(0x55d0b8ea99b0)) called at /home/sand/src/perl/repoperls/installed-perls/host/k93focal/v5.39.8/b254/lib/site_perl/5.39.8/Catalyst.pm line 2419
	Catalyst::try {...} () called at /home/sand/src/perl/repoperls/installed-perls/host/k93focal/v5.39.8/b254/lib/site_perl/5.39.8/Try/Tiny.pm line 102
	eval {...} called at /home/sand/src/perl/repoperls/installed-perls/host/k93focal/v5.39.8/b254/lib/site_perl/5.39.8/Try/Tiny.pm line 93
	Try::Tiny::try(CODE(0x55d0b8ea9308), Try::Tiny::Catch=REF(0x55d0b8ea9110)) called at /home/sand/src/perl/repoperls/installed-perls/host/k93focal/v5.39.8/b254/lib/site_perl/5.39.8/Catalyst.pm line 2428
	Catalyst::handle_request("ComponentUI", "env", HASH(0x55d0b18ffee0), "response_cb", CODE(0x55d0b8ea9170)) called at /home/sand/src/perl/repoperls/installed-perls/host/k93focal/v5.39.8/b254/lib/site_perl/5.39.8/Catalyst/Engine.pm line 807
	Catalyst::Engine::__ANON__(CODE(0x55d0b8ea9170)) called at /home/sand/src/perl/repoperls/installed-perls/host/k93focal/v5.39.8/b254/lib/site_perl/5.39.8/Plack/Middleware/HTTPExceptions.pm line 32
	Plack::Middleware::HTTPExceptions::try {...} () called at /home/sand/src/perl/repoperls/installed-perls/host/k93focal/v5.39.8/b254/lib/site_perl/5.39.8/Try/Tiny.pm line 102
	eval {...} called at /home/sand/src/perl/repoperls/installed-perls/host/k93focal/v5.39.8/b254/lib/site_perl/5.39.8/Try/Tiny.pm line 93
	Try::Tiny::try(CODE(0x55d0b8ea8fa8), Try::Tiny::Catch=REF(0x55d0b8ef81f0)) called at /home/sand/src/perl/repoperls/installed-perls/host/k93focal/v5.39.8/b254/lib/site_perl/5.39.8/Plack/Middleware/HTTPExceptions.pm line 41
	Plack::Middleware::HTTPExceptions::__ANON__(CODE(0x55d0b8ef7fb0)) called at /home/sand/src/perl/repoperls/installed-perls/host/k93focal/v5.39.8/b254/lib/site_perl/5.39.8/Plack/Util.pm line 339
	Plack::Util::__ANON__(CODE(0x55d0b18ffe68)) called at /home/sand/src/perl/repoperls/installed-perls/host/k93focal/v5.39.8/b254/lib/site_perl/5.39.8/Plack/Util.pm line 339
	Plack::Util::__ANON__(CODE(0x55d0b18ffd78)) called at /home/sand/src/perl/repoperls/installed-perls/host/k93focal/v5.39.8/b254/lib/site_perl/5.39.8/Plack/Util.pm line 339
	Plack::Util::__ANON__(CODE(0x55d0b18ffd00)) called at /home/sand/src/perl/repoperls/installed-perls/host/k93focal/v5.39.8/b254/lib/site_perl/5.39.8/HTTP/Message/PSGI.pm line 100
	HTTP::Message::PSGI::res_from_psgi(CODE(0x55d0b8ef8748)) called at /home/sand/src/perl/repoperls/installed-perls/host/k93focal/v5.39.8/b254/lib/site_perl/5.39.8/HTTP/Message/PSGI.pm line 157
	HTTP::Response::from_psgi("HTTP::Response", CODE(0x55d0b8ef8748)) called at /home/sand/src/perl/repoperls/installed-perls/host/k93focal/v5.39.8/b254/lib/site_perl/5.39.8/Plack/Test/MockHTTP.pm line 24
	Plack::Test::MockHTTP::try {...} () called at /home/sand/src/perl/repoperls/installed-perls/host/k93focal/v5.39.8/b254/lib/site_perl/5.39.8/Try/Tiny.pm line 100
	eval {...} called at /home/sand/src/perl/repoperls/installed-perls/host/k93focal/v5.39.8/b254/lib/site_perl/5.39.8/Try/Tiny.pm line 93
	Try::Tiny::try(CODE(0x55d0b8ea3de8), Try::Tiny::Catch=REF(0x55d0b8db0050)) called at /home/sand/src/perl/repoperls/installed-perls/host/k93focal/v5.39.8/b254/lib/site_perl/5.39.8/Plack/Test/MockHTTP.pm line 27
	Plack::Test::MockHTTP::request(Plack::Test::MockHTTP=HASH(0x55d0b18ff7d8), HTTP::Request=HASH(0x55d0b8dbc620)) called at /home/sand/src/perl/repoperls/installed-perls/host/k93focal/v5.39.8/b254/lib/site_perl/5.39.8/Plack/Test.pm line 38
	Plack::Test::__ANON__(HTTP::Request=HASH(0x55d0b8dbc620)) called at /home/sand/src/perl/repoperls/installed-perls/host/k93focal/v5.39.8/b254/lib/site_perl/5.39.8/Catalyst/Test.pm line 290
	Catalyst::Test::__ANON__(CODE(0x55d0b18ff760)) called at /home/sand/src/perl/repoperls/installed-perls/host/k93focal/v5.39.8/b254/lib/site_perl/5.39.8/Plack/Test.pm line 38
	Plack::Test::test_psgi("app", CODE(0x55d0b8dbc230), "mangle_response", CODE(0x55d0b317d380), "app", CODE(0x55d0b8dc2478), "client", CODE(0x55d0b18ff5f8)) called at /home/sand/src/perl/repoperls/installed-perls/host/k93focal/v5.39.8/b254/lib/site_perl/5.39.8/Catalyst/Test.pm line 293
	Catalyst::Test::_request(HASH(0x55d0b18e4ef8), "/") called at /home/sand/src/perl/repoperls/installed-perls/host/k93focal/v5.39.8/b254/lib/site_perl/5.39.8/Catalyst/Test.pm line 336
	Catalyst::Test::_local_request("ComponentUI", "/") called at /home/sand/src/perl/repoperls/installed-perls/host/k93focal/v5.39.8/b254/lib/site_perl/5.39.8/Catalyst/Test.pm line 32
	Catalyst::Test::__ANON__("/") called at t/01app.t line 10
[debug] remote
t/01app.t ................... ok
t/04load_all.t .............. ok
t/05reflect_attr_from.t ..... ok
Class::MOP::load_class is deprecated at /home/sand/src/perl/repoperls/installed-perls/host/k93focal/v5.39.8/b254/lib/site_perl/5.39.8/x86_64-linux/Class/MOP.pm line 69.
	Class::MOP::load_class("Reaction::InterfaceModel::Object") called at /tmp/loop_over_bdir-2354-ukUQqH/Reaction-0.002005-0/blib/lib/Reaction/InterfaceModel/Reflector/DBIC.pm line 149
	Reaction::InterfaceModel::Reflector::DBIC::reflect_schema(Reaction::InterfaceModel::Reflector::DBIC=HASH(0x5619cf0e4088), "model_class", "ComponentUI::TestModel", "schema_class", "RTest::TestDB", "sources", ARRAY(0x5619cf113998)) called at /tmp/loop_over_bdir-2354-ukUQqH/Reaction-0.002005-0/blib/lib/ComponentUI/TestModel.pm line 10
	require ComponentUI/TestModel.pm called at t/lib/RTest/InterfaceModel/Reflector/DBIC.pm line 6
	RTest::InterfaceModel::Reflector::DBIC::BEGIN() called at t/lib/RTest/InterfaceModel/Reflector/DBIC.pm line 6
	eval {...} called at t/lib/RTest/InterfaceModel/Reflector/DBIC.pm line 6
	require RTest/InterfaceModel/Reflector/DBIC.pm called at t/im_dbic.t line 7
	main::BEGIN() called at t/im_dbic.t line 7
	eval {...} called at t/im_dbic.t line 7
Class::MOP::load_class is deprecated at /home/sand/src/perl/repoperls/installed-perls/host/k93focal/v5.39.8/b254/lib/site_perl/5.39.8/x86_64-linux/Class/MOP.pm line 69.
	Class::MOP::load_class("Reaction::InterfaceModel::Object") called at /tmp/loop_over_bdir-2354-ukUQqH/Reaction-0.002005-0/blib/lib/Reaction/Class.pm line 123
	Reaction::Class::do_class_sub("Reaction::Class", "ComponentUI::TestModel::Foo", "ComponentUI::TestModel::Foo", "is", "Reaction::InterfaceModel::Object", "which", CODE(0x5619d083b060)) called at /tmp/loop_over_bdir-2354-ukUQqH/Reaction-0.002005-0/blib/lib/Reaction/Class.pm line 86
	Reaction::Class::("ComponentUI::TestModel::Foo", "is", "Reaction::InterfaceModel::Object", "which", CODE(0x5619d083b060)) called at /tmp/loop_over_bdir-2354-ukUQqH/Reaction-0.002005-0/blib/lib/ComponentUI/TestModel/Foo.pm line 8
	require ComponentUI/TestModel/Foo.pm called at /home/sand/src/perl/repoperls/installed-perls/host/k93focal/v5.39.8/b254/lib/site_perl/5.39.8/Module/Runtime.pm line 314
	Module::Runtime::require_module("ComponentUI::TestModel::Foo") called at /home/sand/src/perl/repoperls/installed-perls/host/k93focal/v5.39.8/b254/lib/site_perl/5.39.8/Class/Load.pm line 174
	Class::Load::try {...} () called at /home/sand/src/perl/repoperls/installed-perls/host/k93focal/v5.39.8/b254/lib/site_perl/5.39.8/Try/Tiny.pm line 98
	eval {...} called at /home/sand/src/perl/repoperls/installed-perls/host/k93focal/v5.39.8/b254/lib/site_perl/5.39.8/Try/Tiny.pm line 93
	Try::Tiny::try(CODE(0x5619d06dc978), Try::Tiny::Catch=REF(0x5619d08325a8)) called at /home/sand/src/perl/repoperls/installed-perls/host/k93focal/v5.39.8/b254/lib/site_perl/5.39.8/Class/Load.pm line 180
	Class::Load::try_load_class("ComponentUI::TestModel::Foo", undef) called at /home/sand/src/perl/repoperls/installed-perls/host/k93focal/v5.39.8/b254/lib/site_perl/5.39.8/Class/Load.pm line 35
	Class::Load::load_class("ComponentUI::TestModel::Foo") called at /tmp/loop_over_bdir-2354-ukUQqH/Reaction-0.002005-0/blib/lib/Reaction/InterfaceModel/Reflector/DBIC.pm line 892
	eval {...} called at /tmp/loop_over_bdir-2354-ukUQqH/Reaction-0.002005-0/blib/lib/Reaction/InterfaceModel/Reflector/DBIC.pm line 892
	Reaction::InterfaceModel::Reflector::DBIC::_maybe_load_class(Reaction::InterfaceModel::Reflector::DBIC=HASH(0x5619cf0e4088), "ComponentUI::TestModel::Foo") called at /tmp/loop_over_bdir-2354-ukUQqH/Reaction-0.002005-0/blib/lib/Reaction/InterfaceModel/Reflector/DBIC.pm line 876
	Reaction::InterfaceModel::Reflector::DBIC::_load_or_create(Reaction::InterfaceModel::Reflector::DBIC=HASH(0x5619cf0e4088), "ComponentUI::TestModel::Foo", "superclasses", ARRAY(0x5619d06dd080)) called at /tmp/loop_over_bdir-2354-ukUQqH/Reaction-0.002005-0/blib/lib/Reaction/InterfaceModel/Reflector/DBIC.pm line 448
	Reaction::InterfaceModel::Reflector::DBIC::reflect_source_object(Reaction::InterfaceModel::Reflector::DBIC=HASH(0x5619cf0e4088), "parent_class", "ComponentUI::TestModel", "schema_class", "RTest::TestDB", "parent_domain_model_name", "_rtest_test_db_store", "source_class", ...) called at /tmp/loop_over_bdir-2354-ukUQqH/Reaction-0.002005-0/blib/lib/Reaction/InterfaceModel/Reflector/DBIC.pm line 323
	Reaction::InterfaceModel::Reflector::DBIC::reflect_source(Reaction::InterfaceModel::Reflector::DBIC=HASH(0x5619cf0e4088), "source_name", "Foo", "parent_class", "ComponentUI::TestModel", "schema_class", "RTest::TestDB", "source_class", ...) called at /tmp/loop_over_bdir-2354-ukUQqH/Reaction-0.002005-0/blib/lib/Reaction/InterfaceModel/Reflector/DBIC.pm line 185
	Reaction::InterfaceModel::Reflector::DBIC::reflect_schema(Reaction::InterfaceModel::Reflector::DBIC=HASH(0x5619cf0e4088), "model_class", "ComponentUI::TestModel", "schema_class", "RTest::TestDB", "sources", ARRAY(0x5619cf113998)) called at /tmp/loop_over_bdir-2354-ukUQqH/Reaction-0.002005-0/blib/lib/ComponentUI/TestModel.pm line 10
	require ComponentUI/TestModel.pm called at t/lib/RTest/InterfaceModel/Reflector/DBIC.pm line 6
	RTest::InterfaceModel::Reflector::DBIC::BEGIN() called at t/lib/RTest/InterfaceModel/Reflector/DBIC.pm line 6
	eval {...} called at t/lib/RTest/InterfaceModel/Reflector/DBIC.pm line 6
	require RTest/InterfaceModel/Reflector/DBIC.pm called at t/im_dbic.t line 7
	main::BEGIN() called at t/im_dbic.t line 7
	eval {...} called at t/im_dbic.t line 7
Class::MOP::is_class_loaded is deprecated at /home/sand/src/perl/repoperls/installed-perls/host/k93focal/v5.39.8/b254/lib/site_perl/5.39.8/x86_64-linux/Class/MOP.pm line 87.
	Class::MOP::is_class_loaded("RTest::TestIM::Foo") called at t/lib/RTest/InterfaceModel/Reflector/DBIC.pm line 74
	RTest::InterfaceModel::Reflector::DBIC::test_reflect_schema(RTest::InterfaceModel::Reflector::DBIC=HASH(0x5619cd2a4488)) called at /home/sand/src/perl/repoperls/installed-perls/host/k93focal/v5.39.8/b254/lib/site_perl/5.39.8/Test/Class.pm line 293
	Test::Class::try {...} () called at /home/sand/src/perl/repoperls/installed-perls/host/k93focal/v5.39.8/b254/lib/site_perl/5.39.8/Try/Tiny.pm line 100
	eval {...} called at /home/sand/src/perl/repoperls/installed-perls/host/k93focal/v5.39.8/b254/lib/site_perl/5.39.8/Try/Tiny.pm line 93
	Try::Tiny::try(CODE(0x5619d1dfc518), Try::Tiny::Catch=REF(0x5619d0e46138)) called at /home/sand/src/perl/repoperls/installed-perls/host/k93focal/v5.39.8/b254/lib/site_perl/5.39.8/Test/Class.pm line 293
	Test::Class::_run_method(RTest::InterfaceModel::Reflector::DBIC=HASH(0x5619cd2a4488), "test_reflect_schema", ARRAY(0x5619cda8ef60)) called at /home/sand/src/perl/repoperls/installed-perls/host/k93focal/v5.39.8/b254/lib/site_perl/5.39.8/Test/Class.pm line 402
	Test::Class::runtests("Test::Class", RTest::InterfaceModel::Reflector::DBIC=HASH(0x5619cd2a4488)) called at t/im_dbic.t line 10
t/im_dbic.t ................. ok
t/ui_focus_stack.t .......... ok
t/ui_view.t ................. ok
t/ui_viewport.t ............. ok
Attempt to call undefined import method with arguments ("5.80") via package "Catalyst::Runtime" (Perhaps you forgot to load the package?) at /tmp/loop_over_bdir-2354-ukUQqH/Reaction-0.002005-0/blib/lib/ComponentUI.pm line 6.
Class::MOP::load_class is deprecated at /home/sand/src/perl/repoperls/installed-perls/host/k93focal/v5.39.8/b254/lib/site_perl/5.39.8/x86_64-linux/Class/MOP.pm line 69.
	Class::MOP::load_class("ComponentUI::TestModel") called at /tmp/loop_over_bdir-2354-ukUQqH/Reaction-0.002005-0/blib/lib/Catalyst/Model/Reaction/InterfaceModel/DBIC.pm line 24
	Catalyst::Model::Reaction::InterfaceModel::DBIC::COMPONENT("ComponentUI::Model::TestModel", "ComponentUI", HASH(0x561991165420)) called at /home/sand/src/perl/repoperls/installed-perls/host/k93focal/v5.39.8/b254/lib/site_perl/5.39.8/Catalyst.pm line 3240
	eval {...} called at /home/sand/src/perl/repoperls/installed-perls/host/k93focal/v5.39.8/b254/lib/site_perl/5.39.8/Catalyst.pm line 3241
	Catalyst::setup_component("ComponentUI", "ComponentUI::Model::TestModel") called at /home/sand/src/perl/repoperls/installed-perls/host/k93focal/v5.39.8/b254/lib/site_perl/5.39.8/Catalyst.pm line 3218
	Catalyst::__ANON__() called at /home/sand/src/perl/repoperls/installed-perls/host/k93focal/v5.39.8/b254/lib/site_perl/5.39.8/Catalyst.pm line 3065
	Catalyst::setup_components("ComponentUI") called at /home/sand/src/perl/repoperls/installed-perls/host/k93focal/v5.39.8/b254/lib/site_perl/5.39.8/Catalyst.pm line 1438
	Catalyst::setup("ComponentUI") called at /tmp/loop_over_bdir-2354-ukUQqH/Reaction-0.002005-0/blib/lib/ComponentUI.pm line 32
	require ComponentUI.pm called at /home/sand/src/perl/repoperls/installed-perls/host/k93focal/v5.39.8/b254/lib/site_perl/5.39.8/Module/Runtime.pm line 314
	Module::Runtime::require_module("ComponentUI") called at /home/sand/src/perl/repoperls/installed-perls/host/k93focal/v5.39.8/b254/lib/site_perl/5.39.8/Class/Load.pm line 174
	Class::Load::try {...} () called at /home/sand/src/perl/repoperls/installed-perls/host/k93focal/v5.39.8/b254/lib/site_perl/5.39.8/Try/Tiny.pm line 98
	eval {...} called at /home/sand/src/perl/repoperls/installed-perls/host/k93focal/v5.39.8/b254/lib/site_perl/5.39.8/Try/Tiny.pm line 93
	Try::Tiny::try(CODE(0x56198abd2b18), Try::Tiny::Catch=REF(0x56198c881240)) called at /home/sand/src/perl/repoperls/installed-perls/host/k93focal/v5.39.8/b254/lib/site_perl/5.39.8/Class/Load.pm line 180
	Class::Load::try_load_class("ComponentUI", undef) called at /home/sand/src/perl/repoperls/installed-perls/host/k93focal/v5.39.8/b254/lib/site_perl/5.39.8/Class/Load.pm line 35
	Class::Load::load_class("ComponentUI") called at /home/sand/src/perl/repoperls/installed-perls/host/k93focal/v5.39.8/b254/lib/site_perl/5.39.8/Test/WWW/Mechanize/Catalyst.pm line 245
	Test::WWW::Mechanize::Catalyst::import("Test::WWW::Mechanize::Catalyst", "ComponentUI") called at t/uncheck_bool_field.t line 6
	main::BEGIN() called at t/uncheck_bool_field.t line 6
	eval {...} called at t/uncheck_bool_field.t line 6
Class::MOP::load_class is deprecated at /home/sand/src/perl/repoperls/installed-perls/host/k93focal/v5.39.8/b254/lib/site_perl/5.39.8/x86_64-linux/Class/MOP.pm line 69.
	Class::MOP::load_class("Reaction::InterfaceModel::Object") called at /tmp/loop_over_bdir-2354-ukUQqH/Reaction-0.002005-0/blib/lib/Reaction/InterfaceModel/Reflector/DBIC.pm line 149
	Reaction::InterfaceModel::Reflector::DBIC::reflect_schema(Reaction::InterfaceModel::Reflector::DBIC=HASH(0x561991c03658), "model_class", "ComponentUI::TestModel", "schema_class", "RTest::TestDB", "sources", ARRAY(0x561991c04270)) called at /tmp/loop_over_bdir-2354-ukUQqH/Reaction-0.002005-0/blib/lib/ComponentUI/TestModel.pm line 10
	require ComponentUI/TestModel.pm called at /home/sand/src/perl/repoperls/installed-perls/host/k93focal/v5.39.8/b254/lib/site_perl/5.39.8/Module/Runtime.pm line 314
	Module::Runtime::require_module("ComponentUI::TestModel") called at /home/sand/src/perl/repoperls/installed-perls/host/k93focal/v5.39.8/b254/lib/site_perl/5.39.8/Class/Load.pm line 174
	Class::Load::try {...} () called at /home/sand/src/perl/repoperls/installed-perls/host/k93focal/v5.39.8/b254/lib/site_perl/5.39.8/Try/Tiny.pm line 98
	eval {...} called at /home/sand/src/perl/repoperls/installed-perls/host/k93focal/v5.39.8/b254/lib/site_perl/5.39.8/Try/Tiny.pm line 93
	Try::Tiny::try(CODE(0x56198df67dc8), Try::Tiny::Catch=REF(0x56199118a770)) called at /home/sand/src/perl/repoperls/installed-perls/host/k93focal/v5.39.8/b254/lib/site_perl/5.39.8/Class/Load.pm line 180
	Class::Load::try_load_class("ComponentUI::TestModel", undef) called at /home/sand/src/perl/repoperls/installed-perls/host/k93focal/v5.39.8/b254/lib/site_perl/5.39.8/Class/Load.pm line 35
	Class::Load::load_class("ComponentUI::TestModel") called at /tmp/loop_over_bdir-2354-ukUQqH/Reaction-0.002005-0/blib/lib/Catalyst/Model/Reaction/InterfaceModel/DBIC.pm line 24
	Catalyst::Model::Reaction::InterfaceModel::DBIC::COMPONENT("ComponentUI::Model::TestModel", "ComponentUI", HASH(0x561991165420)) called at /home/sand/src/perl/repoperls/installed-perls/host/k93focal/v5.39.8/b254/lib/site_perl/5.39.8/Catalyst.pm line 3240
	eval {...} called at /home/sand/src/perl/repoperls/installed-perls/host/k93focal/v5.39.8/b254/lib/site_perl/5.39.8/Catalyst.pm line 3241
	Catalyst::setup_component("ComponentUI", "ComponentUI::Model::TestModel") called at /home/sand/src/perl/repoperls/installed-perls/host/k93focal/v5.39.8/b254/lib/site_perl/5.39.8/Catalyst.pm line 3218
	Catalyst::__ANON__() called at /home/sand/src/perl/repoperls/installed-perls/host/k93focal/v5.39.8/b254/lib/site_perl/5.39.8/Catalyst.pm line 3065
	Catalyst::setup_components("ComponentUI") called at /home/sand/src/perl/repoperls/installed-perls/host/k93focal/v5.39.8/b254/lib/site_perl/5.39.8/Catalyst.pm line 1438
	Catalyst::setup("ComponentUI") called at /tmp/loop_over_bdir-2354-ukUQqH/Reaction-0.002005-0/blib/lib/ComponentUI.pm line 32
	require ComponentUI.pm called at /home/sand/src/perl/repoperls/installed-perls/host/k93focal/v5.39.8/b254/lib/site_perl/5.39.8/Module/Runtime.pm line 314
	Module::Runtime::require_module("ComponentUI") called at /home/sand/src/perl/repoperls/installed-perls/host/k93focal/v5.39.8/b254/lib/site_perl/5.39.8/Class/Load.pm line 174
	Class::Load::try {...} () called at /home/sand/src/perl/repoperls/installed-perls/host/k93focal/v5.39.8/b254/lib/site_perl/5.39.8/Try/Tiny.pm line 98
	eval {...} called at /home/sand/src/perl/repoperls/installed-perls/host/k93focal/v5.39.8/b254/lib/site_perl/5.39.8/Try/Tiny.pm line 93
	Try::Tiny::try(CODE(0x56198abd2b18), Try::Tiny::Catch=REF(0x56198c881240)) called at /home/sand/src/perl/repoperls/installed-perls/host/k93focal/v5.39.8/b254/lib/site_perl/5.39.8/Class/Load.pm line 180
	Class::Load::try_load_class("ComponentUI", undef) called at /home/sand/src/perl/repoperls/installed-perls/host/k93focal/v5.39.8/b254/lib/site_perl/5.39.8/Class/Load.pm line 35
	Class::Load::load_class("ComponentUI") called at /home/sand/src/perl/repoperls/installed-perls/host/k93focal/v5.39.8/b254/lib/site_perl/5.39.8/Test/WWW/Mechanize/Catalyst.pm line 245
	Test::WWW::Mechanize::Catalyst::import("Test::WWW::Mechanize::Catalyst", "ComponentUI") called at t/uncheck_bool_field.t line 6
	main::BEGIN() called at t/uncheck_bool_field.t line 6
	eval {...} called at t/uncheck_bool_field.t line 6
Class::MOP::load_class is deprecated at /home/sand/src/perl/repoperls/installed-perls/host/k93focal/v5.39.8/b254/lib/site_perl/5.39.8/x86_64-linux/Class/MOP.pm line 69.
	Class::MOP::load_class("Reaction::InterfaceModel::Object") called at /tmp/loop_over_bdir-2354-ukUQqH/Reaction-0.002005-0/blib/lib/Reaction/Class.pm line 123
	Reaction::Class::do_class_sub("Reaction::Class", "ComponentUI::TestModel::Foo", "ComponentUI::TestModel::Foo", "is", "Reaction::InterfaceModel::Object", "which", CODE(0x561991da2010)) called at /tmp/loop_over_bdir-2354-ukUQqH/Reaction-0.002005-0/blib/lib/Reaction/Class.pm line 86
	Reaction::Class::("ComponentUI::TestModel::Foo", "is", "Reaction::InterfaceModel::Object", "which", CODE(0x561991da2010)) called at /tmp/loop_over_bdir-2354-ukUQqH/Reaction-0.002005-0/blib/lib/ComponentUI/TestModel/Foo.pm line 8
	require ComponentUI/TestModel/Foo.pm called at /home/sand/src/perl/repoperls/installed-perls/host/k93focal/v5.39.8/b254/lib/site_perl/5.39.8/Module/Runtime.pm line 314
	Module::Runtime::require_module("ComponentUI::TestModel::Foo") called at /home/sand/src/perl/repoperls/installed-perls/host/k93focal/v5.39.8/b254/lib/site_perl/5.39.8/Class/Load.pm line 174
	Class::Load::try {...} () called at /home/sand/src/perl/repoperls/installed-perls/host/k93focal/v5.39.8/b254/lib/site_perl/5.39.8/Try/Tiny.pm line 98
	eval {...} called at /home/sand/src/perl/repoperls/installed-perls/host/k93focal/v5.39.8/b254/lib/site_perl/5.39.8/Try/Tiny.pm line 93
	Try::Tiny::try(CODE(0x561991dd25d8), Try::Tiny::Catch=REF(0x561991e1f4c8)) called at /home/sand/src/perl/repoperls/installed-perls/host/k93focal/v5.39.8/b254/lib/site_perl/5.39.8/Class/Load.pm line 180
	Class::Load::try_load_class("ComponentUI::TestModel::Foo", undef) called at /home/sand/src/perl/repoperls/installed-perls/host/k93focal/v5.39.8/b254/lib/site_perl/5.39.8/Class/Load.pm line 35
	Class::Load::load_class("ComponentUI::TestModel::Foo") called at /tmp/loop_over_bdir-2354-ukUQqH/Reaction-0.002005-0/blib/lib/Reaction/InterfaceModel/Reflector/DBIC.pm line 892
	eval {...} called at /tmp/loop_over_bdir-2354-ukUQqH/Reaction-0.002005-0/blib/lib/Reaction/InterfaceModel/Reflector/DBIC.pm line 892
	Reaction::InterfaceModel::Reflector::DBIC::_maybe_load_class(Reaction::InterfaceModel::Reflector::DBIC=HASH(0x561991c03658), "ComponentUI::TestModel::Foo") called at /tmp/loop_over_bdir-2354-ukUQqH/Reaction-0.002005-0/blib/lib/Reaction/InterfaceModel/Reflector/DBIC.pm line 876
	Reaction::InterfaceModel::Reflector::DBIC::_load_or_create(Reaction::InterfaceModel::Reflector::DBIC=HASH(0x561991c03658), "ComponentUI::TestModel::Foo", "superclasses", ARRAY(0x561991d0c698)) called at /tmp/loop_over_bdir-2354-ukUQqH/Reaction-0.002005-0/blib/lib/Reaction/InterfaceModel/Reflector/DBIC.pm line 448
	Reaction::InterfaceModel::Reflector::DBIC::reflect_source_object(Reaction::InterfaceModel::Reflector::DBIC=HASH(0x561991c03658), "source_class", "RTest::TestDB::Foo", "schema_class", "RTest::TestDB", "parent_class", "ComponentUI::TestModel", "source_name", ...) called at /tmp/loop_over_bdir-2354-ukUQqH/Reaction-0.002005-0/blib/lib/Reaction/InterfaceModel/Reflector/DBIC.pm line 323
	Reaction::InterfaceModel::Reflector::DBIC::reflect_source(Reaction::InterfaceModel::Reflector::DBIC=HASH(0x561991c03658), "source_name", "Foo", "parent_class", "ComponentUI::TestModel", "schema_class", "RTest::TestDB", "source_class", ...) called at /tmp/loop_over_bdir-2354-ukUQqH/Reaction-0.002005-0/blib/lib/Reaction/InterfaceModel/Reflector/DBIC.pm line 185
	Reaction::InterfaceModel::Reflector::DBIC::reflect_schema(Reaction::InterfaceModel::Reflector::DBIC=HASH(0x561991c03658), "model_class", "ComponentUI::TestModel", "schema_class", "RTest::TestDB", "sources", ARRAY(0x561991c04270)) called at /tmp/loop_over_bdir-2354-ukUQqH/Reaction-0.002005-0/blib/lib/ComponentUI/TestModel.pm line 10
	require ComponentUI/TestModel.pm called at /home/sand/src/perl/repoperls/installed-perls/host/k93focal/v5.39.8/b254/lib/site_perl/5.39.8/Module/Runtime.pm line 314
	Module::Runtime::require_module("ComponentUI::TestModel") called at /home/sand/src/perl/repoperls/installed-perls/host/k93focal/v5.39.8/b254/lib/site_perl/5.39.8/Class/Load.pm line 174
	Class::Load::try {...} () called at /home/sand/src/perl/repoperls/installed-perls/host/k93focal/v5.39.8/b254/lib/site_perl/5.39.8/Try/Tiny.pm line 98
	eval {...} called at /home/sand/src/perl/repoperls/installed-perls/host/k93focal/v5.39.8/b254/lib/site_perl/5.39.8/Try/Tiny.pm line 93
	Try::Tiny::try(CODE(0x56198df67dc8), Try::Tiny::Catch=REF(0x56199118a770)) called at /home/sand/src/perl/repoperls/installed-perls/host/k93focal/v5.39.8/b254/lib/site_perl/5.39.8/Class/Load.pm line 180
	Class::Load::try_load_class("ComponentUI::TestModel", undef) called at /home/sand/src/perl/repoperls/installed-perls/host/k93focal/v5.39.8/b254/lib/site_perl/5.39.8/Class/Load.pm line 35
	Class::Load::load_class("ComponentUI::TestModel") called at /tmp/loop_over_bdir-2354-ukUQqH/Reaction-0.002005-0/blib/lib/Catalyst/Model/Reaction/InterfaceModel/DBIC.pm line 24
	Catalyst::Model::Reaction::InterfaceModel::DBIC::COMPONENT("ComponentUI::Model::TestModel", "ComponentUI", HASH(0x561991165420)) called at /home/sand/src/perl/repoperls/installed-perls/host/k93focal/v5.39.8/b254/lib/site_perl/5.39.8/Catalyst.pm line 3240
	eval {...} called at /home/sand/src/perl/repoperls/installed-perls/host/k93focal/v5.39.8/b254/lib/site_perl/5.39.8/Catalyst.pm line 3241
	Catalyst::setup_component("ComponentUI", "ComponentUI::Model::TestModel") called at /home/sand/src/perl/repoperls/installed-perls/host/k93focal/v5.39.8/b254/lib/site_perl/5.39.8/Catalyst.pm line 3218
	Catalyst::__ANON__() called at /home/sand/src/perl/repoperls/installed-perls/host/k93focal/v5.39.8/b254/lib/site_perl/5.39.8/Catalyst.pm line 3065
	Catalyst::setup_components("ComponentUI") called at /home/sand/src/perl/repoperls/installed-perls/host/k93focal/v5.39.8/b254/lib/site_perl/5.39.8/Catalyst.pm line 1438
	Catalyst::setup("ComponentUI") called at /tmp/loop_over_bdir-2354-ukUQqH/Reaction-0.002005-0/blib/lib/ComponentUI.pm line 32
	require ComponentUI.pm called at /home/sand/src/perl/repoperls/installed-perls/host/k93focal/v5.39.8/b254/lib/site_perl/5.39.8/Module/Runtime.pm line 314
	Module::Runtime::require_module("ComponentUI") called at /home/sand/src/perl/repoperls/installed-perls/host/k93focal/v5.39.8/b254/lib/site_perl/5.39.8/Class/Load.pm line 174
	Class::Load::try {...} () called at /home/sand/src/perl/repoperls/installed-perls/host/k93focal/v5.39.8/b254/lib/site_perl/5.39.8/Try/Tiny.pm line 98
	eval {...} called at /home/sand/src/perl/repoperls/installed-perls/host/k93focal/v5.39.8/b254/lib/site_perl/5.39.8/Try/Tiny.pm line 93
	Try::Tiny::try(CODE(0x56198abd2b18), Try::Tiny::Catch=REF(0x56198c881240)) called at /home/sand/src/perl/repoperls/installed-perls/host/k93focal/v5.39.8/b254/lib/site_perl/5.39.8/Class/Load.pm line 180
	Class::Load::try_load_class("ComponentUI", undef) called at /home/sand/src/perl/repoperls/installed-perls/host/k93focal/v5.39.8/b254/lib/site_perl/5.39.8/Class/Load.pm line 35
	Class::Load::load_class("ComponentUI") called at /home/sand/src/perl/repoperls/installed-perls/host/k93focal/v5.39.8/b254/lib/site_perl/5.39.8/Test/WWW/Mechanize/Catalyst.pm line 245
	Test::WWW::Mechanize::Catalyst::import("Test::WWW::Mechanize::Catalyst", "ComponentUI") called at t/uncheck_bool_field.t line 6
	main::BEGIN() called at t/uncheck_bool_field.t line 6
	eval {...} called at t/uncheck_bool_field.t line 6
Class::MOP::load_class is deprecated at /home/sand/src/perl/repoperls/installed-perls/host/k93focal/v5.39.8/b254/lib/site_perl/5.39.8/x86_64-linux/Class/MOP.pm line 69.
	Class::MOP::load_class("ComponentUI::RenderingContext::Site") called at /tmp/loop_over_bdir-2354-ukUQqH/Reaction-0.002005-0/blib/lib/Reaction/UI/View.pm line 125
	eval {...} called at /tmp/loop_over_bdir-2354-ukUQqH/Reaction-0.002005-0/blib/lib/Reaction/UI/View.pm line 125
	Reaction::UI::View::find_related_class(ComponentUI::View::Site=HASH(0x56198e61d1c8), "RenderingContext") called at /tmp/loop_over_bdir-2354-ukUQqH/Reaction-0.002005-0/blib/lib/Reaction/UI/View.pm line 43
	Reaction::UI::View::_build_rendering_context_class(ComponentUI::View::Site=HASH(0x56198e61d1c8)) called at reader Reaction::UI::View::rendering_context_class (defined at /tmp/loop_over_bdir-2354-ukUQqH/Reaction-0.002005-0/blib/lib/Reaction/UI/View.pm line 29) line 8
	Reaction::UI::View::rendering_context_class(ComponentUI::View::Site=HASH(0x56198e61d1c8)) called at /tmp/loop_over_bdir-2354-ukUQqH/Reaction-0.002005-0/blib/lib/Reaction/UI/View.pm line 134
	Reaction::UI::View::create_rendering_context(ComponentUI::View::Site=HASH(0x56198e61d1c8)) called at /tmp/loop_over_bdir-2354-ukUQqH/Reaction-0.002005-0/blib/lib/Reaction/UI/View.pm line 60
	Reaction::UI::View::render_window(ComponentUI::View::Site=HASH(0x56198e61d1c8), Reaction::UI::Window=HASH(0x56199252e648)) called at /tmp/loop_over_bdir-2354-ukUQqH/Reaction-0.002005-0/blib/lib/Reaction/UI/Window.pm line 74
	Reaction::UI::Window::flush_view(Reaction::UI::Window=HASH(0x56199252e648)) called at /tmp/loop_over_bdir-2354-ukUQqH/Reaction-0.002005-0/blib/lib/Reaction/UI/Window.pm line 36
	Reaction::UI::Window::flush(Reaction::UI::Window=HASH(0x56199252e648)) called at /tmp/loop_over_bdir-2354-ukUQqH/Reaction-0.002005-0/blib/lib/Reaction/UI/Controller/Root.pm line 38
	Reaction::UI::Controller::Root::end(ComponentUI::Controller::Root=HASH(0x56199252e780), ComponentUI=HASH(0x5619924f1c58)) called at /home/sand/src/perl/repoperls/installed-perls/host/k93focal/v5.39.8/b254/lib/site_perl/5.39.8/Catalyst/Action.pm line 374
	Catalyst::Action::execute(Catalyst::Action=HASH(0x561992193e48), ComponentUI::Controller::Root=HASH(0x56199252e780), ComponentUI=HASH(0x5619924f1c58)) called at /home/sand/src/perl/repoperls/installed-perls/host/k93focal/v5.39.8/b254/lib/site_perl/5.39.8/Catalyst.pm line 2067
	eval {...} called at /home/sand/src/perl/repoperls/installed-perls/host/k93focal/v5.39.8/b254/lib/site_perl/5.39.8/Catalyst.pm line 2067
	Catalyst::execute(ComponentUI=HASH(0x5619924f1c58), "ComponentUI::Controller::Root", Catalyst::Action=HASH(0x561992193e48)) called at /home/sand/src/perl/repoperls/installed-perls/host/k93focal/v5.39.8/b254/lib/site_perl/5.39.8/Catalyst/Action.pm line 368
	Catalyst::Action::dispatch(Catalyst::Action=HASH(0x561992193e48), ComponentUI=HASH(0x5619924f1c58)) called at /home/sand/src/perl/repoperls/installed-perls/host/k93focal/v5.39.8/b254/lib/site_perl/5.39.8/Catalyst/Controller.pm line 188
	Catalyst::Controller::_END(ComponentUI::Controller::TestModel::Baz=HASH(0x5619924fc960), ComponentUI=HASH(0x5619924f1c58)) called at /home/sand/src/perl/repoperls/installed-perls/host/k93focal/v5.39.8/b254/lib/site_perl/5.39.8/Catalyst/Action.pm line 374
	Catalyst::Action::execute(Catalyst::Action=HASH(0x561992311688), ComponentUI::Controller::TestModel::Baz=HASH(0x5619924fc960), ComponentUI=HASH(0x5619924f1c58)) called at /home/sand/src/perl/repoperls/installed-perls/host/k93focal/v5.39.8/b254/lib/site_perl/5.39.8/Catalyst.pm line 2067
	eval {...} called at /home/sand/src/perl/repoperls/installed-perls/host/k93focal/v5.39.8/b254/lib/site_perl/5.39.8/Catalyst.pm line 2067
	Catalyst::execute(ComponentUI=HASH(0x5619924f1c58), "ComponentUI::Controller::TestModel::Baz", Catalyst::Action=HASH(0x561992311688)) called at /home/sand/src/perl/repoperls/installed-perls/host/k93focal/v5.39.8/b254/lib/site_perl/5.39.8/Catalyst/Action.pm line 368
	Catalyst::Action::dispatch(Catalyst::Action=HASH(0x561992311688), ComponentUI=HASH(0x5619924f1c58)) called at /home/sand/src/perl/repoperls/installed-perls/host/k93focal/v5.39.8/b254/lib/site_perl/5.39.8/Catalyst/Dispatcher.pm line 261
	Catalyst::Dispatcher::_do_forward(Catalyst::Dispatcher=HASH(0x56198cf43050), "forward", ComponentUI=HASH(0x5619924f1c58), "_END") called at /home/sand/src/perl/repoperls/installed-perls/host/k93focal/v5.39.8/b254/lib/site_perl/5.39.8/Catalyst/Dispatcher.pm line 241
	Catalyst::Dispatcher::forward(Catalyst::Dispatcher=HASH(0x56198cf43050), ComponentUI=HASH(0x5619924f1c58), "_END") called at /home/sand/src/perl/repoperls/installed-perls/host/k93focal/v5.39.8/b254/lib/site_perl/5.39.8/Catalyst.pm line 489
	Catalyst::forward(ComponentUI=HASH(0x5619924f1c58), "_END") called at /home/sand/src/perl/repoperls/installed-perls/host/k93focal/v5.39.8/b254/lib/site_perl/5.39.8/Catalyst/Controller.pm line 137
	Catalyst::Controller::_DISPATCH(ComponentUI::Controller::TestModel::Baz=HASH(0x5619924fc960), ComponentUI=HASH(0x5619924f1c58)) called at /home/sand/src/perl/repoperls/installed-perls/host/k93focal/v5.39.8/b254/lib/site_perl/5.39.8/Catalyst/Action.pm line 374
	Catalyst::Action::execute(Catalyst::Action=HASH(0x5619922ef620), ComponentUI::Controller::TestModel::Baz=HASH(0x5619924fc960), ComponentUI=HASH(0x5619924f1c58)) called at /home/sand/src/perl/repoperls/installed-perls/host/k93focal/v5.39.8/b254/lib/site_perl/5.39.8/Catalyst.pm line 2067
	eval {...} called at /home/sand/src/perl/repoperls/installed-perls/host/k93focal/v5.39.8/b254/lib/site_perl/5.39.8/Catalyst.pm line 2067
	Catalyst::execute(ComponentUI=HASH(0x5619924f1c58), "ComponentUI::Controller::TestModel::Baz", Catalyst::Action=HASH(0x5619922ef620)) called at /home/sand/src/perl/repoperls/installed-perls/host/k93focal/v5.39.8/b254/lib/site_perl/5.39.8/Catalyst/Action.pm line 368
	Catalyst::Action::dispatch(Catalyst::Action=HASH(0x5619922ef620), ComponentUI=HASH(0x5619924f1c58)) called at /home/sand/src/perl/repoperls/installed-perls/host/k93focal/v5.39.8/b254/lib/site_perl/5.39.8/Catalyst/Dispatcher.pm line 261
	Catalyst::Dispatcher::_do_forward(Catalyst::Dispatcher=HASH(0x56198cf43050), "forward", ComponentUI=HASH(0x5619924f1c58), "/testmodel/baz/_DISPATCH") called at /home/sand/src/perl/repoperls/installed-perls/host/k93focal/v5.39.8/b254/lib/site_perl/5.39.8/Catalyst/Dispatcher.pm line 241
	Catalyst::Dispatcher::forward(Catalyst::Dispatcher=HASH(0x56198cf43050), ComponentUI=HASH(0x5619924f1c58), "/testmodel/baz/_DISPATCH") called at /home/sand/src/perl/repoperls/installed-perls/host/k93focal/v5.39.8/b254/lib/site_perl/5.39.8/Catalyst.pm line 489
	Catalyst::forward(ComponentUI=HASH(0x5619924f1c58), "/testmodel/baz/_DISPATCH") called at /home/sand/src/perl/repoperls/installed-perls/host/k93focal/v5.39.8/b254/lib/site_perl/5.39.8/Catalyst/Dispatcher.pm line 107
	Catalyst::Dispatcher::dispatch(Catalyst::Dispatcher=HASH(0x56198cf43050), ComponentUI=HASH(0x5619924f1c58)) called at /home/sand/src/perl/repoperls/installed-perls/host/k93focal/v5.39.8/b254/lib/site_perl/5.39.8/Catalyst.pm line 2013
	Catalyst::dispatch(ComponentUI=HASH(0x5619924f1c58)) called at /home/sand/src/perl/repoperls/installed-perls/host/k93focal/v5.39.8/b254/lib/site_perl/5.39.8/Catalyst/Plugin/Static/Simple.pm line 85
	Class::MOP::Class:::around(CODE(0x56198d3aa9e0), ComponentUI=HASH(0x5619924f1c58)) called at /home/sand/src/perl/repoperls/installed-perls/host/k93focal/v5.39.8/b254/lib/site_perl/5.39.8/x86_64-linux/Class/MOP/Method/Wrapped.pm line 166
	ComponentUI::_wrapped_dispatch(ComponentUI=HASH(0x5619924f1c58)) called at /home/sand/src/perl/repoperls/installed-perls/host/k93focal/v5.39.8/b254/lib/site_perl/5.39.8/x86_64-linux/Class/MOP/Method/Wrapped.pm line 97
	ComponentUI::dispatch(ComponentUI=HASH(0x5619924f1c58)) called at /home/sand/src/perl/repoperls/installed-perls/host/k93focal/v5.39.8/b254/lib/site_perl/5.39.8/Catalyst.pm line 2419
	Catalyst::try {...} () called at /home/sand/src/perl/repoperls/installed-perls/host/k93focal/v5.39.8/b254/lib/site_perl/5.39.8/Try/Tiny.pm line 102
	eval {...} called at /home/sand/src/perl/repoperls/installed-perls/host/k93focal/v5.39.8/b254/lib/site_perl/5.39.8/Try/Tiny.pm line 93
	Try::Tiny::try(CODE(0x5619924ed938), Try::Tiny::Catch=REF(0x5619924ed740)) called at /home/sand/src/perl/repoperls/installed-perls/host/k93focal/v5.39.8/b254/lib/site_perl/5.39.8/Catalyst.pm line 2428
	Catalyst::handle_request("ComponentUI", "env", HASH(0x56199249ce78), "response_cb", CODE(0x5619924ed7a0)) called at /home/sand/src/perl/repoperls/installed-perls/host/k93focal/v5.39.8/b254/lib/site_perl/5.39.8/Catalyst/Engine.pm line 807
	Catalyst::Engine::__ANON__(CODE(0x5619924ed7a0)) called at /home/sand/src/perl/repoperls/installed-perls/host/k93focal/v5.39.8/b254/lib/site_perl/5.39.8/Plack/Middleware/HTTPExceptions.pm line 32
	Plack::Middleware::HTTPExceptions::try {...} () called at /home/sand/src/perl/repoperls/installed-perls/host/k93focal/v5.39.8/b254/lib/site_perl/5.39.8/Try/Tiny.pm line 102
	eval {...} called at /home/sand/src/perl/repoperls/installed-perls/host/k93focal/v5.39.8/b254/lib/site_perl/5.39.8/Try/Tiny.pm line 93
	Try::Tiny::try(CODE(0x5619924ed5d8), Try::Tiny::Catch=REF(0x5619924ec308)) called at /home/sand/src/perl/repoperls/installed-perls/host/k93focal/v5.39.8/b254/lib/site_perl/5.39.8/Plack/Middleware/HTTPExceptions.pm line 41
	Plack::Middleware::HTTPExceptions::__ANON__(CODE(0x5619924ebaf8)) called at /home/sand/src/perl/repoperls/installed-perls/host/k93focal/v5.39.8/b254/lib/site_perl/5.39.8/Plack/Util.pm line 339
	Plack::Util::__ANON__(CODE(0x56199249cdd0)) called at /home/sand/src/perl/repoperls/installed-perls/host/k93focal/v5.39.8/b254/lib/site_perl/5.39.8/Plack/Util.pm line 339
	Plack::Util::__ANON__(CODE(0x56199249cc68)) called at /home/sand/src/perl/repoperls/installed-perls/host/k93focal/v5.39.8/b254/lib/site_perl/5.39.8/Plack/Util.pm line 339
	Plack::Util::__ANON__(CODE(0x56198ffedfd8)) called at /home/sand/src/perl/repoperls/installed-perls/host/k93focal/v5.39.8/b254/lib/site_perl/5.39.8/HTTP/Message/PSGI.pm line 100
	HTTP::Message::PSGI::res_from_psgi(CODE(0x5619924ed380)) called at /home/sand/src/perl/repoperls/installed-perls/host/k93focal/v5.39.8/b254/lib/site_perl/5.39.8/HTTP/Message/PSGI.pm line 157
	HTTP::Response::from_psgi("HTTP::Response", CODE(0x5619924ed380)) called at /home/sand/src/perl/repoperls/installed-perls/host/k93focal/v5.39.8/b254/lib/site_perl/5.39.8/Plack/Test/MockHTTP.pm line 24
	Plack::Test::MockHTTP::try {...} () called at /home/sand/src/perl/repoperls/installed-perls/host/k93focal/v5.39.8/b254/lib/site_perl/5.39.8/Try/Tiny.pm line 100
	eval {...} called at /home/sand/src/perl/repoperls/installed-perls/host/k93focal/v5.39.8/b254/lib/site_perl/5.39.8/Try/Tiny.pm line 93
	Try::Tiny::try(CODE(0x5619923f57f8), Try::Tiny::Catch=REF(0x5619923ef7a0)) called at /home/sand/src/perl/repoperls/installed-perls/host/k93focal/v5.39.8/b254/lib/site_perl/5.39.8/Plack/Test/MockHTTP.pm line 27
	Plack::Test::MockHTTP::request(Plack::Test::MockHTTP=HASH(0x56199249c9c8), HTTP::Request=HASH(0x5619921492a8)) called at /home/sand/src/perl/repoperls/installed-perls/host/k93focal/v5.39.8/b254/lib/site_perl/5.39.8/Plack/Test.pm line 38
	Plack::Test::__ANON__(HTTP::Request=HASH(0x5619921492a8)) called at /home/sand/src/perl/repoperls/installed-perls/host/k93focal/v5.39.8/b254/lib/site_perl/5.39.8/Catalyst/Test.pm line 290
	Catalyst::Test::__ANON__(CODE(0x56199249c950)) called at /home/sand/src/perl/repoperls/installed-perls/host/k93focal/v5.39.8/b254/lib/site_perl/5.39.8/Plack/Test.pm line 38
	Plack::Test::test_psgi("app", CODE(0x56199249c518), "mangle_response", CODE(0x56198c851c28), "app", CODE(0x56199249c4e8), "client", CODE(0x56199249c7e8)) called at /home/sand/src/perl/repoperls/installed-perls/host/k93focal/v5.39.8/b254/lib/site_perl/5.39.8/Catalyst/Test.pm line 293
	Catalyst::Test::_request(HASH(0x56199212a850), HTTP::Request=HASH(0x5619921492a8)) called at /home/sand/src/perl/repoperls/installed-perls/host/k93focal/v5.39.8/b254/lib/site_perl/5.39.8/Catalyst/Test.pm line 336
	Catalyst::Test::_local_request("ComponentUI", HTTP::Request=HASH(0x5619921492a8)) called at /home/sand/src/perl/repoperls/installed-perls/host/k93focal/v5.39.8/b254/lib/site_perl/5.39.8/Test/WWW/Mechanize/Catalyst.pm line 176
	Test::WWW::Mechanize::Catalyst::_do_catalyst_request(Test::WWW::Mechanize::Catalyst=HASH(0x56198abdad48), HTTP::Request=HASH(0x5619921492a8)) called at /home/sand/src/perl/repoperls/installed-perls/host/k93focal/v5.39.8/b254/lib/site_perl/5.39.8/Test/WWW/Mechanize/Catalyst.pm line 78
	Test::WWW::Mechanize::Catalyst::_make_request(Test::WWW::Mechanize::Catalyst=HASH(0x56198abdad48), HTTP::Request=HASH(0x5619921492a8)) called at /home/sand/src/perl/repoperls/installed-perls/host/k93focal/v5.39.8/b254/lib/site_perl/5.39.8/WWW/Mechanize.pm line 1533
	WWW::Mechanize::request(Test::WWW::Mechanize::Catalyst=HASH(0x56198abdad48), HTTP::Request=HASH(0x5619921492a8)) called at /home/sand/src/perl/repoperls/installed-perls/host/k93focal/v5.39.8/b254/lib/site_perl/5.39.8/LWP/UserAgent.pm line 452
	LWP::UserAgent::get(Test::WWW::Mechanize::Catalyst=HASH(0x56198abdad48), "http://localhost/testmodel/baz/id/1/update") called at /home/sand/src/perl/repoperls/installed-perls/host/k93focal/v5.39.8/b254/lib/site_perl/5.39.8/WWW/Mechanize.pm line 124
	WWW::Mechanize::get(Test::WWW::Mechanize::Catalyst=HASH(0x56198abdad48), "http://localhost/testmodel/baz/id/1/update") called at /home/sand/src/perl/repoperls/installed-perls/host/k93focal/v5.39.8/b254/lib/site_perl/5.39.8/Test/WWW/Mechanize.pm line 192
	Test::WWW::Mechanize::get_ok(Test::WWW::Mechanize::Catalyst=HASH(0x56198abdad48), "http://localhost/testmodel/baz/id/1/update") called at t/uncheck_bool_field.t line 9
Class::MOP::is_class_loaded is deprecated at /home/sand/src/perl/repoperls/installed-perls/host/k93focal/v5.39.8/b254/lib/site_perl/5.39.8/x86_64-linux/Class/MOP.pm line 87.
	Class::MOP::is_class_loaded("ComponentUI::UI::Widget::SiteLayout") called at /tmp/loop_over_bdir-2354-ukUQqH/Reaction-0.002005-0/blib/lib/Reaction/UI/Skin.pm line 178
	Reaction::UI::Skin::widget_class_for(Reaction::UI::Skin=HASH(0x56199272e520), Reaction::UI::LayoutSet::TT=HASH(0x5619929ddb48)) called at /tmp/loop_over_bdir-2354-ukUQqH/Reaction-0.002005-0/blib/lib/Reaction/UI/LayoutSet.pm line 29
	Reaction::UI::LayoutSet::BUILD(Reaction::UI::LayoutSet::TT=HASH(0x5619929ddb48), HASH(0x5619929ddb30)) called at constructor Reaction::UI::LayoutSet::TT::new (defined at /tmp/loop_over_bdir-2354-ukUQqH/Reaction-0.002005-0/blib/lib/Reaction/UI/LayoutSet/TT.pm line 43) line 80
	Reaction::UI::LayoutSet::TT::new("Reaction::UI::LayoutSet::TT", "name", "site_layout", "skin", Reaction::UI::Skin=HASH(0x56199272e520), "tt_object", Template=HASH(0x56199116c480), "source_file", ...) called at /tmp/loop_over_bdir-2354-ukUQqH/Reaction-0.002005-0/blib/lib/Reaction/UI/Skin.pm line 115
	Reaction::UI::Skin::_create_layout_set(Reaction::UI::Skin=HASH(0x56199272e520), "site_layout", ARRAY(0x5619929c82b8), Reaction::UI::Skin=HASH(0x56199272e520)) called at /tmp/loop_over_bdir-2354-ukUQqH/Reaction-0.002005-0/blib/lib/Reaction/UI/Skin.pm line 110
	Reaction::UI::Skin::create_layout_set(Reaction::UI::Skin=HASH(0x56199272e520), "site_layout") called at /tmp/loop_over_bdir-2354-ukUQqH/Reaction-0.002005-0/blib/lib/Reaction/UI/LayoutSet.pm line 83
	Reaction::UI::LayoutSet::_load_file(Reaction::UI::LayoutSet::TT=HASH(0x561992967d68), Path::Class::File=HASH(0x561992966558), HASH(0x5619922eee10)) called at /tmp/loop_over_bdir-2354-ukUQqH/Reaction-0.002005-0/blib/lib/Reaction/UI/LayoutSet.pm line 27
	Reaction::UI::LayoutSet::BUILD(Reaction::UI::LayoutSet::TT=HASH(0x561992967d68), HASH(0x5619922eee10)) called at constructor Reaction::UI::LayoutSet::TT::new (defined at /tmp/loop_over_bdir-2354-ukUQqH/Reaction-0.002005-0/blib/lib/Reaction/UI/LayoutSet/TT.pm line 43) line 80
	Reaction::UI::LayoutSet::TT::new("Reaction::UI::LayoutSet::TT", "name", "site_layout", "skin", Reaction::UI::Skin=HASH(0x561992977250), "next_skin", Reaction::UI::Skin=HASH(0x56199272e520), "tt_object", ...) called at /tmp/loop_over_bdir-2354-ukUQqH/Reaction-0.002005-0/blib/lib/Reaction/UI/Skin.pm line 115
	Reaction::UI::Skin::_create_layout_set(Reaction::UI::Skin=HASH(0x561992977250), "site_layout", ARRAY(0x561992966078), Reaction::UI::Skin=HASH(0x561992977250)) called at /tmp/loop_over_bdir-2354-ukUQqH/Reaction-0.002005-0/blib/lib/Reaction/UI/Skin.pm line 110
	Reaction::UI::Skin::create_layout_set(Reaction::UI::Skin=HASH(0x561992977250), "site_layout") called at /tmp/loop_over_bdir-2354-ukUQqH/Reaction-0.002005-0/blib/lib/Reaction/UI/LayoutSet.pm line 83
	Reaction::UI::LayoutSet::_load_file(Reaction::UI::LayoutSet::TT=HASH(0x5619929628e0), Path::Class::File=HASH(0x561991fa7b70), HASH(0x56199294db08)) called at /tmp/loop_over_bdir-2354-ukUQqH/Reaction-0.002005-0/blib/lib/Reaction/UI/LayoutSet.pm line 27
	Reaction::UI::LayoutSet::BUILD(Reaction::UI::LayoutSet::TT=HASH(0x5619929628e0), HASH(0x56199294db08)) called at constructor Reaction::UI::LayoutSet::TT::new (defined at /tmp/loop_over_bdir-2354-ukUQqH/Reaction-0.002005-0/blib/lib/Reaction/UI/LayoutSet/TT.pm line 43) line 80
	Reaction::UI::LayoutSet::TT::new("Reaction::UI::LayoutSet::TT", "name", "site_layout", "skin", Reaction::UI::Skin=HASH(0x56199294fc70), "next_skin", Reaction::UI::Skin=HASH(0x561992977250), "tt_object", ...) called at /tmp/loop_over_bdir-2354-ukUQqH/Reaction-0.002005-0/blib/lib/Reaction/UI/Skin.pm line 115
	Reaction::UI::Skin::_create_layout_set(Reaction::UI::Skin=HASH(0x56199294fc70), "site_layout", ARRAY(0x56198d9a8448), Reaction::UI::Skin=HASH(0x56199294fc70)) called at /tmp/loop_over_bdir-2354-ukUQqH/Reaction-0.002005-0/blib/lib/Reaction/UI/Skin.pm line 110
	Reaction::UI::Skin::create_layout_set(Reaction::UI::Skin=HASH(0x56199294fc70), "site_layout") called at inline delegation in Reaction::UI::View for skin->create_layout_set (attribute declared in /tmp/loop_over_bdir-2354-ukUQqH/Reaction-0.002005-0/blib/lib/Reaction/UI/View.pm at line 22) line 18
	Reaction::UI::View::create_layout_set(ComponentUI::View::Site=HASH(0x56198e61d1c8), "site_layout") called at /tmp/loop_over_bdir-2354-ukUQqH/Reaction-0.002005-0/blib/lib/Reaction/UI/View.pm line 99
	Reaction::UI::View::layout_set_for(ComponentUI::View::Site=HASH(0x56198e61d1c8), Reaction::UI::ViewPort::SiteLayout=HASH(0x5619925327d8)) called at /tmp/loop_over_bdir-2354-ukUQqH/Reaction-0.002005-0/blib/lib/Reaction/UI/View.pm line 78
	Reaction::UI::View::render_viewport_args(ComponentUI::View::Site=HASH(0x56198e61d1c8), Reaction::UI::ViewPort::SiteLayout=HASH(0x5619925327d8)) called at /tmp/loop_over_bdir-2354-ukUQqH/Reaction-0.002005-0/blib/lib/Reaction/UI/View.pm line 61
	Reaction::UI::View::render_window(ComponentUI::View::Site=HASH(0x56198e61d1c8), Reaction::UI::Window=HASH(0x56199252e648)) called at /tmp/loop_over_bdir-2354-ukUQqH/Reaction-0.002005-0/blib/lib/Reaction/UI/Window.pm line 74
	Reaction::UI::Window::flush_view(Reaction::UI::Window=HASH(0x56199252e648)) called at /tmp/loop_over_bdir-2354-ukUQqH/Reaction-0.002005-0/blib/lib/Reaction/UI/Window.pm line 36
	Reaction::UI::Window::flush(Reaction::UI::Window=HASH(0x56199252e648)) called at /tmp/loop_over_bdir-2354-ukUQqH/Reaction-0.002005-0/blib/lib/Reaction/UI/Controller/Root.pm line 38
	Reaction::UI::Controller::Root::end(ComponentUI::Controller::Root=HASH(0x56199252e780), ComponentUI=HASH(0x5619924f1c58)) called at /home/sand/src/perl/repoperls/installed-perls/host/k93focal/v5.39.8/b254/lib/site_perl/5.39.8/Catalyst/Action.pm line 374
	Catalyst::Action::execute(Catalyst::Action=HASH(0x561992193e48), ComponentUI::Controller::Root=HASH(0x56199252e780), ComponentUI=HASH(0x5619924f1c58)) called at /home/sand/src/perl/repoperls/installed-perls/host/k93focal/v5.39.8/b254/lib/site_perl/5.39.8/Catalyst.pm line 2067
	eval {...} called at /home/sand/src/perl/repoperls/installed-perls/host/k93focal/v5.39.8/b254/lib/site_perl/5.39.8/Catalyst.pm line 2067
	Catalyst::execute(ComponentUI=HASH(0x5619924f1c58), "ComponentUI::Controller::Root", Catalyst::Action=HASH(0x561992193e48)) called at /home/sand/src/perl/repoperls/installed-perls/host/k93focal/v5.39.8/b254/lib/site_perl/5.39.8/Catalyst/Action.pm line 368
	Catalyst::Action::dispatch(Catalyst::Action=HASH(0x561992193e48), ComponentUI=HASH(0x5619924f1c58)) called at /home/sand/src/perl/repoperls/installed-perls/host/k93focal/v5.39.8/b254/lib/site_perl/5.39.8/Catalyst/Controller.pm line 188
	Catalyst::Controller::_END(ComponentUI::Controller::TestModel::Baz=HASH(0x5619924fc960), ComponentUI=HASH(0x5619924f1c58)) called at /home/sand/src/perl/repoperls/installed-perls/host/k93focal/v5.39.8/b254/lib/site_perl/5.39.8/Catalyst/Action.pm line 374
	Catalyst::Action::execute(Catalyst::Action=HASH(0x561992311688), ComponentUI::Controller::TestModel::Baz=HASH(0x5619924fc960), ComponentUI=HASH(0x5619924f1c58)) called at /home/sand/src/perl/repoperls/installed-perls/host/k93focal/v5.39.8/b254/lib/site_perl/5.39.8/Catalyst.pm line 2067
	eval {...} called at /home/sand/src/perl/repoperls/installed-perls/host/k93focal/v5.39.8/b254/lib/site_perl/5.39.8/Catalyst.pm line 2067
	Catalyst::execute(ComponentUI=HASH(0x5619924f1c58), "ComponentUI::Controller::TestModel::Baz", Catalyst::Action=HASH(0x561992311688)) called at /home/sand/src/perl/repoperls/installed-perls/host/k93focal/v5.39.8/b254/lib/site_perl/5.39.8/Catalyst/Action.pm line 368
	Catalyst::Action::dispatch(Catalyst::Action=HASH(0x561992311688), ComponentUI=HASH(0x5619924f1c58)) called at /home/sand/src/perl/repoperls/installed-perls/host/k93focal/v5.39.8/b254/lib/site_perl/5.39.8/Catalyst/Dispatcher.pm line 261
	Catalyst::Dispatcher::_do_forward(Catalyst::Dispatcher=HASH(0x56198cf43050), "forward", ComponentUI=HASH(0x5619924f1c58), "_END") called at /home/sand/src/perl/repoperls/installed-perls/host/k93focal/v5.39.8/b254/lib/site_perl/5.39.8/Catalyst/Dispatcher.pm line 241
	Catalyst::Dispatcher::forward(Catalyst::Dispatcher=HASH(0x56198cf43050), ComponentUI=HASH(0x5619924f1c58), "_END") called at /home/sand/src/perl/repoperls/installed-perls/host/k93focal/v5.39.8/b254/lib/site_perl/5.39.8/Catalyst.pm line 489
	Catalyst::forward(ComponentUI=HASH(0x5619924f1c58), "_END") called at /home/sand/src/perl/repoperls/installed-perls/host/k93focal/v5.39.8/b254/lib/site_perl/5.39.8/Catalyst/Controller.pm line 137
	Catalyst::Controller::_DISPATCH(ComponentUI::Controller::TestModel::Baz=HASH(0x5619924fc960), ComponentUI=HASH(0x5619924f1c58)) called at /home/sand/src/perl/repoperls/installed-perls/host/k93focal/v5.39.8/b254/lib/site_perl/5.39.8/Catalyst/Action.pm line 374
	Catalyst::Action::execute(Catalyst::Action=HASH(0x5619922ef620), ComponentUI::Controller::TestModel::Baz=HASH(0x5619924fc960), ComponentUI=HASH(0x5619924f1c58)) called at /home/sand/src/perl/repoperls/installed-perls/host/k93focal/v5.39.8/b254/lib/site_perl/5.39.8/Catalyst.pm line 2067
	eval {...} called at /home/sand/src/perl/repoperls/installed-perls/host/k93focal/v5.39.8/b254/lib/site_perl/5.39.8/Catalyst.pm line 2067
	Catalyst::execute(ComponentUI=HASH(0x5619924f1c58), "ComponentUI::Controller::TestModel::Baz", Catalyst::Action=HASH(0x5619922ef620)) called at /home/sand/src/perl/repoperls/installed-perls/host/k93focal/v5.39.8/b254/lib/site_perl/5.39.8/Catalyst/Action.pm line 368
	Catalyst::Action::dispatch(Catalyst::Action=HASH(0x5619922ef620), ComponentUI=HASH(0x5619924f1c58)) called at /home/sand/src/perl/repoperls/installed-perls/host/k93focal/v5.39.8/b254/lib/site_perl/5.39.8/Catalyst/Dispatcher.pm line 261
	Catalyst::Dispatcher::_do_forward(Catalyst::Dispatcher=HASH(0x56198cf43050), "forward", ComponentUI=HASH(0x5619924f1c58), "/testmodel/baz/_DISPATCH") called at /home/sand/src/perl/repoperls/installed-perls/host/k93focal/v5.39.8/b254/lib/site_perl/5.39.8/Catalyst/Dispatcher.pm line 241
	Catalyst::Dispatcher::forward(Catalyst::Dispatcher=HASH(0x56198cf43050), ComponentUI=HASH(0x5619924f1c58), "/testmodel/baz/_DISPATCH") called at /home/sand/src/perl/repoperls/installed-perls/host/k93focal/v5.39.8/b254/lib/site_perl/5.39.8/Catalyst.pm line 489
	Catalyst::forward(ComponentUI=HASH(0x5619924f1c58), "/testmodel/baz/_DISPATCH") called at /home/sand/src/perl/repoperls/installed-perls/host/k93focal/v5.39.8/b254/lib/site_perl/5.39.8/Catalyst/Dispatcher.pm line 107
	Catalyst::Dispatcher::dispatch(Catalyst::Dispatcher=HASH(0x56198cf43050), ComponentUI=HASH(0x5619924f1c58)) called at /home/sand/src/perl/repoperls/installed-perls/host/k93focal/v5.39.8/b254/lib/site_perl/5.39.8/Catalyst.pm line 2013
	Catalyst::dispatch(ComponentUI=HASH(0x5619924f1c58)) called at /home/sand/src/perl/repoperls/installed-perls/host/k93focal/v5.39.8/b254/lib/site_perl/5.39.8/Catalyst/Plugin/Static/Simple.pm line 85
	Class::MOP::Class:::around(CODE(0x56198d3aa9e0), ComponentUI=HASH(0x5619924f1c58)) called at /home/sand/src/perl/repoperls/installed-perls/host/k93focal/v5.39.8/b254/lib/site_perl/5.39.8/x86_64-linux/Class/MOP/Method/Wrapped.pm line 166
	ComponentUI::_wrapped_dispatch(ComponentUI=HASH(0x5619924f1c58)) called at /home/sand/src/perl/repoperls/installed-perls/host/k93focal/v5.39.8/b254/lib/site_perl/5.39.8/x86_64-linux/Class/MOP/Method/Wrapped.pm line 97
	ComponentUI::dispatch(ComponentUI=HASH(0x5619924f1c58)) called at /home/sand/src/perl/repoperls/installed-perls/host/k93focal/v5.39.8/b254/lib/site_perl/5.39.8/Catalyst.pm line 2419
	Catalyst::try {...} () called at /home/sand/src/perl/repoperls/installed-perls/host/k93focal/v5.39.8/b254/lib/site_perl/5.39.8/Try/Tiny.pm line 102
	eval {...} called at /home/sand/src/perl/repoperls/installed-perls/host/k93focal/v5.39.8/b254/lib/site_perl/5.39.8/Try/Tiny.pm line 93
	Try::Tiny::try(CODE(0x5619924ed938), Try::Tiny::Catch=REF(0x5619924ed740)) called at /home/sand/src/perl/repoperls/installed-perls/host/k93focal/v5.39.8/b254/lib/site_perl/5.39.8/Catalyst.pm line 2428
	Catalyst::handle_request("ComponentUI", "env", HASH(0x56199249ce78), "response_cb", CODE(0x5619924ed7a0)) called at /home/sand/src/perl/repoperls/installed-perls/host/k93focal/v5.39.8/b254/lib/site_perl/5.39.8/Catalyst/Engine.pm line 807
	Catalyst::Engine::__ANON__(CODE(0x5619924ed7a0)) called at /home/sand/src/perl/repoperls/installed-perls/host/k93focal/v5.39.8/b254/lib/site_perl/5.39.8/Plack/Middleware/HTTPExceptions.pm line 32
	Plack::Middleware::HTTPExceptions::try {...} () called at /home/sand/src/perl/repoperls/installed-perls/host/k93focal/v5.39.8/b254/lib/site_perl/5.39.8/Try/Tiny.pm line 102
	eval {...} called at /home/sand/src/perl/repoperls/installed-perls/host/k93focal/v5.39.8/b254/lib/site_perl/5.39.8/Try/Tiny.pm line 93
	Try::Tiny::try(CODE(0x5619924ed5d8), Try::Tiny::Catch=REF(0x5619924ec308)) called at /home/sand/src/perl/repoperls/installed-perls/host/k93focal/v5.39.8/b254/lib/site_perl/5.39.8/Plack/Middleware/HTTPExceptions.pm line 41
	Plack::Middleware::HTTPExceptions::__ANON__(CODE(0x5619924ebaf8)) called at /home/sand/src/perl/repoperls/installed-perls/host/k93focal/v5.39.8/b254/lib/site_perl/5.39.8/Plack/Util.pm line 339
	Plack::Util::__ANON__(CODE(0x56199249cdd0)) called at /home/sand/src/perl/repoperls/installed-perls/host/k93focal/v5.39.8/b254/lib/site_perl/5.39.8/Plack/Util.pm line 339
	Plack::Util::__ANON__(CODE(0x56199249cc68)) called at /home/sand/src/perl/repoperls/installed-perls/host/k93focal/v5.39.8/b254/lib/site_perl/5.39.8/Plack/Util.pm line 339
	Plack::Util::__ANON__(CODE(0x56198ffedfd8)) called at /home/sand/src/perl/repoperls/installed-perls/host/k93focal/v5.39.8/b254/lib/site_perl/5.39.8/HTTP/Message/PSGI.pm line 100
	HTTP::Message::PSGI::res_from_psgi(CODE(0x5619924ed380)) called at /home/sand/src/perl/repoperls/installed-perls/host/k93focal/v5.39.8/b254/lib/site_perl/5.39.8/HTTP/Message/PSGI.pm line 157
	HTTP::Response::from_psgi("HTTP::Response", CODE(0x5619924ed380)) called at /home/sand/src/perl/repoperls/installed-perls/host/k93focal/v5.39.8/b254/lib/site_perl/5.39.8/Plack/Test/MockHTTP.pm line 24
	Plack::Test::MockHTTP::try {...} () called at /home/sand/src/perl/repoperls/installed-perls/host/k93focal/v5.39.8/b254/lib/site_perl/5.39.8/Try/Tiny.pm line 100
	eval {...} called at /home/sand/src/perl/repoperls/installed-perls/host/k93focal/v5.39.8/b254/lib/site_perl/5.39.8/Try/Tiny.pm line 93
	Try::Tiny::try(CODE(0x5619923f57f8), Try::Tiny::Catch=REF(0x5619923ef7a0)) called at /home/sand/src/perl/repoperls/installed-perls/host/k93focal/v5.39.8/b254/lib/site_perl/5.39.8/Plack/Test/MockHTTP.pm line 27
	Plack::Test::MockHTTP::request(Plack::Test::MockHTTP=HASH(0x56199249c9c8), HTTP::Request=HASH(0x5619921492a8)) called at /home/sand/src/perl/repoperls/installed-perls/host/k93focal/v5.39.8/b254/lib/site_perl/5.39.8/Plack/Test.pm line 38
	Plack::Test::__ANON__(HTTP::Request=HASH(0x5619921492a8)) called at /home/sand/src/perl/repoperls/installed-perls/host/k93focal/v5.39.8/b254/lib/site_perl/5.39.8/Catalyst/Test.pm line 290
	Catalyst::Test::__ANON__(CODE(0x56199249c950)) called at /home/sand/src/perl/repoperls/installed-perls/host/k93focal/v5.39.8/b254/lib/site_perl/5.39.8/Plack/Test.pm line 38
	Plack::Test::test_psgi("app", CODE(0x56199249c518), "mangle_response", CODE(0x56198c851c28), "app", CODE(0x56199249c4e8), "client", CODE(0x56199249c7e8)) called at /home/sand/src/perl/repoperls/installed-perls/host/k93focal/v5.39.8/b254/lib/site_perl/5.39.8/Catalyst/Test.pm line 293
	Catalyst::Test::_request(HASH(0x56199212a850), HTTP::Request=HASH(0x5619921492a8)) called at /home/sand/src/perl/repoperls/installed-perls/host/k93focal/v5.39.8/b254/lib/site_perl/5.39.8/Catalyst/Test.pm line 336
	Catalyst::Test::_local_request("ComponentUI", HTTP::Request=HASH(0x5619921492a8)) called at /home/sand/src/perl/repoperls/installed-perls/host/k93focal/v5.39.8/b254/lib/site_perl/5.39.8/Test/WWW/Mechanize/Catalyst.pm line 176
	Test::WWW::Mechanize::Catalyst::_do_catalyst_request(Test::WWW::Mechanize::Catalyst=HASH(0x56198abdad48), HTTP::Request=HASH(0x5619921492a8)) called at /home/sand/src/perl/repoperls/installed-perls/host/k93focal/v5.39.8/b254/lib/site_perl/5.39.8/Test/WWW/Mechanize/Catalyst.pm line 78
	Test::WWW::Mechanize::Catalyst::_make_request(Test::WWW::Mechanize::Catalyst=HASH(0x56198abdad48), HTTP::Request=HASH(0x5619921492a8)) called at /home/sand/src/perl/repoperls/installed-perls/host/k93focal/v5.39.8/b254/lib/site_perl/5.39.8/WWW/Mechanize.pm line 1533
	WWW::Mechanize::request(Test::WWW::Mechanize::Catalyst=HASH(0x56198abdad48), HTTP::Request=HASH(0x5619921492a8)) called at /home/sand/src/perl/repoperls/installed-perls/host/k93focal/v5.39.8/b254/lib/site_perl/5.39.8/LWP/UserAgent.pm line 452
	LWP::UserAgent::get(Test::WWW::Mechanize::Catalyst=HASH(0x56198abdad48), "http://localhost/testmodel/baz/id/1/update") called at /home/sand/src/perl/repoperls/installed-perls/host/k93focal/v5.39.8/b254/lib/site_perl/5.39.8/WWW/Mechanize.pm line 124
	WWW::Mechanize::get(Test::WWW::Mechanize::Catalyst=HASH(0x56198abdad48), "http://localhost/testmodel/baz/id/1/update") called at /home/sand/src/perl/repoperls/installed-perls/host/k93focal/v5.39.8/b254/lib/site_perl/5.39.8/Test/WWW/Mechanize.pm line 192
	Test::WWW::Mechanize::get_ok(Test::WWW::Mechanize::Catalyst=HASH(0x56198abdad48), "http://localhost/testmodel/baz/id/1/update") called at t/uncheck_bool_field.t line 9
Class::MOP::load_class is deprecated at /home/sand/src/perl/repoperls/installed-perls/host/k93focal/v5.39.8/b254/lib/site_perl/5.39.8/x86_64-linux/Class/MOP.pm line 69.
	Class::MOP::load_class("Reaction::UI::Widget::SiteLayout") called at /tmp/loop_over_bdir-2354-ukUQqH/Reaction-0.002005-0/blib/lib/Reaction/UI/Skin.pm line 181
	eval {...} called at /tmp/loop_over_bdir-2354-ukUQqH/Reaction-0.002005-0/blib/lib/Reaction/UI/Skin.pm line 181
	Reaction::UI::Skin::widget_class_for(Reaction::UI::Skin=HASH(0x56199272e520), Reaction::UI::LayoutSet::TT=HASH(0x5619929ddb48)) called at /tmp/loop_over_bdir-2354-ukUQqH/Reaction-0.002005-0/blib/lib/Reaction/UI/LayoutSet.pm line 29
	Reaction::UI::LayoutSet::BUILD(Reaction::UI::LayoutSet::TT=HASH(0x5619929ddb48), HASH(0x5619929ddb30)) called at constructor Reaction::UI::LayoutSet::TT::new (defined at /tmp/loop_over_bdir-2354-ukUQqH/Reaction-0.002005-0/blib/lib/Reaction/UI/LayoutSet/TT.pm line 43) line 80
	Reaction::UI::LayoutSet::TT::new("Reaction::UI::LayoutSet::TT", "name", "site_layout", "skin", Reaction::UI::Skin=HASH(0x56199272e520), "tt_object", Template=HASH(0x56199116c480), "source_file", ...) called at /tmp/loop_over_bdir-2354-ukUQqH/Reaction-0.002005-0/blib/lib/Reaction/UI/Skin.pm line 115
	Reaction::UI::Skin::_create_layout_set(Reaction::UI::Skin=HASH(0x56199272e520), "site_layout", ARRAY(0x5619929c82b8), Reaction::UI::Skin=HASH(0x56199272e520)) called at /tmp/loop_over_bdir-2354-ukUQqH/Reaction-0.002005-0/blib/lib/Reaction/UI/Skin.pm line 110
	Reaction::UI::Skin::create_layout_set(Reaction::UI::Skin=HASH(0x56199272e520), "site_layout") called at /tmp/loop_over_bdir-2354-ukUQqH/Reaction-0.002005-0/blib/lib/Reaction/UI/LayoutSet.pm line 83
	Reaction::UI::LayoutSet::_load_file(Reaction::UI::LayoutSet::TT=HASH(0x561992967d68), Path::Class::File=HASH(0x561992966558), HASH(0x5619922eee10)) called at /tmp/loop_over_bdir-2354-ukUQqH/Reaction-0.002005-0/blib/lib/Reaction/UI/LayoutSet.pm line 27
	Reaction::UI::LayoutSet::BUILD(Reaction::UI::LayoutSet::TT=HASH(0x561992967d68), HASH(0x5619922eee10)) called at constructor Reaction::UI::LayoutSet::TT::new (defined at /tmp/loop_over_bdir-2354-ukUQqH/Reaction-0.002005-0/blib/lib/Reaction/UI/LayoutSet/TT.pm line 43) line 80
	Reaction::UI::LayoutSet::TT::new("Reaction::UI::LayoutSet::TT", "name", "site_layout", "skin", Reaction::UI::Skin=HASH(0x561992977250), "next_skin", Reaction::UI::Skin=HASH(0x56199272e520), "tt_object", ...) called at /tmp/loop_over_bdir-2354-ukUQqH/Reaction-0.002005-0/blib/lib/Reaction/UI/Skin.pm line 115
	Reaction::UI::Skin::_create_layout_set(Reaction::UI::Skin=HASH(0x561992977250), "site_layout", ARRAY(0x561992966078), Reaction::UI::Skin=HASH(0x561992977250)) called at /tmp/loop_over_bdir-2354-ukUQqH/Reaction-0.002005-0/blib/lib/Reaction/UI/Skin.pm line 110
	Reaction::UI::Skin::create_layout_set(Reaction::UI::Skin=HASH(0x561992977250), "site_layout") called at /tmp/loop_over_bdir-2354-ukUQqH/Reaction-0.002005-0/blib/lib/Reaction/UI/LayoutSet.pm line 83
	Reaction::UI::LayoutSet::_load_file(Reaction::UI::LayoutSet::TT=HASH(0x5619929628e0), Path::Class::File=HASH(0x561991fa7b70), HASH(0x56199294db08)) called at /tmp/loop_over_bdir-2354-ukUQqH/Reaction-0.002005-0/blib/lib/Reaction/UI/LayoutSet.pm line 27
	Reaction::UI::LayoutSet::BUILD(Reaction::UI::LayoutSet::TT=HASH(0x5619929628e0), HASH(0x56199294db08)) called at constructor Reaction::UI::LayoutSet::TT::new (defined at /tmp/loop_over_bdir-2354-ukUQqH/Reaction-0.002005-0/blib/lib/Reaction/UI/LayoutSet/TT.pm line 43) line 80
	Reaction::UI::LayoutSet::TT::new("Reaction::UI::LayoutSet::TT", "name", "site_layout", "skin", Reaction::UI::Skin=HASH(0x56199294fc70), "next_skin", Reaction::UI::Skin=HASH(0x561992977250), "tt_object", ...) called at /tmp/loop_over_bdir-2354-ukUQqH/Reaction-0.002005-0/blib/lib/Reaction/UI/Skin.pm line 115
	Reaction::UI::Skin::_create_layout_set(Reaction::UI::Skin=HASH(0x56199294fc70), "site_layout", ARRAY(0x56198d9a8448), Reaction::UI::Skin=HASH(0x56199294fc70)) called at /tmp/loop_over_bdir-2354-ukUQqH/Reaction-0.002005-0/blib/lib/Reaction/UI/Skin.pm line 110
	Reaction::UI::Skin::create_layout_set(Reaction::UI::Skin=HASH(0x56199294fc70), "site_layout") called at inline delegation in Reaction::UI::View for skin->create_layout_set (attribute declared in /tmp/loop_over_bdir-2354-ukUQqH/Reaction-0.002005-0/blib/lib/Reaction/UI/View.pm at line 22) line 18
	Reaction::UI::View::create_layout_set(ComponentUI::View::Site=HASH(0x56198e61d1c8), "site_layout") called at /tmp/loop_over_bdir-2354-ukUQqH/Reaction-0.002005-0/blib/lib/Reaction/UI/View.pm line 99
	Reaction::UI::View::layout_set_for(ComponentUI::View::Site=HASH(0x56198e61d1c8), Reaction::UI::ViewPort::SiteLayout=HASH(0x5619925327d8)) called at /tmp/loop_over_bdir-2354-ukUQqH/Reaction-0.002005-0/blib/lib/Reaction/UI/View.pm line 78
	Reaction::UI::View::render_viewport_args(ComponentUI::View::Site=HASH(0x56198e61d1c8), Reaction::UI::ViewPort::SiteLayout=HASH(0x5619925327d8)) called at /tmp/loop_over_bdir-2354-ukUQqH/Reaction-0.002005-0/blib/lib/Reaction/UI/View.pm line 61
	Reaction::UI::View::render_window(ComponentUI::View::Site=HASH(0x56198e61d1c8), Reaction::UI::Window=HASH(0x56199252e648)) called at /tmp/loop_over_bdir-2354-ukUQqH/Reaction-0.002005-0/blib/lib/Reaction/UI/Window.pm line 74
	Reaction::UI::Window::flush_view(Reaction::UI::Window=HASH(0x56199252e648)) called at /tmp/loop_over_bdir-2354-ukUQqH/Reaction-0.002005-0/blib/lib/Reaction/UI/Window.pm line 36
	Reaction::UI::Window::flush(Reaction::UI::Window=HASH(0x56199252e648)) called at /tmp/loop_over_bdir-2354-ukUQqH/Reaction-0.002005-0/blib/lib/Reaction/UI/Controller/Root.pm line 38
	Reaction::UI::Controller::Root::end(ComponentUI::Controller::Root=HASH(0x56199252e780), ComponentUI=HASH(0x5619924f1c58)) called at /home/sand/src/perl/repoperls/installed-perls/host/k93focal/v5.39.8/b254/lib/site_perl/5.39.8/Catalyst/Action.pm line 374
	Catalyst::Action::execute(Catalyst::Action=HASH(0x561992193e48), ComponentUI::Controller::Root=HASH(0x56199252e780), ComponentUI=HASH(0x5619924f1c58)) called at /home/sand/src/perl/repoperls/installed-perls/host/k93focal/v5.39.8/b254/lib/site_perl/5.39.8/Catalyst.pm line 2067
	eval {...} called at /home/sand/src/perl/repoperls/installed-perls/host/k93focal/v5.39.8/b254/lib/site_perl/5.39.8/Catalyst.pm line 2067
	Catalyst::execute(ComponentUI=HASH(0x5619924f1c58), "ComponentUI::Controller::Root", Catalyst::Action=HASH(0x561992193e48)) called at /home/sand/src/perl/repoperls/installed-perls/host/k93focal/v5.39.8/b254/lib/site_perl/5.39.8/Catalyst/Action.pm line 368
	Catalyst::Action::dispatch(Catalyst::Action=HASH(0x561992193e48), ComponentUI=HASH(0x5619924f1c58)) called at /home/sand/src/perl/repoperls/installed-perls/host/k93focal/v5.39.8/b254/lib/site_perl/5.39.8/Catalyst/Controller.pm line 188
	Catalyst::Controller::_END(ComponentUI::Controller::TestModel::Baz=HASH(0x5619924fc960), ComponentUI=HASH(0x5619924f1c58)) called at /home/sand/src/perl/repoperls/installed-perls/host/k93focal/v5.39.8/b254/lib/site_perl/5.39.8/Catalyst/Action.pm line 374
	Catalyst::Action::execute(Catalyst::Action=HASH(0x561992311688), ComponentUI::Controller::TestModel::Baz=HASH(0x5619924fc960), ComponentUI=HASH(0x5619924f1c58)) called at /home/sand/src/perl/repoperls/installed-perls/host/k93focal/v5.39.8/b254/lib/site_perl/5.39.8/Catalyst.pm line 2067
	eval {...} called at /home/sand/src/perl/repoperls/installed-perls/host/k93focal/v5.39.8/b254/lib/site_perl/5.39.8/Catalyst.pm line 2067
	Catalyst::execute(ComponentUI=HASH(0x5619924f1c58), "ComponentUI::Controller::TestModel::Baz", Catalyst::Action=HASH(0x561992311688)) called at /home/sand/src/perl/repoperls/installed-perls/host/k93focal/v5.39.8/b254/lib/site_perl/5.39.8/Catalyst/Action.pm line 368
	Catalyst::Action::dispatch(Catalyst::Action=HASH(0x561992311688), ComponentUI=HASH(0x5619924f1c58)) called at /home/sand/src/perl/repoperls/installed-perls/host/k93focal/v5.39.8/b254/lib/site_perl/5.39.8/Catalyst/Dispatcher.pm line 261
	Catalyst::Dispatcher::_do_forward(Catalyst::Dispatcher=HASH(0x56198cf43050), "forward", ComponentUI=HASH(0x5619924f1c58), "_END") called at /home/sand/src/perl/repoperls/installed-perls/host/k93focal/v5.39.8/b254/lib/site_perl/5.39.8/Catalyst/Dispatcher.pm line 241
	Catalyst::Dispatcher::forward(Catalyst::Dispatcher=HASH(0x56198cf43050), ComponentUI=HASH(0x5619924f1c58), "_END") called at /home/sand/src/perl/repoperls/installed-perls/host/k93focal/v5.39.8/b254/lib/site_perl/5.39.8/Catalyst.pm line 489
	Catalyst::forward(ComponentUI=HASH(0x5619924f1c58), "_END") called at /home/sand/src/perl/repoperls/installed-perls/host/k93focal/v5.39.8/b254/lib/site_perl/5.39.8/Catalyst/Controller.pm line 137
	Catalyst::Controller::_DISPATCH(ComponentUI::Controller::TestModel::Baz=HASH(0x5619924fc960), ComponentUI=HASH(0x5619924f1c58)) called at /home/sand/src/perl/repoperls/installed-perls/host/k93focal/v5.39.8/b254/lib/site_perl/5.39.8/Catalyst/Action.pm line 374
	Catalyst::Action::execute(Catalyst::Action=HASH(0x5619922ef620), ComponentUI::Controller::TestModel::Baz=HASH(0x5619924fc960), ComponentUI=HASH(0x5619924f1c58)) called at /home/sand/src/perl/repoperls/installed-perls/host/k93focal/v5.39.8/b254/lib/site_perl/5.39.8/Catalyst.pm line 2067
	eval {...} called at /home/sand/src/perl/repoperls/installed-perls/host/k93focal/v5.39.8/b254/lib/site_perl/5.39.8/Catalyst.pm line 2067
	Catalyst::execute(ComponentUI=HASH(0x5619924f1c58), "ComponentUI::Controller::TestModel::Baz", Catalyst::Action=HASH(0x5619922ef620)) called at /home/sand/src/perl/repoperls/installed-perls/host/k93focal/v5.39.8/b254/lib/site_perl/5.39.8/Catalyst/Action.pm line 368
	Catalyst::Action::dispatch(Catalyst::Action=HASH(0x5619922ef620), ComponentUI=HASH(0x5619924f1c58)) called at /home/sand/src/perl/repoperls/installed-perls/host/k93focal/v5.39.8/b254/lib/site_perl/5.39.8/Catalyst/Dispatcher.pm line 261
	Catalyst::Dispatcher::_do_forward(Catalyst::Dispatcher=HASH(0x56198cf43050), "forward", ComponentUI=HASH(0x5619924f1c58), "/testmodel/baz/_DISPATCH") called at /home/sand/src/perl/repoperls/installed-perls/host/k93focal/v5.39.8/b254/lib/site_perl/5.39.8/Catalyst/Dispatcher.pm line 241
	Catalyst::Dispatcher::forward(Catalyst::Dispatcher=HASH(0x56198cf43050), ComponentUI=HASH(0x5619924f1c58), "/testmodel/baz/_DISPATCH") called at /home/sand/src/perl/repoperls/installed-perls/host/k93focal/v5.39.8/b254/lib/site_perl/5.39.8/Catalyst.pm line 489
	Catalyst::forward(ComponentUI=HASH(0x5619924f1c58), "/testmodel/baz/_DISPATCH") called at /home/sand/src/perl/repoperls/installed-perls/host/k93focal/v5.39.8/b254/lib/site_perl/5.39.8/Catalyst/Dispatcher.pm line 107
	Catalyst::Dispatcher::dispatch(Catalyst::Dispatcher=HASH(0x56198cf43050), ComponentUI=HASH(0x5619924f1c58)) called at /home/sand/src/perl/repoperls/installed-perls/host/k93focal/v5.39.8/b254/lib/site_perl/5.39.8/Catalyst.pm line 2013
	Catalyst::dispatch(ComponentUI=HASH(0x5619924f1c58)) called at /home/sand/src/perl/repoperls/installed-perls/host/k93focal/v5.39.8/b254/lib/site_perl/5.39.8/Catalyst/Plugin/Static/Simple.pm line 85
	Class::MOP::Class:::around(CODE(0x56198d3aa9e0), ComponentUI=HASH(0x5619924f1c58)) called at /home/sand/src/perl/repoperls/installed-perls/host/k93focal/v5.39.8/b254/lib/site_perl/5.39.8/x86_64-linux/Class/MOP/Method/Wrapped.pm line 166
	ComponentUI::_wrapped_dispatch(ComponentUI=HASH(0x5619924f1c58)) called at /home/sand/src/perl/repoperls/installed-perls/host/k93focal/v5.39.8/b254/lib/site_perl/5.39.8/x86_64-linux/Class/MOP/Method/Wrapped.pm line 97
	ComponentUI::dispatch(ComponentUI=HASH(0x5619924f1c58)) called at /home/sand/src/perl/repoperls/installed-perls/host/k93focal/v5.39.8/b254/lib/site_perl/5.39.8/Catalyst.pm line 2419
	Catalyst::try {...} () called at /home/sand/src/perl/repoperls/installed-perls/host/k93focal/v5.39.8/b254/lib/site_perl/5.39.8/Try/Tiny.pm line 102
	eval {...} called at /home/sand/src/perl/repoperls/installed-perls/host/k93focal/v5.39.8/b254/lib/site_perl/5.39.8/Try/Tiny.pm line 93
	Try::Tiny::try(CODE(0x5619924ed938), Try::Tiny::Catch=REF(0x5619924ed740)) called at /home/sand/src/perl/repoperls/installed-perls/host/k93focal/v5.39.8/b254/lib/site_perl/5.39.8/Catalyst.pm line 2428
	Catalyst::handle_request("ComponentUI", "env", HASH(0x56199249ce78), "response_cb", CODE(0x5619924ed7a0)) called at /home/sand/src/perl/repoperls/installed-perls/host/k93focal/v5.39.8/b254/lib/site_perl/5.39.8/Catalyst/Engine.pm line 807
	Catalyst::Engine::__ANON__(CODE(0x5619924ed7a0)) called at /home/sand/src/perl/repoperls/installed-perls/host/k93focal/v5.39.8/b254/lib/site_perl/5.39.8/Plack/Middleware/HTTPExceptions.pm line 32
	Plack::Middleware::HTTPExceptions::try {...} () called at /home/sand/src/perl/repoperls/installed-perls/host/k93focal/v5.39.8/b254/lib/site_perl/5.39.8/Try/Tiny.pm line 102
	eval {...} called at /home/sand/src/perl/repoperls/installed-perls/host/k93focal/v5.39.8/b254/lib/site_perl/5.39.8/Try/Tiny.pm line 93
	Try::Tiny::try(CODE(0x5619924ed5d8), Try::Tiny::Catch=REF(0x5619924ec308)) called at /home/sand/src/perl/repoperls/installed-perls/host/k93focal/v5.39.8/b254/lib/site_perl/5.39.8/Plack/Middleware/HTTPExceptions.pm line 41
	Plack::Middleware::HTTPExceptions::__ANON__(CODE(0x5619924ebaf8)) called at /home/sand/src/perl/repoperls/installed-perls/host/k93focal/v5.39.8/b254/lib/site_perl/5.39.8/Plack/Util.pm line 339
	Plack::Util::__ANON__(CODE(0x56199249cdd0)) called at /home/sand/src/perl/repoperls/installed-perls/host/k93focal/v5.39.8/b254/lib/site_perl/5.39.8/Plack/Util.pm line 339
	Plack::Util::__ANON__(CODE(0x56199249cc68)) called at /home/sand/src/perl/repoperls/installed-perls/host/k93focal/v5.39.8/b254/lib/site_perl/5.39.8/Plack/Util.pm line 339
	Plack::Util::__ANON__(CODE(0x56198ffedfd8)) called at /home/sand/src/perl/repoperls/installed-perls/host/k93focal/v5.39.8/b254/lib/site_perl/5.39.8/HTTP/Message/PSGI.pm line 100
	HTTP::Message::PSGI::res_from_psgi(CODE(0x5619924ed380)) called at /home/sand/src/perl/repoperls/installed-perls/host/k93focal/v5.39.8/b254/lib/site_perl/5.39.8/HTTP/Message/PSGI.pm line 157
	HTTP::Response::from_psgi("HTTP::Response", CODE(0x5619924ed380)) called at /home/sand/src/perl/repoperls/installed-perls/host/k93focal/v5.39.8/b254/lib/site_perl/5.39.8/Plack/Test/MockHTTP.pm line 24
	Plack::Test::MockHTTP::try {...} () called at /home/sand/src/perl/repoperls/installed-perls/host/k93focal/v5.39.8/b254/lib/site_perl/5.39.8/Try/Tiny.pm line 100
	eval {...} called at /home/sand/src/perl/repoperls/installed-perls/host/k93focal/v5.39.8/b254/lib/site_perl/5.39.8/Try/Tiny.pm line 93
	Try::Tiny::try(CODE(0x5619923f57f8), Try::Tiny::Catch=REF(0x5619923ef7a0)) called at /home/sand/src/perl/repoperls/installed-perls/host/k93focal/v5.39.8/b254/lib/site_perl/5.39.8/Plack/Test/MockHTTP.pm line 27
	Plack::Test::MockHTTP::request(Plack::Test::MockHTTP=HASH(0x56199249c9c8), HTTP::Request=HASH(0x5619921492a8)) called at /home/sand/src/perl/repoperls/installed-perls/host/k93focal/v5.39.8/b254/lib/site_perl/5.39.8/Plack/Test.pm line 38
	Plack::Test::__ANON__(HTTP::Request=HASH(0x5619921492a8)) called at /home/sand/src/perl/repoperls/installed-perls/host/k93focal/v5.39.8/b254/lib/site_perl/5.39.8/Catalyst/Test.pm line 290
	Catalyst::Test::__ANON__(CODE(0x56199249c950)) called at /home/sand/src/perl/repoperls/installed-perls/host/k93focal/v5.39.8/b254/lib/site_perl/5.39.8/Plack/Test.pm line 38
	Plack::Test::test_psgi("app", CODE(0x56199249c518), "mangle_response", CODE(0x56198c851c28), "app", CODE(0x56199249c4e8), "client", CODE(0x56199249c7e8)) called at /home/sand/src/perl/repoperls/installed-perls/host/k93focal/v5.39.8/b254/lib/site_perl/5.39.8/Catalyst/Test.pm line 293
	Catalyst::Test::_request(HASH(0x56199212a850), HTTP::Request=HASH(0x5619921492a8)) called at /home/sand/src/perl/repoperls/installed-perls/host/k93focal/v5.39.8/b254/lib/site_perl/5.39.8/Catalyst/Test.pm line 336
	Catalyst::Test::_local_request("ComponentUI", HTTP::Request=HASH(0x5619921492a8)) called at /home/sand/src/perl/repoperls/installed-perls/host/k93focal/v5.39.8/b254/lib/site_perl/5.39.8/Test/WWW/Mechanize/Catalyst.pm line 176
	Test::WWW::Mechanize::Catalyst::_do_catalyst_request(Test::WWW::Mechanize::Catalyst=HASH(0x56198abdad48), HTTP::Request=HASH(0x5619921492a8)) called at /home/sand/src/perl/repoperls/installed-perls/host/k93focal/v5.39.8/b254/lib/site_perl/5.39.8/Test/WWW/Mechanize/Catalyst.pm line 78
	Test::WWW::Mechanize::Catalyst::_make_request(Test::WWW::Mechanize::Catalyst=HASH(0x56198abdad48), HTTP::Request=HASH(0x5619921492a8)) called at /home/sand/src/perl/repoperls/installed-perls/host/k93focal/v5.39.8/b254/lib/site_perl/5.39.8/WWW/Mechanize.pm line 1533
	WWW::Mechanize::request(Test::WWW::Mechanize::Catalyst=HASH(0x56198abdad48), HTTP::Request=HASH(0x5619921492a8)) called at /home/sand/src/perl/repoperls/installed-perls/host/k93focal/v5.39.8/b254/lib/site_perl/5.39.8/LWP/UserAgent.pm line 452
	LWP::UserAgent::get(Test::WWW::Mechanize::Catalyst=HASH(0x56198abdad48), "http://localhost/testmodel/baz/id/1/update") called at /home/sand/src/perl/repoperls/installed-perls/host/k93focal/v5.39.8/b254/lib/site_perl/5.39.8/WWW/Mechanize.pm line 124
	WWW::Mechanize::get(Test::WWW::Mechanize::Catalyst=HASH(0x56198abdad48), "http://localhost/testmodel/baz/id/1/update") called at /home/sand/src/perl/repoperls/installed-perls/host/k93focal/v5.39.8/b254/lib/site_perl/5.39.8/Test/WWW/Mechanize.pm line 192
	Test::WWW::Mechanize::get_ok(Test::WWW::Mechanize::Catalyst=HASH(0x56198abdad48), "http://localhost/testmodel/baz/id/1/update") called at t/uncheck_bool_field.t line 9
t/uncheck_bool_field.t ...... ok
All tests successful.
Files=9, Tests=604, 17 wallclock secs ( 0.09 usr  0.02 sys + 14.51 cusr  1.41 csys = 16.03 CPU)
Result: PASS

------------------------------
PREREQUISITES
------------------------------

Prerequisite modules loaded:

requires:

    Module                                  Need      Have    
    --------------------------------------- --------- --------
    aliased                                 0.22      0.34    
    Catalyst                                5.80002   5.90131 
    Catalyst::Component::ACCEPT_CONTEXT     0.05      0.07    
    Catalyst::Component::InstancePerContext 0.001001  0.001001
    Catalyst::Model::DBIC::Schema           0.23      0.66    
    Catalyst::Plugin::ConfigLoader          0.23      0.35    
    Catalyst::Plugin::I18N                  0.09      0.10    
    Catalyst::Plugin::Static::Simple        0.21      0.37    
    Catalyst::View::TT                      0.29      0.46    
    Class::MOP                              0.81      2.2207  
    Config::General                         2.42      2.65    
    Crypt::Eksblowfish::Bcrypt              0.005     0.009   
    DateTime                                0.47      1.65    
    DateTime::Event::Recurrence             0.16      0.19    
    DateTime::Span                          0         0.3900  
    DBIx::Class                             0.08100   0.082843
    DBIx::Class::IntrospectableM2M          0.001001  0.001002
    Devel::Declare                          0.005000  0.006022
    Email::Valid                            0.181     1.204   
    ExtUtils::MakeMaker                     6.11      7.70    
    File::ShareDir                          1.00      1.118   
    File::Spec                              3.29      3.90    
    JSON                                    0         4.10    
    metaclass                               0.81      2.2207  
    Method::Signatures::Simple              0.03      1.07    
    Moose                                   0.74      2.2207  
    MooseX::MethodAttributes                0.18      0.32    
    MooseX::Role::Parameterized             0.24      1.11    
    MooseX::Types                           0.10      0.50    
    MooseX::Types::Common                   0.001000  0.001014
    MooseX::Types::DateTime                 0.03      0.13    
    MooseX::Types::URI                      0.02      0.09    
    namespace::clean                        0.11      0.27    
    Path::Class::Dir                        0         0.37    
    Path::Class::File                       0         0.37    
    perl                                    5.008001  5.039008
    Scalar::Util                            1.19      1.63    
    signatures                              0.05      0.14    
    SQL::Translator                         0.11002   1.65    
    Sub::Exporter                           0.982     0.991   
    Sub::Name                               0.04      0.27    
    Template                                2.20      3.101   
    Test::Class                             0.31      0.52    
    Test::Memory::Cycle                     1.04      1.06    
    Test::WWW::Mechanize::Catalyst          0.51      0.62    
    Time::ParseDate                         2006.0814 2015.103
    URI                                     1.37      5.27    

build_requires:

    Module                                  Need      Have    
    --------------------------------------- --------- --------
    ExtUtils::MakeMaker                     6.42      7.70    
    SQL::Translator                         0.11002   1.65    
    Test::Class                             0.31      0.52    
    Test::Memory::Cycle                     1.04      1.06    
    Test::WWW::Mechanize::Catalyst          0.51      0.62    

configure_requires:

    Module                                  Need      Have    
    --------------------------------------- --------- --------
    ExtUtils::MakeMaker                     6.42      7.70    


------------------------------
ENVIRONMENT AND OTHER CONTEXT
------------------------------

Environment variables:

    AUTOMATED_TESTING = 1
    LANG = en_US.UTF-8
    PATH = /home/sand/bin:/usr/local/bin:/usr/local/sbin:/usr/sbin:/usr/bin:/sbin:/bin:/usr/games:/usr/local/games:/snap/bin:/usr/local/perl/bin:/usr/X11/bin
    PERL = /tmp/basesmoker-reloperl-57lK/bin/perl
    PERL5LIB = /tmp/loop_over_bdir-2354-ukUQqH/LiquidWeb-Storm-CLI-1.03-0/blib/arch:/tmp/loop_over_bdir-2354-ukUQqH/LiquidWeb-Storm-CLI-1.03-0/blib/lib:/tmp/loop_over_bdir-2354-ukUQqH/Simulation-Automate-1.0.1-0/blib/arch:/tmp/loop_over_bdir-2354-ukUQqH/Simulation-Automate-1.0.1-0/blib/lib:/tmp/loop_over_bdir-2354-ukUQqH/MP3-PodcastFetch-1.05-0/blib/arch:/tmp/loop_over_bdir-2354-ukUQqH/MP3-PodcastFetch-1.05-0/blib/lib:/tmp/loop_over_bdir-2354-ukUQqH/RDF-NLP-SPARQLQuery-0.1-0/blib/arch:/tmp/loop_over_bdir-2354-ukUQqH/RDF-NLP-SPARQLQuery-0.1-0/blib/lib:/tmp/loop_over_bdir-2354-ukUQqH/js-app-0.13-0/blib/arch:/tmp/loop_over_bdir-2354-ukUQqH/js-app-0.13-0/blib/lib:/tmp/loop_over_bdir-2354-ukUQqH/ProjectBuilder-0.14.1-0/blib/arch:/tmp/loop_over_bdir-2354-ukUQqH/ProjectBuilder-0.14.1-0/blib/lib:/tmp/loop_over_bdir-2354-ukUQqH/AllKnowingDNS-1.7-0/blib/arch:/tmp/loop_over_bdir-2354-ukUQqH/AllKnowingDNS-1.7-0/blib/lib:/tmp/loop_over_bdir-2354-ukUQqH/perl-Hardware-UPS-Perl-0.43-0/blib/arch:/tmp/loop_over_bdir-2354-ukUQqH/perl-Hardware-UPS-Perl-0.43-0/blib/lib:/tmp/loop_over_bdir-2354-ukUQqH/Sysync-0.38-0/blib/arch:/tmp/loop_over_bdir-2354-ukUQqH/Sysync-0.38-0/blib/lib:/tmp/loop_over_bdir-2354-ukUQqH/mmds-1.902-0/blib/arch:/tmp/loop_over_bdir-2354-ukUQqH/mmds-1.902-0/blib/lib:/tmp/loop_over_bdir-2354-ukUQqH/Linux-InitFS-0.2-0/blib/arch:/tmp/loop_over_bdir-2354-ukUQqH/Linux-InitFS-0.2-0/blib/lib:/tmp/loop_over_bdir-2354-ukUQqH/Alien-SNMP-MIBDEV-2.020000-0/blib/arch:/tmp/loop_over_bdir-2354-ukUQqH/Alien-SNMP-MIBDEV-2.020000-0/blib/lib:/tmp/loop_over_bdir-2354-ukUQqH/makepp-1.19-0/blib/arch:/tmp/loop_over_bdir-2354-ukUQqH/makepp-1.19-0/blib/lib:/tmp/loop_over_bdir-2354-ukUQqH/CGI-Application-NetNewsIface-0.0204-0/blib/arch:/tmp/loop_over_bdir-2354-ukUQqH/CGI-Application-NetNewsIface-0.0204-0/blib/lib:/tmp/loop_over_bdir-2354-ukUQqH/Net-ISP-Balance-1.31-0/blib/arch:/tmp/loop_over_bdir-2354-ukUQqH/Net-ISP-Balance-1.31-0/blib/lib:/tmp/loop_over_bdir-2354-ukUQqH/Net-Async-WebService-lxd-0.03-0/blib/arch:/tmp/loop_over_bdir-2354-ukUQqH/Net-Async-WebService-lxd-0.03-0/blib/lib:/tmp/loop_over_bdir-2354-ukUQqH/CORBA-Python-2.66-0/blib/arch:/tmp/loop_over_bdir-2354-ukUQqH/CORBA-Python-2.66-0/blib/lib:/tmp/loop_over_bdir-2354-ukUQqH/Lingua-BioYaTeA-0.11-0/blib/arch:/tmp/loop_over_bdir-2354-ukUQqH/Lingua-BioYaTeA-0.11-0/blib/lib:/tmp/loop_over_bdir-2354-ukUQqH/Lingua-YaTeA-0.626-0/blib/arch:/tmp/loop_over_bdir-2354-ukUQqH/Lingua-YaTeA-0.626-0/blib/lib:/tmp/loop_over_bdir-2354-ukUQqH/shishi-0.0.1-0/blib/arch:/tmp/loop_over_bdir-2354-ukUQqH/shishi-0.0.1-0/blib/lib:/tmp/loop_over_bdir-2354-ukUQqH/App-nrun-v1.1.2-0/blib/arch:/tmp/loop_over_bdir-2354-ukUQqH/App-nrun-v1.1.2-0/blib/lib:/tmp/loop_over_bdir-2354-ukUQqH/App-rmcd-0.280-0/blib/arch:/tmp/loop_over_bdir-2354-ukUQqH/App-rmcd-0.280-0/blib/lib:/tmp/loop_over_bdir-2354-ukUQqH/App-oo_modulino_zsh_completion_helper-0.04-0/blib/arch:/tmp/loop_over_bdir-2354-ukUQqH/App-oo_modulino_zsh_completion_helper-0.04-0/blib/lib:/tmp/loop_over_bdir-2354-ukUQqH/LCFG-Build-Tools-0.9.30-0/blib/arch:/tmp/loop_over_bdir-2354-ukUQqH/LCFG-Build-Tools-0.9.30-0/blib/lib:/tmp/loop_over_bdir-2354-ukUQqH/NoZone-1.3-0/blib/arch:/tmp/loop_over_bdir-2354-ukUQqH/NoZone-1.3-0/blib/lib:/tmp/loop_over_bdir-2354-ukUQqH/downsexta-0/blib/arch:/tmp/loop_over_bdir-2354-ukUQqH/downsexta-0/blib/lib:/tmp/loop_over_bdir-2354-ukUQqH/dta-tokwrap-0.98-0/blib/arch:/tmp/loop_over_bdir-2354-ukUQqH/dta-tokwrap-0.98-0/blib/lib:/tmp/loop_over_bdir-2354-ukUQqH/Debian-Packages-0.03-0/blib/arch:/tmp/loop_over_bdir-2354-ukUQqH/Debian-Packages-0.03-0/blib/lib:/tmp/loop_over_bdir-2354-ukUQqH/Business-Shipping-DataFiles-1.02-0/blib/arch:/tmp/loop_over_bdir-2354-ukUQqH/Business-Shipping-DataFiles-1.02-0/blib/lib:/tmp/loop_over_bdir-2354-ukUQqH/EJBCA-CrlPublish-0.60-0/blib/arch:/tmp/loop_over_bdir-2354-ukUQqH/EJBCA-CrlPublish-0.60-0/blib/lib:/tmp/loop_over_bdir-2354-ukUQqH/DBIx-Migration-Directories-0.12-0/blib/arch:/tmp/loop_over_bdir-2354-ukUQqH/DBIx-Migration-Directories-0.12-0/blib/lib:/tmp/loop_over_bdir-2354-ukUQqH/Devel-Required-0.16-0/blib/arch:/tmp/loop_over_bdir-2354-ukUQqH/Devel-Required-0.16-0/blib/lib:/tmp/loop_over_bdir-2354-ukUQqH/triceps-2.1.0-0/blib/arch:/tmp/loop_over_bdir-2354-ukUQqH/triceps-2.1.0-0/blib/lib:/tmp/loop_over_bdir-2354-ukUQqH/Dpkg-1.22.4-0/blib/arch:/tmp/loop_over_bdir-2354-ukUQqH/Dpkg-1.22.4-0/blib/lib:/tmp/loop_over_bdir-2354-ukUQqH/LCFG-Build-Skeleton-0.5.0-0/blib/arch:/tmp/loop_over_bdir-2354-ukUQqH/LCFG-Build-Skeleton-0.5.0-0/blib/lib:/tmp/loop_over_bdir-2354-ukUQqH/Lemonldap-NG-Cli-0.2-0/blib/arch:/tmp/loop_over_bdir-2354-ukUQqH/Lemonldap-NG-Cli-0.2-0/blib/lib
    PERL5OPT = 
    PERL5_CPANPLUS_IS_RUNNING = 2367
    PERL5_CPAN_IS_RUNNING = 2367
    PERL_CANARY_STABILITY_NOPROMPT = 1
    PERL_MM_USE_DEFAULT = 1
    PERL_USE_UNSAFE_INC = 1
    SHELL = /usr/bin/zsh
    TERM = screen

Perl special variables (and OS-specific diagnostics, for MSWin32):

    $^X = /tmp/basesmoker-reloperl-57lK/bin/perl
    $UID/$EUID = 1005 / 1005
    $GID = 1005 1005
    $EGID = 1005 1005

Perl module toolchain versions installed:

    Module              Have    
    ------------------- --------
    CPAN                2.36    
    CPAN::Meta          2.150010
    Cwd                 3.90    
    ExtUtils::CBuilder  0.280240
    ExtUtils::Command   7.70    
    ExtUtils::Install   2.22    
    ExtUtils::MakeMaker 7.70    
    ExtUtils::Manifest  1.75    
    ExtUtils::ParseXS   3.51    
    File::Spec          3.90    
    JSON                4.10    
    JSON::PP            4.16    
    Module::Build       0.4234  
    Module::Signature   0.88    
    Parse::CPAN::Meta   2.150010
    Test2               1.302198
    Test::Harness       3.48    
    Test::More          1.302198
    YAML                1.31    
    YAML::Syck          1.34    
    version             0.9930  


--

Summary of my perl5 (revision 5 version 39 subversion 8) configuration:
  Commit id: 78455e6e7fa235411fb2b931eda9d816b5ea880f
  Platform:
    osname=linux
    osvers=5.4.0-171-generic
    archname=x86_64-linux
    uname='linux k93focal 5.4.0-171-generic #189-ubuntu smp fri jan 5 14:23:02 utc 2024 x86_64 x86_64 x86_64 gnulinux '
    config_args='-Dprefix=/home/sand/src/perl/repoperls/installed-perls/host/k93focal/v5.39.8/b254 -Dmyhostname=k93focal -Dinstallusrbinperl=n -Uversiononly -Dusedevel -des -Ui_db -Dlibswanted=cl pthread socket inet nsl gdbm dbm malloc dl ld sun m crypt sec util c cposix posix ucb BSD gdbm_compat -Uuseithreads -Uuselongdouble -DEBUGGING=both'
    hint=recommended
    useposix=true
    d_sigaction=define
    useithreads=undef
    usemultiplicity=undef
    use64bitint=define
    use64bitall=define
    uselongdouble=undef
    usemymalloc=n
    default_inc_excludes_dot=define
  Compiler:
    cc='cc'
    ccflags ='-fwrapv -DDEBUGGING -fno-strict-aliasing -pipe -fstack-protector-strong -I/usr/local/include -D_LARGEFILE_SOURCE -D_FILE_OFFSET_BITS=64'
    optimize='-O2 -g'
    cppflags='-fwrapv -DDEBUGGING -fno-strict-aliasing -pipe -fstack-protector-strong -I/usr/local/include'
    ccversion=''
    gccversion='9.4.0'
    gccosandvers=''
    intsize=4
    longsize=8
    ptrsize=8
    doublesize=8
    byteorder=12345678
    doublekind=3
    d_longlong=define
    longlongsize=8
    d_longdbl=define
    longdblsize=16
    longdblkind=3
    ivtype='long'
    ivsize=8
    nvtype='double'
    nvsize=8
    Off_t='off_t'
    lseeksize=8
    alignbytes=8
    prototype=define
  Linker and Libraries:
    ld='cc'
    ldflags =' -fstack-protector-strong -L/usr/local/lib'
    libpth=/usr/local/lib /usr/lib/x86_64-linux-gnu /usr/lib /usr/lib64
    libs=-lpthread -lnsl -ldl -lm -lcrypt -lutil -lc
    perllibs=-lpthread -lnsl -ldl -lm -lcrypt -lutil -lc
    libc=libc-2.31.so
    so=so
    useshrplib=false
    libperl=libperl.a
    gnulibc_version='2.31'
  Dynamic Linking:
    dlsrc=dl_dlopen.xs
    dlext=so
    d_dlsymun=undef
    ccdlflags='-Wl,-E'
    cccdlflags='-fPIC'
    lddlflags='-shared -O2 -g -L/usr/local/lib -fstack-protector-strong'


Characteristics of this binary (from libperl): 
  Compile-time options:
    DEBUGGING
    HAS_LONG_DOUBLE
    HAS_STRTOLD
    HAS_TIMES
    PERLIO_LAYERS
    PERL_COPY_ON_WRITE
    PERL_DONT_CREATE_GVSV
    PERL_HASH_FUNC_SIPHASH13
    PERL_HASH_USE_SBOX32
    PERL_MALLOC_WRAP
    PERL_OP_PARENT
    PERL_PRESERVE_IVUV
    PERL_USE_DEVEL
    PERL_USE_SAFE_PUTENV
    USE_64_BIT_ALL
    USE_64_BIT_INT
    USE_LARGE_FILES
    USE_LOCALE
    USE_LOCALE_COLLATE
    USE_LOCALE_CTYPE
    USE_LOCALE_NUMERIC
    USE_LOCALE_TIME
    USE_PERLIO
    USE_PERL_ATOF
  Built under linux
  Compiled at Feb 24 2024 09:04:15
  %ENV:
    PERL="/tmp/basesmoker-reloperl-57lK/bin/perl"
    PERL5LIB="/tmp/loop_over_bdir-2354-ukUQqH/LiquidWeb-Storm-CLI-1.03-0/blib/arch:/tmp/loop_over_bdir-2354-ukUQqH/LiquidWeb-Storm-CLI-1.03-0/blib/lib:/tmp/loop_over_bdir-2354-ukUQqH/Simulation-Automate-1.0.1-0/blib/arch:/tmp/loop_over_bdir-2354-ukUQqH/Simulation-Automate-1.0.1-0/blib/lib:/tmp/loop_over_bdir-2354-ukUQqH/MP3-PodcastFetch-1.05-0/blib/arch:/tmp/loop_over_bdir-2354-ukUQqH/MP3-PodcastFetch-1.05-0/blib/lib:/tmp/loop_over_bdir-2354-ukUQqH/RDF-NLP-SPARQLQuery-0.1-0/blib/arch:/tmp/loop_over_bdir-2354-ukUQqH/RDF-NLP-SPARQLQuery-0.1-0/blib/lib:/tmp/loop_over_bdir-2354-ukUQqH/js-app-0.13-0/blib/arch:/tmp/loop_over_bdir-2354-ukUQqH/js-app-0.13-0/blib/lib:/tmp/loop_over_bdir-2354-ukUQqH/ProjectBuilder-0.14.1-0/blib/arch:/tmp/loop_over_bdir-2354-ukUQqH/ProjectBuilder-0.14.1-0/blib/lib:/tmp/loop_over_bdir-2354-ukUQqH/AllKnowingDNS-1.7-0/blib/arch:/tmp/loop_over_bdir-2354-ukUQqH/AllKnowingDNS-1.7-0/blib/lib:/tmp/loop_over_bdir-2354-ukUQqH/perl-Hardware-UPS-Perl-0.43-0/blib/arch:/tmp/loop_over_bdir-2354-ukUQqH/perl-Hardware-UPS-Perl-0.43-0/blib/lib:/tmp/loop_over_bdir-2354-ukUQqH/Sysync-0.38-0/blib/arch:/tmp/loop_over_bdir-2354-ukUQqH/Sysync-0.38-0/blib/lib:/tmp/loop_over_bdir-2354-ukUQqH/mmds-1.902-0/blib/arch:/tmp/loop_over_bdir-2354-ukUQqH/mmds-1.902-0/blib/lib:/tmp/loop_over_bdir-2354-ukUQqH/Linux-InitFS-0.2-0/blib/arch:/tmp/loop_over_bdir-2354-ukUQqH/Linux-InitFS-0.2-0/blib/lib:/tmp/loop_over_bdir-2354-ukUQqH/Alien-SNMP-MIBDEV-2.020000-0/blib/arch:/tmp/loop_over_bdir-2354-ukUQqH/Alien-SNMP-MIBDEV-2.020000-0/blib/lib:/tmp/loop_over_bdir-2354-ukUQqH/makepp-1.19-0/blib/arch:/tmp/loop_over_bdir-2354-ukUQqH/makepp-1.19-0/blib/lib:/tmp/loop_over_bdir-2354-ukUQqH/CGI-Application-NetNewsIface-0.0204-0/blib/arch:/tmp/loop_over_bdir-2354-ukUQqH/CGI-Application-NetNewsIface-0.0204-0/blib/lib:/tmp/loop_over_bdir-2354-ukUQqH/Net-ISP-Balance-1.31-0/blib/arch:/tmp/loop_over_bdir-2354-ukUQqH/Net-ISP-Balance-1.31-0/blib/lib:/tmp/loop_over_bdir-2354-ukUQqH/Net-Async-WebService-lxd-0.03-0/blib/arch:/tmp/loop_over_bdir-2354-ukUQqH/Net-Async-WebService-lxd-0.03-0/blib/lib:/tmp/loop_over_bdir-2354-ukUQqH/CORBA-Python-2.66-0/blib/arch:/tmp/loop_over_bdir-2354-ukUQqH/CORBA-Python-2.66-0/blib/lib:/tmp/loop_over_bdir-2354-ukUQqH/Lingua-BioYaTeA-0.11-0/blib/arch:/tmp/loop_over_bdir-2354-ukUQqH/Lingua-BioYaTeA-0.11-0/blib/lib:/tmp/loop_over_bdir-2354-ukUQqH/Lingua-YaTeA-0.626-0/blib/arch:/tmp/loop_over_bdir-2354-ukUQqH/Lingua-YaTeA-0.626-0/blib/lib:/tmp/loop_over_bdir-2354-ukUQqH/shishi-0.0.1-0/blib/arch:/tmp/loop_over_bdir-2354-ukUQqH/shishi-0.0.1-0/blib/lib:/tmp/loop_over_bdir-2354-ukUQqH/App-nrun-v1.1.2-0/blib/arch:/tmp/loop_over_bdir-2354-ukUQqH/App-nrun-v1.1.2-0/blib/lib:/tmp/loop_over_bdir-2354-ukUQqH/App-rmcd-0.280-0/blib/arch:/tmp/loop_over_bdir-2354-ukUQqH/App-rmcd-0.280-0/blib/lib:/tmp/loop_over_bdir-2354-ukUQqH/App-oo_modulino_zsh_completion_helper-0.04-0/blib/arch:/tmp/loop_over_bdir-2354-ukUQqH/App-oo_modulino_zsh_completion_helper-0.04-0/blib/lib:/tmp/loop_over_bdir-2354-ukUQqH/LCFG-Build-Tools-0.9.30-0/blib/arch:/tmp/loop_over_bdir-2354-ukUQqH/LCFG-Build-Tools-0.9.30-0/blib/lib:/tmp/loop_over_bdir-2354-ukUQqH/NoZone-1.3-0/blib/arch:/tmp/loop_over_bdir-2354-ukUQqH/NoZone-1.3-0/blib/lib:/tmp/loop_over_bdir-2354-ukUQqH/downsexta-0/blib/arch:/tmp/loop_over_bdir-2354-ukUQqH/downsexta-0/blib/lib:/tmp/loop_over_bdir-2354-ukUQqH/dta-tokwrap-0.98-0/blib/arch:/tmp/loop_over_bdir-2354-ukUQqH/dta-tokwrap-0.98-0/blib/lib:/tmp/loop_over_bdir-2354-ukUQqH/Debian-Packages-0.03-0/blib/arch:/tmp/loop_over_bdir-2354-ukUQqH/Debian-Packages-0.03-0/blib/lib:/tmp/loop_over_bdir-2354-ukUQqH/Business-Shipping-DataFiles-1.02-0/blib/arch:/tmp/loop_over_bdir-2354-ukUQqH/Business-Shipping-DataFiles-1.02-0/blib/lib:/tmp/loop_over_bdir-2354-ukUQqH/EJBCA-CrlPublish-0.60-0/blib/arch:/tmp/loop_over_bdir-2354-ukUQqH/EJBCA-CrlPublish-0.60-0/blib/lib:/tmp/loop_over_bdir-2354-ukUQqH/DBIx-Migration-Directories-0.12-0/blib/arch:/tmp/loop_over_bdir-2354-ukUQqH/DBIx-Migration-Directories-0.12-0/blib/lib:/tmp/loop_over_bdir-2354-ukUQqH/Devel-Required-0.16-0/blib/arch:/tmp/loop_over_bdir-2354-ukUQqH/Devel-Required-0.16-0/blib/lib:/tmp/loop_over_bdir-2354-ukUQqH/triceps-2.1.0-0/blib/arch:/tmp/loop_over_bdir-2354-ukUQqH/triceps-2.1.0-0/blib/lib:/tmp/loop_over_bdir-2354-ukUQqH/Dpkg-1.22.4-0/blib/arch:/tmp/loop_over_bdir-2354-ukUQqH/Dpkg-1.22.4-0/blib/lib:/tmp/loop_over_bdir-2354-ukUQqH/LCFG-Build-Skeleton-0.5.0-0/blib/arch:/tmp/loop_over_bdir-2354-ukUQqH/LCFG-Build-Skeleton-0.5.0-0/blib/lib:/tmp/loop_over_bdir-2354-ukUQqH/Lemonldap-NG-Cli-0.2-0/blib/arch:/tmp/loop_over_bdir-2354-ukUQqH/Lemonldap-NG-Cli-0.2-0/blib/lib"
    PERL5OPT=""
    PERL5_CPANPLUS_IS_RUNNING="2367"
    PERL5_CPAN_IS_RUNNING="2367"
    PERL_CANARY_STABILITY_NOPROMPT="1"
    PERL_MM_USE_DEFAULT="1"
    PERL_USE_UNSAFE_INC="1"
  @INC:
    /tmp/loop_over_bdir-2354-ukUQqH/LiquidWeb-Storm-CLI-1.03-0/blib/arch
    /tmp/loop_over_bdir-2354-ukUQqH/LiquidWeb-Storm-CLI-1.03-0/blib/lib
    /tmp/loop_over_bdir-2354-ukUQqH/Simulation-Automate-1.0.1-0/blib/arch
    /tmp/loop_over_bdir-2354-ukUQqH/Simulation-Automate-1.0.1-0/blib/lib
    /tmp/loop_over_bdir-2354-ukUQqH/MP3-PodcastFetch-1.05-0/blib/arch
    /tmp/loop_over_bdir-2354-ukUQqH/MP3-PodcastFetch-1.05-0/blib/lib
    /tmp/loop_over_bdir-2354-ukUQqH/RDF-NLP-SPARQLQuery-0.1-0/blib/arch
    /tmp/loop_over_bdir-2354-ukUQqH/RDF-NLP-SPARQLQuery-0.1-0/blib/lib
    /tmp/loop_over_bdir-2354-ukUQqH/js-app-0.13-0/blib/arch
    /tmp/loop_over_bdir-2354-ukUQqH/js-app-0.13-0/blib/lib
    /tmp/loop_over_bdir-2354-ukUQqH/ProjectBuilder-0.14.1-0/blib/arch
    /tmp/loop_over_bdir-2354-ukUQqH/ProjectBuilder-0.14.1-0/blib/lib
    /tmp/loop_over_bdir-2354-ukUQqH/AllKnowingDNS-1.7-0/blib/arch
    /tmp/loop_over_bdir-2354-ukUQqH/AllKnowingDNS-1.7-0/blib/lib
    /tmp/loop_over_bdir-2354-ukUQqH/perl-Hardware-UPS-Perl-0.43-0/blib/arch
    /tmp/loop_over_bdir-2354-ukUQqH/perl-Hardware-UPS-Perl-0.43-0/blib/lib
    /tmp/loop_over_bdir-2354-ukUQqH/Sysync-0.38-0/blib/arch
    /tmp/loop_over_bdir-2354-ukUQqH/Sysync-0.38-0/blib/lib
    /tmp/loop_over_bdir-2354-ukUQqH/mmds-1.902-0/blib/arch
    /tmp/loop_over_bdir-2354-ukUQqH/mmds-1.902-0/blib/lib
    /tmp/loop_over_bdir-2354-ukUQqH/Linux-InitFS-0.2-0/blib/arch
    /tmp/loop_over_bdir-2354-ukUQqH/Linux-InitFS-0.2-0/blib/lib
    /tmp/loop_over_bdir-2354-ukUQqH/Alien-SNMP-MIBDEV-2.020000-0/blib/arch
    /tmp/loop_over_bdir-2354-ukUQqH/Alien-SNMP-MIBDEV-2.020000-0/blib/lib
    /tmp/loop_over_bdir-2354-ukUQqH/makepp-1.19-0/blib/arch
    /tmp/loop_over_bdir-2354-ukUQqH/makepp-1.19-0/blib/lib
    /tmp/loop_over_bdir-2354-ukUQqH/CGI-Application-NetNewsIface-0.0204-0/blib/arch
    /tmp/loop_over_bdir-2354-ukUQqH/CGI-Application-NetNewsIface-0.0204-0/blib/lib
    /tmp/loop_over_bdir-2354-ukUQqH/Net-ISP-Balance-1.31-0/blib/arch
    /tmp/loop_over_bdir-2354-ukUQqH/Net-ISP-Balance-1.31-0/blib/lib
    /tmp/loop_over_bdir-2354-ukUQqH/Net-Async-WebService-lxd-0.03-0/blib/arch
    /tmp/loop_over_bdir-2354-ukUQqH/Net-Async-WebService-lxd-0.03-0/blib/lib
    /tmp/loop_over_bdir-2354-ukUQqH/CORBA-Python-2.66-0/blib/arch
    /tmp/loop_over_bdir-2354-ukUQqH/CORBA-Python-2.66-0/blib/lib
    /tmp/loop_over_bdir-2354-ukUQqH/Lingua-BioYaTeA-0.11-0/blib/arch
    /tmp/loop_over_bdir-2354-ukUQqH/Lingua-BioYaTeA-0.11-0/blib/lib
    /tmp/loop_over_bdir-2354-ukUQqH/Lingua-YaTeA-0.626-0/blib/arch
    /tmp/loop_over_bdir-2354-ukUQqH/Lingua-YaTeA-0.626-0/blib/lib
    /tmp/loop_over_bdir-2354-ukUQqH/shishi-0.0.1-0/blib/arch
    /tmp/loop_over_bdir-2354-ukUQqH/shishi-0.0.1-0/blib/lib
    /tmp/loop_over_bdir-2354-ukUQqH/App-nrun-v1.1.2-0/blib/arch
    /tmp/loop_over_bdir-2354-ukUQqH/App-nrun-v1.1.2-0/blib/lib
    /tmp/loop_over_bdir-2354-ukUQqH/App-rmcd-0.280-0/blib/arch
    /tmp/loop_over_bdir-2354-ukUQqH/App-rmcd-0.280-0/blib/lib
    /tmp/loop_over_bdir-2354-ukUQqH/App-oo_modulino_zsh_completion_helper-0.04-0/blib/arch
    /tmp/loop_over_bdir-2354-ukUQqH/App-oo_modulino_zsh_completion_helper-0.04-0/blib/lib
    /tmp/loop_over_bdir-2354-ukUQqH/LCFG-Build-Tools-0.9.30-0/blib/arch
    /tmp/loop_over_bdir-2354-ukUQqH/LCFG-Build-Tools-0.9.30-0/blib/lib
    /tmp/loop_over_bdir-2354-ukUQqH/NoZone-1.3-0/blib/arch
    /tmp/loop_over_bdir-2354-ukUQqH/NoZone-1.3-0/blib/lib
    /tmp/loop_over_bdir-2354-ukUQqH/downsexta-0/blib/arch
    /tmp/loop_over_bdir-2354-ukUQqH/downsexta-0/blib/lib
    /tmp/loop_over_bdir-2354-ukUQqH/dta-tokwrap-0.98-0/blib/arch
    /tmp/loop_over_bdir-2354-ukUQqH/dta-tokwrap-0.98-0/blib/lib
    /tmp/loop_over_bdir-2354-ukUQqH/Debian-Packages-0.03-0/blib/arch
    /tmp/loop_over_bdir-2354-ukUQqH/Debian-Packages-0.03-0/blib/lib
    /tmp/loop_over_bdir-2354-ukUQqH/Business-Shipping-DataFiles-1.02-0/blib/arch
    /tmp/loop_over_bdir-2354-ukUQqH/Business-Shipping-DataFiles-1.02-0/blib/lib
    /tmp/loop_over_bdir-2354-ukUQqH/EJBCA-CrlPublish-0.60-0/blib/arch
    /tmp/loop_over_bdir-2354-ukUQqH/EJBCA-CrlPublish-0.60-0/blib/lib
    /tmp/loop_over_bdir-2354-ukUQqH/DBIx-Migration-Directories-0.12-0/blib/arch
    /tmp/loop_over_bdir-2354-ukUQqH/DBIx-Migration-Directories-0.12-0/blib/lib
    /tmp/loop_over_bdir-2354-ukUQqH/Devel-Required-0.16-0/blib/arch
    /tmp/loop_over_bdir-2354-ukUQqH/Devel-Required-0.16-0/blib/lib
    /tmp/loop_over_bdir-2354-ukUQqH/triceps-2.1.0-0/blib/arch
    /tmp/loop_over_bdir-2354-ukUQqH/triceps-2.1.0-0/blib/lib
    /tmp/loop_over_bdir-2354-ukUQqH/Dpkg-1.22.4-0/blib/arch
    /tmp/loop_over_bdir-2354-ukUQqH/Dpkg-1.22.4-0/blib/lib
    /tmp/loop_over_bdir-2354-ukUQqH/LCFG-Build-Skeleton-0.5.0-0/blib/arch
    /tmp/loop_over_bdir-2354-ukUQqH/LCFG-Build-Skeleton-0.5.0-0/blib/lib
    /tmp/loop_over_bdir-2354-ukUQqH/Lemonldap-NG-Cli-0.2-0/blib/arch
    /tmp/loop_over_bdir-2354-ukUQqH/Lemonldap-NG-Cli-0.2-0/blib/lib
    /home/sand/src/perl/repoperls/installed-perls/host/k93focal/v5.39.8/b254/lib/site_perl/5.39.8/x86_64-linux
    /home/sand/src/perl/repoperls/installed-perls/host/k93focal/v5.39.8/b254/lib/site_perl/5.39.8
    /home/sand/src/perl/repoperls/installed-perls/host/k93focal/v5.39.8/b254/lib/5.39.8/x86_64-linux
    /home/sand/src/perl/repoperls/installed-perls/host/k93focal/v5.39.8/b254/lib/5.39.8
    .