libwww-perl v6.78 Perl 5 v5.18.4 darwin-thread-multi-2level
- Status
- Pass
- From
- Roland van Ipenburg (IPENBURG)
- Dist
-
libwww-perl v6.78
- Platform
- Perl 5 v5.18.4 darwin-thread-multi-2level
- Date
- 2025-02-25 11:21:44
- ID
- b166f66a-f36a-11ef-898f-a25b415d1e24
This distribution has been tested as part of the CPAN Testers
project, supporting the Perl programming language. See
http://wiki.cpantesters.org/ for more information or email
questions to cpan-testers-discuss@perl.org
--
Dear Olaf Alders,
This is a computer-generated report for libwww-perl-6.78
on perl 5.18.4, created by CPAN-Reporter-1.2020.
Thank you for uploading your work to CPAN. Congratulations!
All tests were successful.
Sections of this report:
* Tester comments
* Program output
* Prerequisites
* Environment and other context
------------------------------
TESTER COMMENTS
------------------------------
Additional comments from tester:
none provided
------------------------------
PROGRAM OUTPUT
------------------------------
Output from '/usr/bin/make test':
PERL_DL_NONLAZY=1 "/usr/bin/perl" "-MExtUtils::Command::MM" "-MTest::Harness" "-e" "undef *Test::Harness::Switches; test_harness(0, 'blib/lib', 'blib/arch')" t/*.t t/base/*.t t/base/protocols/*.t t/leak/*.t t/local/*.t t/robot/*.t
#
# Versions for all modules listed in MYMETA.json (including optional ones):
#
# === Configure Requires ===
#
# Module Want Have
# ------------------- ---- ----
# ExtUtils::MakeMaker any 7.70
# File::Copy any 2.26
# Getopt::Long any 2.58
#
# === Configure Suggests ===
#
# Module Want Have
# -------- ------- ----
# JSON::PP 2.27300 4.16
#
# === Build Requires ===
#
# Module Want Have
# ------------------- ---- ----
# ExtUtils::MakeMaker any 7.70
#
# === Test Requires ===
#
# Module Want Have
# ---------------------- ---- --------
# ExtUtils::MakeMaker any 7.70
# File::Spec any 3.75
# FindBin any 1.54
# HTTP::CookieJar::LWP any 0.014
# HTTP::Daemon 6.12 6.16
# Test::Fatal any 0.017
# Test::More 0.96 1.302209
# Test::Needs any 0.002010
# Test::RequiresInternet any 0.05
#
# === Test Recommends ===
#
# Module Want Have
# --------------- -------- --------
# CPAN::Meta 2.120900 2.150010
# Test::LeakTrace any 0.17
#
# === Runtime Requires ===
#
# Module Want Have
# --------------------- -------- --------
# Digest::MD5 any 2.59
# Encode 2.12 3.21
# Encode::Locale any 1.05
# File::Copy any 2.26
# File::Listing 6 6.16
# File::Temp any 0.2311
# Getopt::Long any 2.58
# HTML::Entities any 3.83
# HTML::HeadParser 3.71 3.83
# HTTP::Cookies 6 6.11
# HTTP::Date 6 6.06
# HTTP::Negotiate 6 6.01
# HTTP::Request 6.18 7.00
# HTTP::Request::Common 6.18 7.00
# HTTP::Response 6.18 7.00
# HTTP::Status 6.18 7.00
# IO::Select any 1.55
# IO::Socket any 1.55
# LWP::MediaTypes 6 6.04
# MIME::Base64 2.1 3.16
# Module::Load any 0.36
# Net::FTP 2.58 3.15
# Net::HTTP 6.18 6.23
# Scalar::Util any 1.68
# Try::Tiny any 0.32
# URI 1.10 5.31
# URI::Escape any 5.31
# WWW::RobotRules 6 6.02
# parent 0.217 0.244
# perl 5.008001 5.018004
# strict any 1.07
# warnings any 1.18
#
# === Runtime Suggests ===
#
# Module Want Have
# -------------------- ---- ----
# Authen::NTLM 1.02 1.09
# Data::Dump 1.13 1.25
# IO::Socket::INET any 1.55
# LWP::Protocol::https 6.02 6.14
#
t/00-report-prereqs.t .......... ok
t/10-attrs.t ................... ok
t/base/default_content_type.t .. ok
t/base/protocols.t ............. ok
t/base/protocols/nntp.t ........ skipped: nntp.perl.org is unstable and Test::RequiresInternet is not catching it
t/base/proxy.t ................. ok
t/base/proxy_request.t ......... ok
t/base/simple.t ................ ok
t/base/ua.t .................... ok
t/base/ua_handlers.t ........... ok
t/leak/no_leak.t ............... ok
t/local/autoload-get.t ......... ok
t/local/autoload.t ............. ok
t/local/cookie_jar.t ........... ok
t/local/download_to_fh.t ....... ok
t/local/get.t .................. ok
t/local/http.t ................. ok
t/local/httpsub.t .............. ok
t/local/protosub.t ............. ok
t/redirect.t ................... ok
t/robot/ua-get.t ............... ok
t/robot/ua.t ................... ok
All tests successful.
Files=22, Tests=317, 210 wallclock secs ( 0.13 usr 0.05 sys + 4.86 cusr 1.20 csys = 6.24 CPU)
Result: PASS
------------------------------
PREREQUISITES
------------------------------
Prerequisite modules loaded:
requires:
Module Need Have
---------------------- -------- --------
Digest::MD5 0 2.59
Encode 2.12 3.21
Encode::Locale 0 1.05
File::Copy 0 2.26
File::Listing 6 6.16
File::Temp 0 0.2311
Getopt::Long 0 2.58
HTML::Entities 0 3.83
HTML::HeadParser 3.71 3.83
HTTP::Cookies 6 6.11
HTTP::Date 6 6.06
HTTP::Negotiate 6 6.01
HTTP::Request 6.18 7.00
HTTP::Request::Common 6.18 7.00
HTTP::Response 6.18 7.00
HTTP::Status 6.18 7.00
IO::Select 0 1.55
IO::Socket 0 1.55
LWP::MediaTypes 6 6.04
MIME::Base64 2.1 3.16
Module::Load 0 0.36
Net::FTP 2.58 3.15
Net::HTTP 6.18 6.23
parent 0.217 0.244
perl 5.008001 5.018004
Scalar::Util 0 1.68
strict 0 1.07
Try::Tiny 0 0.32
URI 1.10 5.31
URI::Escape 0 5.31
warnings 0 1.18
WWW::RobotRules 6 6.02
build_requires:
Module Need Have
---------------------- -------- --------
ExtUtils::MakeMaker 0 7.70
File::Spec 0 3.75
FindBin 0 1.54
HTTP::CookieJar::LWP 0 0.014
HTTP::Daemon 6.12 6.16
Test::Fatal 0 0.017
Test::More 0.96 1.302209
Test::Needs 0 0.002010
Test::RequiresInternet 0 0.05
configure_requires:
Module Need Have
---------------------- -------- --------
ExtUtils::MakeMaker 0 7.70
File::Copy 0 2.26
Getopt::Long 0 2.58
------------------------------
ENVIRONMENT AND OTHER CONTEXT
------------------------------
Environment variables:
LANG = en_US.UTF-8
LC_ALL = en_US.UTF-8
LC_CTYPE = UTF-8
PATH = /usr/bin:/opt/local/bin:/opt/local/sbin:/usr/local/bin:/usr/bin:/bin:/usr/sbin:/sbin:/usr/local/MacGPG2/bin:/usr/local/share/dotnet:/opt/X11/bin:~/.dotnet/tools:/Library/Apple/usr/bin
PERL5LIB = /Users/roland/.cpan/build/Pod-Parser-1.67-0/blib/arch:/Users/roland/.cpan/build/Pod-Parser-1.67-0/blib/lib:/Users/roland/.cpan/build/Net-DNS-1.50-0/blib/arch:/Users/roland/.cpan/build/Net-DNS-1.50-0/blib/lib
PERL5OPT =
PERL5_CPANPLUS_IS_RUNNING = 38840
PERL5_CPAN_IS_RUNNING = 38840
PERL_USE_UNSAFE_INC = 1
SHELL = /bin/bash
TEMP = /var/tmp/
TERM = xterm-256color
TMPDIR = /var/folders/7l/g84992vx2mv_vz02s8yt60sc0000gn/T/
VERSIONER_PERL_VERSION = 5.18
Perl special variables (and OS-specific diagnostics, for MSWin32):
$^X = /usr/bin/perl
$UID/$EUID = 501 / 501
$GID = 20 20 504 12 61 79 80 81 98 703 702 701 33 100 204 250 395 398 399 400
$EGID = 20 20 504 12 61 79 80 81 98 703 702 701 33 100 204 250 395 398 399 400
Perl module toolchain versions installed:
Module Have
------------------- --------
CPAN 2.38
CPAN::Meta 2.150010
Cwd 3.75
ExtUtils::CBuilder 0.280236
ExtUtils::Command 7.70
ExtUtils::Install 2.22
ExtUtils::MakeMaker 7.70
ExtUtils::Manifest 1.75
ExtUtils::ParseXS 3.35
File::Spec 3.75
JSON 4.10
JSON::PP 4.16
Module::Build 0.4224
Module::Signature 0.89
Parse::CPAN::Meta 2.150010
Test2 1.302209
Test::Harness 3.50
Test::More 1.302209
YAML 1.31
YAML::Syck 1.29
version 0.9933
--
Summary of my perl5 (revision 5 version 18 subversion 4) configuration:
Platform:
osname=darwin, osvers=19.0, archname=darwin-thread-multi-2level
uname='darwin osx397.sd.apple.com 19.0 darwin kernel version 18.0.0: tue jul 9 11:12:08 pdt 2019; root:xnu-4903.201.2.100.7~1release_x86_64 x86_64 '
config_args='-ds -e -Dprefix=/usr -Dccflags=-g -pipe -Dldflags= -Dman3ext=3pm -Duseithreads -Duseshrplib -Dinc_version_list=none -Dcc=cc'
hint=recommended, useposix=true, d_sigaction=define
useithreads=define, usemultiplicity=define
useperlio=define, d_sfio=undef, uselargefiles=define, usesocks=undef
use64bitint=define, use64bitall=define, uselongdouble=undef
usemymalloc=n, bincompat5005=undef
Compiler:
cc='cc', ccflags =' -g -pipe -fno-common -DPERL_DARWIN -fno-strict-aliasing -fstack-protector',
optimize='-Os',
cppflags='-g -pipe -fno-common -DPERL_DARWIN -fno-strict-aliasing -fstack-protector'
ccversion='', gccversion='4.2.1 Compatible Apple LLVM 11.0.3 (clang-1103.0.29.20) (-macos10.15-objc-selector-opts)', gccosandvers=''
intsize=4, longsize=8, ptrsize=8, doublesize=8, byteorder=12345678
d_longlong=define, longlongsize=8, d_longdbl=define, longdblsize=16
ivtype='long', ivsize=8, nvtype='double', nvsize=8, Off_t='off_t', lseeksize=8
alignbytes=8, prototype=define
Linker and Libraries:
ld='cc', ldflags =' -fstack-protector'
libpth=/usr/lib /usr/local/lib
libs=
perllibs=
libc=, so=dylib, useshrplib=true, libperl=libperl.dylib
gnulibc_version=''
Dynamic Linking:
dlsrc=dl_dlopen.xs, dlext=bundle, d_dlsymun=undef, ccdlflags=' '
cccdlflags=' ', lddlflags=' -bundle -undefined dynamic_lookup -fstack-protector'
Characteristics of this binary (from libperl):
Compile-time options: HAS_TIMES MULTIPLICITY PERLIO_LAYERS
PERL_DONT_CREATE_GVSV
PERL_HASH_FUNC_ONE_AT_A_TIME_HARD
PERL_IMPLICIT_CONTEXT PERL_MALLOC_WRAP
PERL_PRESERVE_IVUV PERL_SAWAMPERSAND USE_64_BIT_ALL
USE_64_BIT_INT USE_ITHREADS USE_LARGE_FILES
USE_LOCALE USE_LOCALE_COLLATE USE_LOCALE_CTYPE
USE_LOCALE_NUMERIC USE_PERLIO USE_PERL_ATOF
USE_REENTRANT_API
Locally applied patches:
/Library/Perl/Updates/<version> comes before system perl directories
installprivlib and installarchlib points to the Updates directory
Built under darwin
Compiled at Jun 5 2020 17:34:07
%ENV:
PERL5LIB="/Users/roland/.cpan/build/Pod-Parser-1.67-0/blib/arch:/Users/roland/.cpan/build/Pod-Parser-1.67-0/blib/lib:/Users/roland/.cpan/build/Net-DNS-1.50-0/blib/arch:/Users/roland/.cpan/build/Net-DNS-1.50-0/blib/lib"
PERL5OPT=""
PERL5_CPANPLUS_IS_RUNNING="38840"
PERL5_CPAN_IS_RUNNING="38840"
PERL_USE_UNSAFE_INC="1"
@INC:
/Users/roland/.cpan/build/Pod-Parser-1.67-0/blib/arch
/Users/roland/.cpan/build/Pod-Parser-1.67-0/blib/lib
/Users/roland/.cpan/build/Net-DNS-1.50-0/blib/arch
/Users/roland/.cpan/build/Net-DNS-1.50-0/blib/lib
/Library/Perl/5.18/darwin-thread-multi-2level
/Library/Perl/5.18
/Network/Library/Perl/5.18/darwin-thread-multi-2level
/Network/Library/Perl/5.18
/Library/Perl/Updates/5.18.4/darwin-thread-multi-2level
/Library/Perl/Updates/5.18.4
/System/Library/Perl/5.18/darwin-thread-multi-2level
/System/Library/Perl/5.18
/System/Library/Perl/Extras/5.18/darwin-thread-multi-2level
/System/Library/Perl/Extras/5.18
.