Org-Parser v0.561 Perl 5 v5.26.1 amd64-freebsd

Status
Pass
From
Slaven Rezić
Dist
Org-Parser v0.561
Platform
Perl 5 v5.26.1 amd64-freebsd
Date
2023-11-08 07:51:57
ID
b1257fd0-7e0b-11ee-a836-86df6d8775ea
This distribution has been tested as part of the CPAN Testers
project, supporting the Perl programming language.  See
http://wiki.cpantesters.org/ for more information or email
questions to cpan-testers-discuss@perl.org


--
Dear perlancar,

This is a computer-generated report for Org-Parser-0.561
on perl 5.26.1, created by CPAN-Reporter-1.2018.

Thank you for uploading your work to CPAN.  Congratulations!
All tests were successful.

Sections of this report:

    * Tester comments
    * Program output
    * Prerequisites
    * Environment and other context

------------------------------
TESTER COMMENTS
------------------------------

Additional comments from tester:

none provided

------------------------------
PROGRAM OUTPUT
------------------------------

Output from '/usr/bin/make test':

PERL_DL_NONLAZY=1 "/usr/perl5.26.1p/bin/perl" "-MExtUtils::Command::MM" "-MTest::Harness" "-e" "undef *Test::Harness::Switches; test_harness(0, 'blib/lib', 'blib/arch')" t/*.t
t/00-compile.t ............... ok
t/01-basics.t ................ ok
t/author-critic.t ............ skipped: these tests are for testing by the author
t/author-pod-coverage.t ...... skipped: these tests are for testing by the author
t/author-pod-syntax.t ........ skipped: these tests are for testing by the author
t/base_element-field_name.t .. ok
t/base_element.t ............. ok
t/block.t .................... ok
t/comment.t .................. ok
t/document.t ................. ok
t/drawer.t ................... ok
t/fixed_width_section.t ...... ok
t/footnote.t ................. ok
t/headline-get_property.t .... ok
t/headline.t ................. ok
t/link_and_target.t .......... ok
t/list.t ..................... ok
t/radio_target.t ............. ok
t/regression-rt68443.t ....... ok
t/rt98375.t .................. ok
t/setting-todo.t ............. ok
t/setting.t .................. ok
t/table.t .................... ok
t/text.t ..................... ok
t/timerange.t ................ ok
t/timestamp.t ................ ok
t/unicode.t .................. ok
t/various.t .................. ok
All tests successful.
Files=28, Tests=120, 10 wallclock secs ( 0.07 usr  0.09 sys +  2.85 cusr  2.89 csys =  5.90 CPU)
Result: PASS

------------------------------
PREREQUISITES
------------------------------

Prerequisite modules loaded:

requires:

    Module                      Need   Have    
    --------------------------- ------ --------
    Cwd                         0      3.67    
    DateTime                    0      1.44    
    DateTime::Event::Recurrence 0      0.19    
    Digest::MD5                 0      2.55    
    File::Slurper               0      0.010   
    if                          0      0.0606  
    List::MoreUtils             0      0.426   
    locale                      0      1.09    
    Log::ger                    0.038  0.040   
    Module::List                0      0.004   
    Module::Load                0      0.32    
    Moo                         0      2.003002
    Moo::Role                   0      2.003002
    perl                        5.014  5.026001
    Scalar::Util                0      1.49    
    Storable                    3.08   3.25    
    strict                      0      1.11    
    Time::HiRes                 0      1.9741  
    utf8                        0      1.19    
    warnings                    0      1.37    

build_requires:

    Module                      Need   Have    
    --------------------------- ------ --------
    ExtUtils::MakeMaker         0      7.58    
    File::Spec                  0      3.67    
    File::Temp                  0.2307 0.2311  
    FindBin                     0      1.51    
    IO::Handle                  0      1.36    
    IPC::Open3                  0      1.20    
    lib                         0      0.64    
    Module::Loaded              0      0.08    
    Org::Dump                   0.551  0.552   
    Test::Exception             0      0.43    
    Test::More                  0.98   1.302106

configure_requires:

    Module                      Need   Have    
    --------------------------- ------ --------
    ExtUtils::MakeMaker         0      7.58    


------------------------------
ENVIRONMENT AND OTHER CONTEXT
------------------------------

Environment variables:

    LC_ALL = de_DE.ISO8859-1
    PATH = /usr/local/bin:/usr/bin:/bin:/usr/local/sbin:/usr/sbin:/sbin:/home/cpansand/bin/freebsd10.3:/home/cpansand/bin/sh:/home/cpansand/bin:/usr/games:/home/cpansand/devel:/home/eserte/src/srezic-misc/scripts
    PERL5LIB = /home/cpansand/.cpan/build/2023110701/Storable-3.25-0/blib/arch:/home/cpansand/.cpan/build/2023110701/Storable-3.25-0/blib/lib:/home/cpansand/.cpan/build/2023110701/Org-Dump-0.552-0/blib/arch:/home/cpansand/.cpan/build/2023110701/Org-Dump-0.552-0/blib/lib:/home/cpansand/.cpan/build/2023110701/Log-ger-0.040-0/blib/arch:/home/cpansand/.cpan/build/2023110701/Log-ger-0.040-0/blib/lib:/home/cpansand/.cpan/build/2023110701/File-Temp-0.2311-0/blib/arch:/home/cpansand/.cpan/build/2023110701/File-Temp-0.2311-0/blib/lib
    PERL5OPT = 
    PERL5_CPANPLUS_IS_RUNNING = 74485
    PERL5_CPAN_IS_RUNNING = 74485
    PERL5_CPAN_IS_RUNNING_IN_RECURSION = 63903,74485
    PERLDOC = -MPod::Perldoc::ToTextOverstrike
    PERL_BATCH = yes
    PERL_CANARY_STABILITY_NOPROMPT = 1
    PERL_CPAN_REPORTER_CONFIG = /var/tmp/cpansmoker-1023/2023110701/cpanreporter_000_config.ini
    PERL_EXTUTILS_AUTOINSTALL = --defaultdeps
    PERL_USE_UNSAFE_INC = 1
    SHELL = /usr/local/bin/zsh
    TERM = screen
    TMPDIR = /var/tmp/cpansmoker-1023/2023110701

Perl special variables (and OS-specific diagnostics, for MSWin32):

    $^X = /usr/perl5.26.1p/bin/perl
    $UID/$EUID = 1023 / 1023
    $GID = 1023 1023
    $EGID = 1023 1023

Perl module toolchain versions installed:

    Module              Have    
    ------------------- --------
    CPAN                2.18    
    CPAN::Meta          2.150010
    Cwd                 3.67    
    ExtUtils::CBuilder  0.280226
    ExtUtils::Command   7.58    
    ExtUtils::Install   2.06    
    ExtUtils::MakeMaker 7.58    
    ExtUtils::Manifest  1.70    
    ExtUtils::ParseXS   3.34    
    File::Spec          3.67    
    JSON                2.94    
    JSON::PP            2.94    
    Module::Build       0.4224  
    Module::Signature   0.81    
    Parse::CPAN::Meta   2.150010
    Test::Harness       3.39    
    Test::More          1.302106
    YAML                1.24    
    YAML::Syck          1.30    
    version             0.9917  


--

Summary of my perl5 (revision 5 version 26 subversion 1) configuration:
   
  Platform:
    osname=freebsd
    osvers=10.3-release-p11
    archname=amd64-freebsd
    uname='freebsd cvrsnica-freebsd-101.herceg.de 10.3-release-p11 freebsd 10.3-release-p11 #0: mon oct 24 18:49:24 utc 2016 root@amd64-builder.daemonology.net:usrobjusrsrcsysgeneric amd64 '
    config_args='-ds -e -Dprefix=/usr/perl5.26.1p -Dcf_email=srezic@cpan.org -Doptimize=-O2 -pipe'
    hint=recommended
    useposix=true
    d_sigaction=define
    useithreads=undef
    usemultiplicity=undef
    use64bitint=define
    use64bitall=define
    uselongdouble=undef
    usemymalloc=n
    default_inc_excludes_dot=define
    bincompat5005=undef
  Compiler:
    cc='cc'
    ccflags ='-DHAS_FPSETMASK -DHAS_FLOATINGPOINT_H -fno-strict-aliasing -pipe -fstack-protector -I/usr/local/include -D_FORTIFY_SOURCE=2'
    optimize='-O2 -pipe'
    cppflags='-DHAS_FPSETMASK -DHAS_FLOATINGPOINT_H -fno-strict-aliasing -pipe -fstack-protector -I/usr/local/include'
    ccversion=''
    gccversion='4.2.1 Compatible FreeBSD Clang 3.4.1 (tags/RELEASE_34/dot1-final 208032)'
    gccosandvers=''
    intsize=4
    longsize=8
    ptrsize=8
    doublesize=8
    byteorder=12345678
    doublekind=3
    d_longlong=define
    longlongsize=8
    d_longdbl=define
    longdblsize=16
    longdblkind=3
    ivtype='long'
    ivsize=8
    nvtype='double'
    nvsize=8
    Off_t='off_t'
    lseeksize=8
    alignbytes=8
    prototype=define
  Linker and Libraries:
    ld='cc'
    ldflags ='-pthread -Wl,-E  -fstack-protector -L/usr/local/lib'
    libpth=/usr/lib /usr/local/lib /usr/include/clang/3.4.1 /usr/lib
    libs=-lpthread -lgdbm -lm -lcrypt -lutil -lc -lelf
    perllibs=-lpthread -lm -lcrypt -lutil -lc -lelf
    libc=
    so=so
    useshrplib=false
    libperl=libperl.a
    gnulibc_version=''
  Dynamic Linking:
    dlsrc=dl_dlopen.xs
    dlext=so
    d_dlsymun=undef
    ccdlflags=' '
    cccdlflags='-DPIC -fPIC'
    lddlflags='-shared  -L/usr/local/lib -fstack-protector'


Characteristics of this binary (from libperl): 
  Compile-time options:
    HAS_TIMES
    PERLIO_LAYERS
    PERL_COPY_ON_WRITE
    PERL_DONT_CREATE_GVSV
    PERL_MALLOC_WRAP
    PERL_OP_PARENT
    PERL_PRESERVE_IVUV
    USE_64_BIT_ALL
    USE_64_BIT_INT
    USE_LARGE_FILES
    USE_LOCALE
    USE_LOCALE_COLLATE
    USE_LOCALE_CTYPE
    USE_LOCALE_NUMERIC
    USE_LOCALE_TIME
    USE_PERLIO
    USE_PERL_ATOF
  Built under freebsd
  Compiled at Oct 31 2017 09:43:34
  %ENV:
    PERL5LIB="/home/cpansand/.cpan/build/2023110701/Storable-3.25-0/blib/arch:/home/cpansand/.cpan/build/2023110701/Storable-3.25-0/blib/lib:/home/cpansand/.cpan/build/2023110701/Org-Dump-0.552-0/blib/arch:/home/cpansand/.cpan/build/2023110701/Org-Dump-0.552-0/blib/lib:/home/cpansand/.cpan/build/2023110701/Log-ger-0.040-0/blib/arch:/home/cpansand/.cpan/build/2023110701/Log-ger-0.040-0/blib/lib:/home/cpansand/.cpan/build/2023110701/File-Temp-0.2311-0/blib/arch:/home/cpansand/.cpan/build/2023110701/File-Temp-0.2311-0/blib/lib"
    PERL5OPT=""
    PERL5_CPANPLUS_IS_RUNNING="74485"
    PERL5_CPAN_IS_RUNNING="74485"
    PERL5_CPAN_IS_RUNNING_IN_RECURSION="63903,74485"
    PERLDOC="-MPod::Perldoc::ToTextOverstrike"
    PERL_BATCH="yes"
    PERL_CANARY_STABILITY_NOPROMPT="1"
    PERL_CPAN_REPORTER_CONFIG="/var/tmp/cpansmoker-1023/2023110701/cpanreporter_000_config.ini"
    PERL_EXTUTILS_AUTOINSTALL="--defaultdeps"
    PERL_USE_UNSAFE_INC="1"
  @INC:
    /home/cpansand/.cpan/build/2023110701/Storable-3.25-0/blib/arch
    /home/cpansand/.cpan/build/2023110701/Storable-3.25-0/blib/lib
    /home/cpansand/.cpan/build/2023110701/Org-Dump-0.552-0/blib/arch
    /home/cpansand/.cpan/build/2023110701/Org-Dump-0.552-0/blib/lib
    /home/cpansand/.cpan/build/2023110701/Log-ger-0.040-0/blib/arch
    /home/cpansand/.cpan/build/2023110701/Log-ger-0.040-0/blib/lib
    /home/cpansand/.cpan/build/2023110701/File-Temp-0.2311-0/blib/arch
    /home/cpansand/.cpan/build/2023110701/File-Temp-0.2311-0/blib/lib
    /usr/perl5.26.1p/lib/site_perl/5.26.1/amd64-freebsd
    /usr/perl5.26.1p/lib/site_perl/5.26.1
    /usr/perl5.26.1p/lib/5.26.1/amd64-freebsd
    /usr/perl5.26.1p/lib/5.26.1
    .