Report for HTML-Template-Parser-0.1011

Back
From: metabase:user:c5d8ed3c-9413-11e3-9500-9628c7c7991c
Subject: PASS HTML-Template-Parser-0.1011 v5.16.3 FreeBSD
Date: 2014-04-07T02:31:14Z

This distribution has been tested as part of the CPAN Testers
project, supporting the Perl programming language.  See
http://wiki.cpantesters.org/ for more information or email
questions to cpan-testers-discuss@perl.org


--
Dear Shigeki Morimoto,

This is a computer-generated report for HTML-Template-Parser-0.1011
on perl 5.16.3, created by CPAN-Reporter-1.2006.

Thank you for uploading your work to CPAN.  Congratulations!
All tests were successful.

Sections of this report:

    * Tester comments
    * Program output
    * Prerequisites
    * Environment and other context

------------------------------
TESTER COMMENTS
------------------------------

Additional comments from tester:

this report is from an automated smoke testing program
and was not reviewed by a human for accuracy

------------------------------
PROGRAM OUTPUT
------------------------------

Output from '/usr/bin/make test':

PERL_DL_NONLAZY=1 /usr/local/bin/perl5.16.3 "-MExtUtils::Command::MM" "-e" "test_harness(0, 'inc', 'blib/lib', 'blib/arch')" t/*.t t/010_expr_parser/*.t t/020_template_parser/*.t t/030_tree_writer/010_htp/*.t t/030_tree_writer/020_textxslate_metakolon/*.t t/900_bug/*.t
t/000_load.t .............................................................. ok
t/010_expr_parser/001_use.t ............................................... ok
t/010_expr_parser/002_error.t ............................................. ok
t/010_expr_parser/003_number.t ............................................ ok
t/010_expr_parser/004_string.t ............................................ ok
t/010_expr_parser/005_variable.t .......................................... ok
t/010_expr_parser/006_not.t ............................................... ok
t/010_expr_parser/007_match.t ............................................. ok
t/010_expr_parser/008_math.t .............................................. ok
t/010_expr_parser/009_compare.t ........................................... ok
t/010_expr_parser/010_andor.t ............................................. ok
t/010_expr_parser/011_complex.t ........................................... ok
t/020_template_parser/001_use.t ........................................... ok
t/020_template_parser/002_error.t ......................................... ok
t/020_template_parser/003_to_list.t ....................................... ok
t/020_template_parser/004_to_tree.t ....................................... ok
t/030_tree_writer/010_htp/001_use.t ....................................... ok
t/030_tree_writer/010_htp/002_write.t ..................................... ok
t/030_tree_writer/020_textxslate_metakolon/001_use.t ...................... ok
Use of uninitialized value in lc at /usr/home/cpan/.cpan/build/HTML-Template-Parser-0.1011-lZvzeg/blib/lib/HTML/Template/Parser/TreeWriter/TextXslate/Metakolon.pm line 58.
Use of uninitialized value in lc at /usr/home/cpan/.cpan/build/HTML-Template-Parser-0.1011-lZvzeg/blib/lib/HTML/Template/Parser/TreeWriter/TextXslate/Metakolon.pm line 58.
Use of uninitialized value in lc at /usr/home/cpan/.cpan/build/HTML-Template-Parser-0.1011-lZvzeg/blib/lib/HTML/Template/Parser/TreeWriter/TextXslate/Metakolon.pm line 58.
Use of uninitialized value in lc at /usr/home/cpan/.cpan/build/HTML-Template-Parser-0.1011-lZvzeg/blib/lib/HTML/Template/Parser/TreeWriter/TextXslate/Metakolon.pm line 58.
Use of uninitialized value in lc at /usr/home/cpan/.cpan/build/HTML-Template-Parser-0.1011-lZvzeg/blib/lib/HTML/Template/Parser/TreeWriter/TextXslate/Metakolon.pm line 58.
Use of uninitialized value in lc at /usr/home/cpan/.cpan/build/HTML-Template-Parser-0.1011-lZvzeg/blib/lib/HTML/Template/Parser/TreeWriter/TextXslate/Metakolon.pm line 58.
Use of uninitialized value in lc at /usr/home/cpan/.cpan/build/HTML-Template-Parser-0.1011-lZvzeg/blib/lib/HTML/Template/Parser/TreeWriter/TextXslate/Metakolon.pm line 58.
Use of uninitialized value in lc at /usr/home/cpan/.cpan/build/HTML-Template-Parser-0.1011-lZvzeg/blib/lib/HTML/Template/Parser/TreeWriter/TextXslate/Metakolon.pm line 58.
Use of uninitialized value in lc at /usr/home/cpan/.cpan/build/HTML-Template-Parser-0.1011-lZvzeg/blib/lib/HTML/Template/Parser/TreeWriter/TextXslate/Metakolon.pm line 58.
Use of uninitialized value in lc at /usr/home/cpan/.cpan/build/HTML-Template-Parser-0.1011-lZvzeg/blib/lib/HTML/Template/Parser/TreeWriter/TextXslate/Metakolon.pm line 58.
Use of uninitialized value in lc at /usr/home/cpan/.cpan/build/HTML-Template-Parser-0.1011-lZvzeg/blib/lib/HTML/Template/Parser/TreeWriter/TextXslate/Metakolon.pm line 58.
Use of uninitialized value in lc at /usr/home/cpan/.cpan/build/HTML-Template-Parser-0.1011-lZvzeg/blib/lib/HTML/Template/Parser/TreeWriter/TextXslate/Metakolon.pm line 58.
Use of uninitialized value in lc at /usr/home/cpan/.cpan/build/HTML-Template-Parser-0.1011-lZvzeg/blib/lib/HTML/Template/Parser/TreeWriter/TextXslate/Metakolon.pm line 58.
Use of uninitialized value in lc at /usr/home/cpan/.cpan/build/HTML-Template-Parser-0.1011-lZvzeg/blib/lib/HTML/Template/Parser/TreeWriter/TextXslate/Metakolon.pm line 58.
Use of uninitialized value in lc at /usr/home/cpan/.cpan/build/HTML-Template-Parser-0.1011-lZvzeg/blib/lib/HTML/Template/Parser/TreeWriter/TextXslate/Metakolon.pm line 58.
Use of uninitialized value in lc at /usr/home/cpan/.cpan/build/HTML-Template-Parser-0.1011-lZvzeg/blib/lib/HTML/Template/Parser/TreeWriter/TextXslate/Metakolon.pm line 58.
Use of uninitialized value in lc at /usr/home/cpan/.cpan/build/HTML-Template-Parser-0.1011-lZvzeg/blib/lib/HTML/Template/Parser/TreeWriter/TextXslate/Metakolon.pm line 58.
Use of uninitialized value in lc at /usr/home/cpan/.cpan/build/HTML-Template-Parser-0.1011-lZvzeg/blib/lib/HTML/Template/Parser/TreeWriter/TextXslate/Metakolon.pm line 58.
Use of uninitialized value in lc at /usr/home/cpan/.cpan/build/HTML-Template-Parser-0.1011-lZvzeg/blib/lib/HTML/Template/Parser/TreeWriter/TextXslate/Metakolon.pm line 58.
Use of uninitialized value in lc at /usr/home/cpan/.cpan/build/HTML-Template-Parser-0.1011-lZvzeg/blib/lib/HTML/Template/Parser/TreeWriter/TextXslate/Metakolon.pm line 58.
Use of uninitialized value in lc at /usr/home/cpan/.cpan/build/HTML-Template-Parser-0.1011-lZvzeg/blib/lib/HTML/Template/Parser/TreeWriter/TextXslate/Metakolon.pm line 58.
Use of uninitialized value in lc at /usr/home/cpan/.cpan/build/HTML-Template-Parser-0.1011-lZvzeg/blib/lib/HTML/Template/Parser/TreeWriter/TextXslate/Metakolon.pm line 58.
Use of uninitialized value in lc at /usr/home/cpan/.cpan/build/HTML-Template-Parser-0.1011-lZvzeg/blib/lib/HTML/Template/Parser/TreeWriter/TextXslate/Metakolon.pm line 58.
Use of uninitialized value in lc at /usr/home/cpan/.cpan/build/HTML-Template-Parser-0.1011-lZvzeg/blib/lib/HTML/Template/Parser/TreeWriter/TextXslate/Metakolon.pm line 58.
Use of uninitialized value in lc at /usr/home/cpan/.cpan/build/HTML-Template-Parser-0.1011-lZvzeg/blib/lib/HTML/Template/Parser/TreeWriter/TextXslate/Metakolon.pm line 58.
Use of uninitialized value in lc at /usr/home/cpan/.cpan/build/HTML-Template-Parser-0.1011-lZvzeg/blib/lib/HTML/Template/Parser/TreeWriter/TextXslate/Metakolon.pm line 58.
t/030_tree_writer/020_textxslate_metakolon/002_write.t .................... ok
t/030_tree_writer/020_textxslate_metakolon/003_replace_tempalte_suffix.t .. ok
t/030_tree_writer/020_textxslate_metakolon/004_wrap_include_target.t ...... ok
t/900_bug/001_not.t ....................................................... ok
t/900_bug/002_float.t ..................................................... ok
t/900_bug/003_name_and_expr.t ............................................. ok
All tests successful.
Files=25, Tests=238,  4 wallclock secs ( 0.12 usr  0.02 sys +  3.82 cusr  0.32 csys =  4.28 CPU)
Result: PASS

------------------------------
PREREQUISITES
------------------------------

Prerequisite modules loaded:

requires:

    Module                Need     Have    
    --------------------- -------- --------
    Class::Accessor::Fast 0        0.34    
    Parse::RecDescent     0        1.967009
    perl                  5.008001 5.016003
    YAML                  0        0.87    

build_requires:

    Module                Need     Have    
    --------------------- -------- --------
    ExtUtils::MakeMaker   6.59     6.6302  

configure_requires:

    Module                Need     Have    
    --------------------- -------- --------
    ExtUtils::MakeMaker   6.59     6.6302  


------------------------------
ENVIRONMENT AND OTHER CONTEXT
------------------------------

Environment variables:

    AUTOMATED_TESTING = 1
    PATH = /sbin:/bin:/usr/sbin:/usr/bin:/usr/games:/usr/local/sbin:/usr/local/bin:/root/bin
    PERL5LIB = 
    PERL5OPT = 
    PERL5_CPANPLUS_IS_RUNNING = 14096
    PERL5_CPAN_IS_RUNNING = 14096
    PERL5_CPAN_IS_RUNNING_IN_RECURSION = 77162,14096
    PERL_CR_SMOKER_CURRENT = HTML-Template-Parser-0.1011
    PERL_EXTUTILS_AUTOINSTALL = --defaultdeps
    PERL_MM_USE_DEFAULT = 1
    SHELL = /bin/sh
    TERM = screen

Perl special variables (and OS-specific diagnostics, for MSWin32):

    $^X = /usr/local/bin/perl5.16.3
    $UID/$EUID = 1001 / 1001
    $GID = 1001 1001
    $EGID = 1001 1001

Perl module toolchain versions installed:

    Module              Have    
    ------------------- --------
    CPAN                1.9800  
    CPAN::Meta          2.140640
    Cwd                 3.40    
    ExtUtils::CBuilder  0.280206
    ExtUtils::Command   1.17    
    ExtUtils::Install   1.58    
    ExtUtils::MakeMaker 6.6302  
    ExtUtils::Manifest  1.61    
    ExtUtils::ParseXS   3.16    
    File::Spec          3.40    
    JSON                2.90    
    JSON::PP            2.27200 
    Module::Build       0.39_01 
    Module::Signature   0.73    
    Parse::CPAN::Meta   1.4414  
    Test::Harness       3.23    
    Test::More          1.001002
    YAML                0.87    
    YAML::Syck          n/a     
    version             0.99    


--

Summary of my perl5 (revision 5 version 16 subversion 3) configuration:
   
  Platform:
    osname=freebsd, osvers=9.1-release-p10, archname=amd64-freebsd-thread-multi
    uname='freebsd 91amd64-default-job-07 9.1-release-p10 freebsd 9.1-release-p10 amd64 '
    config_args='-sde -Dprefix=/usr/local -Darchlib=/usr/local/lib/perl5/5.16/mach -Dprivlib=/usr/local/lib/perl5/5.16 -Dman3dir=/usr/local/lib/perl5/5.16/perl/man/man3 -Dman1dir=/usr/local/man/man1 -Dsitearch=/usr/local/lib/perl5/site_perl/5.16/mach -Dsitelib=/usr/local/lib/perl5/site_perl/5.16 -Dscriptdir=/usr/local/bin -Dsiteman3dir=/usr/local/lib/perl5/5.16/man/man3 -Dsiteman1dir=/usr/local/man/man1 -Ui_malloc -Ui_iconv -Uinstallusrbinperl -Dcc=cc -Duseshrplib -Dinc_version_list=none -Dccflags=-DAPPLLIB_EXP="/usr/local/lib/perl5/5.16/BSDPAN" -Doptimize=-O2 -pipe -fno-strict-aliasing -Ui_gdbm -Dusethreads=y -Dusemymalloc=n -Duse64bitint'
    hint=recommended, useposix=true, d_sigaction=define
    useithreads=define, usemultiplicity=define
    useperlio=define, d_sfio=undef, uselargefiles=define, usesocks=undef
    use64bitint=define, use64bitall=define, uselongdouble=undef
    usemymalloc=n, bincompat5005=undef
  Compiler:
    cc='cc', ccflags ='-DAPPLLIB_EXP="/usr/local/lib/perl5/5.16/BSDPAN" -DHAS_FPSETMASK -DHAS_FLOATINGPOINT_H -fno-strict-aliasing -pipe -fstack-protector -I/usr/local/include',
    optimize='-O2 -pipe -fno-strict-aliasing',
    cppflags='-DAPPLLIB_EXP="/usr/local/lib/perl5/5.16/BSDPAN" -DHAS_FPSETMASK -DHAS_FLOATINGPOINT_H -fno-strict-aliasing -pipe -fstack-protector -I/usr/local/include'
    ccversion='', gccversion='4.2.1 20070831 patched [FreeBSD]', gccosandvers=''
    intsize=4, longsize=8, ptrsize=8, doublesize=8, byteorder=12345678
    d_longlong=define, longlongsize=8, d_longdbl=define, longdblsize=16
    ivtype='long', ivsize=8, nvtype='double', nvsize=8, Off_t='off_t', lseeksize=8
    alignbytes=8, prototype=define
  Linker and Libraries:
    ld='cc', ldflags ='-pthread -Wl,-E  -fstack-protector -L/usr/local/lib'
    libpth=/usr/lib /usr/local/lib
    libs=-lm -lcrypt -lutil
    perllibs=-lm -lcrypt -lutil
    libc=, so=so, useshrplib=true, libperl=libperl.so
    gnulibc_version=''
  Dynamic Linking:
    dlsrc=dl_dlopen.xs, dlext=so, d_dlsymun=undef, ccdlflags='  -Wl,-R/usr/local/lib/perl5/5.16/mach/CORE'
    cccdlflags='-DPIC -fPIC', lddlflags='-shared  -L/usr/local/lib -fstack-protector'


Characteristics of this binary (from libperl): 
  Compile-time options: HAS_TIMES MULTIPLICITY PERLIO_LAYERS
                        PERL_DONT_CREATE_GVSV PERL_IMPLICIT_CONTEXT
                        PERL_MALLOC_WRAP PERL_PRESERVE_IVUV USE_64_BIT_ALL
                        USE_64_BIT_INT USE_ITHREADS USE_LARGE_FILES
                        USE_LOCALE USE_LOCALE_COLLATE USE_LOCALE_CTYPE
                        USE_LOCALE_NUMERIC USE_PERLIO USE_PERL_ATOF
                        USE_REENTRANT_API
  Built under freebsd
  Compiled at Mar 19 2014 19:17:27
  %ENV:
    PERL5LIB=""
    PERL5OPT=""
    PERL5_CPANPLUS_IS_RUNNING="14096"
    PERL5_CPAN_IS_RUNNING="14096"
    PERL5_CPAN_IS_RUNNING_IN_RECURSION="77162,14096"
    PERL_CR_SMOKER_CURRENT="HTML-Template-Parser-0.1011"
    PERL_EXTUTILS_AUTOINSTALL="--defaultdeps"
    PERL_MM_USE_DEFAULT="1"
  @INC:
    /usr/local/lib/perl5/5.16/BSDPAN
    /usr/local/lib/perl5/site_perl/5.16/mach
    /usr/local/lib/perl5/site_perl/5.16
    /usr/local/lib/perl5/5.16/mach
    /usr/local/lib/perl5/5.16
    .