Report for Catalyst-Controller-ActionRole-0.15

Back
From: metabase:user:323dcade-2aae-11df-837a-5e0a49663a4f
Subject: PASS Catalyst-Controller-ActionRole-0.15 v5.15.6 Mac OS X
Date: 2011-12-27T15:37:31Z

This distribution has been tested as part of the CPAN Testers
project, supporting the Perl programming language.  See
http://wiki.cpantesters.org/ for more information or email
questions to cpan-testers-discuss@perl.org


--
Dear Florian Ragwitz,

This is a computer-generated report for Catalyst-Controller-ActionRole-0.15
on perl 5.15.6, created by CPAN-Reporter-1.2003.

Thank you for uploading your work to CPAN.  Congratulations!
All tests were successful.

Sections of this report:

    * Tester comments
    * Program output
    * Prerequisites
    * Environment and other context

------------------------------
TESTER COMMENTS
------------------------------

Additional comments from tester:

none provided

------------------------------
PROGRAM OUTPUT
------------------------------

Output from '/usr/bin/make test':

PERL_DL_NONLAZY=1 /usr/local/bin/perl5.15.6d-nt@3d05334e "-MExtUtils::Command::MM" "-e" "test_harness(0, 'blib/lib', 'blib/arch')" t/*.t
t/action-class.t .......... ok
t/basic.t ................. ok
t/basic_rest.t ............ ok
t/execution-via-config.t .. ok
t/execution-via-does.t .... ok
t/release-eol.t ........... skipped: these tests are for release candidate testing
t/release-no-tabs.t ....... skipped: these tests are for release candidate testing
t/release-pod-coverage.t .. skipped: these tests are for release candidate testing
t/release-pod-syntax.t .... skipped: these tests are for release candidate testing
All tests successful.
Files=9, Tests=43, 17 wallclock secs ( 0.13 usr  0.04 sys + 15.76 cusr  0.42 csys = 16.35 CPU)
Result: PASS

------------------------------
PREREQUISITES
------------------------------

Prerequisite modules loaded:

requires:

    Module                 Need    Have   
    ---------------------- ------- -------
    Catalyst::Controller   0       0      
    Catalyst::Runtime      5.80025 5.90007
    Catalyst::Utils        0       0      
    Class::MOP             0       2.0401 
    List::Util             0       1.23   
    Moose                  0       2.0401 
    Moose::Meta::Class     0       2.0401 
    MooseX::Types::Moose   0       0.30   
    namespace::clean       0       0.21   
    String::RewritePrefix  0.004   0.006  

build_requires:

    Module                 Need    Have   
    ---------------------- ------- -------
    Catalyst               0       5.90007
  ! Catalyst::Action       0       broken 
    Catalyst::Action::REST 0       0.94   
    Catalyst::Test         0       0      
    FindBin                0       1.51   
    Moose::Role            0       2.0401 
    parent                 0       0.225  
    Test::More             0       0.98   

configure_requires:

    Module                 Need    Have   
    ---------------------- ------- -------
    ExtUtils::MakeMaker    6.31    6.63_02


------------------------------
ENVIRONMENT AND OTHER CONTEXT
------------------------------

Environment variables:

    LANG = en_US.UTF-8
    LC_CTYPE = en_US.UTF-8
    PATH = /opt/local/libexec/gnubin:/opt/local/bin:/opt/local/sbin:/usr/bin:/bin:/usr/sbin:/sbin:/usr/local/bin:/usr/X11/bin:/Users/rurban/bin
    PERL5LIB = 
    PERL5OPT = 
    PERL5_CPANPLUS_IS_RUNNING = 65441
    PERL5_CPAN_IS_RUNNING = 65441
    SHELL = /bin/bash
    TERM = xterm
    TMPDIR = /var/folders/Yu/YuMCqKeSFma5w4rE+2pCb++++TI/-Tmp-/

Perl special variables (and OS-specific diagnostics, for MSWin32):

    $^X = /usr/local/bin/perl5.15.6d-nt@3d05334e
    $UID/$EUID = 501 / 501
    $GID = 20 20 204 100 98 81 80 79 61 12 406 404 405 403 401 402
    $EGID = 20 20 204 100 98 81 80 79 61 12 406 404 405 403 401 402

Perl module toolchain versions installed:

    Module              Have    
    ------------------- --------
    CPAN                1.9800  
    CPAN::Meta          2.112621
    Cwd                 3.39_01 
    ExtUtils::CBuilder  0.280205
    ExtUtils::Command   1.17    
    ExtUtils::Install   1.57    
    ExtUtils::MakeMaker 6.63_02 
    ExtUtils::Manifest  1.60    
    ExtUtils::ParseXS   3.08    
    File::Spec          3.39_01 
    JSON                2.53    
    JSON::PP            2.27200 
    Module::Build       0.39_01 
    Module::Signature   0.68    
    Parse::CPAN::Meta   1.4401  
    Test::Harness       3.23    
    Test::More          0.98    
    YAML                0.77    
    YAML::Syck          1.19    
    version             0.96    


--

Summary of my perl5 (revision 5 version 15 subversion 6) configuration:
  Commit id: 3d05334e66e7263fdfe70f646f5a717b34417ad7
  Platform:
    osname=darwin, osvers=10.8.0, archname=darwin-debug@3d05334e
    uname='darwin air.local 10.8.0 darwin kernel version 10.8.0: tue jun 7 16:33:36 pdt 2011; root:xnu-1504.15.3~1release_i386 i386 i386 macbookair3,2 darwin '
    config_args='-de -Dusedevel -Dinstallman1dir=none -Dinstallman3dir=none -Dinstallsiteman1dir=none -Dinstallsiteman3dir=none -Dmksymlinks -DEBUGGING -Doptimize=-g3 -Uuseithreads -Dcc='gcc-mp-4.6' -Dld='gcc-mp-4.6' -Accflags='-m64' -Accflags='-mssse3' -Duseshrplib -Aldflags=-flat_namespace'
    hint=recommended, useposix=true, d_sigaction=define
    useithreads=undef, usemultiplicity=undef
    useperlio=define, d_sfio=undef, uselargefiles=define, usesocks=undef
    use64bitint=define, use64bitall=define, uselongdouble=undef
    usemymalloc=n, bincompat5005=undef
  Compiler:
    cc='gcc-mp-4.6', ccflags ='-fno-common -DPERL_DARWIN -m64 -mssse3 -DDEBUGGING -fno-strict-aliasing -pipe -fstack-protector -I/usr/local/include -I/opt/local/include',
    optimize='-g3',
    cppflags='-fno-common -DPERL_DARWIN -m64 -mssse3 -DDEBUGGING -fno-strict-aliasing -pipe -fstack-protector -I/usr/local/include -I/opt/local/include'
    ccversion='', gccversion='4.6.1 20110325 (prerelease)', gccosandvers=''
    intsize=4, longsize=8, ptrsize=8, doublesize=8, byteorder=12345678
    d_longlong=define, longlongsize=8, d_longdbl=define, longdblsize=16
    ivtype='long', ivsize=8, nvtype='double', nvsize=8, Off_t='off_t', lseeksize=8
    alignbytes=8, prototype=define
  Linker and Libraries:
    ld='gcc-mp-4.6', ldflags =' -flat_namespace -fstack-protector -L/usr/local/lib -L/opt/local/lib'
    libpth=/usr/local/lib /opt/local/lib /usr/lib
    libs=-lgdbm -ldbm -ldl -lm -lutil -lc
    perllibs=-ldl -lm -lutil -lc
    libc=, so=dylib, useshrplib=true, libperl=libperl.dylib
    gnulibc_version=''
  Dynamic Linking:
    dlsrc=dl_dlopen.xs, dlext=bundle, d_dlsymun=undef, ccdlflags=' '
    cccdlflags=' ', lddlflags=' -bundle -undefined dynamic_lookup -L/usr/local/lib -L/opt/local/lib -fstack-protector'


Characteristics of this binary (from libperl): 
  Compile-time options: DEBUGGING HAS_TIMES PERLIO_LAYERS
                        PERL_DONT_CREATE_GVSV PERL_MALLOC_WRAP
                        PERL_PRESERVE_IVUV PERL_USE_DEVEL USE_64_BIT_ALL
                        USE_64_BIT_INT USE_LARGE_FILES USE_LOCALE
                        USE_LOCALE_COLLATE USE_LOCALE_CTYPE
                        USE_LOCALE_NUMERIC USE_PERLIO USE_PERL_ATOF
  Built under darwin
  Compiled at Dec 25 2011 22:49:13
  %ENV:
    PERL5LIB=""
    PERL5OPT=""
    PERL5_CPANPLUS_IS_RUNNING="65441"
    PERL5_CPAN_IS_RUNNING="65441"
  @INC:
    /usr/local/lib/perl5/site_perl/5.15.6/darwin-debug@3d05334e
    /usr/local/lib/perl5/site_perl/5.15.6
    /usr/local/lib/perl5/5.15.6/darwin-debug@3d05334e
    /usr/local/lib/perl5/5.15.6
    /usr/local/lib/perl5/site_perl
    .