Back
From: metabase:user:322078bc-2aae-11df-837a-5e0a49663a4f
Subject: PASS File-PathInfo-1.27 v5.12.0 FreeBSD
Date: 2011-05-17T21:43:23Z
This distribution has been tested as part of the CPAN Testers
project, supporting the Perl programming language. See
http://wiki.cpantesters.org/ for more information or email
questions to cpan-testers-discuss@perl.org
--
Dear Leo Charre,
This is a computer-generated error report created automatically by
CPANPLUS, version 0.9105. Testers personal comments may appear
at the end of this report.
MAKE TEST passed: PERL_DL_NONLAZY=1 /usr/home/cpan/pit/bare/perl-5.12.0/bin/perl "-MExtUtils::Command::MM" "-e" "test_harness(0, 'blib/lib', 'blib/arch')" t/*.t
'/i do not exist/at all/1305668592' is not on disk
set() '/i do not exist/at all/1305668592' is not on disk. at lib/File/PathInfo.pm line 55
File::PathInfo::set('File::PathInfo=HASH(0x80100c2a0)', '/i do not exist/at all/1305668592') called at t/0_fpi.t line 23
--------------------------------------------------------------------------------
arg is not a ref, treating as arg
--------------------------------------------------------------------------------
arg is not a ref, treating as arg
--------------------------------------------------------------------------------
arg is not a ref, treating as arg
--------------------------------------------------------------------------------
arg is not a ref, treating as arg
--------------------------------------------------------------------------------
arg is not a ref, treating as arg
--------------------------------------------------------------------------------
arg is not a ref, treating as arg
2) things we know are not in doc root
--------------------------------------------------------------------------------
--------------------------------------------------------------------------------
'/usr/home/cpan/pit/bare/conf/perl-5.12.0/.cpanplus/5.12.0/build/File-PathInfo-1.27/t/public_html/demo/cvil.txt' is not on disk
set() './t/public_html/demo/../demo/cvil.txt' is not on disk. at lib/File/PathInfo.pm line 55
File::PathInfo::set('File::PathInfo=HASH(0x801298150)', './t/public_html/demo/../demo/cvil.txt') called at t/0_fpi.t line 128
'/usr/home/cpan/pit/bare/conf/perl-5.12.0/.cpanplus/5.12.0/build/File-PathInfo-1.27/t/public_html/de41zmo' is not on disk
set() './t/public_html/de41zmo' is not on disk. at lib/File/PathInfo.pm line 55
File::PathInfo::set('File::PathInfo=HASH(0x80146baf8)', './t/public_html/de41zmo') called at t/0_fpi.t line 145
'/usr/home/cpan/pit/bare/conf/perl-5.12.0/.cpanplus/5.12.0/build/File-PathInfo-1.27/t/public_html/demvo2' is not on disk
set() 'demvo2' is not on disk. at lib/File/PathInfo.pm line 55
File::PathInfo::set('File::PathInfo=HASH(0x80146baf8)', 'demvo2') called at t/0_fpi.t line 145
argument: './t/public_html/demo/../demo/civil.rtxt/', cant resolve as path rel to current working dir with Cwd abs_path
set() './t/public_html/demo/../demo/civil.rtxt/' is not on disk. at lib/File/PathInfo.pm line 55
File::PathInfo::set('File::PathInfo=HASH(0x80146baf8)', './t/public_html/demo/../demo/civil.rtxt/') called at t/0_fpi.t line 145
t/0_fpi.t ....... ok
2) things that do not exist.
set() './t/public_html/hhahahahahahahouse.txt' is not on disk. at lib/File/PathInfo.pm line 55
File::PathInfo::set('File::PathInfo=HASH(0x801815c78)', './t/public_html/hhahahahahahahouse.txt') called at lib/File/PathInfo.pm line 42
File::PathInfo::new('File::PathInfo', './t/public_html/hhahahahahahahouse.txt') called at t/1_fpi_hash.t line 35
failed set() ./t/public_html/hhahahahahahahouse.txt at lib/File/PathInfo.pm line 42
File::PathInfo::new('File::PathInfo', './t/public_html/hhahahahahahahouse.txt') called at t/1_fpi_hash.t line 35
File::PathInfo : no file is set(). Use set(). at lib/File/PathInfo.pm line 303
File::PathInfo::_stat('File::PathInfo=HASH(0x801815c78)') called at lib/File/PathInfo.pm line 372
File::PathInfo::get_datahash('File::PathInfo=HASH(0x801815c78)') called at t/1_fpi_hash.t line 49
set() '/nons/ense' is not on disk. at lib/File/PathInfo.pm line 55
File::PathInfo::set('File::PathInfo=HASH(0x801815c78)', '/nons/ense') called at lib/File/PathInfo.pm line 42
File::PathInfo::new('File::PathInfo', '/nons/ense') called at t/1_fpi_hash.t line 35
failed set() /nons/ense at lib/File/PathInfo.pm line 42
File::PathInfo::new('File::PathInfo', '/nons/ense') called at t/1_fpi_hash.t line 35
File::PathInfo : no file is set(). Use set(). at lib/File/PathInfo.pm line 303
File::PathInfo::_stat('File::PathInfo=HASH(0x801815c78)') called at lib/File/PathInfo.pm line 372
File::PathInfo::get_datahash('File::PathInfo=HASH(0x801815c78)') called at t/1_fpi_hash.t line 49
set() '/moreneo/nensense' is not on disk. at lib/File/PathInfo.pm line 55
File::PathInfo::set('File::PathInfo=HASH(0x801815c78)', '/moreneo/nensense') called at lib/File/PathInfo.pm line 42
File::PathInfo::new('File::PathInfo', '/moreneo/nensense') called at t/1_fpi_hash.t line 35
failed set() /moreneo/nensense at lib/File/PathInfo.pm line 42
File::PathInfo::new('File::PathInfo', '/moreneo/nensense') called at t/1_fpi_hash.t line 35
File::PathInfo : no file is set(). Use set(). at lib/File/PathInfo.pm line 303
File::PathInfo::_stat('File::PathInfo=HASH(0x801815c78)') called at lib/File/PathInfo.pm line 372
File::PathInfo::get_datahash('File::PathInfo=HASH(0x801815c78)') called at t/1_fpi_hash.t line 49
t/1_fpi_hash.t .. ok
t/2_errstr.t .... ok
All tests successful.
Files=3, Tests=78, 1 wallclock secs ( 0.05 usr 0.02 sys + 0.11 cusr 0.14 csys = 0.32 CPU)
Result: PASS
[MSG] [Tue May 17 22:43:13 2011] Sending test report for 'File-PathInfo-1.27'
This report was machine-generated by CPANPLUS::Dist::YACSmoke 0.62.
Powered by minismokebox version 0.44
------------------------------
ENVIRONMENT AND OTHER CONTEXT
------------------------------
Environment variables:
AUTOMATED_TESTING = 1
PATH = /sbin:/bin:/usr/sbin:/usr/bin:/usr/games:/usr/local/sbin:/usr/local/bin:/home/cpan/bin
PERL5LIB = :/usr/home/cpan/pit/bare/conf/perl-5.12.0/.cpanplus/5.12.0/build/Smart-Comments-1.0.4/blib/lib:/usr/home/cpan/pit/bare/conf/perl-5.12.0/.cpanplus/5.12.0/build/Smart-Comments-1.0.4/blib/arch:/usr/home/cpan/pit/bare/conf/perl-5.12.0/.cpanplus/5.12.0/build/Time-Format-1.11/blib/lib:/usr/home/cpan/pit/bare/conf/perl-5.12.0/.cpanplus/5.12.0/build/Time-Format-1.11/blib/arch:/usr/home/cpan/pit/bare/conf/perl-5.12.0/.cpanplus/5.12.0/build/File-PathInfo-1.27/blib/lib:/usr/home/cpan/pit/bare/conf/perl-5.12.0/.cpanplus/5.12.0/build/File-PathInfo-1.27/blib/arch
PERL5_CPANPLUS_IS_RUNNING = 74565
PERL5_CPANPLUS_IS_VERSION = 0.9105
PERL5_MINISMOKEBOX = 0.44
PERL5_YACSMOKE_BASE = /usr/home/cpan/pit/bare/conf/perl-5.12.0
PERL_EXTUTILS_AUTOINSTALL = --defaultdeps
PERL_MM_USE_DEFAULT = 1
SHELL = /usr/local/bin/bash
TERM = screen
Perl special variables (and OS-specific diagnostics, for MSWin32):
Perl: $^X = /usr/home/cpan/pit/bare/perl-5.12.0/bin/perl
UID: $< = 1002
EUID: $> = 1002
GID: $( = 1002 1002
EGID: $) = 1002 1002
-------------------------------
--
Summary of my perl5 (revision 5 version 12 subversion 0) configuration:
Platform:
osname=freebsd, osvers=9.0-current-201101, archname=amd64-freebsd
uname='freebsd flooble.bingosnet.co.uk 9.0-current-201101 freebsd 9.0-current-201101 #0: mon jan 3 22:15:39 utc 2011 root@farrell.cse.buffalo.edu:usrobjusrsrcsysgeneric amd64 '
config_args='-des -Dprefix=/usr/home/cpan/pit/bare/perl-5.12.0'
hint=recommended, useposix=true, d_sigaction=define
useithreads=undef, usemultiplicity=undef
useperlio=define, d_sfio=undef, uselargefiles=define, usesocks=undef
use64bitint=define, use64bitall=define, uselongdouble=undef
usemymalloc=n, bincompat5005=undef
Compiler:
cc='cc', ccflags ='-DHAS_FPSETMASK -DHAS_FLOATINGPOINT_H -fno-strict-aliasing -pipe -fstack-protector -I/usr/local/include',
optimize='-O',
cppflags='-DHAS_FPSETMASK -DHAS_FLOATINGPOINT_H -fno-strict-aliasing -pipe -fstack-protector -I/usr/local/include'
ccversion='', gccversion='4.2.1 20070719 [FreeBSD]', gccosandvers=''
intsize=4, longsize=8, ptrsize=8, doublesize=8, byteorder=12345678
d_longlong=define, longlongsize=8, d_longdbl=define, longdblsize=16
ivtype='long', ivsize=8, nvtype='double', nvsize=8, Off_t='off_t', lseeksize=8
alignbytes=8, prototype=define
Linker and Libraries:
ld='cc', ldflags ='-Wl,-E -fstack-protector -L/usr/local/lib'
libpth=/usr/lib /usr/local/lib
libs=-lgdbm -lm -lcrypt -lutil -lc
perllibs=-lm -lcrypt -lutil -lc
libc=, so=so, useshrplib=false, libperl=libperl.a
gnulibc_version=''
Dynamic Linking:
dlsrc=dl_dlopen.xs, dlext=so, d_dlsymun=undef, ccdlflags=' '
cccdlflags='-DPIC -fPIC', lddlflags='-shared -L/usr/local/lib -fstack-protector'
Characteristics of this binary (from libperl):
Compile-time options: PERL_DONT_CREATE_GVSV PERL_MALLOC_WRAP USE_64_BIT_ALL
USE_64_BIT_INT USE_LARGE_FILES USE_PERLIO
USE_PERL_ATOF
Built under freebsd
Compiled at Apr 29 2011 01:03:42
%ENV:
PERL5LIB=":/usr/home/cpan/pit/bare/conf/perl-5.12.0/.cpanplus/5.12.0/build/Smart-Comments-1.0.4/blib/lib:/usr/home/cpan/pit/bare/conf/perl-5.12.0/.cpanplus/5.12.0/build/Smart-Comments-1.0.4/blib/arch:/usr/home/cpan/pit/bare/conf/perl-5.12.0/.cpanplus/5.12.0/build/Time-Format-1.11/blib/lib:/usr/home/cpan/pit/bare/conf/perl-5.12.0/.cpanplus/5.12.0/build/Time-Format-1.11/blib/arch:/usr/home/cpan/pit/bare/conf/perl-5.12.0/.cpanplus/5.12.0/build/File-PathInfo-1.27/blib/lib:/usr/home/cpan/pit/bare/conf/perl-5.12.0/.cpanplus/5.12.0/build/File-PathInfo-1.27/blib/arch"
PERL5_CPANPLUS_IS_RUNNING="74565"
PERL5_CPANPLUS_IS_VERSION="0.9105"
PERL5_MINISMOKEBOX="0.44"
PERL5_YACSMOKE_BASE="/usr/home/cpan/pit/bare/conf/perl-5.12.0"
PERL_EXTUTILS_AUTOINSTALL="--defaultdeps"
PERL_MM_USE_DEFAULT="1"
@INC:
/usr/home/cpan/pit/bare/conf/perl-5.12.0/.cpanplus/5.12.0/build/Smart-Comments-1.0.4/blib/lib
/usr/home/cpan/pit/bare/conf/perl-5.12.0/.cpanplus/5.12.0/build/Smart-Comments-1.0.4/blib/arch
/usr/home/cpan/pit/bare/conf/perl-5.12.0/.cpanplus/5.12.0/build/Time-Format-1.11/blib/lib
/usr/home/cpan/pit/bare/conf/perl-5.12.0/.cpanplus/5.12.0/build/Time-Format-1.11/blib/arch
/usr/home/cpan/pit/bare/conf/perl-5.12.0/.cpanplus/5.12.0/build/File-PathInfo-1.27/blib/lib
/usr/home/cpan/pit/bare/conf/perl-5.12.0/.cpanplus/5.12.0/build/File-PathInfo-1.27/blib/arch
/usr/home/cpan/pit/bare/perl-5.12.0/lib/site_perl/5.12.0/amd64-freebsd
/usr/home/cpan/pit/bare/perl-5.12.0/lib/site_perl/5.12.0
/usr/home/cpan/pit/bare/perl-5.12.0/lib/5.12.0/amd64-freebsd
/usr/home/cpan/pit/bare/perl-5.12.0/lib/5.12.0
.