FFI-Util v0.17 Perl 5 v5.22.4 amd64-freebsd

Status
Pass
From
Slaven Rezić (SREZIC)
Dist
FFI-Util v0.17
Platform
Perl 5 v5.22.4 amd64-freebsd
Date
2018-06-06 13:44:10
ID
b0c484aa-698f-11e8-bc8e-8533c70651e3
This distribution has been tested as part of the CPAN Testers
project, supporting the Perl programming language.  See
http://wiki.cpantesters.org/ for more information or email
questions to cpan-testers-discuss@perl.org


--
Dear Graham Ollis,

This is a computer-generated report for FFI-Util-0.17
on perl 5.22.4, created by CPAN-Reporter-1.2018.

Thank you for uploading your work to CPAN.  Congratulations!
All tests were successful.

Sections of this report:

    * Tester comments
    * Program output
    * Prerequisites
    * Environment and other context

------------------------------
TESTER COMMENTS
------------------------------

Additional comments from tester:

none provided

------------------------------
PROGRAM OUTPUT
------------------------------

Output from './Build test':

# 
# 
# 
# HARNESS_ACTIVE=1
# HARNESS_VERSION=3.35_01
# PERL5LIB=/home/cpansand/.cpan/build/2018060621/FFI-Util-0.17-eE_ryx/blib/lib:/home/cpansand/.cpan/build/2018060621/FFI-Util-0.17-eE_ryx/blib/arch:inc:/home/cpansand/.cpan/build/2018060621/Module-Build-FFI-0.47-Wtieww/blib/arch:/home/cpansand/.cpan/build/2018060621/Module-Build-FFI-0.47-Wtieww/blib/lib:/home/cpansand/.cpan/build/2018060621/Net-IMAP-Simple-1.2212-MxeFoN/blib/arch:/home/cpansand/.cpan/build/2018060621/Net-IMAP-Simple-1.2212-MxeFoN/blib/lib:/home/cpansand/.cpan/build/2018060621/Module-Build-FFI-0.47-Wtieww/blib/arch:/home/cpansand/.cpan/build/2018060621/Module-Build-FFI-0.47-Wtieww/blib/lib:/home/cpansand/.cpan/build/2018060621/Net-IMAP-Simple-1.2212-MxeFoN/blib/arch:/home/cpansand/.cpan/build/2018060621/Net-IMAP-Simple-1.2212-MxeFoN/blib/lib
# PERL5OPT=
# PERL5_CPANPLUS_IS_RUNNING=61200
# PERL5_CPAN_IS_RUNNING=61200
# PERL5_CPAN_IS_RUNNING_IN_RECURSION=60769,61200
# PERL_BATCH=yes
# PERL_CANARY_STABILITY_NOPROMPT=1
# PERL_CPAN_REPORTER_CONFIG=/var/tmp/cpansmoker-1023/2018060621/cpanreporter_000_config.ini
# PERL_DL_NONLAZY=1
# PERL_EXTUTILS_AUTOINSTALL=--defaultdeps
# SHELL=/bin/sh
# 
# 
# 
# PERL5LIB path
# /home/cpansand/.cpan/build/2018060621/FFI-Util-0.17-eE_ryx/blib/lib
# /home/cpansand/.cpan/build/2018060621/FFI-Util-0.17-eE_ryx/blib/arch
# inc
# /home/cpansand/.cpan/build/2018060621/Module-Build-FFI-0.47-Wtieww/blib/arch
# /home/cpansand/.cpan/build/2018060621/Module-Build-FFI-0.47-Wtieww/blib/lib
# /home/cpansand/.cpan/build/2018060621/Net-IMAP-Simple-1.2212-MxeFoN/blib/arch
# /home/cpansand/.cpan/build/2018060621/Net-IMAP-Simple-1.2212-MxeFoN/blib/lib
# /home/cpansand/.cpan/build/2018060621/Module-Build-FFI-0.47-Wtieww/blib/arch
# /home/cpansand/.cpan/build/2018060621/Module-Build-FFI-0.47-Wtieww/blib/lib
# /home/cpansand/.cpan/build/2018060621/Net-IMAP-Simple-1.2212-MxeFoN/blib/arch
# /home/cpansand/.cpan/build/2018060621/Net-IMAP-Simple-1.2212-MxeFoN/blib/lib
# 
# 
# 
# perl               5.022004
# Exporter::Tidy     0.08
# ExtUtils::CChecker 0.10
# FFI::Platypus      0.47
# Math::Int64        0.54
# Module::Build      0.4224
# Module::Build::FFI 0.47
# Test::More         1.302136
# 
# 
# 
t/00_diag.t .. ok
# 
# 
# lib=/home/cpansand/.cpan/build/2018060621/FFI-Util-0.17-eE_ryx/blib/arch/auto/FFI/Util/Util.so
# 
t/01_diag.t .. ok
t/buffer.t ... ok
t/deref.t .... ok
# 
# 
# size_t = 76
# time_t = 108
# dev_t  = 76
# gid_t  = 73
# uid_t  = 73
# 
# 
t/type.t ..... ok
t/use.t ...... ok
All tests successful.
Files=6, Tests=7,  3 wallclock secs ( 0.03 usr  0.02 sys +  2.38 cusr  0.34 csys =  2.77 CPU)
Result: PASS

------------------------------
PREREQUISITES
------------------------------

Prerequisite modules loaded:

requires:

    Module             Need     Have    
    ------------------ -------- --------
    Exporter::Tidy     0        0.08    
    FFI::Platypus      0.19     0.47    
    Math::Int64        0        0.54    
    Module::Build      0.4005   0.4224  
    perl               5.008001 5.022004

build_requires:

    Module             Need     Have    
    ------------------ -------- --------
    Module::Build      0.4005   0.4224  
    perl               5.008001 5.022004
    Test::More         0.94     1.302136

configure_requires:

    Module             Need     Have    
    ------------------ -------- --------
    ExtUtils::CChecker 0        0.10    
    Module::Build      0.28     0.4224  
    Module::Build::FFI 0.19     0.47    
    perl               5.008001 5.022004


------------------------------
ENVIRONMENT AND OTHER CONTEXT
------------------------------

Environment variables:

    PATH = /usr/local/bin:/usr/bin:/bin:/usr/local/sbin:/usr/sbin:/sbin:/home/cpansand/bin/sh:/home/cpansand/bin:/usr/games:/home/cpansand/devel:/home/eserte/src/srezic-misc/scripts
    PERL5LIB = /home/cpansand/.cpan/build/2018060621/Module-Build-FFI-0.47-Wtieww/blib/arch:/home/cpansand/.cpan/build/2018060621/Module-Build-FFI-0.47-Wtieww/blib/lib:/home/cpansand/.cpan/build/2018060621/Net-IMAP-Simple-1.2212-MxeFoN/blib/arch:/home/cpansand/.cpan/build/2018060621/Net-IMAP-Simple-1.2212-MxeFoN/blib/lib
    PERL5OPT = 
    PERL5_CPANPLUS_IS_RUNNING = 61200
    PERL5_CPAN_IS_RUNNING = 61200
    PERL5_CPAN_IS_RUNNING_IN_RECURSION = 60769,61200
    PERL_BATCH = yes
    PERL_CANARY_STABILITY_NOPROMPT = 1
    PERL_CPAN_REPORTER_CONFIG = /var/tmp/cpansmoker-1023/2018060621/cpanreporter_000_config.ini
    PERL_EXTUTILS_AUTOINSTALL = --defaultdeps
    SHELL = /bin/sh
    TMPDIR = /var/tmp/cpansmoker-1023/2018060621

Perl special variables (and OS-specific diagnostics, for MSWin32):

    $^X = /usr/perl5.22.4p/bin/perl
    $UID/$EUID = 1023 / 1023
    $GID = 1023 1023
    $EGID = 1023 1023

Perl module toolchain versions installed:

    Module              Have    
    ------------------- --------
    CPAN                2.11_01 
    CPAN::Meta          2.150010
    Cwd                 3.74    
    ExtUtils::CBuilder  0.280230
    ExtUtils::Command   7.34    
    ExtUtils::Install   2.06    
    ExtUtils::MakeMaker 7.34    
    ExtUtils::Manifest  1.70    
    ExtUtils::ParseXS   3.35    
    File::Spec          3.74    
    JSON                2.97001 
    JSON::PP            2.97001 
    Module::Build       0.4224  
    Module::Signature   0.81    
    Parse::CPAN::Meta   2.150010
    Test::Harness       3.35_01 
    Test::More          1.302136
    YAML                1.26    
    YAML::Syck          1.30    
    version             0.9924  


--

Summary of my perl5 (revision 5 version 22 subversion 4) configuration:
   
  Platform:
    osname=freebsd, osvers=12.0-current, archname=amd64-freebsd
    uname='freebsd ali1.bbbike.org 12.0-current freebsd 12.0-current #0 bd8385a990e(master)-dirty: fri nov 17 03:13:11 utc 2017 root@ali1.bbbike.org:usrobjhomeprojectsfreebsdamd64.amd64sysgeneric-nodebug amd64 '
    config_args='-ds -e -Dprefix=/usr/perl5.22.4p -Dcf_email=srezic@cpan.org -Doptimize=-O2 -pipe'
    hint=recommended, useposix=true, d_sigaction=define
    useithreads=undef, usemultiplicity=undef
    use64bitint=define, use64bitall=define, uselongdouble=undef
    usemymalloc=n, bincompat5005=undef
  Compiler:
    cc='cc', ccflags ='-DHAS_FPSETMASK -DHAS_FLOATINGPOINT_H -fno-strict-aliasing -pipe -fstack-protector-strong -I/usr/local/include -D_FORTIFY_SOURCE=2',
    optimize='-O2 -pipe',
    cppflags='-DHAS_FPSETMASK -DHAS_FLOATINGPOINT_H -fno-strict-aliasing -pipe -fstack-protector-strong -I/usr/local/include'
    ccversion='', gccversion='4.2.1 Compatible FreeBSD Clang 5.0.0 (tags/RELEASE_500/final 312559)', gccosandvers=''
    intsize=4, longsize=8, ptrsize=8, doublesize=8, byteorder=12345678, doublekind=3
    d_longlong=define, longlongsize=8, d_longdbl=define, longdblsize=16, longdblkind=3
    ivtype='long', ivsize=8, nvtype='double', nvsize=8, Off_t='off_t', lseeksize=8
    alignbytes=8, prototype=define
  Linker and Libraries:
    ld='cc', ldflags ='-pthread -Wl,-E  -fstack-protector-strong -L/usr/local/lib'
    libpth=/usr/lib /usr/local/lib /usr/lib/clang/5.0.0/lib /usr/lib
    libs=-lpthread -lgdbm -lm -lcrypt -lutil -lc
    perllibs=-lpthread -lm -lcrypt -lutil -lc
    libc=, so=so, useshrplib=false, libperl=libperl.a
    gnulibc_version=''
  Dynamic Linking:
    dlsrc=dl_dlopen.xs, dlext=so, d_dlsymun=undef, ccdlflags=' '
    cccdlflags='-DPIC -fPIC', lddlflags='-shared  -L/usr/local/lib -fstack-protector-strong'


Characteristics of this binary (from libperl): 
  Compile-time options: HAS_TIMES PERLIO_LAYERS PERL_DONT_CREATE_GVSV
                        PERL_HASH_FUNC_ONE_AT_A_TIME_HARD PERL_MALLOC_WRAP
                        PERL_NEW_COPY_ON_WRITE PERL_PRESERVE_IVUV
                        USE_64_BIT_ALL USE_64_BIT_INT USE_LARGE_FILES
                        USE_LOCALE USE_LOCALE_COLLATE USE_LOCALE_CTYPE
                        USE_LOCALE_NUMERIC USE_LOCALE_TIME USE_PERLIO
                        USE_PERL_ATOF
  Built under freebsd
  Compiled at Nov 17 2017 05:53:55
  %ENV:
    PERL5LIB="/home/cpansand/.cpan/build/2018060621/Module-Build-FFI-0.47-Wtieww/blib/arch:/home/cpansand/.cpan/build/2018060621/Module-Build-FFI-0.47-Wtieww/blib/lib:/home/cpansand/.cpan/build/2018060621/Net-IMAP-Simple-1.2212-MxeFoN/blib/arch:/home/cpansand/.cpan/build/2018060621/Net-IMAP-Simple-1.2212-MxeFoN/blib/lib"
    PERL5OPT=""
    PERL5_CPANPLUS_IS_RUNNING="61200"
    PERL5_CPAN_IS_RUNNING="61200"
    PERL5_CPAN_IS_RUNNING_IN_RECURSION="60769,61200"
    PERL_BATCH="yes"
    PERL_CANARY_STABILITY_NOPROMPT="1"
    PERL_CPAN_REPORTER_CONFIG="/var/tmp/cpansmoker-1023/2018060621/cpanreporter_000_config.ini"
    PERL_EXTUTILS_AUTOINSTALL="--defaultdeps"
  @INC:
    /home/cpansand/.cpan/build/2018060621/Module-Build-FFI-0.47-Wtieww/blib/arch
    /home/cpansand/.cpan/build/2018060621/Module-Build-FFI-0.47-Wtieww/blib/lib
    /home/cpansand/.cpan/build/2018060621/Net-IMAP-Simple-1.2212-MxeFoN/blib/arch
    /home/cpansand/.cpan/build/2018060621/Net-IMAP-Simple-1.2212-MxeFoN/blib/lib
    /usr/perl5.22.4p/lib/site_perl/5.22.4/amd64-freebsd
    /usr/perl5.22.4p/lib/site_perl/5.22.4
    /usr/perl5.22.4p/lib/5.22.4/amd64-freebsd
    /usr/perl5.22.4p/lib/5.22.4
    .