Report for File-PathInfo-1.27

Back
From: metabase:user:d2c9f356-b46f-11df-9a90-20a83c0b7757
Subject: PASS File-PathInfo-1.27 v5.15.5 SunOS/Solaris
Date: 2011-12-03T19:47:53Z

This distribution has been tested as part of the CPAN Testers
project, supporting the Perl programming language.  See
http://wiki.cpantesters.org/ for more information or email
questions to cpan-testers-discuss@perl.org


--
Dear Leo Charre,

This is a computer-generated report for File-PathInfo-1.27
on perl 5.15.5, created by CPAN-Reporter-1.2002.

Thank you for uploading your work to CPAN.  Congratulations!
All tests were successful.

Sections of this report:

    * Tester comments
    * Program output
    * Prerequisites
    * Environment and other context

------------------------------
TESTER COMMENTS
------------------------------

Additional comments from tester:

this report is from an automated smoke testing program
and was not reviewed by a human for accuracy

------------------------------
PROGRAM OUTPUT
------------------------------

Output from '/usr/local/bin/make test':

PERL_DL_NONLAZY=1 /export/home/cpant4/perl5/bin/perl5.15.5 "-MExtUtils::Command::MM" "-e" "test_harness(0, 'blib/lib', 'blib/arch')" t/*.t
'/i do not exist/at all/1322941672' is not on disk
set() '/i do not exist/at all/1322941672' is not on disk. at lib/File/PathInfo.pm line 55
	File::PathInfo::set('File::PathInfo=HASH(0x8188584)', '/i do not exist/at all/1322941672') called at t/0_fpi.t line 23


--------------------------------------------------------------------------------
arg is not a ref, treating as arg


--------------------------------------------------------------------------------
arg is not a ref, treating as arg


--------------------------------------------------------------------------------
arg is not a ref, treating as arg


--------------------------------------------------------------------------------
arg is not a ref, treating as arg


--------------------------------------------------------------------------------
arg is not a ref, treating as arg


--------------------------------------------------------------------------------
arg is not a ref, treating as arg
2) things we know are not in doc root


--------------------------------------------------------------------------------


--------------------------------------------------------------------------------
'/export/home/cpant4/.cpan/build/File-PathInfo-1.27-WP6xpo/t/public_html/demo/cvil.txt' is not on disk
set() './t/public_html/demo/../demo/cvil.txt' is not on disk. at lib/File/PathInfo.pm line 55
	File::PathInfo::set('File::PathInfo=HASH(0x82bc100)', './t/public_html/demo/../demo/cvil.txt') called at t/0_fpi.t line 128
'/export/home/cpant4/.cpan/build/File-PathInfo-1.27-WP6xpo/t/public_html/de41zmo' is not on disk
set() './t/public_html/de41zmo' is not on disk. at lib/File/PathInfo.pm line 55
	File::PathInfo::set('File::PathInfo=HASH(0x82bc1dc)', './t/public_html/de41zmo') called at t/0_fpi.t line 145
'/export/home/cpant4/.cpan/build/File-PathInfo-1.27-WP6xpo/t/public_html/demvo2' is not on disk
set() 'demvo2' is not on disk. at lib/File/PathInfo.pm line 55
	File::PathInfo::set('File::PathInfo=HASH(0x8329d78)', 'demvo2') called at t/0_fpi.t line 145
argument: './t/public_html/demo/../demo/civil.rtxt/', cant resolve as path rel to current working dir with Cwd abs_path
set() './t/public_html/demo/../demo/civil.rtxt/' is not on disk. at lib/File/PathInfo.pm line 55
	File::PathInfo::set('File::PathInfo=HASH(0x82bc1dc)', './t/public_html/demo/../demo/civil.rtxt/') called at t/0_fpi.t line 145
t/0_fpi.t ....... ok
2) things that do not exist.
set() './t/public_html/hhahahahahahahouse.txt' is not on disk. at lib/File/PathInfo.pm line 55
	File::PathInfo::set('File::PathInfo=HASH(0x831521c)', './t/public_html/hhahahahahahahouse.txt') called at lib/File/PathInfo.pm line 42
	File::PathInfo::new('File::PathInfo', './t/public_html/hhahahahahahahouse.txt') called at t/1_fpi_hash.t line 35
failed set() ./t/public_html/hhahahahahahahouse.txt at lib/File/PathInfo.pm line 42
	File::PathInfo::new('File::PathInfo', './t/public_html/hhahahahahahahouse.txt') called at t/1_fpi_hash.t line 35
File::PathInfo : no file is set(). Use set(). at lib/File/PathInfo.pm line 303
	File::PathInfo::_stat('File::PathInfo=HASH(0x831521c)') called at lib/File/PathInfo.pm line 372
	File::PathInfo::get_datahash('File::PathInfo=HASH(0x831521c)') called at t/1_fpi_hash.t line 49
set() '/nons/ense' is not on disk. at lib/File/PathInfo.pm line 55
	File::PathInfo::set('File::PathInfo=HASH(0x82a0eb4)', '/nons/ense') called at lib/File/PathInfo.pm line 42
	File::PathInfo::new('File::PathInfo', '/nons/ense') called at t/1_fpi_hash.t line 35
failed set() /nons/ense at lib/File/PathInfo.pm line 42
	File::PathInfo::new('File::PathInfo', '/nons/ense') called at t/1_fpi_hash.t line 35
File::PathInfo : no file is set(). Use set(). at lib/File/PathInfo.pm line 303
	File::PathInfo::_stat('File::PathInfo=HASH(0x82a0eb4)') called at lib/File/PathInfo.pm line 372
	File::PathInfo::get_datahash('File::PathInfo=HASH(0x82a0eb4)') called at t/1_fpi_hash.t line 49
set() '/moreneo/nensense' is not on disk. at lib/File/PathInfo.pm line 55
	File::PathInfo::set('File::PathInfo=HASH(0x831521c)', '/moreneo/nensense') called at lib/File/PathInfo.pm line 42
	File::PathInfo::new('File::PathInfo', '/moreneo/nensense') called at t/1_fpi_hash.t line 35
failed set() /moreneo/nensense at lib/File/PathInfo.pm line 42
	File::PathInfo::new('File::PathInfo', '/moreneo/nensense') called at t/1_fpi_hash.t line 35
File::PathInfo : no file is set(). Use set(). at lib/File/PathInfo.pm line 303
	File::PathInfo::_stat('File::PathInfo=HASH(0x831521c)') called at lib/File/PathInfo.pm line 372
	File::PathInfo::get_datahash('File::PathInfo=HASH(0x831521c)') called at t/1_fpi_hash.t line 49
t/1_fpi_hash.t .. ok
t/2_errstr.t .... ok
All tests successful.
Files=3, Tests=78,  0 wallclock secs ( 0.04 usr  0.02 sys +  0.15 cusr  0.04 csys =  0.25 CPU)
Result: PASS

------------------------------
PREREQUISITES
------------------------------

Prerequisite modules loaded:

requires:

    Module              Need Have   
    ------------------- ---- -------
    Cwd                 0.1  3.37   
    Smart::Comments     0    1.0.4  
    Time::Format        0.01 1.11   

build_requires:

    Module              Need Have   
    ------------------- ---- -------
    ExtUtils::MakeMaker 0    6.63_02

configure_requires:

    Module              Need Have   
    ------------------- ---- -------
    ExtUtils::MakeMaker 0    6.63_02


------------------------------
ENVIRONMENT AND OTHER CONTEXT
------------------------------

Environment variables:

    AUTOMATED_TESTING = 1
    LANG = C
    LD_LIBRARY_PATH = /usr/local/lib:
    PATH = /export/home/cpant4/perl5/bin:/usr/local/bin:/usr/bin
    PERL5LIB = /export/home/cpant4/.cpan/build/Smart-Comments-1.0.4-gwNjQb/blib/arch:/export/home/cpant4/.cpan/build/Smart-Comments-1.0.4-gwNjQb/blib/lib:/export/home/cpant4/.cpan/build/Time-Format-1.11-y7mOPt/blib/arch:/export/home/cpant4/.cpan/build/Time-Format-1.11-y7mOPt/blib/lib:/export/home/cpant4/.cpan/build/File-Type-0.22-cXgWbb/blib/arch:/export/home/cpant4/.cpan/build/File-Type-0.22-cXgWbb/blib/lib:/export/home/cpant4/.cpan/build/LEOCHARRE-Debug-1.03-APnNaa/blib/arch:/export/home/cpant4/.cpan/build/LEOCHARRE-Debug-1.03-APnNaa/blib/lib:/export/home/cpant4/.cpan/build/CAM-PDF-1.55-dGCmwC/blib/arch:/export/home/cpant4/.cpan/build/CAM-PDF-1.55-dGCmwC/blib/lib:/export/home/cpant4/.cpan/build/Text-PDF-0.29-2TXPwc/blib/arch:/export/home/cpant4/.cpan/build/Text-PDF-0.29-2TXPwc/blib/lib:/export/home/cpant4/.cpan/build/Crypt-RC4-2.02-G3G_GY/blib/arch:/export/home/cpant4/.cpan/build/Crypt-RC4-2.02-G3G_GY/blib/lib:/export/home/cpant4/.cpan/build/LEOCHARRE-Dir-1.08-d5yenn/blib/arch:/export/home/cpant4/.cpan/build/LEOCHARRE-Dir-1.08-d5yenn/blib/lib
    PERL5OPT = 
    PERL5_CPANPLUS_IS_RUNNING = 26852
    PERL5_CPAN_IS_RUNNING = 26852
    PERL5_CPAN_IS_RUNNING_IN_RECURSION = 19504,26852
    PERL_CR_SMOKER_CURRENT = PDF-OCR2-1.21
    PERL_EXTUTILS_AUTOINSTALL = --defaultdeps
    PERL_MM_USE_DEFAULT = 1
    SHELL = /bin/bash
    TERM = xterm

Perl special variables (and OS-specific diagnostics, for MSWin32):

    $^X = /export/home/cpant4/perl5/bin/perl5.15.5
    $UID/$EUID = 104 / 104
    $GID = 1 1
    $EGID = 1 1

Perl module toolchain versions installed:

    Module              Have    
    ------------------- --------
    CPAN                1.9800  
    CPAN::Meta          2.112621
    Cwd                 3.37    
    ExtUtils::CBuilder  0.280204
    ExtUtils::Command   1.17    
    ExtUtils::Install   1.57    
    ExtUtils::MakeMaker 6.63_02 
    ExtUtils::Manifest  1.60    
    ExtUtils::ParseXS   3.05    
    File::Spec          3.34    
    JSON                2.53    
    JSON::PP            2.27200 
    Module::Build       0.39_01 
    Module::Signature   n/a     
    Parse::CPAN::Meta   1.4401  
    Test::Harness       3.23    
    Test::More          0.98    
    YAML                0.77    
    YAML::Syck          1.19    
    version             0.95    


--

Summary of my perl5 (revision 5 version 15 subversion 5) configuration:
   
  Platform:
    osname=solaris, osvers=2.10, archname=i86pc-solaris-64int
    uname='sunos vmrz0046 5.10 generic_141445-09 i86pc i386 i86pc solaris '
    config_args='-Dcc=gcc -Dprefix=~/perl5 -Duse64bitint -Dusedevel -d'
    hint=recommended, useposix=true, d_sigaction=define
    useithreads=undef, usemultiplicity=undef
    useperlio=define, d_sfio=undef, uselargefiles=define, usesocks=undef
    use64bitint=define, use64bitall=undef, uselongdouble=undef
    usemymalloc=n, bincompat5005=undef
  Compiler:
    cc='gcc', ccflags ='-DPTR_IS_LONG -fno-strict-aliasing -pipe -I/usr/local/include -D_LARGEFILE_SOURCE -D_FILE_OFFSET_BITS=64 -DPERL_USE_SAFE_PUTENV',
    optimize='-O',
    cppflags='-DPTR_IS_LONG -fno-strict-aliasing -pipe -I/usr/local/include'
    ccversion='', gccversion='3.4.6', gccosandvers='solaris2.10'
    intsize=4, longsize=4, ptrsize=4, doublesize=8, byteorder=12345678
    d_longlong=define, longlongsize=8, d_longdbl=define, longdblsize=12
    ivtype='long long', ivsize=8, nvtype='double', nvsize=8, Off_t='off_t', lseeksize=8
    alignbytes=4, prototype=define
  Linker and Libraries:
    ld='gcc', ldflags =' -L/usr/local/lib '
    libpth=/usr/local/lib /usr/lib /usr/ccs/lib
    libs=-lsocket -lnsl -lgdbm -ldl -lm -lc
    perllibs=-lsocket -lnsl -ldl -lm -lc
    libc=/lib/libc.so, so=so, useshrplib=false, libperl=libperl.a
    gnulibc_version=''
  Dynamic Linking:
    dlsrc=dl_dlopen.xs, dlext=so, d_dlsymun=undef, ccdlflags=' '
    cccdlflags='-fPIC', lddlflags='-G -L/usr/local/lib'


Characteristics of this binary (from libperl): 
  Compile-time options: HAS_TIMES PERLIO_LAYERS PERL_DONT_CREATE_GVSV
                        PERL_MALLOC_WRAP PERL_PRESERVE_IVUV PERL_USE_DEVEL
                        PERL_USE_SAFE_PUTENV USE_64_BIT_INT USE_LARGE_FILES
                        USE_LOCALE USE_LOCALE_COLLATE USE_LOCALE_CTYPE
                        USE_LOCALE_NUMERIC USE_PERLIO USE_PERL_ATOF
  Built under solaris
  Compiled at Nov 28 2011 11:34:47
  %ENV:
    PERL5LIB="/export/home/cpant4/.cpan/build/Smart-Comments-1.0.4-gwNjQb/blib/arch:/export/home/cpant4/.cpan/build/Smart-Comments-1.0.4-gwNjQb/blib/lib:/export/home/cpant4/.cpan/build/Time-Format-1.11-y7mOPt/blib/arch:/export/home/cpant4/.cpan/build/Time-Format-1.11-y7mOPt/blib/lib:/export/home/cpant4/.cpan/build/File-Type-0.22-cXgWbb/blib/arch:/export/home/cpant4/.cpan/build/File-Type-0.22-cXgWbb/blib/lib:/export/home/cpant4/.cpan/build/LEOCHARRE-Debug-1.03-APnNaa/blib/arch:/export/home/cpant4/.cpan/build/LEOCHARRE-Debug-1.03-APnNaa/blib/lib:/export/home/cpant4/.cpan/build/CAM-PDF-1.55-dGCmwC/blib/arch:/export/home/cpant4/.cpan/build/CAM-PDF-1.55-dGCmwC/blib/lib:/export/home/cpant4/.cpan/build/Text-PDF-0.29-2TXPwc/blib/arch:/export/home/cpant4/.cpan/build/Text-PDF-0.29-2TXPwc/blib/lib:/export/home/cpant4/.cpan/build/Crypt-RC4-2.02-G3G_GY/blib/arch:/export/home/cpant4/.cpan/build/Crypt-RC4-2.02-G3G_GY/blib/lib:/export/home/cpant4/.cpan/build/LEOCHARRE-Dir-1.08-d5yenn/blib/arch:/export/home/cpant4/.cpan/build/LEOCHARRE-Dir-1.08-d5yenn/blib/lib"
    PERL5OPT=""
    PERL5_CPANPLUS_IS_RUNNING="26852"
    PERL5_CPAN_IS_RUNNING="26852"
    PERL5_CPAN_IS_RUNNING_IN_RECURSION="19504,26852"
    PERL_CR_SMOKER_CURRENT="PDF-OCR2-1.21"
    PERL_EXTUTILS_AUTOINSTALL="--defaultdeps"
    PERL_MM_USE_DEFAULT="1"
  @INC:
    /export/home/cpant4/.cpan/build/Smart-Comments-1.0.4-gwNjQb/blib/arch
    /export/home/cpant4/.cpan/build/Smart-Comments-1.0.4-gwNjQb/blib/lib
    /export/home/cpant4/.cpan/build/Time-Format-1.11-y7mOPt/blib/arch
    /export/home/cpant4/.cpan/build/Time-Format-1.11-y7mOPt/blib/lib
    /export/home/cpant4/.cpan/build/File-Type-0.22-cXgWbb/blib/arch
    /export/home/cpant4/.cpan/build/File-Type-0.22-cXgWbb/blib/lib
    /export/home/cpant4/.cpan/build/LEOCHARRE-Debug-1.03-APnNaa/blib/arch
    /export/home/cpant4/.cpan/build/LEOCHARRE-Debug-1.03-APnNaa/blib/lib
    /export/home/cpant4/.cpan/build/CAM-PDF-1.55-dGCmwC/blib/arch
    /export/home/cpant4/.cpan/build/CAM-PDF-1.55-dGCmwC/blib/lib
    /export/home/cpant4/.cpan/build/Text-PDF-0.29-2TXPwc/blib/arch
    /export/home/cpant4/.cpan/build/Text-PDF-0.29-2TXPwc/blib/lib
    /export/home/cpant4/.cpan/build/Crypt-RC4-2.02-G3G_GY/blib/arch
    /export/home/cpant4/.cpan/build/Crypt-RC4-2.02-G3G_GY/blib/lib
    /export/home/cpant4/.cpan/build/LEOCHARRE-Dir-1.08-d5yenn/blib/arch
    /export/home/cpant4/.cpan/build/LEOCHARRE-Dir-1.08-d5yenn/blib/lib
    /export/home/cpant4/perl5/lib/site_perl/5.15.5/i86pc-solaris-64int
    /export/home/cpant4/perl5/lib/site_perl/5.15.5
    /export/home/cpant4/perl5/lib/5.15.5/i86pc-solaris-64int
    /export/home/cpant4/perl5/lib/5.15.5
    /export/home/cpant4/perl5/lib/site_perl
    .