POE-Component-SmokeBox-Dists v1.10 Perl 5 v5.18.4 x86_64-linux

Status
Pass
From
Slaven Rezić
Dist
POE-Component-SmokeBox-Dists v1.10
Platform
Perl 5 v5.18.4 x86_64-linux
Date
2020-11-04 20:31:17
ID
b0af7948-1edc-11eb-bd2d-7b471f24ea8f
This distribution has been tested as part of the CPAN Testers
project, supporting the Perl programming language.  See
http://wiki.cpantesters.org/ for more information or email
questions to cpan-testers-discuss@perl.org


--
Dear Chris Williams,

This is a computer-generated report for POE-Component-SmokeBox-Dists-1.10
on perl 5.18.4, created by CPAN-Reporter-1.2018.

Thank you for uploading your work to CPAN.  Congratulations!
All tests were successful.

Sections of this report:

    * Tester comments
    * Program output
    * Prerequisites
    * Environment and other context

------------------------------
TESTER COMMENTS
------------------------------

Additional comments from tester:

none provided

------------------------------
PROGRAM OUTPUT
------------------------------

Output from '/usr/bin/make test':

PERL_DL_NONLAZY=1 /opt/perl-5.18.4/bin/perl5.18.4 "-MExtUtils::Command::MM" "-e" "test_harness(0, 'blib/lib', 'blib/arch')" t/*.t
t/00-compile.t ........... ok
# SmokeBox directory is in '/home/cpansand/.cpan/build/2020110419/POE-Component-SmokeBox-Dists-1.10-buaa38/t/89TgNHMKg2'
t/01_smokebox_dir.t ...... ok
t/02_check_fetch.t ....... ok
# Running an author search, this can take a while ...
# B/BI/BINGOS/AAAA-Crypt-DH-0.06.tar.gz
# B/BI/BINGOS/Acme-Comment-1.04.tar.gz
# B/BI/BINGOS/Acme-CPAN-Testers-FAIL-0.02.tar.gz
# B/BI/BINGOS/Acme-CPAN-Testers-NA-0.06.tar.gz
# B/BI/BINGOS/Acme-CPAN-Testers-PASS-0.02.tar.gz
# B/BI/BINGOS/Acme-CPAN-Testers-PreReqNotIndexed-0.02.tar.gz
# B/BI/BINGOS/Acme-CPAN-Testers-UNKNOWN-0.06.tar.gz
# B/BI/BINGOS/Acme-CPANAuthors-DualLife-0.48.tar.gz
# B/BI/BINGOS/Acme-CPANAuthors-POE-0.86.tar.gz
# B/BI/BINGOS/Acme-CPANAuthors-ToBeLike-0.52.tar.gz
# B/BI/BINGOS/ACME-CPANPLUS-Module-With-Core-PreReq-0.06.tar.gz
# B/BI/BINGOS/Acme-CPANPLUS-Module-With-Failing-Configure-Requires-0.02.tar.gz
# B/BI/BINGOS/Acme-CPANPLUS-PreReq-Text-Tabs-0.04.tar.gz
# B/BI/BINGOS/Acme-Daily-Fail-1.16.tar.gz
# B/BI/BINGOS/Acme-MetaSyntactic-legobatman-0.04.tar.gz
# B/BI/BINGOS/Acme-MetaSyntactic-legocityundercover-0.02.tar.gz
# B/BI/BINGOS/Acme-MetaSyntactic-legoharrypotter-0.02.tar.gz
# B/BI/BINGOS/Acme-MetaSyntactic-legoindianajones-0.02.tar.gz
# B/BI/BINGOS/Acme-MetaSyntactic-legojurassicworld-0.04.tar.gz
# B/BI/BINGOS/Acme-MetaSyntactic-legolotr-0.02.tar.gz
# B/BI/BINGOS/Acme-MetaSyntactic-legomarvelsavengers-0.02.tar.gz
# B/BI/BINGOS/Acme-MetaSyntactic-legomarvelsuperheroes-0.04.tar.gz
# B/BI/BINGOS/Acme-MetaSyntactic-legomovievideogame-0.02.tar.gz
# B/BI/BINGOS/Acme-MetaSyntactic-legopiratesofthecaribbean-0.02.tar.gz
# B/BI/BINGOS/Acme-MetaSyntactic-legostarwarstheforceawakens-0.02.tar.gz
# B/BI/BINGOS/Acme-MetaSyntactic-legothehobbit-0.02.tar.gz
# B/BI/BINGOS/Acme-MetaSyntactic-legoworlds-0.02.tar.gz
# B/BI/BINGOS/Acme-POE-Acronym-Generator-1.20.tar.gz
# B/BI/BINGOS/Acme-POE-Knee-1.12.tar.gz
# B/BI/BINGOS/Acme-Vuvuzela-0.04.tar.gz
# B/BI/BINGOS/Acme-Working-Out-Dependencies-From-META-files-Will-Be-Wrong-At-Some-Point-Like-This-Module-For-Instance-9.99.tar.gz
# B/BI/BINGOS/App-CPANIDX-0.40.tar.gz
# B/BI/BINGOS/App-CPANIDX-HTTP-Server-0.08.tar.gz
# B/BI/BINGOS/metabase-relayd-0.42.tar.gz
# B/BI/BINGOS/App-Metabase-Relayd-Plugin-Dumper-0.04.tar.gz
# B/BI/BINGOS/App-Metabase-Relayd-Plugin-IRC-0.14.tar.gz
# B/BI/BINGOS/smokeinabox-0.24.tar.gz
# B/BI/BINGOS/minismokebox-0.68.tar.gz
# B/BI/BINGOS/App-SmokeBox-Mini-Plugin-IRC-0.12.tar.gz
# B/BI/BINGOS/App-SmokeBox-Mini-Plugin-Stats-0.10.tar.gz
# B/BI/BINGOS/App-SmokeBox-PerlVersion-0.16.tar.gz
# B/BI/BINGOS/smokebrew-1.00.tar.gz
# B/BI/BINGOS/App-SmokeBrew-Plugin-BINGOS-0.16.tar.gz
# B/BI/BINGOS/Archive-Extract-0.86.tar.gz
# B/BI/BINGOS/Archive-Tar-2.38.tar.gz
# B/BI/BINGOS/Config-Auto-0.44.tar.gz
# B/BI/BINGOS/CPANPLUS-YACSmoke-1.08.tar.gz
# B/BI/BINGOS/CPAN-Mirror-Server-HTTP-0.04.tar.gz
# B/BI/BINGOS/CPAN-Perl-Releases-5.20201020.tar.gz
# B/BI/BINGOS/CPAN-Recent-Uploads-0.16.tar.gz
# B/BI/BINGOS/CPANPLUS-0.9908.tar.gz
# B/BI/BINGOS/CPANPLUS-Config-BaseEnv-0.06.tar.gz
# B/BI/BINGOS/CPANPLUS-Dist-Build-0.90.tar.gz
# B/BI/BINGOS/CPANPLUS-Dist-GitHook-0.02.tar.gz
# B/BI/BINGOS/CPANPLUS-Internals-Source-CPANIDX-0.04.tar.gz
# B/BI/BINGOS/CPANPLUS-Internals-Source-CPANMetaDB-0.06.tar.gz
# B/BI/BINGOS/CPANPLUS-Internals-Source-MetaCPAN-0.10.tar.gz
# B/BI/BINGOS/CPANPLUS-Test-Dummy-HasScript-0.0006.tar.gz
# B/BI/BINGOS/CPANPLUS-Test-Dummy-UsesScript-0.0004.tar.gz
# B/BI/BINGOS/crap-0.08.tar.gz
# B/BI/BINGOS/DBIx-Simple-OO-0.03.tar.gz
# B/BI/BINGOS/Devel-PatchPerl-2.00.tar.gz
# B/BI/BINGOS/Devel-Trace-Cwd-0.02.tar.gz
# B/BI/BINGOS/Dist-Zilla-Plugin-AssertOS-0.08.tar.gz
# B/BI/BINGOS/Dist-Zilla-Plugin-FakeFaker-0.04.tar.gz
# B/BI/BINGOS/Dist-Zilla-Plugin-GithubMeta-0.58.tar.gz
# B/BI/BINGOS/Dist-Zilla-Plugin-Meta-Dynamic-Config-0.04.tar.gz
# B/BI/BINGOS/Dist-Zilla-Plugin-NoAutomatedTesting-0.08.tar.gz
# B/BI/BINGOS/Dist-Zilla-PluginBundle-BINGOS-0.20.tar.gz
# B/BI/BINGOS/Dist-Zooky-0.24.tar.gz
# B/BI/BINGOS/POE-Component-Server-DNS-0.32.tar.gz
# B/BI/BINGOS/Env-Sanctify-1.12.tar.gz
# B/BI/BINGOS/Env-Sanctify-Moosified-1.06.tar.gz
# B/BI/BINGOS/ExtUtils-MakeMaker-7.50.tar.gz
# B/BI/BINGOS/ExtUtils-Install-2.18.tar.gz
# B/BI/BINGOS/File-Fetch-0.56.tar.gz
# B/BI/BINGOS/HTML-Declare-2.6.tar.gz
# B/BI/BINGOS/IPC-Cmd-1.04.tar.gz
# B/BI/BINGOS/Lexical-select-0.10.tar.gz
# B/BI/BINGOS/Log-Message-0.08.tar.gz
# B/BI/BINGOS/Log-Message-Simple-0.10.tar.gz
# B/BI/BINGOS/Module-CoreList-5.20201020.tar.gz
# B/BI/BINGOS/Module-CoreList-DBSchema-0.08.tar.gz
# B/BI/BINGOS/Module-CoreList-5.20180120.tar.gz
# B/BI/BINGOS/Module-Install-AssertOS-0.12.tar.gz
# B/BI/BINGOS/Module-Install-AutoLicense-0.10.tar.gz
# B/BI/BINGOS/Module-Install-AutomatedTester-0.04.tar.gz
# B/BI/BINGOS/Module-Install-CheckLib-0.12.tar.gz
# B/BI/BINGOS/Module-Install-GithubMeta-0.30.tar.gz
# B/BI/BINGOS/Module-Install-NoAutomatedTesting-0.08.tar.gz
# B/BI/BINGOS/Module-Install-ReadmeFromPod-0.30.tar.gz
# B/BI/BINGOS/Module-Load-0.36.tar.gz
# B/BI/BINGOS/Module-Load-Conditional-0.74.tar.gz
# B/BI/BINGOS/Module-Loaded-0.08.tar.gz
# B/BI/BINGOS/MouseX-POE-0.216.tar.gz
# B/BI/BINGOS/Net-IP-Minimal-0.06.tar.gz
# B/BI/BINGOS/Object-Accessor-0.48.tar.gz
# B/BI/BINGOS/Package-Constants-0.06.tar.gz
# B/BI/BINGOS/Params-Check-0.38.tar.gz
# B/BI/BINGOS/Parse-IASLog-1.14.tar.gz
# B/BI/BINGOS/Parse-IRC-1.22.tar.gz
# B/BI/BINGOS/POE-1.368.tar.gz
# B/BI/BINGOS/POE-API-Peek-2.20.tar.gz
# B/BI/BINGOS/POE-Component-AI-MegaHAL-1.20.tar.gz
# B/BI/BINGOS/POE-Component-Captcha-reCAPTCHA-0.04.tar.gz
# B/BI/BINGOS/POE-Component-Client-DNS-Recursive-1.12.tar.gz
# B/BI/BINGOS/POE-Component-Client-DNSBL-1.08.tar.gz
# B/BI/BINGOS/POE-Component-Client-FTP-0.24.tar.gz
# B/BI/BINGOS/POE-Component-Client-Ident-1.16.tar.gz
# B/BI/BINGOS/POE-Component-Client-NNTP-2.22.tar.gz
# B/BI/BINGOS/POE-Component-Client-NNTP-Tail-0.04.tar.gz
# B/BI/BINGOS/POE-Component-Client-NRPE-0.20.tar.gz
# B/BI/BINGOS/POE-Component-Client-NSCA-0.18.tar.gz
# B/BI/BINGOS/POE-Component-Client-NTP-0.14.tar.gz
# B/BI/BINGOS/POE-Component-Client-Pastebot-1.18.tar.gz
# B/BI/BINGOS/POE-Component-Client-RADIUS-1.04.tar.gz
# B/BI/BINGOS/POE-Component-Client-SOCKS-1.02.tar.gz
# B/BI/BINGOS/POE-Component-Client-Whois-1.38.tar.gz
# B/BI/BINGOS/POE-Component-CPAN-Mirror-Multiplexer-0.04.tar.gz
# B/BI/BINGOS/POE-Component-CPAN-Reporter-0.08.tar.gz
# B/BI/BINGOS/POE-Component-CPAN-YACSmoke-1.38.tar.gz
# B/BI/BINGOS/POE-Component-CPANIDX-0.12.tar.gz
# B/BI/BINGOS/POE-Component-CPANPLUS-YACSmoke-1.64.tar.gz
# B/BI/BINGOS/POE-Component-Curl-Multi-0.14.tar.gz
# B/BI/BINGOS/POE-Component-DHCP-Monitor-1.04.tar.gz
# B/BI/BINGOS/POE-Component-FastCGI-0.20.tar.gz
# B/BI/BINGOS/POE-Component-Github-0.08.tar.gz
# B/BI/BINGOS/POE-Component-IRC-6.90.tar.gz
# B/BI/BINGOS/POE-Component-IRC-Plugin-Bollocks-1.02.tar.gz
# B/BI/BINGOS/POE-Component-IRC-Plugin-CoreList-1.06.tar.gz
# B/BI/BINGOS/POE-Component-IRC-Plugin-POE-Knee-1.12.tar.gz
# B/BI/BINGOS/POE-Component-IRC-Plugin-QueryDNS-1.04.tar.gz
# B/BI/BINGOS/POE-Component-IRC-Plugin-QueryDNSBL-1.04.tar.gz
# B/BI/BINGOS/POE-Component-IRC-Plugin-Role-0.10.tar.gz
# B/BI/BINGOS/POE-Component-IRC-Plugin-RSS-Headlines-1.10.tar.gz
# B/BI/BINGOS/POE-Component-IRC-Plugin-URI-Find-1.10.tar.gz
# B/BI/BINGOS/POE-Component-IRC-Service-0.998.tar.gz
# B/BI/BINGOS/POE-Component-Metabase-Client-Submit-0.14.tar.gz
# B/BI/BINGOS/POE-Component-Metabase-Relay-Server-0.38.tar.gz
# B/BI/BINGOS/POE-Component-MetaCPAN-Recent-1.04.tar.gz
# B/BI/BINGOS/POE-Component-Pluggable-1.28.tar.gz
# B/BI/BINGOS/POE-Component-Proxy-SOCKS-1.04.tar.gz
# B/BI/BINGOS/POE-Component-Server-Chargen-1.16.tar.gz
# B/BI/BINGOS/POE-Component-Server-Daytime-1.16.tar.gz
# B/BI/BINGOS/POE-Component-Server-Discard-1.16.tar.gz
# B/BI/BINGOS/POE-Component-Server-Echo-1.66.tar.gz
# B/BI/BINGOS/POE-Component-Server-Ident-1.18.tar.gz
# B/BI/BINGOS/POE-Component-Server-Inet-0.06.tar.gz
# B/BI/BINGOS/POE-Component-Server-IRC-1.40.tar.gz
# B/BI/BINGOS/POE-Component-Server-NNTP-1.06.tar.gz
# B/BI/BINGOS/POE-Component-Server-NRPE-0.18.tar.gz
# B/BI/BINGOS/POE-Component-Server-NSCA-0.10.tar.gz
# B/BI/BINGOS/POE-Component-Server-POP3-0.12.tar.gz
# B/BI/BINGOS/POE-Component-Server-Qotd-1.16.tar.gz
# B/BI/BINGOS/POE-Component-Server-RADIUS-1.08.tar.gz
# B/BI/BINGOS/POE-Component-Server-SimpleContent-1.16.tar.gz
# B/BI/BINGOS/POE-Component-Server-SimpleHTTP-2.28.tar.gz
# B/BI/BINGOS/POE-Component-Server-SimpleHTTP-PreFork-2.10.tar.gz
# B/BI/BINGOS/POE-Component-Server-SimpleSMTP-1.52.tar.gz
# B/BI/BINGOS/POE-Component-Server-Syslog-1.22.tar.gz
# B/BI/BINGOS/POE-Component-Server-Time-1.16.tar.gz
# B/BI/BINGOS/POE-Component-SmokeBox-0.54.tar.gz
# B/BI/BINGOS/POE-Component-SmokeBox-Dists-1.10.tar.gz
# B/BI/BINGOS/POE-Component-SmokeBox-Recent-1.54.tar.gz
# B/BI/BINGOS/POE-Component-SmokeBox-Recent-HTTP-1.54.tar.gz
# B/BI/BINGOS/POE-Component-SmokeBox-Uploads-CPAN-Mini-1.02.tar.gz
# B/BI/BINGOS/POE-Component-SmokeBox-Uploads-NNTP-1.02.tar.gz
# B/BI/BINGOS/POE-Component-SmokeBox-Uploads-RSS-1.04.tar.gz
# B/BI/BINGOS/POE-Component-TLSify-0.08.tar.gz
# B/BI/BINGOS/POE-Component-WakeOnLAN-1.04.tar.gz
# B/BI/BINGOS/POE-Component-Win32-ChangeNotify-1.24.tar.gz
# B/BI/BINGOS/POE-Component-Win32-EventLog-1.26.tar.gz
# B/BI/BINGOS/POE-Component-Win32-Service-1.26.tar.gz
# B/BI/BINGOS/POE-Component-WWW-Shorten-1.22.tar.gz
# B/BI/BINGOS/POE-Filter-Bzip2-1.60.tar.gz
# B/BI/BINGOS/POE-Filter-CSV-1.18.tar.gz
# B/BI/BINGOS/POE-Filter-CSV_XS-1.18.tar.gz
# B/BI/BINGOS/POE-Filter-DNS-TCP-0.06.tar.gz
# B/BI/BINGOS/POE-Filter-Finger-0.08.tar.gz
# B/BI/BINGOS/POE-Filter-HTTP-Parser-1.08.tar.gz
# B/BI/BINGOS/POE-Filter-IASLog-1.10.tar.gz
# B/BI/BINGOS/POE-Filter-IRCD-2.44.tar.gz
# B/BI/BINGOS/POE-Filter-KennySpeak-1.02.tar.gz
# B/BI/BINGOS/POE-Filter-LOLCAT-1.10.tar.gz
# B/BI/BINGOS/POE-Filter-LZF-1.72.tar.gz
# B/BI/BINGOS/POE-Filter-LZO-1.72.tar.gz
# B/BI/BINGOS/POE-Filter-LZW-1.74.tar.gz
# B/BI/BINGOS/POE-Filter-ParseWords-1.08.tar.gz
# B/BI/BINGOS/POE-Filter-Redis-0.02.tar.gz
# B/BI/BINGOS/POE-Filter-ThruPut-1.00.tar.gz
# B/BI/BINGOS/POE-Filter-Zlib-2.04.tar.gz
# B/BI/BINGOS/POE-Loop-AnyEvent-0.004.tar.gz
# B/BI/BINGOS/POE-Loop-IO_Async-0.004.tar.gz
# B/BI/BINGOS/POE-Wheel-Run-Win32-0.20.tar.gz
# B/BI/BINGOS/shit-0.02.tar.gz
# B/BI/BINGOS/SMS-Send-DeviceGsm-1.08.tar.gz
# B/BI/BINGOS/Sort-Naturally-1.03.tar.gz
# B/BI/BINGOS/String-Perl-Warnings-1.16.tar.gz
# B/BI/BINGOS/Task-BeLike-BINGOS-1.06.tar.gz
# B/BI/BINGOS/Task-BINGOS-Bootstrap-0.04.tar.gz
# B/BI/BINGOS/Task-CPAN-SmokeBox-0.04.tar.gz
# B/BI/BINGOS/Task-CPANPLUS-Metabase-1.16.tar.gz
# B/BI/BINGOS/Task-Module-Install-BINGOS-1.04.tar.gz
# B/BI/BINGOS/Task-POE-Filter-Compression-1.04.tar.gz
# B/BI/BINGOS/Task-POE-IRC-1.14.tar.gz
# B/BI/BINGOS/Task-POE-Simple-TCPIP-Services-1.10.tar.gz
# B/BI/BINGOS/Term-UI-0.46.tar.gz
# B/BI/BINGOS/Test-App-CPANIDX-Database-0.06.tar.gz
# B/BI/BINGOS/Test-POE-Client-TCP-1.26.tar.gz
# B/BI/BINGOS/Test-POE-Server-TCP-1.20.tar.gz
# B/BI/BINGOS/Test-Reporter-Transport-Socket-0.34.tar.gz
# B/BI/BINGOS/unless-0.06.tar.gz
# B/BI/BINGOS/Win32-ADRecurse-0.04.tar.gz
# B/BI/BINGOS/Win32-ADSIEnumerations-0.02.tar.gz
# B/BI/BINGOS/Win32-MailboxGUID-0.02.tar.gz
# B/BI/BINGOS/Win32-NameTranslate-0.06.tar.gz
t/03_author.t ............ ok
# Running an distro search, this can take a while ...
# B/BI/BINGOS/POE-Component-IRC-6.90.tar.gz
# M/MS/MSERGEANT/POE-Component-IRC-Object-0.02.tar.gz
# Z/ZO/ZOFFIX/POE-Component-IRC-PluginBundle-Toys-1.001002.tar.gz
# Z/ZO/ZOFFIX/POE-Component-IRC-PluginBundle-WebDevelopment-2.001003.tar.gz
# Z/ZO/ZOFFIX/POE-Component-IRC-Plugin-BaseWrap-1.001001.tar.gz
# P/PL/PLU/POE-Component-IRC-Plugin-Blowfish-0.01.tar.gz
# B/BI/BINGOS/POE-Component-IRC-Plugin-Bollocks-1.02.tar.gz
# B/BI/BINGOS/POE-Component-IRC-Plugin-CoreList-1.06.tar.gz
# Z/ZO/ZOFFIX/POE-Component-IRC-Plugin-CPAN-Info-1.001002.tar.gz
# C/CU/CURTIS/POE-Component-IRC-Plugin-Donuts-0.07.tar.gz
# H/HI/HINRIK/POE-Component-IRC-Plugin-Eval-0.07.tar.gz
# Z/ZO/ZOFFIX/POE-Component-IRC-Plugin-FTP-EasyUpload-0.002.tar.gz
# Z/ZO/ZOFFIX/POE-Component-IRC-Plugin-Google-Calculator-0.04.tar.gz
# H/HI/HINRIK/POE-Component-IRC-Plugin-Hailo-0.18.tar.gz
# M/MG/MGV/POE-Component-IRC-Plugin-Hello-0.001004.tar.gz
# H/HI/HINRIK/POE-Component-IRC-Plugin-ImageMirror-0.15.tar.gz
# M/MG/MGV/POE-Component-IRC-Plugin-Infobot-0.001003.tar.gz
# A/AP/APOCAL/POE-Component-IRC-Plugin-Karma-0.003.tar.gz
# M/MG/MGV/POE-Component-IRC-Plugin-Logger-Irssi-0.001002.tar.gz
# H/HI/HINRIK/POE-Component-IRC-Plugin-MegaHAL-0.46.tar.gz
# H/HI/HINRIK/POE-Component-IRC-Plugin-MultiProxy-0.01.tar.gz
# Z/ZO/ZOFFIX/POE-Component-IRC-Plugin-OutputToPastebin-0.002.tar.gz
# B/BI/BINGOS/POE-Component-IRC-Plugin-POE-Knee-1.12.tar.gz
# B/BI/BINGOS/POE-Component-IRC-Plugin-QueryDNS-1.04.tar.gz
# B/BI/BINGOS/POE-Component-IRC-Plugin-QueryDNSBL-1.04.tar.gz
# B/BI/BINGOS/POE-Component-IRC-Plugin-Role-0.10.tar.gz
# B/BI/BINGOS/POE-Component-IRC-Plugin-RSS-Headlines-1.10.tar.gz
# H/HI/HINRIK/POE-Component-IRC-Plugin-RTorrentStatus-0.17.tar.gz
# M/MG/MGV/POE-Component-IRC-Plugin-Seen-0.001002.tar.gz
# T/TB/TBR/POE-Component-IRC-Plugin-Trac-RSS-0.11.tar.gz
# Z/ZO/ZOFFIX/POE-Component-IRC-Plugin-Unicode-UCD-0.004.tar.gz
# B/BI/BINGOS/POE-Component-IRC-Plugin-URI-Find-1.10.tar.gz
# S/SI/SIRMXE/POE-Component-IRC-Plugin-WubWubWub-0.1.tar.gz
# Z/ZO/ZOFFIX/POE-Component-IRC-Plugin-WWW-CPANRatings-RSS-0.0106.tar.gz
# Z/ZO/ZOFFIX/POE-Component-IRC-Plugin-WWW-Google-Time-0.0102.tar.gz
# C/CU/CURTIS/POE-Component-IRC-Plugin-WWW-KrispyKreme-HotLight-0.06.tar.gz
# Z/ZO/ZOFFIX/POE-Component-IRC-Plugin-WWW-OhNoRobotCom-Search-0.002.tar.gz
# C/CU/CURTIS/POE-Component-IRC-Plugin-WWW-Reddit-TIL-0.09.tar.gz
# C/CU/CURTIS/POE-Component-IRC-Plugin-WWW-Vim-Tips-0.14.tar.gz
# C/CU/CURTIS/POE-Component-IRC-Plugin-WWW-Weather-US-0.04.tar.gz
# Z/ZO/ZOFFIX/POE-Component-IRC-Plugin-WWW-XKCD-AsText-0.003.tar.gz
# B/BI/BINGOS/POE-Component-IRC-Service-0.998.tar.gz
t/04_distro.t ............ ok
# Running a phalanx search, this can take a while ...
# J/JT/JTBRAUN/Parse-RecDescent-1.967015.tar.gz
# R/RU/RURBAN/GD-2.73.tar.gz
# I/IL/ILYAZ/modules/Term-ReadLine-Perl-1.0303.tar.gz
# D/DO/DOUGW/Spreadsheet-ParseExcel-0.65.tar.gz
# D/DA/DANKOGAI/Encode-3.07.tar.gz
# R/RC/RCLAMP/Pod-Coverage-0.23.tar.gz
# P/PH/PHRED/Archive-Zip-1.68.tar.gz
# D/DW/DWHEELER/App-Info-0.57.tar.gz
# D/DP/DPARIS/Crypt-DES-2.07.tar.gz
# I/IS/ISHIGAKI/DBD-SQLite-1.66.tar.gz
# N/NA/NATHANL/Spreadsheet-WriteExcel-WebPivot2.tar.gz
# B/BI/BINGOS/CPANPLUS-0.9908.tar.gz
# S/ST/STBEY/Date-Calc-6.4.tar.gz
# T/TJ/TJMATHER/XML-DOM-1.46.tar.gz
# E/EE/EESTABROO/IMAP-Admin-1.6.8.tar.gz
# G/GA/GAAS/GAAS/Unicode-String-2.10.tar.gz
# T/TO/TODDR/IO-1.42.tar.gz
# J/JR/JROGERS/Net-Telnet-3.04.tar.gz
# J/JM/JMERELO/MP3-Info-1.26.tar.gz
# D/DV/DVEEDEN/DBD-mysql-4.050.tar.gz
# C/CH/CHORNY/Apache-Session-1.94.tar.gz
# N/NE/NEILB/Mail-Sendmail-0.80.tar.gz
# I/IL/ILYAZ/modules/Math-Pari-2.030518.zip
# D/DS/DSKOLL/IO-stringy-2.111.tar.gz
# N/NE/NEILB/AppConfig-1.71.tar.gz
# A/AN/ANDK/CPAN-2.28.tar.gz
# T/TO/TODDR/IPC-Run-20200505.0.tar.gz
# H/HD/HDIAS/File-Scan-1.43.tar.gz
# G/GA/GAAS/Digest-SHA1-2.13.tar.gz
# C/CA/CAVAC/Mail-ClamAV-0.30.tar.gz
# C/CO/COOK/Device-SerialPort-1.04.tar.gz
# T/TO/TODDR/Digest-MD5-2.58.tar.gz
# M/MP/MPIOTR/Text-Iconv-1.7.tar.gz
# E/ET/ETHER/Carp-Clan-6.08.tar.gz
# R/RJ/RJBS/Mail-Audit-2.228.tar.gz
# P/PH/PHRED/SOAP-Lite-1.27.tar.gz
# I/IN/INGY/Inline-0.86.tar.gz
# T/TO/TODDR/XML-Parser-2.46.tar.gz
# S/SC/SCHWIGON/Net-SSH-Perl-2.14.tar.gz
# G/GA/GAAS/MD5-2.03.tar.gz
# I/IB/IBMTORDB2/DBD-DB2-1.85.tar.gz
# S/SH/SHLOMIF/Config-IniFiles-3.000003.tar.gz
# M/MV/MVERB/GDTextUtil-0.86.tar.gz
# T/TO/TODDR/Net-Daemon-0.49.tar.gz
# P/PH/PHRED/Apache-DBI-1.12.tar.gz
# D/DS/DSKOLL/MIME-tools-5.509.tar.gz
# I/IN/INGY/Spiffy-0.46.tar.gz
# N/NW/NWCLARK/Compress-Zlib-Perl-0.02.tar.gz
# P/PE/PETDANCE/HTML-Tagset-3.20.tar.gz
# R/RU/RUZ/GDGraph-1.54.tar.gz
# E/ET/ETJ/Event-1.27.tar.gz
# L/LE/LEONT/Module-Build-0.4231.tar.gz
# X/XS/XSAWYERX/Data-Dumper-2.173.tar.gz
# T/TU/TURNSTEP/DBD-Pg-3.14.2.tar.gz
# B/BI/BINGOS/Archive-Tar-2.38.tar.gz
# H/HA/HARDAKER/SNMP-5.0404.tar.gz
# C/CA/CAPOEIRAB/HTML-Parser-3.75.tar.gz
# A/AT/ATOOMIC/Time-HiRes-1.9764.tar.gz
# M/MJ/MJEVANS/DBD-ODBC-1.61.tar.gz
# G/GR/GRANTM/XML-Simple-2.25.tar.gz
# T/TM/TMTM/Class-DBI-v3.0.17.tar.gz
# P/PM/PMQS/BerkeleyDB-0.64.tar.gz
# J/JS/JSTOWE/TermReadKey-2.38.tar.gz
# G/GB/GBARR/Authen-SASL-2.16.tar.gz
# N/NE/NEILB/Pod-Escapes-1.07.tar.gz
# O/OA/OALDERS/WWW-Mechanize-2.02.tar.gz
# B/BI/BINGOS/ExtUtils-MakeMaker-7.50.tar.gz
# N/NL/NLNETLABS/Net-DNS-1.28.tar.gz
# R/RJ/RJBS/MIME-Lite-3.031.tar.gz
# A/AT/ATOOMIC/TimeDate-2.33.tar.gz
# M/ME/MEWP/DBD-Sybase-1.16.tar.gz
# M/MA/MAREKR/Pod-Parser-1.63.tar.gz
# K/KH/KHW/Pod-Simple-3.41.tar.gz
# B/BH/BHOLZMAN/XML-Generator-1.04.tar.gz
# P/PE/PERIGRIN/XML-NamespaceSupport-1.12.tar.gz
# X/XS/XSAWYERX/Storable-3.15.tar.gz
# R/RH/RHANDOM/Net-Server-2.009.tar.gz
# N/NA/NANIS/Crypt-SSLeay-0.72.tar.gz
# T/TI/TINITA/YAML-1.30.tar.gz
# D/DR/DROLSKY/DateTime-1.52.tar.gz
# O/OA/OALDERS/URI-5.05.tar.gz
# M/MH/MHARNISCH/Unix-Syslog-1.1.tar.gz
# G/GB/GBARR/Convert-ASN1-0.27.tar.gz
# J/JC/JCRISTY/PerlMagick-6.89-1.tar.gz
# M/MA/MARKOV/MailTools-2.21.tar.gz
# N/NE/NEILB/Test-Pod-Coverage-1.10.tar.gz
# D/DO/DOUGW/Convert-TNEF-0.18.tar.gz
# J/JM/JMCNAMARA/Spreadsheet-WriteExcelXML-0.14.tar.gz
# E/EX/EXODIST/Test-Exception-0.43.tar.gz
# R/RU/RURBAN/Net-Ping-2.74.tar.gz
# M/MA/MARSCHAP/perl-ldap-0.66.tar.gz
# S/SB/SBECK/Date-Manip-6.82.tar.gz
# L/LE/LEONT/Test-Harness-3.42.tar.gz
# C/CA/CAPOEIRAB/MIME-Base64-3.16.tar.gz
# S/SA/SAMTREGAR/HTML-Template-2.97.tar.gz
# D/DR/DROLSKY/HTML-Mason-1.59.tar.gz
# M/ML/MLEHMANN/Convert-UUlib-1.71.tar.gz
# F/FR/FREW/IO-All-0.87.tar.gz
# M/MA/MARKF/Test-Builder-Tester-1.01.tar.gz
# D/DA/DAGOLDEN/Test-Reporter-1.62.tar.gz
# L/LD/LDS/Crypt-CBC-2.33.tar.gz
# G/GR/GRANTM/XML-SAX-1.02.tar.gz
# S/SU/SULLR/IO-Socket-SSL-2.068.tar.gz
# R/RJ/RJRAY/Image-Size-3.300.tar.gz
# O/OA/OALDERS/libwww-perl-6.49.tar.gz
# D/DA/DAGOLDEN/Sub-Uplevel-0.2800.tar.gz
# C/CH/CHAMAS/Apache-ASP-2.63.tar.gz
# M/MN/MNOONING/PlRPC/PlRPC-0.2020.tar.gz
# T/TB/TBONE/Net-FTP-Common-7.0.d.tar.gz
# J/JA/JACOBY/Expect-1.35.tar.gz
# D/DT/DTOWN/Net-SNMP-v6.0.1.tar.gz
# C/CH/CHARTGRP/Chart-2.4.10.tar.gz
# E/ET/ETHER/Test-Pod-1.52.tar.gz
# R/RB/RBO/Excel-Template-0.34.tar.gz
# A/AN/ANDK/Devel-Symdump-2.18.tar.gz
# E/EX/EXODIST/Test-Simple-1.302183.tar.gz
# K/KM/KMACLEOD/libxml-perl-0.08.tar.gz
# J/JM/JMCNAMARA/OLE-Storage_Lite-0.20.tar.gz
# E/ET/ETHER/File-Temp-0.2311.tar.gz
# G/GA/GAAS/Digest-HMAC-1.03.tar.gz
# S/SH/SHLOMIF/XML-LibXML-2.0206.tar.gz
# M/MJ/MJEVANS/DBD-Oracle-1.80.tar.gz
# B/BI/BINGOS/POE-1.368.tar.gz
# S/SH/SHAY/Apache-Test-1.42.tar.gz
# J/JO/JOSEPHW/XML-Writer-0.900.tar.gz
# S/ST/STBEY/Bit-Vector-7.4.tar.gz
# N/NI/NIKIP/Authen-PAM-0.16.tar.gz
# W/WS/WSNYDER/Verilog-Perl-3.474.tar.gz
# M/MG/MGRABNAR/File-Tail-1.3.tar.gz
# S/SH/SHAY/libnet-3.11.tar.gz
# M/MS/MSHELOR/Digest-SHA-6.02.tar.gz
# C/CH/CHRISN/Net-SSLeay-1.88.tar.gz
# T/TI/TIMB/DBI-1.643.tar.gz
# A/AT/ATOOMIC/Template-Toolkit-3.009.tar.gz
# G/GA/GAAS/IO-String-1.08.tar.gz
# T/TO/TOMHUGHES/IO-Zlib-1.11.tar.gz
# J/JV/JV/Getopt-Long-2.52.tar.gz
# D/DR/DROLSKY/Params-Validate-1.30.tar.gz
# A/AD/ADAMK/Test-NoWarnings-1.04.tar.gz
# X/XS/XSAWYERX/PathTools-3.75.tar.gz
# 140
t/05_phalanx.t ........... ok
# Running a random search, this can take a while ...
# S/SP/SPROUT/CSS-DOM-0.17.tar.gz
# B/BE/BEATNIK/Palm-PalmDoc-0.13.tar.gz
# Y/YA/YAPPO/File-CounterSS-0.01.tar.gz
# M/MA/MAKOTO/CGI-Session-Plugin-Redirect-1.01.tar.gz
# M/MA/MASAKI/Test-Mock-LWP-Conditional-0.03.tar.gz
# F/FA/FAYLAND/WWW-PunchTab-0.02.tar.gz
# P/PE/PERLANCAR/Data-Sah-JS-0.87.tar.gz
# V/VV/VVELOX/Mail-IMAPTalk-MailCache-0.0.1.tar.gz
# T/TO/TOMORROW/Momo-1.2.tar.gz
# M/MI/MIKER/Sys-Hostname-FQDN-0.12.tar.gz
# M/MO/MOZNION/Ukigumo-Client-0.36.tar.gz
# P/PA/PATL/IO-Tty-Util-0.03.tar.gz
# T/TO/TOBYINK/Module-Install-RDF-0.009.tar.gz
# J/JH/JHTHORSEN/App-mojopaste-1.04.tar.gz
# A/AB/ABERNDT/App-MPDJ-1.09.tar.gz
# C/CC/CCWALLACE/CGI-Auth-3.00.tar.gz
# P/PL/PLICEASE/PkgConfig-0.24026.tar.gz
# O/OA/OALDERS/Authen-OATH-2.0.1.tar.gz
# V/VO/VOLKENING/MS-0.206003.tar.gz
# L/LB/LBROCARD/JSON-YAJL-0.10.tar.gz
# N/NJ/NJH/Audio-MadJACK-0.04.tar.gz
# Z/ZD/ZDK/Catalyst-Plugin-Session-State-Auth-0.0005.tar.gz
# A/AR/ARCOLF/Math-Fractal-DLA-0.21.tar.gz
# P/PE/PERLANCAR/DateTime-Format-ISO8601-Format-0.004.tar.gz
# R/RJ/RJBS/List-MapList-1.123.tar.gz
# S/SA/SAPER/NetworkInfo-Discovery-Rendezvous-0.06.tar.gz
# T/TA/TAIWOLF/Bing-Translate-0.003.tar.gz
# P/PE/PERLANCAR/Text-Table-TinyColorWide-0.001.tar.gz
# P/PE/PERLANCAR/App-ZshCompleteUtils-0.001.tar.gz
# B/BR/BRONSON/GDBUI-0.84.tar.gz
# E/EF/EFORBUS/Splunk-HEC-1.02.tar.gz
# I/IA/IAN/Acme-LAUTER-DEUTSCHER-1.02.tar.gz
# J/JC/JCHIN/OpenGL-Simple-Viewer-0.03.tar.gz
# R/RI/RICK/Date-Holidays-CA-0.03.tar.gz
# D/DA/DAGOLDEN/ylib-0.003.tar.gz
# B/BI/BIGPRESH/Bot-BasicBot-Pluggable-Module-TwitterFriendsStatus-0.2.tar.gz
# A/AR/ARISTOTLE/Plack-Middleware-RedirectSSL-1.301.tar.gz
# Z/ZE/ZEFRAM/Data-Entropy-0.007.tar.gz
# P/PE/PERLANCAR/ColorThemes-Standard-0.002.tar.gz
# D/DH/DHORNE/DBIx-Oracle-Unwrap-0.06.tar.gz
# S/SA/SANKO/ReadonlyX-1.04.tar.gz
# A/AB/ABBYPAN/Simple-IPInfo-0.12.tar.gz
# R/RJ/RJBS/Task-Deprecations5_12-1.002.tar.gz
# R/RO/ROSCH/Proc-SyncExec-1.01.tar.gz
# N/NO/NORDAAKER/Parallol-0.3.tar.gz
# A/AS/ASKADNA/WebService-Dropbox-2.07.tar.gz
# B/BL/BLADE/Junction-Quotelike-0.01.tar.gz
# K/KA/KARUPA/Qudo-0.0214.tar.gz
# N/NE/NEILB/Module-Info-0.37.tar.gz
# O/OP/OPI/Apache2-ClickPath-1.901.tar.gz
# A/AF/AFINDLAY/Data-Toolkit-1.1.tar.gz
# S/ST/STRANGE/MySQL-Binlog_RBR_Data-1.02.tar.gz
# Z/ZW/ZWON/Catalyst-Model-Redis-0.02.tar.gz
# R/RT/RTKH/Raisin-0.69.tar.gz
# S/SA/SADAMS/Mojolicious-Plugin-SecureOnly-0.03.tar.gz
# S/SA/SAMV/Class-Tangram-1.57.tar.gz
# R/RV/RVOSA/Bio-PhyloTastic-0.2.tar.gz
# R/RF/RFRANKEL/iCal-Parser-HTML-1.07.tar.gz
# K/KA/KARMAN/Template-Plugin-Autoformat-2.77.tar.gz
# R/RB/RBERJON/AxKit-XSP-CharsetConv-0.02.tar.gz
# I/IN/INGHAM/IDS-Algorithms-1.02.tar.gz
# Z/ZM/ZMUGHAL/Renard-Block-NLP-0.001.tar.gz
# D/DA/DACAV/App-PFT-v1.4.1.tar.gz
# M/MS/MSTROUT/Catalyst-Controller-FormBuilder-0.06.tar.gz
# A/AD/ADZZ/ActionExporter-0.02.tar.gz
# M/MA/MATTP/WWW-GitHub-PostReceiveHook-0.004.tar.gz
# M/MR/MRAMBERG/Catalyst-Plugin-Observe-0.02.tar.gz
# S/SA/SAPER/Bot-Babelfish-0.04.tar.gz
# P/PE/PERLANCAR/Acme-MetaSyntactic-unyil-0.001.tar.gz
# S/SA/SALVA/Math-Vector-Real-0.18.tar.gz
# A/AP/APLEINER/Net-SMTP_auth-0.08.tar.gz
# R/RA/RAZZOR/Bio-DOOP-DOOP-1.03.tar.gz
# D/DM/DMOL/Font-FreeType-0.16.tar.gz
# S/SL/SLU/App-TimeClock-0.13.tar.gz
# V/VV/VVELOX/Icon-Theme-Helper-0.0.0.tar.gz
# C/CO/COG/Number-Phone-PT-0.05.tar.gz
# L/LE/LEMBARK/Signal-StackTrace-0.04.tar.gz
# T/TO/TOMHUKINS/Perl-Critic-Policy-HTTPCookies-0.54.tar.gz
# I/IS/ISAGE/Bot-Jabbot-0.41.tar.gz
# L/LE/LEOCHARRE/Alister-Base-Sums-1.05.tar.gz
# J/JB/JBD/Pistachio-0.10.tar.gz
# P/PE/PERLANCAR/App-ExecIf-0.02.tar.gz
# P/PE/PERLANCAR/Filename-Image-0.005.tar.gz
# X/XE/XERN/Parse-Pyapp-0.01.tar.gz
# C/CA/CADAVIS/Algorithm-Cluster-Thresh-0.05.tar.gz
# D/DI/DIMARTINO/Log-Dispatch-FogBugz-0.1.tar.gz
# M/MW/MWARD/Mail-SpamFilter-0.08.tar.gz
# G/GR/GRYPHON/exact-conf-1.03.tar.gz
# B/BS/BSHENRY/VBTK-0.20.tar.gz
# C/CH/CHINTANA/WSO2-WSF-Perl-1.1.tar.gz
# D/DO/DOMM/App-TimeTracker-Command-Trello-1.007.tar.gz
# G/GU/GUGOD/NewsExtractor-v0.39.0.tar.gz
# J/JC/JCROMIE/Data-Dumper-EasyOO-0.0503.tar.gz
# S/ST/STUIFZAND/Business-MollieAPI-0.10.tar.gz
# K/KI/KITANO/Shell-Amazon-S3-0.041.tar.gz
# R/RU/RUBYKAT/txt2html-2.5201.tar.gz
# G/GE/GETTY/Dist-Zilla-PluginBundle-GETTY-0.008.tar.gz
# P/PI/PIOTO/Unix-Uptime-0.4000.tar.gz
# R/RK/RKITOVER/Dist-Zilla-Plugin-Git-PushInitial-0.02.tar.gz
# V/VO/VOJ/Plack-App-DAIA-0.55.tar.gz
# 100
t/06_random.t ............ ok
t/author-pod-coverage.t .. skipped: these tests are for testing by the author
t/author-pod-syntax.t .... skipped: these tests are for testing by the author
All tests successful.
Files=9, Tests=19, 19 wallclock secs ( 0.04 usr  0.05 sys + 16.50 cusr  0.79 csys = 17.38 CPU)
Result: PASS

------------------------------
PREREQUISITES
------------------------------

Prerequisite modules loaded:

requires:

    Module              Need  Have    
    ------------------- ----- --------
    CPAN::DistnameInfo  0.06  0.12    
    File::Fetch         0     0.38    
    File::Path          0     2.09    
    File::Spec          0     3.40    
    IO::Zlib            0     1.10    
    perl                5.006 5.018004
    POE                 1.004 1.367   
    Sort::Versions      1.5   1.62    
    URI                 0     1.76    

build_requires:

    Module              Need  Have    
    ------------------- ----- --------
    File::Spec          0     3.40    
    IO::Handle          0     1.34    
    IPC::Open3          0     1.13    
    Test::More          0.47  1.302164

configure_requires:

    Module              Need  Have    
    ------------------- ----- --------
    ExtUtils::MakeMaker 0     6.66    


------------------------------
ENVIRONMENT AND OTHER CONTEXT
------------------------------

Environment variables:

    LANG = en_US.UTF-8
    PATH = /usr/local/bin:/usr/bin:/bin:/usr/local/sbin:/usr/sbin:/sbin:/home/cpansand/bin/linux-gnu:/home/cpansand/bin/sh:/home/cpansand/bin:/usr/games:/home/cpansand/devel:/home/eserte/src/srezic-misc/scripts
    PERL5LIB = /home/cpansand/.cpan/build/2020110419/Sort-Versions-1.62-VFkVC4/blib/arch:/home/cpansand/.cpan/build/2020110419/Sort-Versions-1.62-VFkVC4/blib/lib:/home/cpansand/.cpan/build/2020110419/CPAN-DistnameInfo-0.12-RH9hPo/blib/arch:/home/cpansand/.cpan/build/2020110419/CPAN-DistnameInfo-0.12-RH9hPo/blib/lib
    PERL5OPT = 
    PERL5_CPANPLUS_IS_RUNNING = 14711
    PERL5_CPAN_IS_RUNNING = 14711
    PERL5_CPAN_IS_RUNNING_IN_RECURSION = 7330,14711
    PERLDOC = -MPod::Perldoc::ToTextOverstrike
    PERL_BATCH = yes
    PERL_CANARY_STABILITY_NOPROMPT = 1
    PERL_CPAN_REPORTER_CONFIG = /var/tmp/cpansmoker-1023/2020110419/cpanreporter_000_config.ini
    PERL_EXTUTILS_AUTOINSTALL = --defaultdeps
    SHELL = /usr/bin/zsh
    TERM = screen
    TMPDIR = /var/tmp/cpansmoker-1023/2020110419

Perl special variables (and OS-specific diagnostics, for MSWin32):

    $^X = /opt/perl-5.18.4/bin/perl5.18.4
    $UID/$EUID = 1023 / 1023
    $GID = 1023 1023
    $EGID = 1023 1023

Perl module toolchain versions installed:

    Module              Have    
    ------------------- --------
    CPAN                2.00    
    CPAN::Meta          2.150010
    Cwd                 3.40    
    ExtUtils::CBuilder  0.280210
    ExtUtils::Command   1.17    
    ExtUtils::Install   1.59    
    ExtUtils::MakeMaker 6.66    
    ExtUtils::Manifest  1.63    
    ExtUtils::ParseXS   3.18    
    File::Spec          3.40    
    JSON                4.02    
    JSON::PP            4.04    
    Module::Build       0.4229  
    Module::Signature   n/a     
    Parse::CPAN::Meta   2.150010
    Test::Harness       3.42    
    Test::More          1.302164
    YAML                1.29    
    YAML::Syck          1.31    
    version             0.9902  


--

Summary of my perl5 (revision 5 version 18 subversion 4) configuration:
   
  Platform:
    osname=linux, osvers=4.4.0-157-generic, archname=x86_64-linux
    uname='linux ubuntu16 4.4.0-157-generic #185-ubuntu smp tue jul 23 09:17:01 utc 2019 x86_64 x86_64 x86_64 gnulinux '
    config_args='-ds -e -Dprefix=/opt/perl-5.18.4 -Dcf_email=srezic@cpan.org'
    hint=recommended, useposix=true, d_sigaction=define
    useithreads=undef, usemultiplicity=undef
    useperlio=define, d_sfio=undef, uselargefiles=define, usesocks=undef
    use64bitint=define, use64bitall=define, uselongdouble=undef
    usemymalloc=n, bincompat5005=undef
  Compiler:
    cc='cc', ccflags ='-fwrapv -fno-strict-aliasing -pipe -fstack-protector -I/usr/local/include -D_LARGEFILE_SOURCE -D_FILE_OFFSET_BITS=64',
    optimize='-O2',
    cppflags='-fwrapv -fno-strict-aliasing -pipe -fstack-protector -I/usr/local/include'
    ccversion='', gccversion='5.4.0 20160609', gccosandvers=''
    intsize=4, longsize=8, ptrsize=8, doublesize=8, byteorder=12345678
    d_longlong=define, longlongsize=8, d_longdbl=define, longdblsize=16
    ivtype='long', ivsize=8, nvtype='double', nvsize=8, Off_t='off_t', lseeksize=8
    alignbytes=8, prototype=define
  Linker and Libraries:
    ld='cc', ldflags =' -fstack-protector -L/usr/local/lib'
    libpth=/usr/local/lib /lib/x86_64-linux-gnu /lib/../lib /usr/lib/x86_64-linux-gnu /usr/lib/../lib /lib /usr/lib
    libs=-lnsl -ldb -ldl -lm -lcrypt -lutil -lc
    perllibs=-lnsl -ldl -lm -lcrypt -lutil -lc
    libc=libc-2.23.so, so=so, useshrplib=false, libperl=libperl.a
    gnulibc_version='2.23'
  Dynamic Linking:
    dlsrc=dl_dlopen.xs, dlext=so, d_dlsymun=undef, ccdlflags='-Wl,-E'
    cccdlflags='-fPIC', lddlflags='-shared -O2 -L/usr/local/lib -fstack-protector'


Characteristics of this binary (from libperl): 
  Compile-time options: HAS_TIMES PERLIO_LAYERS PERL_DONT_CREATE_GVSV
                        PERL_HASH_FUNC_ONE_AT_A_TIME_HARD PERL_MALLOC_WRAP
                        PERL_PRESERVE_IVUV PERL_SAWAMPERSAND USE_64_BIT_ALL
                        USE_64_BIT_INT USE_LARGE_FILES USE_LOCALE
                        USE_LOCALE_COLLATE USE_LOCALE_CTYPE
                        USE_LOCALE_NUMERIC USE_PERLIO USE_PERL_ATOF
  Locally applied patches:
	Devel::PatchPerl 1.64
  Built under linux
  Compiled at Aug  6 2019 18:40:30
  %ENV:
    PERL5LIB="/home/cpansand/.cpan/build/2020110419/Sort-Versions-1.62-VFkVC4/blib/arch:/home/cpansand/.cpan/build/2020110419/Sort-Versions-1.62-VFkVC4/blib/lib:/home/cpansand/.cpan/build/2020110419/CPAN-DistnameInfo-0.12-RH9hPo/blib/arch:/home/cpansand/.cpan/build/2020110419/CPAN-DistnameInfo-0.12-RH9hPo/blib/lib"
    PERL5OPT=""
    PERL5_CPANPLUS_IS_RUNNING="14711"
    PERL5_CPAN_IS_RUNNING="14711"
    PERL5_CPAN_IS_RUNNING_IN_RECURSION="7330,14711"
    PERLDOC="-MPod::Perldoc::ToTextOverstrike"
    PERL_BATCH="yes"
    PERL_CANARY_STABILITY_NOPROMPT="1"
    PERL_CPAN_REPORTER_CONFIG="/var/tmp/cpansmoker-1023/2020110419/cpanreporter_000_config.ini"
    PERL_EXTUTILS_AUTOINSTALL="--defaultdeps"
  @INC:
    /home/cpansand/.cpan/build/2020110419/Sort-Versions-1.62-VFkVC4/blib/arch
    /home/cpansand/.cpan/build/2020110419/Sort-Versions-1.62-VFkVC4/blib/lib
    /home/cpansand/.cpan/build/2020110419/CPAN-DistnameInfo-0.12-RH9hPo/blib/arch
    /home/cpansand/.cpan/build/2020110419/CPAN-DistnameInfo-0.12-RH9hPo/blib/lib
    /opt/perl-5.18.4/lib/site_perl/5.18.4/x86_64-linux
    /opt/perl-5.18.4/lib/site_perl/5.18.4
    /opt/perl-5.18.4/lib/5.18.4/x86_64-linux
    /opt/perl-5.18.4/lib/5.18.4
    .