Back
From: metabase:user:b53c7f44-4c0e-11e4-9ced-a04ade49192c
Subject: PASS Alien-GvaScript-1.44 v5.8.9 GNU/Linux
Date: 2015-04-10T05:59:03Z
This distribution has been tested as part of the CPAN Testers
project, supporting the Perl programming language.  See
http://wiki.cpantesters.org/ for more information or email
questions to cpan-testers-discuss@perl.org
--
Dear Laurent Dami,
This is a computer-generated report for Alien-GvaScript-1.44
on perl 5.8.9, created by CPAN-Reporter-1.2011.
Thank you for uploading your work to CPAN.  Congratulations!
All tests were successful.
Sections of this report:
    * Tester comments
    * Program output
    * Prerequisites
    * Environment and other context
------------------------------
TESTER COMMENTS
------------------------------
Additional comments from tester:
this report is from an automated smoke testing program
and was not reviewed by a human for accuracy
------------------------------
PROGRAM OUTPUT
------------------------------
Output from './Build test':
# Testing Alien::GvaScript 1.44, Perl 5.008009, /opt/perl492-32-O0-5.8.9/bin/perl
t/00-load.t ....... ok
t/pod-coverage.t .. ok
t/pod.t ........... ok
All tests successful.
Files=3, Tests=15,  5 wallclock secs ( 0.12 usr  0.03 sys +  1.90 cusr  0.09 csys =  2.14 CPU)
Result: PASS
------------------------------
PREREQUISITES
------------------------------
Prerequisite modules loaded:
requires:
    Module               Need Have    
    -------------------- ---- --------
    File::Copy           0    2.13    
    File::Path           0    2.09    
build_requires:
    Module               Need Have    
    -------------------- ---- --------
    Test::More           0    1.001014
configure_requires:
    Module               Need Have    
    -------------------- ---- --------
    Module::Build        0.42 0.4211  
opt_requires:
    Module               Need Have    
    -------------------- ---- --------
    Pod::POM             0    0.29    
    Pod::POM::View       0    1.04    
    Pod::POM::View::HTML 0    1.06    
------------------------------
ENVIRONMENT AND OTHER CONTEXT
------------------------------
Environment variables:
    AUTOMATED_TESTING = 1
    LANG = en_US.utf8
    NONINTERACTIVE_TESTING = 1
    PATH = /usr/lib/qt-3.3/bin:/usr/kerberos/sbin:/usr/kerberos/bin:/usr/lib/ccache:/usr/local/sbin:/usr/sbin:/sbin:/usr/local/bin:/usr/bin:/bin:/usr/lib/firebird/bin:/opt/real/RealPlayer:/root/bin:/usr/lib/firebird/bin:/opt/real/RealPlayer
    PERL5LIB = 
    PERL5OPT = 
    PERL5_CPANPLUS_IS_RUNNING = 10626
    PERL5_CPAN_IS_RUNNING = 10626
    PERL_MM_USE_DEFAULT = 1
    SHELL = /bin/bash
    TERM = xterm
Perl special variables (and OS-specific diagnostics, for MSWin32):
    $^X = /opt/perl492-32-O0-5.8.9/bin/perl
    $UID/$EUID = 0 / 0
    $GID = 0 0 1 2 3 4 6 10
    $EGID = 0 0 1 2 3 4 6 10
Perl module toolchain versions installed:
    Module              Have    
    ------------------- --------
    CPAN                2.10    
    CPAN::Meta          2.150001
    Cwd                 3.47    
    ExtUtils::CBuilder  0.280220
    ExtUtils::Command   1.16    
    ExtUtils::Install   2.04    
    ExtUtils::MakeMaker 7.04    
    ExtUtils::Manifest  1.70    
    ExtUtils::ParseXS   3.24    
    File::Spec          3.47    
    JSON                2.90    
    JSON::PP            2.27300 
    Module::Build       0.4211  
    Module::Signature   0.77    
    Parse::CPAN::Meta   1.4414  
    Test::Harness       3.35    
    Test::More          1.001014
    YAML                1.14    
    YAML::Syck          1.29    
    version             0.9912  
--
Summary of my perl5 (revision 5 version 8 subversion 9) configuration:
  Platform:
    osname=linux, osvers=2.6.32.63, archname=i686-linux-thread-multi-64int-ld
    uname='linux localhost.localdomain 2.6.32.63 #2 smp fri jan 30 10:45:01 pst 2015 i686 i686 i386 gnulinux '
    config_args='-Dcc=/opt/492/bin/gcc -Dprefix=/opt/perl492-32-O0-5.8.9 -DDEBUGGING'
    hint=recommended, useposix=true, d_sigaction=define
    usethreads=define use5005threads=undef useithreads=define usemultiplicity=define
    useperlio=define d_sfio=undef uselargefiles=define usesocks=undef
    use64bitint=define use64bitall=undef uselongdouble=define
    usemymalloc=y, bincompat5005=undef
  Compiler:
    cc='/opt/492/bin/gcc', ccflags ='-D_REENTRANT -D_GNU_SOURCE -DTHREADS_HAVE_PIDS -DDEBUGGING -fno-strict-aliasing -pipe -I/usr/local/include -D_LARGEFILE_SOURCE -D_FILE_OFFSET_BITS=64',
    optimize='-O0 -g',
    cppflags='-D_REENTRANT -D_GNU_SOURCE -DTHREADS_HAVE_PIDS -DDEBUGGING -fno-strict-aliasing -pipe -I/usr/local/include'
    ccversion='', gccversion='4.9.2', gccosandvers=''
    intsize=4, longsize=4, ptrsize=4, doublesize=8, byteorder=12345678
    d_longlong=define, longlongsize=8, d_longdbl=define, longdblsize=12
    ivtype='long long', ivsize=8, nvtype='long double', nvsize=12, Off_t='off_t', lseeksize=8
    alignbytes=4, prototype=define
  Linker and Libraries:
    ld='/opt/492/bin/gcc', ldflags =' -L/usr/local/lib'
    libpth=/usr/local/lib /lib /usr/lib
    libs=-lnsl -lgdbm -ldb -ldl -lm -lcrypt -lutil -lpthread -lc
    perllibs=-lnsl -ldl -lm -lcrypt -lutil -lpthread -lc
    libc=/lib/libc-2.8.so, so=so, useshrplib=true, libperl=libperl.so
    gnulibc_version='2.8'
  Dynamic Linking:
    dlsrc=dl_dlopen.xs, dlext=so, d_dlsymun=undef, ccdlflags='-Wl,-E -Wl,-rpath,/opt/perl492-32-O0-5.8.9/lib/5.8.9/i686-linux-thread-multi-64int-ld/CORE'
    cccdlflags='-fPIC', lddlflags='-shared -O0 -g -L/usr/local/lib'
Characteristics of this binary (from libperl): 
  Compile-time options: DEBUGGING MULTIPLICITY MYMALLOC PERL_IMPLICIT_CONTEXT
                        PERL_MALLOC_WRAP THREADS_HAVE_PIDS USE_64_BIT_INT
                        USE_FAST_STDIO USE_ITHREADS USE_LARGE_FILES
                        USE_LONG_DOUBLE USE_PERLIO USE_REENTRANT_API
  Built under linux
  Compiled at Apr  2 2015 09:06:59
  %ENV:
    PERL5LIB=""
    PERL5OPT=""
    PERL5_CPANPLUS_IS_RUNNING="10626"
    PERL5_CPAN_IS_RUNNING="10626"
    PERL_MM_USE_DEFAULT="1"
  @INC:
    /opt/perl492-32-O0-5.8.9/lib/5.8.9/i686-linux-thread-multi-64int-ld
    /opt/perl492-32-O0-5.8.9/lib/5.8.9
    /opt/perl492-32-O0-5.8.9/lib/site_perl/5.8.9/i686-linux-thread-multi-64int-ld
    /opt/perl492-32-O0-5.8.9/lib/site_perl/5.8.9
    .